{"text_format":"1","workbook":"xlsx","n_sheets":8,"sheets":["StockIn","FindCode","AddSales","CreateBill","Balance","AddData","PDWiseCumul","NilStock"],"not_rendered":{"charts":0,"images":1,"macros":1,"external_links":0,"defined_names":15,"comments":0,"pivot_tables":0},"unopened":[],"bounds":{"document_bytes":16777216,"sheet_cells":100000,"rows_first":2000,"rows_last":500,"rows_between":2000,"halvings":0,"cell_chars":16384,"cell_head_chars":4096},"cells_cut":0,"cells_raw":0,"read":"whole","date_system":"1900"}

{"sheet":"StockIn","index":0,"n_rows":2003,"n_cols":13,"rows_kept":2003,"cut":false,"hidden":true,"merged":[[0,0,0,1]]}
["MASTER MEDICINE LIST",null,"Today is:",{"$f":"TODAY()","v":"2021-05-18"},null,null,{"$f":"B2003","v":0}]
["1SOFEX Code","2Product Name","3Manuftr","4Batch No.","5Expiry","6Pack Purchased","7Pack as per Bill","8MRP as per Bill","9Qnty. Unitised","10Pack Retail","11Retail MRP /Tab /CAP SALE","12Bal Qty Units","13Entry Date"]
[1001,null,null,null,null,null,null,null,null,null,null,{"$f":"Balance!G4","v":0}]
[1002,null,null,null,null,null,null,null,null,null,null,{"$f":"Balance!G5","v":0}]
[1003,null,null,null,null,null,null,null,null,null,null,{"$f":"Balance!G6","v":0}]
[1004,null,null,null,null,null,null,null,null,null,null,{"$f":"Balance!G7","v":0}]
[1005,null,null,null,null,null,null,null,null,null,null,{"$f":"Balance!G8","v":0}]
[1006,null,null,null,null,null,null,null,null,null,null,{"$f":"Balance!G9","v":0}]
[1007,null,null,null,null,null,null,null,null,null,null,{"$f":"Balance!G10","v":0}]
[1008,null,null,null,null,null,null,null,null,null,null,{"$f":"Balance!G11","v":0}]
[1009,null,null,null,null,null,null,null,null,null,null,{"$f":"Balance!G12","v":0}]
[1010,null,null,null,null,null,null,null,null,null,null,{"$f":"Balance!G13","v":0}]
[1011,null,null,null,null,null,null,null,null,null,null,{"$f":"Balance!G14","v":0}]
[1012,null,null,null,null,null,null,null,null,null,null,{"$f":"Balance!G15","v":0}]
[1013,null,null,null,null,null,null,null,null,null,null,{"$f":"Balance!G16","v":0}]
[1014,null,null,null,null,null,null,null,null,null,null,{"$f":"Balance!G17","v":0}]
[1015,null,null,null,null,null,null,null,null,null,null,{"$f":"Balance!G18","v":0}]
[1016,null,null,null,null,null,null,null,null,null,null,{"$f":"Balance!G19","v":0}]
[1017,null,null,null,null,null,null,null,null,null,null,{"$f":"Balance!G20","v":0}]
[1018,null,null,null,null,null,null,null,null,null,null,{"$f":"Balance!G21","v":0}]
[1019,null,null,null,null,null,null,null,null,null,null,{"$f":"Balance!G22","v":0}]
[1020,null,null,null,null,null,null,null,null,null,null,{"$f":"Balance!G23","v":0}]
[1021,null,null,null,null,null,null,null,null,null,null,{"$f":"Balance!G24","v":0}]
[1022,null,null,null,null,null,null,null,null,null,null,{"$f":"Balance!G25","v":0}]
[1023,null,null,null,null,null,null,null,null,null,null,{"$f":"Balance!G26","v":0}]
[1024,null,null,null,null,null,null,null,null,null,null,{"$f":"Balance!G27","v":0}]
[1025,null,null,null,null,null,null,null,null,null,null,{"$f":"Balance!G28","v":0}]
[1026,null,null,null,null,null,null,null,null,null,null,{"$f":"Balance!G29","v":0}]
[1027,null,null,null,null,null,null,null,null,null,null,{"$f":"Balance!G30","v":0}]
[1028,null,null,null,null,null,null,null,null,null,null,{"$f":"Balance!G31","v":0}]
[1029,null,null,null,null,null,null,null,null,null,null,{"$f":"Balance!G32","v":0}]
[1030,null,null,null,null,null,null,null,null,null,null,{"$f":"Balance!G33","v":0}]
[1031,null,null,null,null,null,null,null,null,null,null,{"$f":"Balance!G34","v":0}]
[1032,null,null,null,null,null,null,null,null,null,null,{"$f":"Balance!G35","v":0}]
[1033,null,null,null,null,null,null,null,null,null,null,{"$f":"Balance!G36","v":0}]
[1034,null,null,null,null,null,null,null,null,null,null,{"$f":"Balance!G37","v":0}]
[1035,null,null,null,null,null,null,null,null,null,null,{"$f":"Balance!G38","v":0}]
[1036,null,null,null,null,null,null,null,null,null,null,{"$f":"Balance!G39","v":0}]
[1037,null,null,null,null,null,null,null,null,null,null,{"$f":"Balance!G40","v":0}]
[1038,null,null,null,null,null,null,null,null,null,null,{"$f":"Balance!G41","v":0}]
[1039,null,null,null,null,null,null,null,null,null,null,{"$f":"Balance!G42","v":0}]
[1040,null,null,null,null,null,null,null,null,null,null,{"$f":"Balance!G43","v":0}]
[1041,null,null,null,null,null,null,null,null,null,null,{"$f":"Balance!G44","v":0}]
[1042,null,null,null,null,null,null,null,null,null,null,{"$f":"Balance!G45","v":0}]
[1043,null,null,null,null,null,null,null,null,null,null,{"$f":"Balance!G46","v":0}]
[1044,null,null,null,null,null,null,null,null,null,null,{"$f":"Balance!G47","v":0}]
[1045,null,null,null,null,null,null,null,null,null,null,{"$f":"Balance!G48","v":0}]
[1046,null,null,null,null,null,null,null,null,null,null,{"$f":"Balance!G49","v":0}]
[1047,null,null,null,null,null,null,null,null,null,null,{"$f":"Balance!G50","v":0}]
[1048,null,null,null,null,null,null,null,null,null,null,{"$f":"Balance!G51","v":0}]
[1049,null,null,null,null,null,null,null,null,null,null,{"$f":"Balance!G52","v":0}]
[1050,null,null,null,null,null,null,null,null,null,null,{"$f":"Balance!G53","v":0}]
[1051,null,null,null,null,null,null,null,null,null,null,{"$f":"Balance!G54","v":0}]
[1052,null,null,null,null,null,null,null,null,null,null,{"$f":"Balance!G55","v":0}]
[1053,null,null,null,null,null,null,null,null,null,null,{"$f":"Balance!G56","v":0}]
[1054,null,null,null,null,null,null,null,null,null,null,{"$f":"Balance!G57","v":0}]
[1055,null,null,null,null,null,null,null,null,null,null,{"$f":"Balance!G58","v":0}]
[1056,null,null,null,null,null,null,null,null,null,null,{"$f":"Balance!G59","v":0}]
[1057,null,null,null,null,null,null,null,null,null,null,{"$f":"Balance!G60","v":0}]
[1058,null,null,null,null,null,null,null,null,null,null,{"$f":"Balance!G61","v":0}]
[1059,null,null,null,null,null,null,null,null,null,null,{"$f":"Balance!G62","v":0}]
[1060,null,null,null,null,null,null,null,null,null,null,{"$f":"Balance!G63","v":0}]
[1061,null,null,null,null,null,null,null,null,null,null,{"$f":"Balance!G64","v":0}]
[1062,null,null,null,null,null,null,null,null,null,null,{"$f":"Balance!G65","v":0}]
[1063,null,null,null,null,null,null,null,null,null,null,{"$f":"Balance!G66","v":0}]
[1064,null,null,null,null,null,null,null,null,null,null,{"$f":"Balance!G67","v":0}]
[1065,null,null,null,null,null,null,null,null,null,null,{"$f":"Balance!G68","v":0}]
[1066,null,null,null,null,null,null,null,null,null,null,{"$f":"Balance!G69","v":0}]
[1067,null,null,null,null,null,null,null,null,null,null,{"$f":"Balance!G70","v":0}]
[1068,null,null,null,null,null,null,null,null,null,null,{"$f":"Balance!G71","v":0}]
[1069,null,null,null,null,null,null,null,null,null,null,{"$f":"Balance!G72","v":0}]
[1070,null,null,null,null,null,null,null,null,null,null,{"$f":"Balance!G73","v":0}]
[1071,null,null,null,null,null,null,null,null,null,null,{"$f":"Balance!G74","v":0}]
[1072,null,null,null,null,null,null,null,null,null,null,{"$f":"Balance!G75","v":0}]
[1073,null,null,null,null,null,null,null,null,null,null,{"$f":"Balance!G76","v":0}]
[1074,null,null,null,null,null,null,null,null,null,null,{"$f":"Balance!G77","v":0}]
[1075,null,null,null,null,null,null,null,null,null,null,{"$f":"Balance!G78","v":0}]
[1076,null,null,null,null,null,null,null,null,null,null,{"$f":"Balance!G79","v":0}]
[1077,null,null,null,null,null,null,null,null,null,null,{"$f":"Balance!G80","v":0}]
[1078,null,null,null,null,null,null,null,null,null,null,{"$f":"Balance!G81","v":0}]
[1079,null,null,null,null,null,null,null,null,null,null,{"$f":"Balance!G82","v":0}]
[1080,null,null,null,null,null,null,null,null,null,null,{"$f":"Balance!G83","v":0}]
[1081,null,null,null,null,null,null,null,null,null,null,{"$f":"Balance!G84","v":0}]
[1082,null,null,null,null,null,null,null,null,null,null,{"$f":"Balance!G85","v":0}]
[1083,null,null,null,null,null,null,null,null,null,null,{"$f":"Balance!G86","v":0}]
[1084,null,null,null,null,null,null,null,null,null,null,{"$f":"Balance!G87","v":0}]
[1085,null,null,null,null,null,null,null,null,null,null,{"$f":"Balance!G88","v":0}]
[1086,null,null,null,null,null,null,null,null,null,null,{"$f":"Balance!G89","v":0}]
[1087,null,null,null,null,null,null,null,null,null,null,{"$f":"Balance!G90","v":0}]
[1088,null,null,null,null,null,null,null,null,null,null,{"$f":"Balance!G91","v":0}]
[1089,null,null,null,null,null,null,null,null,null,null,{"$f":"Balance!G92","v":0}]
[1090,null,null,null,null,null,null,null,null,null,null,{"$f":"Balance!G93","v":0}]
[1091,null,null,null,null,null,null,null,null,null,null,{"$f":"Balance!G94","v":0}]
[1092,null,null,null,null,null,null,null,null,null,null,{"$f":"Balance!G95","v":0}]
[1093,null,null,null,null,null,null,null,null,null,null,{"$f":"Balance!G96","v":0}]
[1094,null,null,null,null,null,null,null,null,null,null,{"$f":"Balance!G97","v":0}]
[1095,null,null,null,null,null,null,null,null,null,null,{"$f":"Balance!G98","v":0}]
[1096,null,null,null,null,null,null,null,null,null,null,{"$f":"Balance!G99","v":0}]
[1097,null,null,null,null,null,null,null,null,null,null,{"$f":"Balance!G100","v":0}]
[1098,null,null,null,null,null,null,null,null,null,null,{"$f":"Balance!G101","v":0}]
[1099,null,null,null,null,null,null,null,null,null,null,{"$f":"Balance!G102","v":0}]
[1100,null,null,null,null,null,null,null,null,null,null,{"$f":"Balance!G103","v":0}]
[1101,null,null,null,null,null,null,null,null,null,null,{"$f":"Balance!G104","v":0}]
[1102,null,null,null,null,null,null,null,null,null,null,{"$f":"Balance!G105","v":0}]
[1103,null,null,null,null,null,null,null,null,null,null,{"$f":"Balance!G106","v":0}]
[1104,null,null,null,null,null,null,null,null,null,null,{"$f":"Balance!G107","v":0}]
[1105,null,null,null,null,null,null,null,null,null,null,{"$f":"Balance!G108","v":0}]
[1106,null,null,null,null,null,null,null,null,null,null,{"$f":"Balance!G109","v":0}]
[1107,null,null,null,null,null,null,null,null,null,null,{"$f":"Balance!G110","v":0}]
[1108,null,null,null,null,null,null,null,null,null,null,{"$f":"Balance!G111","v":0}]
[1109,null,null,null,null,null,null,null,null,null,null,{"$f":"Balance!G112","v":0}]
[1110,null,null,null,null,null,null,null,null,null,null,{"$f":"Balance!G113","v":0}]
[1111,null,null,null,null,null,null,null,null,null,null,{"$f":"Balance!G114","v":0}]
[1112,null,null,null,null,null,null,null,null,null,null,{"$f":"Balance!G115","v":0}]
[1113,null,null,null,null,null,null,null,null,null,null,{"$f":"Balance!G116","v":0}]
[1114,null,null,null,null,null,null,null,null,null,null,{"$f":"Balance!G117","v":0}]
[1115,null,null,null,null,null,null,null,null,null,null,{"$f":"Balance!G118","v":0}]
[1116,null,null,null,null,null,null,null,null,null,null,{"$f":"Balance!G119","v":0}]
[1117,null,null,null,null,null,null,null,null,null,null,{"$f":"Balance!G120","v":0}]
[1118,null,null,null,null,null,null,null,null,null,null,{"$f":"Balance!G121","v":0}]
[1119,null,null,null,null,null,null,null,null,null,null,{"$f":"Balance!G122","v":0}]
[1120,null,null,null,null,null,null,null,null,null,null,{"$f":"Balance!G123","v":0}]
[1121,null,null,null,null,null,null,null,null,null,null,{"$f":"Balance!G124","v":0}]
[1122,null,null,null,null,null,null,null,null,null,null,{"$f":"Balance!G125","v":0}]
[1123,null,null,null,null,null,null,null,null,null,null,{"$f":"Balance!G126","v":0}]
[1124,null,null,null,null,null,null,null,null,null,null,{"$f":"Balance!G127","v":0}]
[1125,null,null,null,null,null,null,null,null,null,null,{"$f":"Balance!G128","v":0}]
[1126,null,null,null,null,null,null,null,null,null,null,{"$f":"Balance!G129","v":0}]
[1127,null,null,null,null,null,null,null,null,null,null,{"$f":"Balance!G130","v":0}]
[1128,null,null,null,null,null,null,null,null,null,null,{"$f":"Balance!G131","v":0}]
[1129,null,null,null,null,null,null,null,null,null,null,{"$f":"Balance!G132","v":0}]
[1130,null,null,null,null,null,null,null,null,null,null,{"$f":"Balance!G133","v":0}]
[1131,null,null,null,null,null,null,null,null,null,null,{"$f":"Balance!G134","v":0}]
[1132,null,null,null,null,null,null,null,null,null,null,{"$f":"Balance!G135","v":0}]
[1133,null,null,null,null,null,null,null,null,null,null,{"$f":"Balance!G136","v":0}]
[1134,null,null,null,null,null,null,null,null,null,null,{"$f":"Balance!G137","v":0}]
[1135,null,null,null,null,null,null,null,null,null,null,{"$f":"Balance!G138","v":0}]
[1136,null,null,null,null,null,null,null,null,null,null,{"$f":"Balance!G139","v":0}]
[1137,null,null,null,null,null,null,null,null,null,null,{"$f":"Balance!G140","v":0}]
[1138,null,null,null,null,null,null,null,null,null,null,{"$f":"Balance!G141","v":0}]
[1139,null,null,null,null,null,null,null,null,null,null,{"$f":"Balance!G142","v":0}]
[1140,null,null,null,null,null,null,null,null,null,null,{"$f":"Balance!G143","v":0}]
[1141,null,null,null,null,null,null,null,null,null,null,{"$f":"Balance!G144","v":0}]
[1142,null,null,null,null,null,null,null,null,null,null,{"$f":"Balance!G145","v":0}]
[1143,null,null,null,null,null,null,null,null,null,null,{"$f":"Balance!G146","v":0}]
[1144,null,null,null,null,null,null,null,null,null,null,{"$f":"Balance!G147","v":0}]
[1145,null,null,null,null,null,null,null,null,null,null,{"$f":"Balance!G148","v":0}]
[1146,null,null,null,null,null,null,null,null,null,null,{"$f":"Balance!G149","v":0}]
[1147,null,null,null,null,null,null,null,null,null,null,{"$f":"Balance!G150","v":0}]
[1148,null,null,null,null,null,null,null,null,null,null,{"$f":"Balance!G151","v":0}]
[1149,null,null,null,null,null,null,null,null,null,null,{"$f":"Balance!G152","v":0}]
[1150,null,null,null,null,null,null,null,null,null,null,{"$f":"Balance!G153","v":0}]
[1151,null,null,null,null,null,null,null,null,null,null,{"$f":"Balance!G154","v":0}]
[1152,null,null,null,null,null,null,null,null,null,null,{"$f":"Balance!G155","v":0}]
[1153,null,null,null,null,null,null,null,null,null,null,{"$f":"Balance!G156","v":0}]
[1154,null,null,null,null,null,null,null,null,null,null,{"$f":"Balance!G157","v":0}]
[1155,null,null,null,null,null,null,null,null,null,null,{"$f":"Balance!G158","v":0}]
[1156,null,null,null,null,null,null,null,null,null,null,{"$f":"Balance!G159","v":0}]
[1157,null,null,null,null,null,null,null,null,null,null,{"$f":"Balance!G160","v":0}]
[1158,null,null,null,null,null,null,null,null,null,null,{"$f":"Balance!G161","v":0}]
[1159,null,null,null,null,null,null,null,null,null,null,{"$f":"Balance!G162","v":0}]
[1160,null,null,null,null,null,null,null,null,null,null,{"$f":"Balance!G163","v":0}]
[1161,null,null,null,null,null,null,null,null,null,null,{"$f":"Balance!G164","v":0}]
[1162,null,null,null,null,null,null,null,null,null,null,{"$f":"Balance!G165","v":0}]
[1163,null,null,null,null,null,null,null,null,null,null,{"$f":"Balance!G166","v":0}]
[1164,null,null,null,null,null,null,null,null,null,null,{"$f":"Balance!G167","v":0}]
[1165,null,null,null,null,null,null,null,null,null,null,{"$f":"Balance!G168","v":0}]
[1166,null,null,null,null,null,null,null,null,null,null,{"$f":"Balance!G169","v":0}]
[1167,null,null,null,null,null,null,null,null,null,null,{"$f":"Balance!G170","v":0}]
[1168,null,null,null,null,null,null,null,null,null,null,{"$f":"Balance!G171","v":0}]
[1169,null,null,null,null,null,null,null,null,null,null,{"$f":"Balance!G172","v":0}]
[1170,null,null,null,null,null,null,null,null,null,null,{"$f":"Balance!G173","v":0}]
[1171,null,null,null,null,null,null,null,null,null,null,{"$f":"Balance!G174","v":0}]
[1172,null,null,null,null,null,null,null,null,null,null,{"$f":"Balance!G175","v":0}]
[1173,null,null,null,null,null,null,null,null,null,null,{"$f":"Balance!G176","v":0}]
[1174,null,null,null,null,null,null,null,null,null,null,{"$f":"Balance!G177","v":0}]
[1175,null,null,null,null,null,null,null,null,null,null,{"$f":"Balance!G178","v":0}]
[1176,null,null,null,null,null,null,null,null,null,null,{"$f":"Balance!G179","v":0}]
[1177,null,null,null,null,null,null,null,null,null,null,{"$f":"Balance!G180","v":0}]
[1178,null,null,null,null,null,null,null,null,null,null,{"$f":"Balance!G181","v":0}]
[1179,null,null,null,null,null,null,null,null,null,null,{"$f":"Balance!G182","v":0}]
[1180,null,null,null,null,null,null,null,null,null,null,{"$f":"Balance!G183","v":0}]
[1181,null,null,null,null,null,null,null,null,null,null,{"$f":"Balance!G184","v":0}]
[1182,null,null,null,null,null,null,null,null,null,null,{"$f":"Balance!G185","v":0}]
[1183,null,null,null,null,null,null,null,null,null,null,{"$f":"Balance!G186","v":0}]
[1184,null,null,null,null,null,null,null,null,null,null,{"$f":"Balance!G187","v":0}]
[1185,null,null,null,null,null,null,null,null,null,null,{"$f":"Balance!G188","v":0}]
[1186,null,null,null,null,null,null,null,null,null,null,{"$f":"Balance!G189","v":0}]
[1187,null,null,null,null,null,null,null,null,null,null,{"$f":"Balance!G190","v":0}]
[1188,null,null,null,null,null,null,null,null,null,null,{"$f":"Balance!G191","v":0}]
[1189,null,null,null,null,null,null,null,null,null,null,{"$f":"Balance!G192","v":0}]
[1190,null,null,null,null,null,null,null,null,null,null,{"$f":"Balance!G193","v":0}]
[1191,null,null,null,null,null,null,null,null,null,null,{"$f":"Balance!G194","v":0}]
[1192,null,null,null,null,null,null,null,null,null,null,{"$f":"Balance!G195","v":0}]
[1193,null,null,null,null,null,null,null,null,null,null,{"$f":"Balance!G196","v":0}]
[1194,null,null,null,null,null,null,null,null,null,null,{"$f":"Balance!G197","v":0}]
[1195,null,null,null,null,null,null,null,null,null,null,{"$f":"Balance!G198","v":0}]
[1196,null,null,null,null,null,null,null,null,null,null,{"$f":"Balance!G199","v":0}]
[1197,null,null,null,null,null,null,null,null,null,null,{"$f":"Balance!G200","v":0}]
[1198,null,null,null,null,null,null,null,null,null,null,{"$f":"Balance!G201","v":0}]
[1199,null,null,null,null,null,null,null,null,null,null,{"$f":"Balance!G202","v":0}]
[1200,null,null,null,null,null,null,null,null,null,null,{"$f":"Balance!G203","v":0}]
[1201,null,null,null,null,null,null,null,null,null,null,{"$f":"Balance!G204","v":0}]
[1202,null,null,null,null,null,null,null,null,null,null,{"$f":"Balance!G205","v":0}]
[1203,null,null,null,null,null,null,null,null,null,null,{"$f":"Balance!G206","v":0}]
[1204,null,null,null,null,null,null,null,null,null,null,{"$f":"Balance!G207","v":0}]
[1205,null,null,null,null,null,null,null,null,null,null,{"$f":"Balance!G208","v":0}]
[1206,null,null,null,null,null,null,null,null,null,null,{"$f":"Balance!G209","v":0}]
[1207,null,null,null,null,null,null,null,null,null,null,{"$f":"Balance!G210","v":0}]
[1208,null,null,null,null,null,null,null,null,null,null,{"$f":"Balance!G211","v":0}]
[1209,null,null,null,null,null,null,null,null,null,null,{"$f":"Balance!G212","v":0}]
[1210,null,null,null,null,null,null,null,null,null,null,{"$f":"Balance!G213","v":0}]
[1211,null,null,null,null,null,null,null,null,null,null,{"$f":"Balance!G214","v":0}]
[1212,null,null,null,null,null,null,null,null,null,null,{"$f":"Balance!G215","v":0}]
[1213,null,null,null,null,null,null,null,null,null,null,{"$f":"Balance!G216","v":0}]
[1214,null,null,null,null,null,null,null,null,null,null,{"$f":"Balance!G217","v":0}]
[1215,null,null,null,null,null,null,null,null,null,null,{"$f":"Balance!G218","v":0}]
[1216,null,null,null,null,null,null,null,null,null,null,{"$f":"Balance!G219","v":0}]
[1217,null,null,null,null,null,null,null,null,null,null,{"$f":"Balance!G220","v":0}]
[1218,null,null,null,null,null,null,null,null,null,null,{"$f":"Balance!G221","v":0}]
[1219,null,null,null,null,null,null,null,null,null,null,{"$f":"Balance!G222","v":0}]
[1220,null,null,null,null,null,null,null,null,null,null,{"$f":"Balance!G223","v":0}]
[1221,null,null,null,null,null,null,null,null,null,null,{"$f":"Balance!G224","v":0}]
[1222,null,null,null,null,null,null,null,null,null,null,{"$f":"Balance!G225","v":0}]
[1223,null,null,null,null,null,null,null,null,null,null,{"$f":"Balance!G226","v":0}]
[1224,null,null,null,null,null,null,null,null,null,null,{"$f":"Balance!G227","v":0}]
[1225,null,null,null,null,null,null,null,null,null,null,{"$f":"Balance!G228","v":0}]
[1226,null,null,null,null,null,null,null,null,null,null,{"$f":"Balance!G229","v":0}]
[1227,null,null,null,null,null,null,null,null,null,null,{"$f":"Balance!G230","v":0}]
[1228,null,null,null,null,null,null,null,null,null,null,{"$f":"Balance!G231","v":0}]
[1229,null,null,null,null,null,null,null,null,null,null,{"$f":"Balance!G232","v":0}]
[1230,null,null,null,null,null,null,null,null,null,null,{"$f":"Balance!G233","v":0}]
[1231,null,null,null,null,null,null,null,null,null,null,{"$f":"Balance!G234","v":0}]
[1232,null,null,null,null,null,null,null,null,null,null,{"$f":"Balance!G235","v":0}]
[1233,null,null,null,null,null,null,null,null,null,null,{"$f":"Balance!G236","v":0}]
[1234,null,null,null,null,null,null,null,null,null,null,{"$f":"Balance!G237","v":0}]
[1235,null,null,null,null,null,null,null,null,null,null,{"$f":"Balance!G238","v":0}]
[1236,null,null,null,null,null,null,null,null,null,null,{"$f":"Balance!G239","v":0}]
[1237,null,null,null,null,null,null,null,null,null,null,{"$f":"Balance!G240","v":0}]
[1238,null,null,null,null,null,null,null,null,null,null,{"$f":"Balance!G241","v":0}]
[1239,null,null,null,null,null,null,null,null,null,null,{"$f":"Balance!G242","v":0}]
[1240,null,null,null,null,null,null,null,null,null,null,{"$f":"Balance!G243","v":0}]
[1241,null,null,null,null,null,null,null,null,null,null,{"$f":"Balance!G244","v":0}]
[1242,null,null,null,null,null,null,null,null,null,null,{"$f":"Balance!G245","v":0}]
[1243,null,null,null,null,null,null,null,null,null,null,{"$f":"Balance!G246","v":0}]
[1244,null,null,null,null,null,null,null,null,null,null,{"$f":"Balance!G247","v":0}]
[1245,null,null,null,null,null,null,null,null,null,null,{"$f":"Balance!G248","v":0}]
[1246,null,null,null,null,null,null,null,null,null,null,{"$f":"Balance!G249","v":0}]
[1247,null,null,null,null,null,null,null,null,null,null,{"$f":"Balance!G250","v":0}]
[1248,null,null,null,null,null,null,null,null,null,null,{"$f":"Balance!G251","v":0}]
[1249,null,null,null,null,null,null,null,null,null,null,{"$f":"Balance!G252","v":0}]
[1250,null,null,null,null,null,null,null,null,null,null,{"$f":"Balance!G253","v":0}]
[1251,null,null,null,null,null,null,null,null,null,null,{"$f":"Balance!G254","v":0}]
[1252,null,null,null,null,null,null,null,null,null,null,{"$f":"Balance!G255","v":0}]
[1253,null,null,null,null,null,null,null,null,null,null,{"$f":"Balance!G256","v":0}]
[1254,null,null,null,null,null,null,null,null,null,null,{"$f":"Balance!G257","v":0}]
[1255,null,null,null,null,null,null,null,null,null,null,{"$f":"Balance!G258","v":0}]
[1256,null,null,null,null,null,null,null,null,null,null,{"$f":"Balance!G259","v":0}]
[1257,null,null,null,null,null,null,null,null,null,null,{"$f":"Balance!G260","v":0}]
[1258,null,null,null,null,null,null,null,null,null,null,{"$f":"Balance!G261","v":0}]
[1259,null,null,null,null,null,null,null,null,null,null,{"$f":"Balance!G262","v":0}]
[1260,null,null,null,null,null,null,null,null,null,null,{"$f":"Balance!G263","v":0}]
[1261,null,null,null,null,null,null,null,null,null,null,{"$f":"Balance!G264","v":0}]
[1262,null,null,null,null,null,null,null,null,null,null,{"$f":"Balance!G265","v":0}]
[1263,null,null,null,null,null,null,null,null,null,null,{"$f":"Balance!G266","v":0}]
[1264,null,null,null,null,null,null,null,null,null,null,{"$f":"Balance!G267","v":0}]
[1265,null,null,null,null,null,null,null,null,null,null,{"$f":"Balance!G268","v":0}]
[1266,null,null,null,null,null,null,null,null,null,null,{"$f":"Balance!G269","v":0}]
[1267,null,null,null,null,null,null,null,null,null,null,{"$f":"Balance!G270","v":0}]
[1268,null,null,null,null,null,null,null,null,null,null,{"$f":"Balance!G271","v":0}]
[1269,null,null,null,null,null,null,null,null,null,null,{"$f":"Balance!G272","v":0}]
[1270,null,null,null,null,null,null,null,null,null,null,{"$f":"Balance!G273","v":0}]
[1271,null,null,null,null,null,null,null,null,null,null,{"$f":"Balance!G274","v":0}]
[1272,null,null,null,null,null,null,null,null,null,null,{"$f":"Balance!G275","v":0}]
[1273,null,null,null,null,null,null,null,null,null,null,{"$f":"Balance!G276","v":0}]
[1274,null,null,null,null,null,null,null,null,null,null,{"$f":"Balance!G277","v":0}]
[1275,null,null,null,null,null,null,null,null,null,null,{"$f":"Balance!G278","v":0}]
[1276,null,null,null,null,null,null,null,null,null,null,{"$f":"Balance!G279","v":0}]
[1277,null,null,null,null,null,null,null,null,null,null,{"$f":"Balance!G280","v":0}]
[1278,null,null,null,null,null,null,null,null,null,null,{"$f":"Balance!G281","v":0}]
[1279,null,null,null,null,null,null,null,null,null,null,{"$f":"Balance!G282","v":0}]
[1280,null,null,null,null,null,null,null,null,null,null,{"$f":"Balance!G283","v":0}]
[1281,null,null,null,null,null,null,null,null,null,null,{"$f":"Balance!G284","v":0}]
[1282,null,null,null,null,null,null,null,null,null,null,{"$f":"Balance!G285","v":0}]
[1283,null,null,null,null,null,null,null,null,null,null,{"$f":"Balance!G286","v":0}]
[1284,null,null,null,null,null,null,null,null,null,null,{"$f":"Balance!G287","v":0}]
[1285,null,null,null,null,null,null,null,null,null,null,{"$f":"Balance!G288","v":0}]
[1286,null,null,null,null,null,null,null,null,null,null,{"$f":"Balance!G289","v":0}]
[1287,null,null,null,null,null,null,null,null,null,null,{"$f":"Balance!G290","v":0}]
[1288,null,null,null,null,null,null,null,null,null,null,{"$f":"Balance!G291","v":0}]
[1289,null,null,null,null,null,null,null,null,null,null,{"$f":"Balance!G292","v":0}]
[1290,null,null,null,null,null,null,null,null,null,null,{"$f":"Balance!G293","v":0}]
[1291,null,null,null,null,null,null,null,null,null,null,{"$f":"Balance!G294","v":0}]
[1292,null,null,null,null,null,null,null,null,null,null,{"$f":"Balance!G295","v":0}]
[1293,null,null,null,null,null,null,null,null,null,null,{"$f":"Balance!G296","v":0}]
[1294,null,null,null,null,null,null,null,null,null,null,{"$f":"Balance!G297","v":0}]
[1295,null,null,null,null,null,null,null,null,null,null,{"$f":"Balance!G298","v":0}]
[1296,null,null,null,null,null,null,null,null,null,null,{"$f":"Balance!G299","v":0}]
[1297,null,null,null,null,null,null,null,null,null,null,{"$f":"Balance!G300","v":0}]
[1298,null,null,null,null,null,null,null,null,null,null,{"$f":"Balance!G301","v":0}]
[1299,null,null,null,null,null,null,null,null,null,null,{"$f":"Balance!G302","v":0}]
[1300,null,null,null,null,null,null,null,null,null,null,{"$f":"Balance!G303","v":0}]
[1301,null,null,null,null,null,null,null,null,null,null,{"$f":"Balance!G304","v":0}]
[1302,null,null,null,null,null,null,null,null,null,null,{"$f":"Balance!G305","v":0}]
[1303,null,null,null,null,null,null,null,null,null,null,{"$f":"Balance!G306","v":0}]
[1304,null,null,null,null,null,null,null,null,null,null,{"$f":"Balance!G307","v":0}]
[1305,null,null,null,null,null,null,null,null,null,null,{"$f":"Balance!G308","v":0}]
[1306,null,null,null,null,null,null,null,null,null,null,{"$f":"Balance!G309","v":0}]
[1307,null,null,null,null,null,null,null,null,null,null,{"$f":"Balance!G310","v":0}]
[1308,null,null,null,null,null,null,null,null,null,null,{"$f":"Balance!G311","v":0}]
[1309,null,null,null,null,null,null,null,null,null,null,{"$f":"Balance!G312","v":0}]
[1310,null,null,null,null,null,null,null,null,null,null,{"$f":"Balance!G313","v":0}]
[1311,null,null,null,null,null,null,null,null,null,null,{"$f":"Balance!G314","v":0}]
[1312,null,null,null,null,null,null,null,null,null,null,{"$f":"Balance!G315","v":0}]
[1313,null,null,null,null,null,null,null,null,null,null,{"$f":"Balance!G316","v":0}]
[1314,null,null,null,null,null,null,null,null,null,null,{"$f":"Balance!G317","v":0}]
[1315,null,null,null,null,null,null,null,null,null,null,{"$f":"Balance!G318","v":0}]
[1316,null,null,null,null,null,null,null,null,null,null,{"$f":"Balance!G319","v":0}]
[1317,null,null,null,null,null,null,null,null,null,null,{"$f":"Balance!G320","v":0}]
[1318,null,null,null,null,null,null,null,null,null,null,{"$f":"Balance!G321","v":0}]
[1319,null,null,null,null,null,null,null,null,null,null,{"$f":"Balance!G322","v":0}]
[1320,null,null,null,null,null,null,null,null,null,null,{"$f":"Balance!G323","v":0}]
[1321,null,null,null,null,null,null,null,null,null,null,{"$f":"Balance!G324","v":0}]
[1322,null,null,null,null,null,null,null,null,null,null,{"$f":"Balance!G325","v":0}]
[1323,null,null,null,null,null,null,null,null,null,null,{"$f":"Balance!G326","v":0}]
[1324,null,null,null,null,null,null,null,null,null,null,{"$f":"Balance!G327","v":0}]
[1325,null,null,null,null,null,null,null,null,null,null,{"$f":"Balance!G328","v":0}]
[1326,null,null,null,null,null,null,null,null,null,null,{"$f":"Balance!G329","v":0}]
[1327,null,null,null,null,null,null,null,null,null,null,{"$f":"Balance!G330","v":0}]
[1328,null,null,null,null,null,null,null,null,null,null,{"$f":"Balance!G331","v":0}]
[1329,null,null,null,null,null,null,null,null,null,null,{"$f":"Balance!G332","v":0}]
[1330,null,null,null,null,null,null,null,null,null,null,{"$f":"Balance!G333","v":0}]
[1331,null,null,null,null,null,null,null,null,null,null,{"$f":"Balance!G334","v":0}]
[1332,null,null,null,null,null,null,null,null,null,null,{"$f":"Balance!G335","v":0}]
[1333,null,null,null,null,null,null,null,null,null,null,{"$f":"Balance!G336","v":0}]
[1334,null,null,null,null,null,null,null,null,null,null,{"$f":"Balance!G337","v":0}]
[1335,null,null,null,null,null,null,null,null,null,null,{"$f":"Balance!G338","v":0}]
[1336,null,null,null,null,null,null,null,null,null,null,{"$f":"Balance!G339","v":0}]
[1337,null,null,null,null,null,null,null,null,null,null,{"$f":"Balance!G340","v":0}]
[1338,null,null,null,null,null,null,null,null,null,null,{"$f":"Balance!G341","v":0}]
[1339,null,null,null,null,null,null,null,null,null,null,{"$f":"Balance!G342","v":0}]
[1340,null,null,null,null,null,null,null,null,null,null,{"$f":"Balance!G343","v":0}]
[1341,null,null,null,null,null,null,null,null,null,null,{"$f":"Balance!G344","v":0}]
[1342,null,null,null,null,null,null,null,null,null,null,{"$f":"Balance!G345","v":0}]
[1343,null,null,null,null,null,null,null,null,null,null,{"$f":"Balance!G346","v":0}]
[1344,null,null,null,null,null,null,null,null,null,null,{"$f":"Balance!G347","v":0}]
[1345,null,null,null,null,null,null,null,null,null,null,{"$f":"Balance!G348","v":0}]
[1346,null,null,null,null,null,null,null,null,null,null,{"$f":"Balance!G349","v":0}]
[1347,null,null,null,null,null,null,null,null,null,null,{"$f":"Balance!G350","v":0}]
[1348,null,null,null,null,null,null,null,null,null,null,{"$f":"Balance!G351","v":0}]
[1349,null,null,null,null,null,null,null,null,null,null,{"$f":"Balance!G352","v":0}]
[1350,null,null,null,null,null,null,null,null,null,null,{"$f":"Balance!G353","v":0}]
[1351,null,null,null,null,null,null,null,null,null,null,{"$f":"Balance!G354","v":0}]
[1352,null,null,null,null,null,null,null,null,null,null,{"$f":"Balance!G355","v":0}]
[1353,null,null,null,null,null,null,null,null,null,null,{"$f":"Balance!G356","v":0}]
[1354,null,null,null,null,null,null,null,null,null,null,{"$f":"Balance!G357","v":0}]
[1355,null,null,null,null,null,null,null,null,null,null,{"$f":"Balance!G358","v":0}]
[1356,null,null,null,null,null,null,null,null,null,null,{"$f":"Balance!G359","v":0}]
[1357,null,null,null,null,null,null,null,null,null,null,{"$f":"Balance!G360","v":0}]
[1358,null,null,null,null,null,null,null,null,null,null,{"$f":"Balance!G361","v":0}]
[1359,null,null,null,null,null,null,null,null,null,null,{"$f":"Balance!G362","v":0}]
[1360,null,null,null,null,null,null,null,null,null,null,{"$f":"Balance!G363","v":0}]
[1361,null,null,null,null,null,null,null,null,null,null,{"$f":"Balance!G364","v":0}]
[1362,null,null,null,null,null,null,null,null,null,null,{"$f":"Balance!G365","v":0}]
[1363,null,null,null,null,null,null,null,null,null,null,{"$f":"Balance!G366","v":0}]
[1364,null,null,null,null,null,null,null,null,null,null,{"$f":"Balance!G367","v":0}]
[1365,null,null,null,null,null,null,null,null,null,null,{"$f":"Balance!G368","v":0}]
[1366,null,null,null,null,null,null,null,null,null,null,{"$f":"Balance!G369","v":0}]
[1367,null,null,null,null,null,null,null,null,null,null,{"$f":"Balance!G370","v":0}]
[1368,null,null,null,null,null,null,null,null,null,null,{"$f":"Balance!G371","v":0}]
[1369,null,null,null,null,null,null,null,null,null,null,{"$f":"Balance!G372","v":0}]
[1370,null,null,null,null,null,null,null,null,null,null,{"$f":"Balance!G373","v":0}]
[1371,null,null,null,null,null,null,null,null,null,null,{"$f":"Balance!G374","v":0}]
[1372,null,null,null,null,null,null,null,null,null,null,{"$f":"Balance!G375","v":0}]
[1373,null,null,null,null,null,null,null,null,null,null,{"$f":"Balance!G376","v":0}]
[1374,null,null,null,null,null,null,null,null,null,null,{"$f":"Balance!G377","v":0}]
[1375,null,null,null,null,null,null,null,null,null,null,{"$f":"Balance!G378","v":0}]
[1376,null,null,null,null,null,null,null,null,null,null,{"$f":"Balance!G379","v":0}]
[1377,null,null,null,null,null,null,null,null,null,null,{"$f":"Balance!G380","v":0}]
[1378,null,null,null,null,null,null,null,null,null,null,{"$f":"Balance!G381","v":0}]
[1379,null,null,null,null,null,null,null,null,null,null,{"$f":"Balance!G382","v":0}]
[1380,null,null,null,null,null,null,null,null,null,null,{"$f":"Balance!G383","v":0}]
[1381,null,null,null,null,null,null,null,null,null,null,{"$f":"Balance!G384","v":0}]
[1382,null,null,null,null,null,null,null,null,null,null,{"$f":"Balance!G385","v":0}]
[1383,null,null,null,null,null,null,null,null,null,null,{"$f":"Balance!G386","v":0}]
[1384,null,null,null,null,null,null,null,null,null,null,{"$f":"Balance!G387","v":0}]
[1385,null,null,null,null,null,null,null,null,null,null,{"$f":"Balance!G388","v":0}]
[1386,null,null,null,null,null,null,null,null,null,null,{"$f":"Balance!G389","v":0}]
[1387,null,null,null,null,null,null,null,null,null,null,{"$f":"Balance!G390","v":0}]
[1388,null,null,null,null,null,null,null,null,null,null,{"$f":"Balance!G391","v":0}]
[1389,null,null,null,null,null,null,null,null,null,null,{"$f":"Balance!G392","v":0}]
[1390,null,null,null,null,null,null,null,null,null,null,{"$f":"Balance!G393","v":0}]
[1391,null,null,null,null,null,null,null,null,null,null,{"$f":"Balance!G394","v":0}]
[1392,null,null,null,null,null,null,null,null,null,null,{"$f":"Balance!G395","v":0}]
[1393,null,null,null,null,null,null,null,null,null,null,{"$f":"Balance!G396","v":0}]
[1394,null,null,null,null,null,null,null,null,null,null,{"$f":"Balance!G397","v":0}]
[1395,null,null,null,null,null,null,null,null,null,null,{"$f":"Balance!G398","v":0}]
[1396,null,null,null,null,null,null,null,null,null,null,{"$f":"Balance!G399","v":0}]
[1397,null,null,null,null,null,null,null,null,null,null,{"$f":"Balance!G400","v":0}]
[1398,null,null,null,null,null,null,null,null,null,null,{"$f":"Balance!G401","v":0}]
[1399,null,null,null,null,null,null,null,null,null,null,{"$f":"Balance!G402","v":0}]
[1400,null,null,null,null,null,null,null,null,null,null,{"$f":"Balance!G403","v":0}]
[1401,null,null,null,null,null,null,null,null,null,null,{"$f":"Balance!G404","v":0}]
[1402,null,null,null,null,null,null,null,null,null,null,{"$f":"Balance!G405","v":0}]
[1403,null,null,null,null,null,null,null,null,null,null,{"$f":"Balance!G406","v":0}]
[1404,null,null,null,null,null,null,null,null,null,null,{"$f":"Balance!G407","v":0}]
[1405,null,null,null,null,null,null,null,null,null,null,{"$f":"Balance!G408","v":0}]
[1406,null,null,null,null,null,null,null,null,null,null,{"$f":"Balance!G409","v":0}]
[1407,null,null,null,null,null,null,null,null,null,null,{"$f":"Balance!G410","v":0}]
[1408,null,null,null,null,null,null,null,null,null,null,{"$f":"Balance!G411","v":0}]
[1409,null,null,null,null,null,null,null,null,null,null,{"$f":"Balance!G412","v":0}]
[1410,null,null,null,null,null,null,null,null,null,null,{"$f":"Balance!G413","v":0}]
[1411,null,null,null,null,null,null,null,null,null,null,{"$f":"Balance!G414","v":0}]
[1412,null,null,null,null,null,null,null,null,null,null,{"$f":"Balance!G415","v":0}]
[1413,null,null,null,null,null,null,null,null,null,null,{"$f":"Balance!G416","v":0}]
[1414,null,null,null,null,null,null,null,null,null,null,{"$f":"Balance!G417","v":0}]
[1415,null,null,null,null,null,null,null,null,null,null,{"$f":"Balance!G418","v":0}]
[1416,null,null,null,null,null,null,null,null,null,null,{"$f":"Balance!G419","v":0}]
[1417,null,null,null,null,null,null,null,null,null,null,{"$f":"Balance!G420","v":0}]
[1418,null,null,null,null,null,null,null,null,null,null,{"$f":"Balance!G421","v":0}]
[1419,null,null,null,null,null,null,null,null,null,null,{"$f":"Balance!G422","v":0}]
[1420,null,null,null,null,null,null,null,null,null,null,{"$f":"Balance!G423","v":0}]
[1421,null,null,null,null,null,null,null,null,null,null,{"$f":"Balance!G424","v":0}]
[1422,null,null,null,null,null,null,null,null,null,null,{"$f":"Balance!G425","v":0}]
[1423,null,null,null,null,null,null,null,null,null,null,{"$f":"Balance!G426","v":0}]
[1424,null,null,null,null,null,null,null,null,null,null,{"$f":"Balance!G427","v":0}]
[1425,null,null,null,null,null,null,null,null,null,null,{"$f":"Balance!G428","v":0}]
[1426,null,null,null,null,null,null,null,null,null,null,{"$f":"Balance!G429","v":0}]
[1427,null,null,null,null,null,null,null,null,null,null,{"$f":"Balance!G430","v":0}]
[1428,null,null,null,null,null,null,null,null,null,null,{"$f":"Balance!G431","v":0}]
[1429,null,null,null,null,null,null,null,null,null,null,{"$f":"Balance!G432","v":0}]
[1430,null,null,null,null,null,null,null,null,null,null,{"$f":"Balance!G433","v":0}]
[1431,null,null,null,null,null,null,null,null,null,null,{"$f":"Balance!G434","v":0}]
[1432,null,null,null,null,null,null,null,null,null,null,{"$f":"Balance!G435","v":0}]
[1433,null,null,null,null,null,null,null,null,null,null,{"$f":"Balance!G436","v":0}]
[1434,null,null,null,null,null,null,null,null,null,null,{"$f":"Balance!G437","v":0}]
[1435,null,null,null,null,null,null,null,null,null,null,{"$f":"Balance!G438","v":0}]
[1436,null,null,null,null,null,null,null,null,null,null,{"$f":"Balance!G439","v":0}]
[1437,null,null,null,null,null,null,null,null,null,null,{"$f":"Balance!G440","v":0}]
[1438,null,null,null,null,null,null,null,null,null,null,{"$f":"Balance!G441","v":0}]
[1439,null,null,null,null,null,null,null,null,null,null,{"$f":"Balance!G442","v":0}]
[1440,null,null,null,null,null,null,null,null,null,null,{"$f":"Balance!G443","v":0}]
[1441,null,null,null,null,null,null,null,null,null,null,{"$f":"Balance!G444","v":0}]
[1442,null,null,null,null,null,null,null,null,null,null,{"$f":"Balance!G445","v":0}]
[1443,null,null,null,null,null,null,null,null,null,null,{"$f":"Balance!G446","v":0}]
[1444,null,null,null,null,null,null,null,null,null,null,{"$f":"Balance!G447","v":0}]
[1445,null,null,null,null,null,null,null,null,null,null,{"$f":"Balance!G448","v":0}]
[1446,null,null,null,null,null,null,null,null,null,null,{"$f":"Balance!G449","v":0}]
[1447,null,null,null,null,null,null,null,null,null,null,{"$f":"Balance!G450","v":0}]
[1448,null,null,null,null,null,null,null,null,null,null,{"$f":"Balance!G451","v":0}]
[1449,null,null,null,null,null,null,null,null,null,null,{"$f":"Balance!G452","v":0}]
[1450,null,null,null,null,null,null,null,null,null,null,{"$f":"Balance!G453","v":0}]
[1451,null,null,null,null,null,null,null,null,null,null,{"$f":"Balance!G454","v":0}]
[1452,null,null,null,null,null,null,null,null,null,null,{"$f":"Balance!G455","v":0}]
[1453,null,null,null,null,null,null,null,null,null,null,{"$f":"Balance!G456","v":0}]
[1454,null,null,null,null,null,null,null,null,null,null,{"$f":"Balance!G457","v":0}]
[1455,null,null,null,null,null,null,null,null,null,null,{"$f":"Balance!G458","v":0}]
[1456,null,null,null,null,null,null,null,null,null,null,{"$f":"Balance!G459","v":0}]
[1457,null,null,null,null,null,null,null,null,null,null,{"$f":"Balance!G460","v":0}]
[1458,null,null,null,null,null,null,null,null,null,null,{"$f":"Balance!G461","v":0}]
[1459,null,null,null,null,null,null,null,null,null,null,{"$f":"Balance!G462","v":0}]
[1460,null,null,null,null,null,null,null,null,null,null,{"$f":"Balance!G463","v":0}]
[1461,null,null,null,null,null,null,null,null,null,null,{"$f":"Balance!G464","v":0}]
[1462,null,null,null,null,null,null,null,null,null,null,{"$f":"Balance!G465","v":0}]
[1463,null,null,null,null,null,null,null,null,null,null,{"$f":"Balance!G466","v":0}]
[1464,null,null,null,null,null,null,null,null,null,null,{"$f":"Balance!G467","v":0}]
[1465,null,null,null,null,null,null,null,null,null,null,{"$f":"Balance!G468","v":0}]
[1466,null,null,null,null,null,null,null,null,null,null,{"$f":"Balance!G469","v":0}]
[1467,null,null,null,null,null,null,null,null,null,null,{"$f":"Balance!G470","v":0}]
[1468,null,null,null,null,null,null,null,null,null,null,{"$f":"Balance!G471","v":0}]
[1469,null,null,null,null,null,null,null,null,null,null,{"$f":"Balance!G472","v":0}]
[1470,null,null,null,null,null,null,null,null,null,null,{"$f":"Balance!G473","v":0}]
[1471,null,null,null,null,null,null,null,null,null,null,{"$f":"Balance!G474","v":0}]
[1472,null,null,null,null,null,null,null,null,null,null,{"$f":"Balance!G475","v":0}]
[1473,null,null,null,null,null,null,null,null,null,null,{"$f":"Balance!G476","v":0}]
[1474,null,null,null,null,null,null,null,null,null,null,{"$f":"Balance!G477","v":0}]
[1475,null,null,null,null,null,null,null,null,null,null,{"$f":"Balance!G478","v":0}]
[1476,null,null,null,null,null,null,null,null,null,null,{"$f":"Balance!G479","v":0}]
[1477,null,null,null,null,null,null,null,null,null,null,{"$f":"Balance!G480","v":0}]
[1478,null,null,null,null,null,null,null,null,null,null,{"$f":"Balance!G481","v":0}]
[1479,null,null,null,null,null,null,null,null,null,null,{"$f":"Balance!G482","v":0}]
[1480,null,null,null,null,null,null,null,null,null,null,{"$f":"Balance!G483","v":0}]
[1481,null,null,null,null,null,null,null,null,null,null,{"$f":"Balance!G484","v":0}]
[1482,null,null,null,null,null,null,null,null,null,null,{"$f":"Balance!G485","v":0}]
[1483,null,null,null,null,null,null,null,null,null,null,{"$f":"Balance!G486","v":0}]
[1484,null,null,null,null,null,null,null,null,null,null,{"$f":"Balance!G487","v":0}]
[1485,null,null,null,null,null,null,null,null,null,null,{"$f":"Balance!G488","v":0}]
[1486,null,null,null,null,null,null,null,null,null,null,{"$f":"Balance!G489","v":0}]
[1487,null,null,null,null,null,null,null,null,null,null,{"$f":"Balance!G490","v":0}]
[1488,null,null,null,null,null,null,null,null,null,null,{"$f":"Balance!G491","v":0}]
[1489,null,null,null,null,null,null,null,null,null,null,{"$f":"Balance!G492","v":0}]
[1490,null,null,null,null,null,null,null,null,null,null,{"$f":"Balance!G493","v":0}]
[1491,null,null,null,null,null,null,null,null,null,null,{"$f":"Balance!G494","v":0}]
[1492,null,null,null,null,null,null,null,null,null,null,{"$f":"Balance!G495","v":0}]
[1493,null,null,null,null,null,null,null,null,null,null,{"$f":"Balance!G496","v":0}]
[1494,null,null,null,null,null,null,null,null,null,null,{"$f":"Balance!G497","v":0}]
[1495,null,null,null,null,null,null,null,null,null,null,{"$f":"Balance!G498","v":0}]
[1496,null,null,null,null,null,null,null,null,null,null,{"$f":"Balance!G499","v":0}]
[1497,null,null,null,null,null,null,null,null,null,null,{"$f":"Balance!G500","v":0}]
[1498,null,null,null,null,null,null,null,null,null,null,{"$f":"Balance!G501","v":0}]
[1499,null,null,null,null,null,null,null,null,null,null,{"$f":"Balance!G502","v":0}]
[1500,null,null,null,null,null,null,null,null,null,null,{"$f":"Balance!G503","v":0}]
[1501,null,null,null,null,null,null,null,null,null,null,{"$f":"Balance!G504","v":0}]
[1502,null,null,null,null,null,null,null,null,null,null,{"$f":"Balance!G505","v":0}]
[1503,null,null,null,null,null,null,null,null,null,null,{"$f":"Balance!G506","v":0}]
[1504,null,null,null,null,null,null,null,null,null,null,{"$f":"Balance!G507","v":0}]
[1505,null,null,null,null,null,null,null,null,null,null,{"$f":"Balance!G508","v":0}]
[1506,null,null,null,null,null,null,null,null,null,null,{"$f":"Balance!G509","v":0}]
[1507,null,null,null,null,null,null,null,null,null,null,{"$f":"Balance!G510","v":0}]
[1508,null,null,null,null,null,null,null,null,null,null,{"$f":"Balance!G511","v":0}]
[1509,null,null,null,null,null,null,null,null,null,null,{"$f":"Balance!G512","v":0}]
[1510,null,null,null,null,null,null,null,null,null,null,{"$f":"Balance!G513","v":0}]
[1511,null,null,null,null,null,null,null,null,null,null,{"$f":"Balance!G514","v":0}]
[1512,null,null,null,null,null,null,null,null,null,null,{"$f":"Balance!G515","v":0}]
[1513,null,null,null,null,null,null,null,null,null,null,{"$f":"Balance!G516","v":0}]
[1514,null,null,null,null,null,null,null,null,null,null,{"$f":"Balance!G517","v":0}]
[1515,null,null,null,null,null,null,null,null,null,null,{"$f":"Balance!G518","v":0}]
[1516,null,null,null,null,null,null,null,null,null,null,{"$f":"Balance!G519","v":0}]
[1517,null,null,null,null,null,null,null,null,null,null,{"$f":"Balance!G520","v":0}]
[1518,null,null,null,null,null,null,null,null,null,null,{"$f":"Balance!G521","v":0}]
[1519,null,null,null,null,null,null,null,null,null,null,{"$f":"Balance!G522","v":0}]
[1520,null,null,null,null,null,null,null,null,null,null,{"$f":"Balance!G523","v":0}]
[1521,null,null,null,null,null,null,null,null,null,null,{"$f":"Balance!G524","v":0}]
[1522,null,null,null,null,null,null,null,null,null,null,{"$f":"Balance!G525","v":0}]
[1523,null,null,null,null,null,null,null,null,null,null,{"$f":"Balance!G526","v":0}]
[1524,null,null,null,null,null,null,null,null,null,null,{"$f":"Balance!G527","v":0}]
[1525,null,null,null,null,null,null,null,null,null,null,{"$f":"Balance!G528","v":0}]
[1526,null,null,null,null,null,null,null,null,null,null,{"$f":"Balance!G529","v":0}]
[1527,null,null,null,null,null,null,null,null,null,null,{"$f":"Balance!G530","v":0}]
[1528,null,null,null,null,null,null,null,null,null,null,{"$f":"Balance!G531","v":0}]
[1529,null,null,null,null,null,null,null,null,null,null,{"$f":"Balance!G532","v":0}]
[1530,null,null,null,null,null,null,null,null,null,null,{"$f":"Balance!G533","v":0}]
[1531,null,null,null,null,null,null,null,null,null,null,{"$f":"Balance!G534","v":0}]
[1532,null,null,null,null,null,null,null,null,null,null,{"$f":"Balance!G535","v":0}]
[1533,null,null,null,null,null,null,null,null,null,null,{"$f":"Balance!G536","v":0}]
[1534,null,null,null,null,null,null,null,null,null,null,{"$f":"Balance!G537","v":0}]
[1535,null,null,null,null,null,null,null,null,null,null,{"$f":"Balance!G538","v":0}]
[1536,null,null,null,null,null,null,null,null,null,null,{"$f":"Balance!G539","v":0}]
[1537,null,null,null,null,null,null,null,null,null,null,{"$f":"Balance!G540","v":0}]
[1538,null,null,null,null,null,null,null,null,null,null,{"$f":"Balance!G541","v":0}]
[1539,null,null,null,null,null,null,null,null,null,null,{"$f":"Balance!G542","v":0}]
[1540,null,null,null,null,null,null,null,null,null,null,{"$f":"Balance!G543","v":0}]
[1541,null,null,null,null,null,null,null,null,null,null,{"$f":"Balance!G544","v":0}]
[1542,null,null,null,null,null,null,null,null,null,null,{"$f":"Balance!G545","v":0}]
[1543,null,null,null,null,null,null,null,null,null,null,{"$f":"Balance!G546","v":0}]
[1544,null,null,null,null,null,null,null,null,null,null,{"$f":"Balance!G547","v":0}]
[1545,null,null,null,null,null,null,null,null,null,null,{"$f":"Balance!G548","v":0}]
[1546,null,null,null,null,null,null,null,null,null,null,{"$f":"Balance!G549","v":0}]
[1547,null,null,null,null,null,null,null,null,null,null,{"$f":"Balance!G550","v":0}]
[1548,null,null,null,null,null,null,null,null,null,null,{"$f":"Balance!G551","v":0}]
[1549,null,null,null,null,null,null,null,null,null,null,{"$f":"Balance!G552","v":0}]
[1550,null,null,null,null,null,null,null,null,null,null,{"$f":"Balance!G553","v":0}]
[1551,null,null,null,null,null,null,null,null,null,null,{"$f":"Balance!G554","v":0}]
[1552,null,null,null,null,null,null,null,null,null,null,{"$f":"Balance!G555","v":0}]
[1553,null,null,null,null,null,null,null,null,null,null,{"$f":"Balance!G556","v":0}]
[1554,null,null,null,null,null,null,null,null,null,null,{"$f":"Balance!G557","v":0}]
[1555,null,null,null,null,null,null,null,null,null,null,{"$f":"Balance!G558","v":0}]
[1556,null,null,null,null,null,null,null,null,null,null,{"$f":"Balance!G559","v":0}]
[1557,null,null,null,null,null,null,null,null,null,null,{"$f":"Balance!G560","v":0}]
[1558,null,null,null,null,null,null,null,null,null,null,{"$f":"Balance!G561","v":0}]
[1559,null,null,null,null,null,null,null,null,null,null,{"$f":"Balance!G562","v":0}]
[1560,null,null,null,null,null,null,null,null,null,null,{"$f":"Balance!G563","v":0}]
[1561,null,null,null,null,null,null,null,null,null,null,{"$f":"Balance!G564","v":0}]
[1562,null,null,null,null,null,null,null,null,null,null,{"$f":"Balance!G565","v":0}]
[1563,null,null,null,null,null,null,null,null,null,null,{"$f":"Balance!G566","v":0}]
[1564,null,null,null,null,null,null,null,null,null,null,{"$f":"Balance!G567","v":0}]
[1565,null,null,null,null,null,null,null,null,null,null,{"$f":"Balance!G568","v":0}]
[1566,null,null,null,null,null,null,null,null,null,null,{"$f":"Balance!G569","v":0}]
[1567,null,null,null,null,null,null,null,null,null,null,{"$f":"Balance!G570","v":0}]
[1568,null,null,null,null,null,null,null,null,null,null,{"$f":"Balance!G571","v":0}]
[1569,null,null,null,null,null,null,null,null,null,null,{"$f":"Balance!G572","v":0}]
[1570,null,null,null,null,null,null,null,null,null,null,{"$f":"Balance!G573","v":0}]
[1571,null,null,null,null,null,null,null,null,null,null,{"$f":"Balance!G574","v":0}]
[1572,null,null,null,null,null,null,null,null,null,null,{"$f":"Balance!G575","v":0}]
[1573,null,null,null,null,null,null,null,null,null,null,{"$f":"Balance!G576","v":0}]
[1574,null,null,null,null,null,null,null,null,null,null,{"$f":"Balance!G577","v":0}]
[1575,null,null,null,null,null,null,null,null,null,null,{"$f":"Balance!G578","v":0}]
[1576,null,null,null,null,null,null,null,null,null,null,{"$f":"Balance!G579","v":0}]
[1577,null,null,null,null,null,null,null,null,null,null,{"$f":"Balance!G580","v":0}]
[1578,null,null,null,null,null,null,null,null,null,null,{"$f":"Balance!G581","v":0}]
[1579,null,null,null,null,null,null,null,null,null,null,{"$f":"Balance!G582","v":0}]
[1580,null,null,null,null,null,null,null,null,null,null,{"$f":"Balance!G583","v":0}]
[1581,null,null,null,null,null,null,null,null,null,null,{"$f":"Balance!G584","v":0}]
[1582,null,null,null,null,null,null,null,null,null,null,{"$f":"Balance!G585","v":0}]
[1583,null,null,null,null,null,null,null,null,null,null,{"$f":"Balance!G586","v":0}]
[1584,null,null,null,null,null,null,null,null,null,null,{"$f":"Balance!G587","v":0}]
[1585,null,null,null,null,null,null,null,null,null,null,{"$f":"Balance!G588","v":0}]
[1586,null,null,null,null,null,null,null,null,null,null,{"$f":"Balance!G589","v":0}]
[1587,null,null,null,null,null,null,null,null,null,null,{"$f":"Balance!G590","v":0}]
[1588,null,null,null,null,null,null,null,null,null,null,{"$f":"Balance!G591","v":0}]
[1589,null,null,null,null,null,null,null,null,null,null,{"$f":"Balance!G592","v":0}]
[1590,null,null,null,null,null,null,null,null,null,null,{"$f":"Balance!G593","v":0}]
[1591,null,null,null,null,null,null,null,null,null,null,{"$f":"Balance!G594","v":0}]
[1592,null,null,null,null,null,null,null,null,null,null,{"$f":"Balance!G595","v":0}]
[1593,null,null,null,null,null,null,null,null,null,null,{"$f":"Balance!G596","v":0}]
[1594,null,null,null,null,null,null,null,null,null,null,{"$f":"Balance!G597","v":0}]
[1595,null,null,null,null,null,null,null,null,null,null,{"$f":"Balance!G598","v":0}]
[1596,null,null,null,null,null,null,null,null,null,null,{"$f":"Balance!G599","v":0}]
[1597,null,null,null,null,null,null,null,null,null,null,{"$f":"Balance!G600","v":0}]
[1598,null,null,null,null,null,null,null,null,null,null,{"$f":"Balance!G601","v":0}]
[1599,null,null,null,null,null,null,null,null,null,null,{"$f":"Balance!G602","v":0}]
[1600,null,null,null,null,null,null,null,null,null,null,{"$f":"Balance!G603","v":0}]
[1601,null,null,null,null,null,null,null,null,null,null,{"$f":"Balance!G604","v":0}]
[1602,null,null,null,null,null,null,null,null,null,null,{"$f":"Balance!G605","v":0}]
[1603,null,null,null,null,null,null,null,null,null,null,{"$f":"Balance!G606","v":0}]
[1604,null,null,null,null,null,null,null,null,null,null,{"$f":"Balance!G607","v":0}]
[1605,null,null,null,null,null,null,null,null,null,null,{"$f":"Balance!G608","v":0}]
[1606,null,null,null,null,null,null,null,null,null,null,{"$f":"Balance!G609","v":0}]
[1607,null,null,null,null,null,null,null,null,null,null,{"$f":"Balance!G610","v":0}]
[1608,null,null,null,null,null,null,null,null,null,null,{"$f":"Balance!G611","v":0}]
[1609,null,null,null,null,null,null,null,null,null,null,{"$f":"Balance!G612","v":0}]
[1610,null,null,null,null,null,null,null,null,null,null,{"$f":"Balance!G613","v":0}]
[1611,null,null,null,null,null,null,null,null,null,null,{"$f":"Balance!G614","v":0}]
[1612,null,null,null,null,null,null,null,null,null,null,{"$f":"Balance!G615","v":0}]
[1613,null,null,null,null,null,null,null,null,null,null,{"$f":"Balance!G616","v":0}]
[1614,null,null,null,null,null,null,null,null,null,null,{"$f":"Balance!G617","v":0}]
[1615,null,null,null,null,null,null,null,null,null,null,{"$f":"Balance!G618","v":0}]
[1616,null,null,null,null,null,null,null,null,null,null,{"$f":"Balance!G619","v":0}]
[1617,null,null,null,null,null,null,null,null,null,null,{"$f":"Balance!G620","v":0}]
[1618,null,null,null,null,null,null,null,null,null,null,{"$f":"Balance!G621","v":0}]
[1619,null,null,null,null,null,null,null,null,null,null,{"$f":"Balance!G622","v":0}]
[1620,null,null,null,null,null,null,null,null,null,null,{"$f":"Balance!G623","v":0}]
[1621,null,null,null,null,null,null,null,null,null,null,{"$f":"Balance!G624","v":0}]
[1622,null,null,null,null,null,null,null,null,null,null,{"$f":"Balance!G625","v":0}]
[1623,null,null,null,null,null,null,null,null,null,null,{"$f":"Balance!G626","v":0}]
[1624,null,null,null,null,null,null,null,null,null,null,{"$f":"Balance!G627","v":0}]
[1625,null,null,null,null,null,null,null,null,null,null,{"$f":"Balance!G628","v":0}]
[1626,null,null,null,null,null,null,null,null,null,null,{"$f":"Balance!G629","v":0}]
[1627,null,null,null,null,null,null,null,null,null,null,{"$f":"Balance!G630","v":0}]
[1628,null,null,null,null,null,null,null,null,null,null,{"$f":"Balance!G631","v":0}]
[1629,null,null,null,null,null,null,null,null,null,null,{"$f":"Balance!G632","v":0}]
[1630,null,null,null,null,null,null,null,null,null,null,{"$f":"Balance!G633","v":0}]
[1631,null,null,null,null,null,null,null,null,null,null,{"$f":"Balance!G634","v":0}]
[1632,null,null,null,null,null,null,null,null,null,null,{"$f":"Balance!G635","v":0}]
[1633,null,null,null,null,null,null,null,null,null,null,{"$f":"Balance!G636","v":0}]
[1634,null,null,null,null,null,null,null,null,null,null,{"$f":"Balance!G637","v":0}]
[1635,null,null,null,null,null,null,null,null,null,null,{"$f":"Balance!G638","v":0}]
[1636,null,null,null,null,null,null,null,null,null,null,{"$f":"Balance!G639","v":0}]
[1637,null,null,null,null,null,null,null,null,null,null,{"$f":"Balance!G640","v":0}]
[1638,null,null,null,null,null,null,null,null,null,null,{"$f":"Balance!G641","v":0}]
[1639,null,null,null,null,null,null,null,null,null,null,{"$f":"Balance!G642","v":0}]
[1640,null,null,null,null,null,null,null,null,null,null,{"$f":"Balance!G643","v":0}]
[1641,null,null,null,null,null,null,null,null,null,null,{"$f":"Balance!G644","v":0}]
[1642,null,null,null,null,null,null,null,null,null,null,{"$f":"Balance!G645","v":0}]
[1643,null,null,null,null,null,null,null,null,null,null,{"$f":"Balance!G646","v":0}]
[1644,null,null,null,null,null,null,null,null,null,null,{"$f":"Balance!G647","v":0}]
[1645,null,null,null,null,null,null,null,null,null,null,{"$f":"Balance!G648","v":0}]
[1646,null,null,null,null,null,null,null,null,null,null,{"$f":"Balance!G649","v":0}]
[1647,null,null,null,null,null,null,null,null,null,null,{"$f":"Balance!G650","v":0}]
[1648,null,null,null,null,null,null,null,null,null,null,{"$f":"Balance!G651","v":0}]
[1649,null,null,null,null,null,null,null,null,null,null,{"$f":"Balance!G652","v":0}]
[1650,null,null,null,null,null,null,null,null,null,null,{"$f":"Balance!G653","v":0}]
[1651,null,null,null,null,null,null,null,null,null,null,{"$f":"Balance!G654","v":0}]
[1652,null,null,null,null,null,null,null,null,null,null,{"$f":"Balance!G655","v":0}]
[1653,null,null,null,null,null,null,null,null,null,null,{"$f":"Balance!G656","v":0}]
[1654,null,null,null,null,null,null,null,null,null,null,{"$f":"Balance!G657","v":0}]
[1655,null,null,null,null,null,null,null,null,null,null,{"$f":"Balance!G658","v":0}]
[1656,null,null,null,null,null,null,null,null,null,null,{"$f":"Balance!G659","v":0}]
[1657,null,null,null,null,null,null,null,null,null,null,{"$f":"Balance!G660","v":0}]
[1658,null,null,null,null,null,null,null,null,null,null,{"$f":"Balance!G661","v":0}]
[1659,null,null,null,null,null,null,null,null,null,null,{"$f":"Balance!G662","v":0}]
[1660,null,null,null,null,null,null,null,null,null,null,{"$f":"Balance!G663","v":0}]
[1661,null,null,null,null,null,null,null,null,null,null,{"$f":"Balance!G664","v":0}]
[1662,null,null,null,null,null,null,null,null,null,null,{"$f":"Balance!G665","v":0}]
[1663,null,null,null,null,null,null,null,null,null,null,{"$f":"Balance!G666","v":0}]
[1664,null,null,null,null,null,null,null,null,null,null,{"$f":"Balance!G667","v":0}]
[1665,null,null,null,null,null,null,null,null,null,null,{"$f":"Balance!G668","v":0}]
[1666,null,null,null,null,null,null,null,null,null,null,{"$f":"Balance!G669","v":0}]
[1667,null,null,null,null,null,null,null,null,null,null,{"$f":"Balance!G670","v":0}]
[1668,null,null,null,null,null,null,null,null,null,null,{"$f":"Balance!G671","v":0}]
[1669,null,null,null,null,null,null,null,null,null,null,{"$f":"Balance!G672","v":0}]
[1670,null,null,null,null,null,null,null,null,null,null,{"$f":"Balance!G673","v":0}]
[1671,null,null,null,null,null,null,null,null,null,null,{"$f":"Balance!G674","v":0}]
[1672,null,null,null,null,null,null,null,null,null,null,{"$f":"Balance!G675","v":0}]
[1673,null,null,null,null,null,null,null,null,null,null,{"$f":"Balance!G676","v":0}]
[1674,null,null,null,null,null,null,null,null,null,null,{"$f":"Balance!G677","v":0}]
[1675,null,null,null,null,null,null,null,null,null,null,{"$f":"Balance!G678","v":0}]
[1676,null,null,null,null,null,null,null,null,null,null,{"$f":"Balance!G679","v":0}]
[1677,null,null,null,null,null,null,null,null,null,null,{"$f":"Balance!G680","v":0}]
[1678,null,null,null,null,null,null,null,null,null,null,{"$f":"Balance!G681","v":0}]
[1679,null,null,null,null,null,null,null,null,null,null,{"$f":"Balance!G682","v":0}]
[1680,null,null,null,null,null,null,null,null,null,null,{"$f":"Balance!G683","v":0}]
[1681,null,null,null,null,null,null,null,null,null,null,{"$f":"Balance!G684","v":0}]
[1682,null,null,null,null,null,null,null,null,null,null,{"$f":"Balance!G685","v":0}]
[1683,null,null,null,null,null,null,null,null,null,null,{"$f":"Balance!G686","v":0}]
[1684,null,null,null,null,null,null,null,null,null,null,{"$f":"Balance!G687","v":0}]
[1685,null,null,null,null,null,null,null,null,null,null,{"$f":"Balance!G688","v":0}]
[1686,null,null,null,null,null,null,null,null,null,null,{"$f":"Balance!G689","v":0}]
[1687,null,null,null,null,null,null,null,null,null,null,{"$f":"Balance!G690","v":0}]
[1688,null,null,null,null,null,null,null,null,null,null,{"$f":"Balance!G691","v":0}]
[1689,null,null,null,null,null,null,null,null,null,null,{"$f":"Balance!G692","v":0}]
[1690,null,null,null,null,null,null,null,null,null,null,{"$f":"Balance!G693","v":0}]
[1691,null,null,null,null,null,null,null,null,null,null,{"$f":"Balance!G694","v":0}]
[1692,null,null,null,null,null,null,null,null,null,null,{"$f":"Balance!G695","v":0}]
[1693,null,null,null,null,null,null,null,null,null,null,{"$f":"Balance!G696","v":0}]
[1694,null,null,null,null,null,null,null,null,null,null,{"$f":"Balance!G697","v":0}]
[1695,null,null,null,null,null,null,null,null,null,null,{"$f":"Balance!G698","v":0}]
[1696,null,null,null,null,null,null,null,null,null,null,{"$f":"Balance!G699","v":0}]
[1697,null,null,null,null,null,null,null,null,null,null,{"$f":"Balance!G700","v":0}]
[1698,null,null,null,null,null,null,null,null,null,null,{"$f":"Balance!G701","v":0}]
[1699,null,null,null,null,null,null,null,null,null,null,{"$f":"Balance!G702","v":0}]
[1700,null,null,null,null,null,null,null,null,null,null,{"$f":"Balance!G703","v":0}]
[1701,null,null,null,null,null,null,null,null,null,null,{"$f":"Balance!G704","v":0}]
[1702,null,null,null,null,null,null,null,null,null,null,{"$f":"Balance!G705","v":0}]
[1703,null,null,null,null,null,null,null,null,null,null,{"$f":"Balance!G706","v":0}]
[1704,null,null,null,null,null,null,null,null,null,null,{"$f":"Balance!G707","v":0}]
[1705,null,null,null,null,null,null,null,null,null,null,{"$f":"Balance!G708","v":0}]
[1706,null,null,null,null,null,null,null,null,null,null,{"$f":"Balance!G709","v":0}]
[1707,null,null,null,null,null,null,null,null,null,null,{"$f":"Balance!G710","v":0}]
[1708,null,null,null,null,null,null,null,null,null,null,{"$f":"Balance!G711","v":0}]
[1709,null,null,null,null,null,null,null,null,null,null,{"$f":"Balance!G712","v":0}]
[1710,null,null,null,null,null,null,null,null,null,null,{"$f":"Balance!G713","v":0}]
[1711,null,null,null,null,null,null,null,null,null,null,{"$f":"Balance!G714","v":0}]
[1712,null,null,null,null,null,null,null,null,null,null,{"$f":"Balance!G715","v":0}]
[1713,null,null,null,null,null,null,null,null,null,null,{"$f":"Balance!G716","v":0}]
[1714,null,null,null,null,null,null,null,null,null,null,{"$f":"Balance!G717","v":0}]
[1715,null,null,null,null,null,null,null,null,null,null,{"$f":"Balance!G718","v":0}]
[1716,null,null,null,null,null,null,null,null,null,null,{"$f":"Balance!G719","v":0}]
[1717,null,null,null,null,null,null,null,null,null,null,{"$f":"Balance!G720","v":0}]
[1718,null,null,null,null,null,null,null,null,null,null,{"$f":"Balance!G721","v":0}]
[1719,null,null,null,null,null,null,null,null,null,null,{"$f":"Balance!G722","v":0}]
[1720,null,null,null,null,null,null,null,null,null,null,{"$f":"Balance!G723","v":0}]
[1721,null,null,null,null,null,null,null,null,null,null,{"$f":"Balance!G724","v":0}]
[1722,null,null,null,null,null,null,null,null,null,null,{"$f":"Balance!G725","v":0}]
[1723,null,null,null,null,null,null,null,null,null,null,{"$f":"Balance!G726","v":0}]
[1724,null,null,null,null,null,null,null,null,null,null,{"$f":"Balance!G727","v":0}]
[1725,null,null,null,null,null,null,null,null,null,null,{"$f":"Balance!G728","v":0}]
[1726,null,null,null,null,null,null,null,null,null,null,{"$f":"Balance!G729","v":0}]
[1727,null,null,null,null,null,null,null,null,null,null,{"$f":"Balance!G730","v":0}]
[1728,null,null,null,null,null,null,null,null,null,null,{"$f":"Balance!G731","v":0}]
[1729,null,null,null,null,null,null,null,null,null,null,{"$f":"Balance!G732","v":0}]
[1730,null,null,null,null,null,null,null,null,null,null,{"$f":"Balance!G733","v":0}]
[1731,null,null,null,null,null,null,null,null,null,null,{"$f":"Balance!G734","v":0}]
[1732,null,null,null,null,null,null,null,null,null,null,{"$f":"Balance!G735","v":0}]
[1733,null,null,null,null,null,null,null,null,null,null,{"$f":"Balance!G736","v":0}]
[1734,null,null,null,null,null,null,null,null,null,null,{"$f":"Balance!G737","v":0}]
[1735,null,null,null,null,null,null,null,null,null,null,{"$f":"Balance!G738","v":0}]
[1736,null,null,null,null,null,null,null,null,null,null,{"$f":"Balance!G739","v":0}]
[1737,null,null,null,null,null,null,null,null,null,null,{"$f":"Balance!G740","v":0}]
[1738,null,null,null,null,null,null,null,null,null,null,{"$f":"Balance!G741","v":0}]
[1739,null,null,null,null,null,null,null,null,null,null,{"$f":"Balance!G742","v":0}]
[1740,null,null,null,null,null,null,null,null,null,null,{"$f":"Balance!G743","v":0}]
[1741,null,null,null,null,null,null,null,null,null,null,{"$f":"Balance!G744","v":0}]
[1742,null,null,null,null,null,null,null,null,null,null,{"$f":"Balance!G745","v":0}]
[1743,null,null,null,null,null,null,null,null,null,null,{"$f":"Balance!G746","v":0}]
[1744,null,null,null,null,null,null,null,null,null,null,{"$f":"Balance!G747","v":0}]
[1745,null,null,null,null,null,null,null,null,null,null,{"$f":"Balance!G748","v":0}]
[1746,null,null,null,null,null,null,null,null,null,null,{"$f":"Balance!G749","v":0}]
[1747,null,null,null,null,null,null,null,null,null,null,{"$f":"Balance!G750","v":0}]
[1748,null,null,null,null,null,null,null,null,null,null,{"$f":"Balance!G751","v":0}]
[1749,null,null,null,null,null,null,null,null,null,null,{"$f":"Balance!G752","v":0}]
[1750,null,null,null,null,null,null,null,null,null,null,{"$f":"Balance!G753","v":0}]
[1751,null,null,null,null,null,null,null,null,null,null,{"$f":"Balance!G754","v":0}]
[1752,null,null,null,null,null,null,null,null,null,null,{"$f":"Balance!G755","v":0}]
[1753,null,null,null,null,null,null,null,null,null,null,{"$f":"Balance!G756","v":0}]
[1754,null,null,null,null,null,null,null,null,null,null,{"$f":"Balance!G757","v":0}]
[1755,null,null,null,null,null,null,null,null,null,null,{"$f":"Balance!G758","v":0}]
[1756,null,null,null,null,null,null,null,null,null,null,{"$f":"Balance!G759","v":0}]
[1757,null,null,null,null,null,null,null,null,null,null,{"$f":"Balance!G760","v":0}]
[1758,null,null,null,null,null,null,null,null,null,null,{"$f":"Balance!G761","v":0}]
[1759,null,null,null,null,null,null,null,null,null,null,{"$f":"Balance!G762","v":0}]
[1760,null,null,null,null,null,null,null,null,null,null,{"$f":"Balance!G763","v":0}]
[1761,null,null,null,null,null,null,null,null,null,null,{"$f":"Balance!G764","v":0}]
[1762,null,null,null,null,null,null,null,null,null,null,{"$f":"Balance!G765","v":0}]
[1763,null,null,null,null,null,null,null,null,null,null,{"$f":"Balance!G766","v":0}]
[1764,null,null,null,null,null,null,null,null,null,null,{"$f":"Balance!G767","v":0}]
[1765,null,null,null,null,null,null,null,null,null,null,{"$f":"Balance!G768","v":0}]
[1766,null,null,null,null,null,null,null,null,null,null,{"$f":"Balance!G769","v":0}]
[1767,null,null,null,null,null,null,null,null,null,null,{"$f":"Balance!G770","v":0}]
[1768,null,null,null,null,null,null,null,null,null,null,{"$f":"Balance!G771","v":0}]
[1769,null,null,null,null,null,null,null,null,null,null,{"$f":"Balance!G772","v":0}]
[1770,null,null,null,null,null,null,null,null,null,null,{"$f":"Balance!G773","v":0}]
[1771,null,null,null,null,null,null,null,null,null,null,{"$f":"Balance!G774","v":0}]
[1772,null,null,null,null,null,null,null,null,null,null,{"$f":"Balance!G775","v":0}]
[1773,null,null,null,null,null,null,null,null,null,null,{"$f":"Balance!G776","v":0}]
[1774,null,null,null,null,null,null,null,null,null,null,{"$f":"Balance!G777","v":0}]
[1775,null,null,null,null,null,null,null,null,null,null,{"$f":"Balance!G778","v":0}]
[1776,null,null,null,null,null,null,null,null,null,null,{"$f":"Balance!G779","v":0}]
[1777,null,null,null,null,null,null,null,null,null,null,{"$f":"Balance!G780","v":0}]
[1778,null,null,null,null,null,null,null,null,null,null,{"$f":"Balance!G781","v":0}]
[1779,null,null,null,null,null,null,null,null,null,null,{"$f":"Balance!G782","v":0}]
[1780,null,null,null,null,null,null,null,null,null,null,{"$f":"Balance!G783","v":0}]
[1781,null,null,null,null,null,null,null,null,null,null,{"$f":"Balance!G784","v":0}]
[1782,null,null,null,null,null,null,null,null,null,null,{"$f":"Balance!G785","v":0}]
[1783,null,null,null,null,null,null,null,null,null,null,{"$f":"Balance!G786","v":0}]
[1784,null,null,null,null,null,null,null,null,null,null,{"$f":"Balance!G787","v":0}]
[1785,null,null,null,null,null,null,null,null,null,null,{"$f":"Balance!G788","v":0}]
[1786,null,null,null,null,null,null,null,null,null,null,{"$f":"Balance!G789","v":0}]
[1787,null,null,null,null,null,null,null,null,null,null,{"$f":"Balance!G790","v":0}]
[1788,null,null,null,null,null,null,null,null,null,null,{"$f":"Balance!G791","v":0}]
[1789,null,null,null,null,null,null,null,null,null,null,{"$f":"Balance!G792","v":0}]
[1790,null,null,null,null,null,null,null,null,null,null,{"$f":"Balance!G793","v":0}]
[1791,null,null,null,null,null,null,null,null,null,null,{"$f":"Balance!G794","v":0}]
[1792,null,null,null,null,null,null,null,null,null,null,{"$f":"Balance!G795","v":0}]
[1793,null,null,null,null,null,null,null,null,null,null,{"$f":"Balance!G796","v":0}]
[1794,null,null,null,null,null,null,null,null,null,null,{"$f":"Balance!G797","v":0}]
[1795,null,null,null,null,null,null,null,null,null,null,{"$f":"Balance!G798","v":0}]
[1796,null,null,null,null,null,null,null,null,null,null,{"$f":"Balance!G799","v":0}]
[1797,null,null,null,null,null,null,null,null,null,null,{"$f":"Balance!G800","v":0}]
[1798,null,null,null,null,null,null,null,null,null,null,{"$f":"Balance!G801","v":0}]
[1799,null,null,null,null,null,null,null,null,null,null,{"$f":"Balance!G802","v":0}]
[1800,null,null,null,null,null,null,null,null,null,null,{"$f":"Balance!G803","v":0}]
[1801,null,null,null,null,null,null,null,null,null,null,{"$f":"Balance!G804","v":0}]
[1802,null,null,null,null,null,null,null,null,null,null,{"$f":"Balance!G805","v":0}]
[1803,null,null,null,null,null,null,null,null,null,null,{"$f":"Balance!G806","v":0}]
[1804,null,null,null,null,null,null,null,null,null,null,{"$f":"Balance!G807","v":0}]
[1805,null,null,null,null,null,null,null,null,null,null,{"$f":"Balance!G808","v":0}]
[1806,null,null,null,null,null,null,null,null,null,null,{"$f":"Balance!G809","v":0}]
[1807,null,null,null,null,null,null,null,null,null,null,{"$f":"Balance!G810","v":0}]
[1808,null,null,null,null,null,null,null,null,null,null,{"$f":"Balance!G811","v":0}]
[1809,null,null,null,null,null,null,null,null,null,null,{"$f":"Balance!G812","v":0}]
[1810,null,null,null,null,null,null,null,null,null,null,{"$f":"Balance!G813","v":0}]
[1811,null,null,null,null,null,null,null,null,null,null,{"$f":"Balance!G814","v":0}]
[1812,null,null,null,null,null,null,null,null,null,null,{"$f":"Balance!G815","v":0}]
[1813,null,null,null,null,null,null,null,null,null,null,{"$f":"Balance!G816","v":0}]
[1814,null,null,null,null,null,null,null,null,null,null,{"$f":"Balance!G817","v":0}]
[1815,null,null,null,null,null,null,null,null,null,null,{"$f":"Balance!G818","v":0}]
[1816,null,null,null,null,null,null,null,null,null,null,{"$f":"Balance!G819","v":0}]
[1817,null,null,null,null,null,null,null,null,null,null,{"$f":"Balance!G820","v":0}]
[1818,null,null,null,null,null,null,null,null,null,null,{"$f":"Balance!G821","v":0}]
[1819,null,null,null,null,null,null,null,null,null,null,{"$f":"Balance!G822","v":0}]
[1820,null,null,null,null,null,null,null,null,null,null,{"$f":"Balance!G823","v":0}]
[1821,null,null,null,null,null,null,null,null,null,null,{"$f":"Balance!G824","v":0}]
[1822,null,null,null,null,null,null,null,null,null,null,{"$f":"Balance!G825","v":0}]
[1823,null,null,null,null,null,null,null,null,null,null,{"$f":"Balance!G826","v":0}]
[1824,null,null,null,null,null,null,null,null,null,null,{"$f":"Balance!G827","v":0}]
[1825,null,null,null,null,null,null,null,null,null,null,{"$f":"Balance!G828","v":0}]
[1826,null,null,null,null,null,null,null,null,null,null,{"$f":"Balance!G829","v":0}]
[1827,null,null,null,null,null,null,null,null,null,null,{"$f":"Balance!G830","v":0}]
[1828,null,null,null,null,null,null,null,null,null,null,{"$f":"Balance!G831","v":0}]
[1829,null,null,null,null,null,null,null,null,null,null,{"$f":"Balance!G832","v":0}]
[1830,null,null,null,null,null,null,null,null,null,null,{"$f":"Balance!G833","v":0}]
[1831,null,null,null,null,null,null,null,null,null,null,{"$f":"Balance!G834","v":0}]
[1832,null,null,null,null,null,null,null,null,null,null,{"$f":"Balance!G835","v":0}]
[1833,null,null,null,null,null,null,null,null,null,null,{"$f":"Balance!G836","v":0}]
[1834,null,null,null,null,null,null,null,null,null,null,{"$f":"Balance!G837","v":0}]
[1835,null,null,null,null,null,null,null,null,null,null,{"$f":"Balance!G838","v":0}]
[1836,null,null,null,null,null,null,null,null,null,null,{"$f":"Balance!G839","v":0}]
[1837,null,null,null,null,null,null,null,null,null,null,{"$f":"Balance!G840","v":0}]
[1838,null,null,null,null,null,null,null,null,null,null,{"$f":"Balance!G841","v":0}]
[1839,null,null,null,null,null,null,null,null,null,null,{"$f":"Balance!G842","v":0}]
[1840,null,null,null,null,null,null,null,null,null,null,{"$f":"Balance!G843","v":0}]
[1841,null,null,null,null,null,null,null,null,null,null,{"$f":"Balance!G844","v":0}]
[1842,null,null,null,null,null,null,null,null,null,null,{"$f":"Balance!G845","v":0}]
[1843,null,null,null,null,null,null,null,null,null,null,{"$f":"Balance!G846","v":0}]
[1844,null,null,null,null,null,null,null,null,null,null,{"$f":"Balance!G847","v":0}]
[1845,null,null,null,null,null,null,null,null,null,null,{"$f":"Balance!G848","v":0}]
[1846,null,null,null,null,null,null,null,null,null,null,{"$f":"Balance!G849","v":0}]
[1847,null,null,null,null,null,null,null,null,null,null,{"$f":"Balance!G850","v":0}]
[1848,null,null,null,null,null,null,null,null,null,null,{"$f":"Balance!G851","v":0}]
[1849,null,null,null,null,null,null,null,null,null,null,{"$f":"Balance!G852","v":0}]
[1850,null,null,null,null,null,null,null,null,null,null,{"$f":"Balance!G853","v":0}]
[1851,null,null,null,null,null,null,null,null,null,null,{"$f":"Balance!G854","v":0}]
[1852,null,null,null,null,null,null,null,null,null,null,{"$f":"Balance!G855","v":0}]
[1853,null,null,null,null,null,null,null,null,null,null,{"$f":"Balance!G856","v":0}]
[1854,null,null,null,null,null,null,null,null,null,null,{"$f":"Balance!G857","v":0}]
[1855,null,null,null,null,null,null,null,null,null,null,{"$f":"Balance!G858","v":0}]
[1856,null,null,null,null,null,null,null,null,null,null,{"$f":"Balance!G859","v":0}]
[1857,null,null,null,null,null,null,null,null,null,null,{"$f":"Balance!G860","v":0}]
[1858,null,null,null,null,null,null,null,null,null,null,{"$f":"Balance!G861","v":0}]
[1859,null,null,null,null,null,null,null,null,null,null,{"$f":"Balance!G862","v":0}]
[1860,null,null,null,null,null,null,null,null,null,null,{"$f":"Balance!G863","v":0}]
[1861,null,null,null,null,null,null,null,null,null,null,{"$f":"Balance!G864","v":0}]
[1862,null,null,null,null,null,null,null,null,null,null,{"$f":"Balance!G865","v":0}]
[1863,null,null,null,null,null,null,null,null,null,null,{"$f":"Balance!G866","v":0}]
[1864,null,null,null,null,null,null,null,null,null,null,{"$f":"Balance!G867","v":0}]
[1865,null,null,null,null,null,null,null,null,null,null,{"$f":"Balance!G868","v":0}]
[1866,null,null,null,null,null,null,null,null,null,null,{"$f":"Balance!G869","v":0}]
[1867,null,null,null,null,null,null,null,null,null,null,{"$f":"Balance!G870","v":0}]
[1868,null,null,null,null,null,null,null,null,null,null,{"$f":"Balance!G871","v":0}]
[1869,null,null,null,null,null,null,null,null,null,null,{"$f":"Balance!G872","v":0}]
[1870,null,null,null,null,null,null,null,null,null,null,{"$f":"Balance!G873","v":0}]
[1871,null,null,null,null,null,null,null,null,null,null,{"$f":"Balance!G874","v":0}]
[1872,null,null,null,null,null,null,null,null,null,null,{"$f":"Balance!G875","v":0}]
[1873,null,null,null,null,null,null,null,null,null,null,{"$f":"Balance!G876","v":0}]
[1874,null,null,null,null,null,null,null,null,null,null,{"$f":"Balance!G877","v":0}]
[1875,null,null,null,null,null,null,null,null,null,null,{"$f":"Balance!G878","v":0}]
[1876,null,null,null,null,null,null,null,null,null,null,{"$f":"Balance!G879","v":0}]
[1877,null,null,null,null,null,null,null,null,null,null,{"$f":"Balance!G880","v":0}]
[1878,null,null,null,null,null,null,null,null,null,null,{"$f":"Balance!G881","v":0}]
[1879,null,null,null,null,null,null,null,null,null,null,{"$f":"Balance!G882","v":0}]
[1880,null,null,null,null,null,null,null,null,null,null,{"$f":"Balance!G883","v":0}]
[1881,null,null,null,null,null,null,null,null,null,null,{"$f":"Balance!G884","v":0}]
[1882,null,null,null,null,null,null,null,null,null,null,{"$f":"Balance!G885","v":0}]
[1883,null,null,null,null,null,null,null,null,null,null,{"$f":"Balance!G886","v":0}]
[1884,null,null,null,null,null,null,null,null,null,null,{"$f":"Balance!G887","v":0}]
[1885,null,null,null,null,null,null,null,null,null,null,{"$f":"Balance!G888","v":0}]
[1886,null,null,null,null,null,null,null,null,null,null,{"$f":"Balance!G889","v":0}]
[1887,null,null,null,null,null,null,null,null,null,null,{"$f":"Balance!G890","v":0}]
[1888,null,null,null,null,null,null,null,null,null,null,{"$f":"Balance!G891","v":0}]
[1889,null,null,null,null,null,null,null,null,null,null,{"$f":"Balance!G892","v":0}]
[1890,null,null,null,null,null,null,null,null,null,null,{"$f":"Balance!G893","v":0}]
[1891,null,null,null,null,null,null,null,null,null,null,{"$f":"Balance!G894","v":0}]
[1892,null,null,null,null,null,null,null,null,null,null,{"$f":"Balance!G895","v":0}]
[1893,null,null,null,null,null,null,null,null,null,null,{"$f":"Balance!G896","v":0}]
[1894,null,null,null,null,null,null,null,null,null,null,{"$f":"Balance!G897","v":0}]
[1895,null,null,null,null,null,null,null,null,null,null,{"$f":"Balance!G898","v":0}]
[1896,null,null,null,null,null,null,null,null,null,null,{"$f":"Balance!G899","v":0}]
[1897,null,null,null,null,null,null,null,null,null,null,{"$f":"Balance!G900","v":0}]
[1898,null,null,null,null,null,null,null,null,null,null,{"$f":"Balance!G901","v":0}]
[1899,null,null,null,null,null,null,null,null,null,null,{"$f":"Balance!G902","v":0}]
[1900,null,null,null,null,null,null,null,null,null,null,{"$f":"Balance!G903","v":0}]
[1901,null,null,null,null,null,null,null,null,null,null,{"$f":"Balance!G904","v":0}]
[1902,null,null,null,null,null,null,null,null,null,null,{"$f":"Balance!G905","v":0}]
[1903,null,null,null,null,null,null,null,null,null,null,{"$f":"Balance!G906","v":0}]
[1904,null,null,null,null,null,null,null,null,null,null,{"$f":"Balance!G907","v":0}]
[1905,null,null,null,null,null,null,null,null,null,null,{"$f":"Balance!G908","v":0}]
[1906,null,null,null,null,null,null,null,null,null,null,{"$f":"Balance!G909","v":0}]
[1907,null,null,null,null,null,null,null,null,null,null,{"$f":"Balance!G910","v":0}]
[1908,null,null,null,null,null,null,null,null,null,null,{"$f":"Balance!G911","v":0}]
[1909,null,null,null,null,null,null,null,null,null,null,{"$f":"Balance!G912","v":0}]
[1910,null,null,null,null,null,null,null,null,null,null,{"$f":"Balance!G913","v":0}]
[1911,null,null,null,null,null,null,null,null,null,null,{"$f":"Balance!G914","v":0}]
[1912,null,null,null,null,null,null,null,null,null,null,{"$f":"Balance!G915","v":0}]
[1913,null,null,null,null,null,null,null,null,null,null,{"$f":"Balance!G916","v":0}]
[1914,null,null,null,null,null,null,null,null,null,null,{"$f":"Balance!G917","v":0}]
[1915,null,null,null,null,null,null,null,null,null,null,{"$f":"Balance!G918","v":0}]
[1916,null,null,null,null,null,null,null,null,null,null,{"$f":"Balance!G919","v":0}]
[1917,null,null,null,null,null,null,null,null,null,null,{"$f":"Balance!G920","v":0}]
[1918,null,null,null,null,null,null,null,null,null,null,{"$f":"Balance!G921","v":0}]
[1919,null,null,null,null,null,null,null,null,null,null,{"$f":"Balance!G922","v":0}]
[1920,null,null,null,null,null,null,null,null,null,null,{"$f":"Balance!G923","v":0}]
[1921,null,null,null,null,null,null,null,null,null,null,{"$f":"Balance!G924","v":0}]
[1922,null,null,null,null,null,null,null,null,null,null,{"$f":"Balance!G925","v":0}]
[1923,null,null,null,null,null,null,null,null,null,null,{"$f":"Balance!G926","v":0}]
[1924,null,null,null,null,null,null,null,null,null,null,{"$f":"Balance!G927","v":0}]
[1925,null,null,null,null,null,null,null,null,null,null,{"$f":"Balance!G928","v":0}]
[1926,null,null,null,null,null,null,null,null,null,null,{"$f":"Balance!G929","v":0}]
[1927,null,null,null,null,null,null,null,null,null,null,{"$f":"Balance!G930","v":0}]
[1928,null,null,null,null,null,null,null,null,null,null,{"$f":"Balance!G931","v":0}]
[1929,null,null,null,null,null,null,null,null,null,null,{"$f":"Balance!G932","v":0}]
[1930,null,null,null,null,null,null,null,null,null,null,{"$f":"Balance!G933","v":0}]
[1931,null,null,null,null,null,null,null,null,null,null,{"$f":"Balance!G934","v":0}]
[1932,null,null,null,null,null,null,null,null,null,null,{"$f":"Balance!G935","v":0}]
[1933,null,null,null,null,null,null,null,null,null,null,{"$f":"Balance!G936","v":0}]
[1934,null,null,null,null,null,null,null,null,null,null,{"$f":"Balance!G937","v":0}]
[1935,null,null,null,null,null,null,null,null,null,null,{"$f":"Balance!G938","v":0}]
[1936,null,null,null,null,null,null,null,null,null,null,{"$f":"Balance!G939","v":0}]
[1937,null,null,null,null,null,null,null,null,null,null,{"$f":"Balance!G940","v":0}]
[1938,null,null,null,null,null,null,null,null,null,null,{"$f":"Balance!G941","v":0}]
[1939,null,null,null,null,null,null,null,null,null,null,{"$f":"Balance!G942","v":0}]
[1940,null,null,null,null,null,null,null,null,null,null,{"$f":"Balance!G943","v":0}]
[1941,null,null,null,null,null,null,null,null,null,null,{"$f":"Balance!G944","v":0}]
[1942,null,null,null,null,null,null,null,null,null,null,{"$f":"Balance!G945","v":0}]
[1943,null,null,null,null,null,null,null,null,null,null,{"$f":"Balance!G946","v":0}]
[1944,null,null,null,null,null,null,null,null,null,null,{"$f":"Balance!G947","v":0}]
[1945,null,null,null,null,null,null,null,null,null,null,{"$f":"Balance!G948","v":0}]
[1946,null,null,null,null,null,null,null,null,null,null,{"$f":"Balance!G949","v":0}]
[1947,null,null,null,null,null,null,null,null,null,null,{"$f":"Balance!G950","v":0}]
[1948,null,null,null,null,null,null,null,null,null,null,{"$f":"Balance!G951","v":0}]
[1949,null,null,null,null,null,null,null,null,null,null,{"$f":"Balance!G952","v":0}]
[1950,null,null,null,null,null,null,null,null,null,null,{"$f":"Balance!G953","v":0}]
[1951,null,null,null,null,null,null,null,null,null,null,{"$f":"Balance!G954","v":0}]
[1952,null,null,null,null,null,null,null,null,null,null,{"$f":"Balance!G955","v":0}]
[1953,null,null,null,null,null,null,null,null,null,null,{"$f":"Balance!G956","v":0}]
[1954,null,null,null,null,null,null,null,null,null,null,{"$f":"Balance!G957","v":0}]
[1955,null,null,null,null,null,null,null,null,null,null,{"$f":"Balance!G958","v":0}]
[1956,null,null,null,null,null,null,null,null,null,null,{"$f":"Balance!G959","v":0}]
[1957,null,null,null,null,null,null,null,null,null,null,{"$f":"Balance!G960","v":0}]
[1958,null,null,null,null,null,null,null,null,null,null,{"$f":"Balance!G961","v":0}]
[1959,null,null,null,null,null,null,null,null,null,null,{"$f":"Balance!G962","v":0}]
[1960,null,null,null,null,null,null,null,null,null,null,{"$f":"Balance!G963","v":0}]
[1961,null,null,null,null,null,null,null,null,null,null,{"$f":"Balance!G964","v":0}]
[1962,null,null,null,null,null,null,null,null,null,null,{"$f":"Balance!G965","v":0}]
[1963,null,null,null,null,null,null,null,null,null,null,{"$f":"Balance!G966","v":0}]
[1964,null,null,null,null,null,null,null,null,null,null,{"$f":"Balance!G967","v":0}]
[1965,null,null,null,null,null,null,null,null,null,null,{"$f":"Balance!G968","v":0}]
[1966,null,null,null,null,null,null,null,null,null,null,{"$f":"Balance!G969","v":0}]
[1967,null,null,null,null,null,null,null,null,null,null,{"$f":"Balance!G970","v":0}]
[1968,null,null,null,null,null,null,null,null,null,null,{"$f":"Balance!G971","v":0}]
[1969,null,null,null,null,null,null,null,null,null,null,{"$f":"Balance!G972","v":0}]
[1970,null,null,null,null,null,null,null,null,null,null,{"$f":"Balance!G973","v":0}]
[1971,null,null,null,null,null,null,null,null,null,null,{"$f":"Balance!G974","v":0}]
[1972,null,null,null,null,null,null,null,null,null,null,{"$f":"Balance!G975","v":0}]
[1973,null,null,null,null,null,null,null,null,null,null,{"$f":"Balance!G976","v":0}]
[1974,null,null,null,null,null,null,null,null,null,null,{"$f":"Balance!G977","v":0}]
[1975,null,null,null,null,null,null,null,null,null,null,{"$f":"Balance!G978","v":0}]
[1976,null,null,null,null,null,null,null,null,null,null,{"$f":"Balance!G979","v":0}]
[1977,null,null,null,null,null,null,null,null,null,null,{"$f":"Balance!G980","v":0}]
[1978,null,null,null,null,null,null,null,null,null,null,{"$f":"Balance!G981","v":0}]
[1979,null,null,null,null,null,null,null,null,null,null,{"$f":"Balance!G982","v":0}]
[1980,null,null,null,null,null,null,null,null,null,null,{"$f":"Balance!G983","v":0}]
[1981,null,null,null,null,null,null,null,null,null,null,{"$f":"Balance!G984","v":0}]
[1982,null,null,null,null,null,null,null,null,null,null,{"$f":"Balance!G985","v":0}]
[1983,null,null,null,null,null,null,null,null,null,null,{"$f":"Balance!G986","v":0}]
[1984,null,null,null,null,null,null,null,null,null,null,{"$f":"Balance!G987","v":0}]
[1985,null,null,null,null,null,null,null,null,null,null,{"$f":"Balance!G988","v":0}]
[1986,null,null,null,null,null,null,null,null,null,null,{"$f":"Balance!G989","v":0}]
[1987,null,null,null,null,null,null,null,null,null,null,{"$f":"Balance!G990","v":0}]
[1988,null,null,null,null,null,null,null,null,null,null,{"$f":"Balance!G991","v":0}]
[1989,null,null,null,null,null,null,null,null,null,null,{"$f":"Balance!G992","v":0}]
[1990,null,null,null,null,null,null,null,null,null,null,{"$f":"Balance!G993","v":0}]
[1991,null,null,null,null,null,null,null,null,null,null,{"$f":"Balance!G994","v":0}]
[1992,null,null,null,null,null,null,null,null,null,null,{"$f":"Balance!G995","v":0}]
[1993,null,null,null,null,null,null,null,null,null,null,{"$f":"Balance!G996","v":0}]
[1994,null,null,null,null,null,null,null,null,null,null,{"$f":"Balance!G997","v":0}]
[1995,null,null,null,null,null,null,null,null,null,null,{"$f":"Balance!G998","v":0}]
[1996,null,null,null,null,null,null,null,null,null,null,{"$f":"Balance!G999","v":0}]
[1997,null,null,null,null,null,null,null,null,null,null,{"$f":"Balance!G1000","v":0}]
[1998,null,null,null,null,null,null,null,null,null,null,{"$f":"Balance!G1001","v":0}]
[1999,null,null,null,null,null,null,null,null,null,null,{"$f":"Balance!G1002","v":0}]
[2000,null,null,null,null,null,null,null,null,null,null,{"$f":"Balance!G1003","v":0}]
[2001,null,"xxxxxxxxx","xxxxxxxxx","xxxxxxxxx","xxxxxxxxx","xxxxxxxxx","xxxxxxxxx","xxxxxxxxx","xxxxxxxxx","xxxxxxxxx","xxxxxxxxx","xxxxxxxxx"]
[]
[]
[]
[]
[]
[]
[]
[]
[]
[]
[]
[]
[]
[]
[]
[]
[]
[]
[]
[]
[]
[]
[]
[]
[]
[]
[]
[]
[]
[]
[]
[]
[]
[]
[]
[]
[]
[]
[]
[]
[]
[]
[]
[]
[]
[]
[]
[]
[]
[]
[]
[]
[]
[]
[]
[]
[]
[]
[]
[]
[]
[]
[]
[]
[]
[]
[]
[]
[]
[]
[]
[]
[]
[]
[]
[]
[]
[]
[]
[]
[]
[]
[]
[]
[]
[]
[]
[]
[]
[]
[]
[]
[]
[]
[]
[]
[]
[]
[]
[]
[]
[]
[]
[]
[]
[]
[]
[]
[]
[]
[]
[]
[]
[]
[]
[]
[]
[]
[]
[]
[]
[]
[]
[]
[]
[]
[]
[]
[]
[]
[]
[]
[]
[]
[]
[]
[]
[]
[]
[]
[]
[]
[]
[]
[]
[]
[]
[]
[]
[]
[]
[]
[]
[]
[]
[]
[]
[]
[]
[]
[]
[]
[]
[]
[]
[]
[]
[]
[]
[]
[]
[]
[]
[]
[]
[]
[]
[]
[]
[]
[]
[]
[]
[]
[]
[]
[]
[]
[]
[]
[]
[]
[]
[]
[]
[]
[]
[]
[]
[]
[]
[]
[]
[]
[]
[]
[]
[]
[]
[]
[]
[]
[]
[]
[]
[]
[]
[]
[]
[]
[]
[]
[]
[]
[]
[]
[]
[]
[]
[]
[]
[]
[]
[]
[]
[]
[]
[]
[]
[]
[]
[]
[]
[]
[]
[]
[]
[]
[]
[]
[]
[]
[]
[]
[]
[]
[]
[]
[]
[]
[]
[]
[]
[]
[]
[]
[]
[]
[]
[]
[]
[]
[]
[]
[]
[]
[]
[]
[]
[]
[]
[]
[]
[]
[]
[]
[]
[]
[]
[]
[]
[]
[]
[]
[]
[]
[]
[]
[]
[]
[]
[]
[]
[]
[]
[]
[]
[]
[]
[]
[]
[]
[]
[]
[]
[]
[]
[]
[]
[]
[]
[]
[]
[]
[]
[]
[]
[]
[]
[]
[]
[]
[]
[]
[]
[]
[]
[]
[]
[]
[]
[]
[]
[]
[]
[]
[]
[]
[]
[]
[]
[]
[]
[]
[]
[]
[]
[]
[]
[]
[]
[]
[]
[]
[]
[]
[]
[]
[]
[]
[]
[]
[]
[]
[]
[]
[]
[]
[]
[]
[]
[]
[]
[]
[]
[]
[]
[]
[]
[]
[]
[]
[]
[]
[]
[]
[]
[]
[]
[]
[]
[]
[]
[]
[]
[]
[]
[]
[]
[]
[]
[]
[]
[]
[]
[]
[]
[]
[]
[]
[]
[]
[]
[]
[]
[]
[]
[]
[]
[]
[]
[]
[]
[]
[]
[]
[]
[]
[]
[]
[]
[]
[]
[]
[]
[]
[]
[]
[]
[]
[]
[]
[]
[]
[]
[]
[]
[]
[]
[]
[]
[]
[]
[]
[]
[]
[]
[]
[]
[]
[]
[]
[]
[]
[]
[]
[]
[]
[]
[]
[]
[]
[]
[]
[]
[]
[]
[]
[]
[]
[]
[]
[]
[]
[]
[]
[]
[]
[]
[]
[]
[]
[]
[]
[]
[]
[]
[]
[]
[]
[]
[]
[]
[]
[]
[]
[]
[]
[]
[]
[]
[]
[]
[]
[]
[]
[]
[]
[]
[]
[]
[]
[]
[]
[]
[]
[]
[]
[]
[]
[]
[]
[]
[]
[]
[]
[]
[]
[]
[]
[]
[]
[]
[]
[]
[]
[]
[]
[]
[]
[]
[]
[]
[]
[]
[]
[]
[]
[]
[]
[]
[]
[]
[]
[]
[]
[]
[]
[]
[]
[]
[]
[]
[]
[]
[]
[]
[]
[]
[]
[]
[]
[]
[]
[]
[]
[]
[]
[]
[]
[]
[]
[]
[]
[]
[]
[]
[]
[]
[]
[]
[]
[]
[]
[]
[]
[]
[]
[]
[]
[]
[]
[]
[]
[]
[]
[]
[]
[]
[]
[]
[]
[]
[]
[]
[]
[]
[]
[]
[]
[]
[]
[]
[]
[]
[]
[]
[]
[]
[]
[]
[]
[]
[]
[]
[]
[]
[]
[]
[]
[]
[]
[]
[]
[]
[]
[]
[]
[]
[]
[]
[]
[]
[]
[]
[]
[]
[]
[]
[]
[]
[]
[]
[]
[]
[]
[]
[]
[]
[]
[]
[]
[]
[]
[]
[]
[]
[]
[]
[]
[]
[]
[]
[]
[]
[]
[]
[]
[]
[]
[]
[]
[]
[]
[]
[]
[]
[]
[]
[]
[]
[]
[]
[]
[]
[]
[]
[]
[]
[]
[]
[]
[]
[]
[]
[]
[]
[]
[]
[]
[]
[]
[]
[]
[]
[]
[]
[]
[]
[]
[]
[]
[]
[]
[]
[]
[]
[]
[]
[]
[]
[]
[]
[]
[]
[]
[]
[]
[]
[]
[]
[]
[]
[]
[]
[]
[]
[]
[]
[]
[]
[]
[]
[]
[]
[]
[]
[]
[]
[]
[]
[]
[]
[]
[]
[]
[]
[]
[]
[]
[]
[]
[]
[]
[]
[]
[]
[]
[]
[]
[]
[]
[]
[]
[]
[]
[]
[]
[]
[]
[]
[]
[]
[]
[]
[]
[]
[]
[]
[]
[]
[]
[]
[]
[]
[]
[]
[]
[]
[]
[]
[]
[]
[]
[]
[]
[]
[]
[]
[]
[]
[]
[]
[]
[]
[]
[]
[]
[]
[]
[]
[]
[]
[]
[]
[]
[]
[]
[]
[]
[]
[]
[]
[]
[]
[]
[]
[]
[]
[]
[]
[]
[]
[]
[]
[]
[]
[]
[]
[]
[]
[]
[]
[]
[]
[]
[]
[]
[]
[]
[]
[]
[]
[]
[]
[]
[]
[]
[]
[]
[]
[]
[]
[]
[]
[]
[]
[]
[]
[]
[]
[]
[]
[]
[]
[]
[]
[]
[]
[]
[]
[]
[]
[]
[]
[]
[]
[]
[]
[]
[]
[]
[]
[]
[]
[]
[]
[]
[]
[]
[]
[]
[]
[]
[]
[]
[]
[]
[]
[]
[]
[]
[]
[]
[]
[]
[]
[]
[]
[]
[]
[]
[]
[]
[]
[]
[]
[]
[]
[]
[]
[]
[]
[]
[]
[]
[]
[]
[]
[]
[]
[]
[]
[]
[]
[]
[]
[]
[]
[null,{"$f":"COUNTA(B3:B2002)","v":0},"EEEEEEE","EEEEEEE","EEEEEEE","EEEEEEE","EEEEEEE","EEEEEEE","EEEEEEE","EEEEEEE","EEEEEEE"]

{"sheet":"FindCode","index":1,"n_rows":1003,"n_cols":8,"rows_kept":1003,"cut":false,"hidden":false,"merged":[]}
[null,"SOFEX MEDICINE CODES","Part of name >>","t",null,"a","<< Initials letters"]
["SOFEX Code","Product Name","Batch","Pack","M.R.P.","Unitized Balance Qnty.","Expiry","Entry Date"]
[{"$f":"StockIn!A3","v":1001},{"$f":"IF(OR(StockIn!B3=0,StockIn!B3=\"\"),\"\",StockIn!B3)","v":""},{"$f":"IF(OR(StockIn!D3=0,StockIn!D3=\"\"),\"\",StockIn!D3)","v":""},{"$f":"IF(OR(StockIn!G3=0,StockIn!G3=\"\"),\"\",StockIn!G3)","v":""},{"$f":"IF(OR(StockIn!H3=0,StockIn!H3=\"\"),\"\",StockIn!H3)","v":""},{"$f":"IF(OR(StockIn!L3=0,StockIn!L3=\"\"),\"\",StockIn!L3)","v":""},{"$f":"IF(OR(StockIn!E3=0,StockIn!E3=\"\"),\"\",StockIn!E3)","v":""},{"$f":"IF(OR(StockIn!M3=0,StockIn!M3=\"\"),\"\",StockIn!M3)","v":""}]
[{"$f":"StockIn!A4","v":1002},{"$f":"IF(OR(StockIn!B4=0,StockIn!B4=\"\"),\"\",StockIn!B4)","v":""},{"$f":"IF(OR(StockIn!D4=0,StockIn!D4=\"\"),\"\",StockIn!D4)","v":""},{"$f":"IF(OR(StockIn!G4=0,StockIn!G4=\"\"),\"\",StockIn!G4)","v":""},{"$f":"IF(OR(StockIn!H4=0,StockIn!H4=\"\"),\"\",StockIn!H4)","v":""},{"$f":"IF(OR(StockIn!L4=0,StockIn!L4=\"\"),\"\",StockIn!L4)","v":""},{"$f":"IF(OR(StockIn!E4=0,StockIn!E4=\"\"),\"\",StockIn!E4)","v":""},{"$f":"IF(OR(StockIn!M4=0,StockIn!M4=\"\"),\"\",StockIn!M4)","v":""}]
[{"$f":"StockIn!A5","v":1003},{"$f":"IF(OR(StockIn!B5=0,StockIn!B5=\"\"),\"\",StockIn!B5)","v":""},{"$f":"IF(OR(StockIn!D5=0,StockIn!D5=\"\"),\"\",StockIn!D5)","v":""},{"$f":"IF(OR(StockIn!G5=0,StockIn!G5=\"\"),\"\",StockIn!G5)","v":""},{"$f":"IF(OR(StockIn!H5=0,StockIn!H5=\"\"),\"\",StockIn!H5)","v":""},{"$f":"IF(OR(StockIn!L5=0,StockIn!L5=\"\"),\"\",StockIn!L5)","v":""},{"$f":"IF(OR(StockIn!E5=0,StockIn!E5=\"\"),\"\",StockIn!E5)","v":""},{"$f":"IF(OR(StockIn!M5=0,StockIn!M5=\"\"),\"\",StockIn!M5)","v":""}]
[{"$f":"StockIn!A6","v":1004},{"$f":"IF(OR(StockIn!B6=0,StockIn!B6=\"\"),\"\",StockIn!B6)","v":""},{"$f":"IF(OR(StockIn!D6=0,StockIn!D6=\"\"),\"\",StockIn!D6)","v":""},{"$f":"IF(OR(StockIn!G6=0,StockIn!G6=\"\"),\"\",StockIn!G6)","v":""},{"$f":"IF(OR(StockIn!H6=0,StockIn!H6=\"\"),\"\",StockIn!H6)","v":""},{"$f":"IF(OR(StockIn!L6=0,StockIn!L6=\"\"),\"\",StockIn!L6)","v":""},{"$f":"IF(OR(StockIn!E6=0,StockIn!E6=\"\"),\"\",StockIn!E6)","v":""},{"$f":"IF(OR(StockIn!M6=0,StockIn!M6=\"\"),\"\",StockIn!M6)","v":""}]
[{"$f":"StockIn!A7","v":1005},{"$f":"IF(OR(StockIn!B7=0,StockIn!B7=\"\"),\"\",StockIn!B7)","v":""},{"$f":"IF(OR(StockIn!D7=0,StockIn!D7=\"\"),\"\",StockIn!D7)","v":""},{"$f":"IF(OR(StockIn!G7=0,StockIn!G7=\"\"),\"\",StockIn!G7)","v":""},{"$f":"IF(OR(StockIn!H7=0,StockIn!H7=\"\"),\"\",StockIn!H7)","v":""},{"$f":"IF(OR(StockIn!L7=0,StockIn!L7=\"\"),\"\",StockIn!L7)","v":""},{"$f":"IF(OR(StockIn!E7=0,StockIn!E7=\"\"),\"\",StockIn!E7)","v":""},{"$f":"IF(OR(StockIn!M7=0,StockIn!M7=\"\"),\"\",StockIn!M7)","v":""}]
[{"$f":"StockIn!A8","v":1006},{"$f":"IF(OR(StockIn!B8=0,StockIn!B8=\"\"),\"\",StockIn!B8)","v":""},{"$f":"IF(OR(StockIn!D8=0,StockIn!D8=\"\"),\"\",StockIn!D8)","v":""},{"$f":"IF(OR(StockIn!G8=0,StockIn!G8=\"\"),\"\",StockIn!G8)","v":""},{"$f":"IF(OR(StockIn!H8=0,StockIn!H8=\"\"),\"\",StockIn!H8)","v":""},{"$f":"IF(OR(StockIn!L8=0,StockIn!L8=\"\"),\"\",StockIn!L8)","v":""},{"$f":"IF(OR(StockIn!E8=0,StockIn!E8=\"\"),\"\",StockIn!E8)","v":""},{"$f":"IF(OR(StockIn!M8=0,StockIn!M8=\"\"),\"\",StockIn!M8)","v":""}]
[{"$f":"StockIn!A9","v":1007},{"$f":"IF(OR(StockIn!B9=0,StockIn!B9=\"\"),\"\",StockIn!B9)","v":""},{"$f":"IF(OR(StockIn!D9=0,StockIn!D9=\"\"),\"\",StockIn!D9)","v":""},{"$f":"IF(OR(StockIn!G9=0,StockIn!G9=\"\"),\"\",StockIn!G9)","v":""},{"$f":"IF(OR(StockIn!H9=0,StockIn!H9=\"\"),\"\",StockIn!H9)","v":""},{"$f":"IF(OR(StockIn!L9=0,StockIn!L9=\"\"),\"\",StockIn!L9)","v":""},{"$f":"IF(OR(StockIn!E9=0,StockIn!E9=\"\"),\"\",StockIn!E9)","v":""},{"$f":"IF(OR(StockIn!M9=0,StockIn!M9=\"\"),\"\",StockIn!M9)","v":""}]
[{"$f":"StockIn!A10","v":1008},{"$f":"IF(OR(StockIn!B10=0,StockIn!B10=\"\"),\"\",StockIn!B10)","v":""},{"$f":"IF(OR(StockIn!D10=0,StockIn!D10=\"\"),\"\",StockIn!D10)","v":""},{"$f":"IF(OR(StockIn!G10=0,StockIn!G10=\"\"),\"\",StockIn!G10)","v":""},{"$f":"IF(OR(StockIn!H10=0,StockIn!H10=\"\"),\"\",StockIn!H10)","v":""},{"$f":"IF(OR(StockIn!L10=0,StockIn!L10=\"\"),\"\",StockIn!L10)","v":""},{"$f":"IF(OR(StockIn!E10=0,StockIn!E10=\"\"),\"\",StockIn!E10)","v":""},{"$f":"IF(OR(StockIn!M10=0,StockIn!M10=\"\"),\"\",StockIn!M10)","v":""}]
[{"$f":"StockIn!A11","v":1009},{"$f":"IF(OR(StockIn!B11=0,StockIn!B11=\"\"),\"\",StockIn!B11)","v":""},{"$f":"IF(OR(StockIn!D11=0,StockIn!D11=\"\"),\"\",StockIn!D11)","v":""},{"$f":"IF(OR(StockIn!G11=0,StockIn!G11=\"\"),\"\",StockIn!G11)","v":""},{"$f":"IF(OR(StockIn!H11=0,StockIn!H11=\"\"),\"\",StockIn!H11)","v":""},{"$f":"IF(OR(StockIn!L11=0,StockIn!L11=\"\"),\"\",StockIn!L11)","v":""},{"$f":"IF(OR(StockIn!E11=0,StockIn!E11=\"\"),\"\",StockIn!E11)","v":""},{"$f":"IF(OR(StockIn!M11=0,StockIn!M11=\"\"),\"\",StockIn!M11)","v":""}]
[{"$f":"StockIn!A12","v":1010},{"$f":"IF(OR(StockIn!B12=0,StockIn!B12=\"\"),\"\",StockIn!B12)","v":""},{"$f":"IF(OR(StockIn!D12=0,StockIn!D12=\"\"),\"\",StockIn!D12)","v":""},{"$f":"IF(OR(StockIn!G12=0,StockIn!G12=\"\"),\"\",StockIn!G12)","v":""},{"$f":"IF(OR(StockIn!H12=0,StockIn!H12=\"\"),\"\",StockIn!H12)","v":""},{"$f":"IF(OR(StockIn!L12=0,StockIn!L12=\"\"),\"\",StockIn!L12)","v":""},{"$f":"IF(OR(StockIn!E12=0,StockIn!E12=\"\"),\"\",StockIn!E12)","v":""},{"$f":"IF(OR(StockIn!M12=0,StockIn!M12=\"\"),\"\",StockIn!M12)","v":""}]
[{"$f":"StockIn!A13","v":1011},{"$f":"IF(OR(StockIn!B13=0,StockIn!B13=\"\"),\"\",StockIn!B13)","v":""},{"$f":"IF(OR(StockIn!D13=0,StockIn!D13=\"\"),\"\",StockIn!D13)","v":""},{"$f":"IF(OR(StockIn!G13=0,StockIn!G13=\"\"),\"\",StockIn!G13)","v":""},{"$f":"IF(OR(StockIn!H13=0,StockIn!H13=\"\"),\"\",StockIn!H13)","v":""},{"$f":"IF(OR(StockIn!L13=0,StockIn!L13=\"\"),\"\",StockIn!L13)","v":""},{"$f":"IF(OR(StockIn!E13=0,StockIn!E13=\"\"),\"\",StockIn!E13)","v":""},{"$f":"IF(OR(StockIn!M13=0,StockIn!M13=\"\"),\"\",StockIn!M13)","v":""}]
[{"$f":"StockIn!A14","v":1012},{"$f":"IF(OR(StockIn!B14=0,StockIn!B14=\"\"),\"\",StockIn!B14)","v":""},{"$f":"IF(OR(StockIn!D14=0,StockIn!D14=\"\"),\"\",StockIn!D14)","v":""},{"$f":"IF(OR(StockIn!G14=0,StockIn!G14=\"\"),\"\",StockIn!G14)","v":""},{"$f":"IF(OR(StockIn!H14=0,StockIn!H14=\"\"),\"\",StockIn!H14)","v":""},{"$f":"IF(OR(StockIn!L14=0,StockIn!L14=\"\"),\"\",StockIn!L14)","v":""},{"$f":"IF(OR(StockIn!E14=0,StockIn!E14=\"\"),\"\",StockIn!E14)","v":""},{"$f":"IF(OR(StockIn!M14=0,StockIn!M14=\"\"),\"\",StockIn!M14)","v":""}]
[{"$f":"StockIn!A15","v":1013},{"$f":"IF(OR(StockIn!B15=0,StockIn!B15=\"\"),\"\",StockIn!B15)","v":""},{"$f":"IF(OR(StockIn!D15=0,StockIn!D15=\"\"),\"\",StockIn!D15)","v":""},{"$f":"IF(OR(StockIn!G15=0,StockIn!G15=\"\"),\"\",StockIn!G15)","v":""},{"$f":"IF(OR(StockIn!H15=0,StockIn!H15=\"\"),\"\",StockIn!H15)","v":""},{"$f":"IF(OR(StockIn!L15=0,StockIn!L15=\"\"),\"\",StockIn!L15)","v":""},{"$f":"IF(OR(StockIn!E15=0,StockIn!E15=\"\"),\"\",StockIn!E15)","v":""},{"$f":"IF(OR(StockIn!M15=0,StockIn!M15=\"\"),\"\",StockIn!M15)","v":""}]
[{"$f":"StockIn!A16","v":1014},{"$f":"IF(OR(StockIn!B16=0,StockIn!B16=\"\"),\"\",StockIn!B16)","v":""},{"$f":"IF(OR(StockIn!D16=0,StockIn!D16=\"\"),\"\",StockIn!D16)","v":""},{"$f":"IF(OR(StockIn!G16=0,StockIn!G16=\"\"),\"\",StockIn!G16)","v":""},{"$f":"IF(OR(StockIn!H16=0,StockIn!H16=\"\"),\"\",StockIn!H16)","v":""},{"$f":"IF(OR(StockIn!L16=0,StockIn!L16=\"\"),\"\",StockIn!L16)","v":""},{"$f":"IF(OR(StockIn!E16=0,StockIn!E16=\"\"),\"\",StockIn!E16)","v":""},{"$f":"IF(OR(StockIn!M16=0,StockIn!M16=\"\"),\"\",StockIn!M16)","v":""}]
[{"$f":"StockIn!A17","v":1015},{"$f":"IF(OR(StockIn!B17=0,StockIn!B17=\"\"),\"\",StockIn!B17)","v":""},{"$f":"IF(OR(StockIn!D17=0,StockIn!D17=\"\"),\"\",StockIn!D17)","v":""},{"$f":"IF(OR(StockIn!G17=0,StockIn!G17=\"\"),\"\",StockIn!G17)","v":""},{"$f":"IF(OR(StockIn!H17=0,StockIn!H17=\"\"),\"\",StockIn!H17)","v":""},{"$f":"IF(OR(StockIn!L17=0,StockIn!L17=\"\"),\"\",StockIn!L17)","v":""},{"$f":"IF(OR(StockIn!E17=0,StockIn!E17=\"\"),\"\",StockIn!E17)","v":""},{"$f":"IF(OR(StockIn!M17=0,StockIn!M17=\"\"),\"\",StockIn!M17)","v":""}]
[{"$f":"StockIn!A18","v":1016},{"$f":"IF(OR(StockIn!B18=0,StockIn!B18=\"\"),\"\",StockIn!B18)","v":""},{"$f":"IF(OR(StockIn!D18=0,StockIn!D18=\"\"),\"\",StockIn!D18)","v":""},{"$f":"IF(OR(StockIn!G18=0,StockIn!G18=\"\"),\"\",StockIn!G18)","v":""},{"$f":"IF(OR(StockIn!H18=0,StockIn!H18=\"\"),\"\",StockIn!H18)","v":""},{"$f":"IF(OR(StockIn!L18=0,StockIn!L18=\"\"),\"\",StockIn!L18)","v":""},{"$f":"IF(OR(StockIn!E18=0,StockIn!E18=\"\"),\"\",StockIn!E18)","v":""},{"$f":"IF(OR(StockIn!M18=0,StockIn!M18=\"\"),\"\",StockIn!M18)","v":""}]
[{"$f":"StockIn!A19","v":1017},{"$f":"IF(OR(StockIn!B19=0,StockIn!B19=\"\"),\"\",StockIn!B19)","v":""},{"$f":"IF(OR(StockIn!D19=0,StockIn!D19=\"\"),\"\",StockIn!D19)","v":""},{"$f":"IF(OR(StockIn!G19=0,StockIn!G19=\"\"),\"\",StockIn!G19)","v":""},{"$f":"IF(OR(StockIn!H19=0,StockIn!H19=\"\"),\"\",StockIn!H19)","v":""},{"$f":"IF(OR(StockIn!L19=0,StockIn!L19=\"\"),\"\",StockIn!L19)","v":""},{"$f":"IF(OR(StockIn!E19=0,StockIn!E19=\"\"),\"\",StockIn!E19)","v":""},{"$f":"IF(OR(StockIn!M19=0,StockIn!M19=\"\"),\"\",StockIn!M19)","v":""}]
[{"$f":"StockIn!A20","v":1018},{"$f":"IF(OR(StockIn!B20=0,StockIn!B20=\"\"),\"\",StockIn!B20)","v":""},{"$f":"IF(OR(StockIn!D20=0,StockIn!D20=\"\"),\"\",StockIn!D20)","v":""},{"$f":"IF(OR(StockIn!G20=0,StockIn!G20=\"\"),\"\",StockIn!G20)","v":""},{"$f":"IF(OR(StockIn!H20=0,StockIn!H20=\"\"),\"\",StockIn!H20)","v":""},{"$f":"IF(OR(StockIn!L20=0,StockIn!L20=\"\"),\"\",StockIn!L20)","v":""},{"$f":"IF(OR(StockIn!E20=0,StockIn!E20=\"\"),\"\",StockIn!E20)","v":""},{"$f":"IF(OR(StockIn!M20=0,StockIn!M20=\"\"),\"\",StockIn!M20)","v":""}]
[{"$f":"StockIn!A21","v":1019},{"$f":"IF(OR(StockIn!B21=0,StockIn!B21=\"\"),\"\",StockIn!B21)","v":""},{"$f":"IF(OR(StockIn!D21=0,StockIn!D21=\"\"),\"\",StockIn!D21)","v":""},{"$f":"IF(OR(StockIn!G21=0,StockIn!G21=\"\"),\"\",StockIn!G21)","v":""},{"$f":"IF(OR(StockIn!H21=0,StockIn!H21=\"\"),\"\",StockIn!H21)","v":""},{"$f":"IF(OR(StockIn!L21=0,StockIn!L21=\"\"),\"\",StockIn!L21)","v":""},{"$f":"IF(OR(StockIn!E21=0,StockIn!E21=\"\"),\"\",StockIn!E21)","v":""},{"$f":"IF(OR(StockIn!M21=0,StockIn!M21=\"\"),\"\",StockIn!M21)","v":""}]
[{"$f":"StockIn!A22","v":1020},{"$f":"IF(OR(StockIn!B22=0,StockIn!B22=\"\"),\"\",StockIn!B22)","v":""},{"$f":"IF(OR(StockIn!D22=0,StockIn!D22=\"\"),\"\",StockIn!D22)","v":""},{"$f":"IF(OR(StockIn!G22=0,StockIn!G22=\"\"),\"\",StockIn!G22)","v":""},{"$f":"IF(OR(StockIn!H22=0,StockIn!H22=\"\"),\"\",StockIn!H22)","v":""},{"$f":"IF(OR(StockIn!L22=0,StockIn!L22=\"\"),\"\",StockIn!L22)","v":""},{"$f":"IF(OR(StockIn!E22=0,StockIn!E22=\"\"),\"\",StockIn!E22)","v":""},{"$f":"IF(OR(StockIn!M22=0,StockIn!M22=\"\"),\"\",StockIn!M22)","v":""}]
[{"$f":"StockIn!A23","v":1021},{"$f":"IF(OR(StockIn!B23=0,StockIn!B23=\"\"),\"\",StockIn!B23)","v":""},{"$f":"IF(OR(StockIn!D23=0,StockIn!D23=\"\"),\"\",StockIn!D23)","v":""},{"$f":"IF(OR(StockIn!G23=0,StockIn!G23=\"\"),\"\",StockIn!G23)","v":""},{"$f":"IF(OR(StockIn!H23=0,StockIn!H23=\"\"),\"\",StockIn!H23)","v":""},{"$f":"IF(OR(StockIn!L23=0,StockIn!L23=\"\"),\"\",StockIn!L23)","v":""},{"$f":"IF(OR(StockIn!E23=0,StockIn!E23=\"\"),\"\",StockIn!E23)","v":""},{"$f":"IF(OR(StockIn!M23=0,StockIn!M23=\"\"),\"\",StockIn!M23)","v":""}]
[{"$f":"StockIn!A24","v":1022},{"$f":"IF(OR(StockIn!B24=0,StockIn!B24=\"\"),\"\",StockIn!B24)","v":""},{"$f":"IF(OR(StockIn!D24=0,StockIn!D24=\"\"),\"\",StockIn!D24)","v":""},{"$f":"IF(OR(StockIn!G24=0,StockIn!G24=\"\"),\"\",StockIn!G24)","v":""},{"$f":"IF(OR(StockIn!H24=0,StockIn!H24=\"\"),\"\",StockIn!H24)","v":""},{"$f":"IF(OR(StockIn!L24=0,StockIn!L24=\"\"),\"\",StockIn!L24)","v":""},{"$f":"IF(OR(StockIn!E24=0,StockIn!E24=\"\"),\"\",StockIn!E24)","v":""},{"$f":"IF(OR(StockIn!M24=0,StockIn!M24=\"\"),\"\",StockIn!M24)","v":""}]
[{"$f":"StockIn!A25","v":1023},{"$f":"IF(OR(StockIn!B25=0,StockIn!B25=\"\"),\"\",StockIn!B25)","v":""},{"$f":"IF(OR(StockIn!D25=0,StockIn!D25=\"\"),\"\",StockIn!D25)","v":""},{"$f":"IF(OR(StockIn!G25=0,StockIn!G25=\"\"),\"\",StockIn!G25)","v":""},{"$f":"IF(OR(StockIn!H25=0,StockIn!H25=\"\"),\"\",StockIn!H25)","v":""},{"$f":"IF(OR(StockIn!L25=0,StockIn!L25=\"\"),\"\",StockIn!L25)","v":""},{"$f":"IF(OR(StockIn!E25=0,StockIn!E25=\"\"),\"\",StockIn!E25)","v":""},{"$f":"IF(OR(StockIn!M25=0,StockIn!M25=\"\"),\"\",StockIn!M25)","v":""}]
[{"$f":"StockIn!A26","v":1024},{"$f":"IF(OR(StockIn!B26=0,StockIn!B26=\"\"),\"\",StockIn!B26)","v":""},{"$f":"IF(OR(StockIn!D26=0,StockIn!D26=\"\"),\"\",StockIn!D26)","v":""},{"$f":"IF(OR(StockIn!G26=0,StockIn!G26=\"\"),\"\",StockIn!G26)","v":""},{"$f":"IF(OR(StockIn!H26=0,StockIn!H26=\"\"),\"\",StockIn!H26)","v":""},{"$f":"IF(OR(StockIn!L26=0,StockIn!L26=\"\"),\"\",StockIn!L26)","v":""},{"$f":"IF(OR(StockIn!E26=0,StockIn!E26=\"\"),\"\",StockIn!E26)","v":""},{"$f":"IF(OR(StockIn!M26=0,StockIn!M26=\"\"),\"\",StockIn!M26)","v":""}]
[{"$f":"StockIn!A27","v":1025},{"$f":"IF(OR(StockIn!B27=0,StockIn!B27=\"\"),\"\",StockIn!B27)","v":""},{"$f":"IF(OR(StockIn!D27=0,StockIn!D27=\"\"),\"\",StockIn!D27)","v":""},{"$f":"IF(OR(StockIn!G27=0,StockIn!G27=\"\"),\"\",StockIn!G27)","v":""},{"$f":"IF(OR(StockIn!H27=0,StockIn!H27=\"\"),\"\",StockIn!H27)","v":""},{"$f":"IF(OR(StockIn!L27=0,StockIn!L27=\"\"),\"\",StockIn!L27)","v":""},{"$f":"IF(OR(StockIn!E27=0,StockIn!E27=\"\"),\"\",StockIn!E27)","v":""},{"$f":"IF(OR(StockIn!M27=0,StockIn!M27=\"\"),\"\",StockIn!M27)","v":""}]
[{"$f":"StockIn!A28","v":1026},{"$f":"IF(OR(StockIn!B28=0,StockIn!B28=\"\"),\"\",StockIn!B28)","v":""},{"$f":"IF(OR(StockIn!D28=0,StockIn!D28=\"\"),\"\",StockIn!D28)","v":""},{"$f":"IF(OR(StockIn!G28=0,StockIn!G28=\"\"),\"\",StockIn!G28)","v":""},{"$f":"IF(OR(StockIn!H28=0,StockIn!H28=\"\"),\"\",StockIn!H28)","v":""},{"$f":"IF(OR(StockIn!L28=0,StockIn!L28=\"\"),\"\",StockIn!L28)","v":""},{"$f":"IF(OR(StockIn!E28=0,StockIn!E28=\"\"),\"\",StockIn!E28)","v":""},{"$f":"IF(OR(StockIn!M28=0,StockIn!M28=\"\"),\"\",StockIn!M28)","v":""}]
[{"$f":"StockIn!A29","v":1027},{"$f":"IF(OR(StockIn!B29=0,StockIn!B29=\"\"),\"\",StockIn!B29)","v":""},{"$f":"IF(OR(StockIn!D29=0,StockIn!D29=\"\"),\"\",StockIn!D29)","v":""},{"$f":"IF(OR(StockIn!G29=0,StockIn!G29=\"\"),\"\",StockIn!G29)","v":""},{"$f":"IF(OR(StockIn!H29=0,StockIn!H29=\"\"),\"\",StockIn!H29)","v":""},{"$f":"IF(OR(StockIn!L29=0,StockIn!L29=\"\"),\"\",StockIn!L29)","v":""},{"$f":"IF(OR(StockIn!E29=0,StockIn!E29=\"\"),\"\",StockIn!E29)","v":""},{"$f":"IF(OR(StockIn!M29=0,StockIn!M29=\"\"),\"\",StockIn!M29)","v":""}]
[{"$f":"StockIn!A30","v":1028},{"$f":"IF(OR(StockIn!B30=0,StockIn!B30=\"\"),\"\",StockIn!B30)","v":""},{"$f":"IF(OR(StockIn!D30=0,StockIn!D30=\"\"),\"\",StockIn!D30)","v":""},{"$f":"IF(OR(StockIn!G30=0,StockIn!G30=\"\"),\"\",StockIn!G30)","v":""},{"$f":"IF(OR(StockIn!H30=0,StockIn!H30=\"\"),\"\",StockIn!H30)","v":""},{"$f":"IF(OR(StockIn!L30=0,StockIn!L30=\"\"),\"\",StockIn!L30)","v":""},{"$f":"IF(OR(StockIn!E30=0,StockIn!E30=\"\"),\"\",StockIn!E30)","v":""},{"$f":"IF(OR(StockIn!M30=0,StockIn!M30=\"\"),\"\",StockIn!M30)","v":""}]
[{"$f":"StockIn!A31","v":1029},{"$f":"IF(OR(StockIn!B31=0,StockIn!B31=\"\"),\"\",StockIn!B31)","v":""},{"$f":"IF(OR(StockIn!D31=0,StockIn!D31=\"\"),\"\",StockIn!D31)","v":""},{"$f":"IF(OR(StockIn!G31=0,StockIn!G31=\"\"),\"\",StockIn!G31)","v":""},{"$f":"IF(OR(StockIn!H31=0,StockIn!H31=\"\"),\"\",StockIn!H31)","v":""},{"$f":"IF(OR(StockIn!L31=0,StockIn!L31=\"\"),\"\",StockIn!L31)","v":""},{"$f":"IF(OR(StockIn!E31=0,StockIn!E31=\"\"),\"\",StockIn!E31)","v":""},{"$f":"IF(OR(StockIn!M31=0,StockIn!M31=\"\"),\"\",StockIn!M31)","v":""}]
[{"$f":"StockIn!A32","v":1030},{"$f":"IF(OR(StockIn!B32=0,StockIn!B32=\"\"),\"\",StockIn!B32)","v":""},{"$f":"IF(OR(StockIn!D32=0,StockIn!D32=\"\"),\"\",StockIn!D32)","v":""},{"$f":"IF(OR(StockIn!G32=0,StockIn!G32=\"\"),\"\",StockIn!G32)","v":""},{"$f":"IF(OR(StockIn!H32=0,StockIn!H32=\"\"),\"\",StockIn!H32)","v":""},{"$f":"IF(OR(StockIn!L32=0,StockIn!L32=\"\"),\"\",StockIn!L32)","v":""},{"$f":"IF(OR(StockIn!E32=0,StockIn!E32=\"\"),\"\",StockIn!E32)","v":""},{"$f":"IF(OR(StockIn!M32=0,StockIn!M32=\"\"),\"\",StockIn!M32)","v":""}]
[{"$f":"StockIn!A33","v":1031},{"$f":"IF(OR(StockIn!B33=0,StockIn!B33=\"\"),\"\",StockIn!B33)","v":""},{"$f":"IF(OR(StockIn!D33=0,StockIn!D33=\"\"),\"\",StockIn!D33)","v":""},{"$f":"IF(OR(StockIn!G33=0,StockIn!G33=\"\"),\"\",StockIn!G33)","v":""},{"$f":"IF(OR(StockIn!H33=0,StockIn!H33=\"\"),\"\",StockIn!H33)","v":""},{"$f":"IF(OR(StockIn!L33=0,StockIn!L33=\"\"),\"\",StockIn!L33)","v":""},{"$f":"IF(OR(StockIn!E33=0,StockIn!E33=\"\"),\"\",StockIn!E33)","v":""},{"$f":"IF(OR(StockIn!M33=0,StockIn!M33=\"\"),\"\",StockIn!M33)","v":""}]
[{"$f":"StockIn!A34","v":1032},{"$f":"IF(OR(StockIn!B34=0,StockIn!B34=\"\"),\"\",StockIn!B34)","v":""},{"$f":"IF(OR(StockIn!D34=0,StockIn!D34=\"\"),\"\",StockIn!D34)","v":""},{"$f":"IF(OR(StockIn!G34=0,StockIn!G34=\"\"),\"\",StockIn!G34)","v":""},{"$f":"IF(OR(StockIn!H34=0,StockIn!H34=\"\"),\"\",StockIn!H34)","v":""},{"$f":"IF(OR(StockIn!L34=0,StockIn!L34=\"\"),\"\",StockIn!L34)","v":""},{"$f":"IF(OR(StockIn!E34=0,StockIn!E34=\"\"),\"\",StockIn!E34)","v":""},{"$f":"IF(OR(StockIn!M34=0,StockIn!M34=\"\"),\"\",StockIn!M34)","v":""}]
[{"$f":"StockIn!A35","v":1033},{"$f":"IF(OR(StockIn!B35=0,StockIn!B35=\"\"),\"\",StockIn!B35)","v":""},{"$f":"IF(OR(StockIn!D35=0,StockIn!D35=\"\"),\"\",StockIn!D35)","v":""},{"$f":"IF(OR(StockIn!G35=0,StockIn!G35=\"\"),\"\",StockIn!G35)","v":""},{"$f":"IF(OR(StockIn!H35=0,StockIn!H35=\"\"),\"\",StockIn!H35)","v":""},{"$f":"IF(OR(StockIn!L35=0,StockIn!L35=\"\"),\"\",StockIn!L35)","v":""},{"$f":"IF(OR(StockIn!E35=0,StockIn!E35=\"\"),\"\",StockIn!E35)","v":""},{"$f":"IF(OR(StockIn!M35=0,StockIn!M35=\"\"),\"\",StockIn!M35)","v":""}]
[{"$f":"StockIn!A36","v":1034},{"$f":"IF(OR(StockIn!B36=0,StockIn!B36=\"\"),\"\",StockIn!B36)","v":""},{"$f":"IF(OR(StockIn!D36=0,StockIn!D36=\"\"),\"\",StockIn!D36)","v":""},{"$f":"IF(OR(StockIn!G36=0,StockIn!G36=\"\"),\"\",StockIn!G36)","v":""},{"$f":"IF(OR(StockIn!H36=0,StockIn!H36=\"\"),\"\",StockIn!H36)","v":""},{"$f":"IF(OR(StockIn!L36=0,StockIn!L36=\"\"),\"\",StockIn!L36)","v":""},{"$f":"IF(OR(StockIn!E36=0,StockIn!E36=\"\"),\"\",StockIn!E36)","v":""},{"$f":"IF(OR(StockIn!M36=0,StockIn!M36=\"\"),\"\",StockIn!M36)","v":""}]
[{"$f":"StockIn!A37","v":1035},{"$f":"IF(OR(StockIn!B37=0,StockIn!B37=\"\"),\"\",StockIn!B37)","v":""},{"$f":"IF(OR(StockIn!D37=0,StockIn!D37=\"\"),\"\",StockIn!D37)","v":""},{"$f":"IF(OR(StockIn!G37=0,StockIn!G37=\"\"),\"\",StockIn!G37)","v":""},{"$f":"IF(OR(StockIn!H37=0,StockIn!H37=\"\"),\"\",StockIn!H37)","v":""},{"$f":"IF(OR(StockIn!L37=0,StockIn!L37=\"\"),\"\",StockIn!L37)","v":""},{"$f":"IF(OR(StockIn!E37=0,StockIn!E37=\"\"),\"\",StockIn!E37)","v":""},{"$f":"IF(OR(StockIn!M37=0,StockIn!M37=\"\"),\"\",StockIn!M37)","v":""}]
[{"$f":"StockIn!A38","v":1036},{"$f":"IF(OR(StockIn!B38=0,StockIn!B38=\"\"),\"\",StockIn!B38)","v":""},{"$f":"IF(OR(StockIn!D38=0,StockIn!D38=\"\"),\"\",StockIn!D38)","v":""},{"$f":"IF(OR(StockIn!G38=0,StockIn!G38=\"\"),\"\",StockIn!G38)","v":""},{"$f":"IF(OR(StockIn!H38=0,StockIn!H38=\"\"),\"\",StockIn!H38)","v":""},{"$f":"IF(OR(StockIn!L38=0,StockIn!L38=\"\"),\"\",StockIn!L38)","v":""},{"$f":"IF(OR(StockIn!E38=0,StockIn!E38=\"\"),\"\",StockIn!E38)","v":""},{"$f":"IF(OR(StockIn!M38=0,StockIn!M38=\"\"),\"\",StockIn!M38)","v":""}]
[{"$f":"StockIn!A39","v":1037},{"$f":"IF(OR(StockIn!B39=0,StockIn!B39=\"\"),\"\",StockIn!B39)","v":""},{"$f":"IF(OR(StockIn!D39=0,StockIn!D39=\"\"),\"\",StockIn!D39)","v":""},{"$f":"IF(OR(StockIn!G39=0,StockIn!G39=\"\"),\"\",StockIn!G39)","v":""},{"$f":"IF(OR(StockIn!H39=0,StockIn!H39=\"\"),\"\",StockIn!H39)","v":""},{"$f":"IF(OR(StockIn!L39=0,StockIn!L39=\"\"),\"\",StockIn!L39)","v":""},{"$f":"IF(OR(StockIn!E39=0,StockIn!E39=\"\"),\"\",StockIn!E39)","v":""},{"$f":"IF(OR(StockIn!M39=0,StockIn!M39=\"\"),\"\",StockIn!M39)","v":""}]
[{"$f":"StockIn!A40","v":1038},{"$f":"IF(OR(StockIn!B40=0,StockIn!B40=\"\"),\"\",StockIn!B40)","v":""},{"$f":"IF(OR(StockIn!D40=0,StockIn!D40=\"\"),\"\",StockIn!D40)","v":""},{"$f":"IF(OR(StockIn!G40=0,StockIn!G40=\"\"),\"\",StockIn!G40)","v":""},{"$f":"IF(OR(StockIn!H40=0,StockIn!H40=\"\"),\"\",StockIn!H40)","v":""},{"$f":"IF(OR(StockIn!L40=0,StockIn!L40=\"\"),\"\",StockIn!L40)","v":""},{"$f":"IF(OR(StockIn!E40=0,StockIn!E40=\"\"),\"\",StockIn!E40)","v":""},{"$f":"IF(OR(StockIn!M40=0,StockIn!M40=\"\"),\"\",StockIn!M40)","v":""}]
[{"$f":"StockIn!A41","v":1039},{"$f":"IF(OR(StockIn!B41=0,StockIn!B41=\"\"),\"\",StockIn!B41)","v":""},{"$f":"IF(OR(StockIn!D41=0,StockIn!D41=\"\"),\"\",StockIn!D41)","v":""},{"$f":"IF(OR(StockIn!G41=0,StockIn!G41=\"\"),\"\",StockIn!G41)","v":""},{"$f":"IF(OR(StockIn!H41=0,StockIn!H41=\"\"),\"\",StockIn!H41)","v":""},{"$f":"IF(OR(StockIn!L41=0,StockIn!L41=\"\"),\"\",StockIn!L41)","v":""},{"$f":"IF(OR(StockIn!E41=0,StockIn!E41=\"\"),\"\",StockIn!E41)","v":""},{"$f":"IF(OR(StockIn!M41=0,StockIn!M41=\"\"),\"\",StockIn!M41)","v":""}]
[{"$f":"StockIn!A42","v":1040},{"$f":"IF(OR(StockIn!B42=0,StockIn!B42=\"\"),\"\",StockIn!B42)","v":""},{"$f":"IF(OR(StockIn!D42=0,StockIn!D42=\"\"),\"\",StockIn!D42)","v":""},{"$f":"IF(OR(StockIn!G42=0,StockIn!G42=\"\"),\"\",StockIn!G42)","v":""},{"$f":"IF(OR(StockIn!H42=0,StockIn!H42=\"\"),\"\",StockIn!H42)","v":""},{"$f":"IF(OR(StockIn!L42=0,StockIn!L42=\"\"),\"\",StockIn!L42)","v":""},{"$f":"IF(OR(StockIn!E42=0,StockIn!E42=\"\"),\"\",StockIn!E42)","v":""},{"$f":"IF(OR(StockIn!M42=0,StockIn!M42=\"\"),\"\",StockIn!M42)","v":""}]
[{"$f":"StockIn!A43","v":1041},{"$f":"IF(OR(StockIn!B43=0,StockIn!B43=\"\"),\"\",StockIn!B43)","v":""},{"$f":"IF(OR(StockIn!D43=0,StockIn!D43=\"\"),\"\",StockIn!D43)","v":""},{"$f":"IF(OR(StockIn!G43=0,StockIn!G43=\"\"),\"\",StockIn!G43)","v":""},{"$f":"IF(OR(StockIn!H43=0,StockIn!H43=\"\"),\"\",StockIn!H43)","v":""},{"$f":"IF(OR(StockIn!L43=0,StockIn!L43=\"\"),\"\",StockIn!L43)","v":""},{"$f":"IF(OR(StockIn!E43=0,StockIn!E43=\"\"),\"\",StockIn!E43)","v":""},{"$f":"IF(OR(StockIn!M43=0,StockIn!M43=\"\"),\"\",StockIn!M43)","v":""}]
[{"$f":"StockIn!A44","v":1042},{"$f":"IF(OR(StockIn!B44=0,StockIn!B44=\"\"),\"\",StockIn!B44)","v":""},{"$f":"IF(OR(StockIn!D44=0,StockIn!D44=\"\"),\"\",StockIn!D44)","v":""},{"$f":"IF(OR(StockIn!G44=0,StockIn!G44=\"\"),\"\",StockIn!G44)","v":""},{"$f":"IF(OR(StockIn!H44=0,StockIn!H44=\"\"),\"\",StockIn!H44)","v":""},{"$f":"IF(OR(StockIn!L44=0,StockIn!L44=\"\"),\"\",StockIn!L44)","v":""},{"$f":"IF(OR(StockIn!E44=0,StockIn!E44=\"\"),\"\",StockIn!E44)","v":""},{"$f":"IF(OR(StockIn!M44=0,StockIn!M44=\"\"),\"\",StockIn!M44)","v":""}]
[{"$f":"StockIn!A45","v":1043},{"$f":"IF(OR(StockIn!B45=0,StockIn!B45=\"\"),\"\",StockIn!B45)","v":""},{"$f":"IF(OR(StockIn!D45=0,StockIn!D45=\"\"),\"\",StockIn!D45)","v":""},{"$f":"IF(OR(StockIn!G45=0,StockIn!G45=\"\"),\"\",StockIn!G45)","v":""},{"$f":"IF(OR(StockIn!H45=0,StockIn!H45=\"\"),\"\",StockIn!H45)","v":""},{"$f":"IF(OR(StockIn!L45=0,StockIn!L45=\"\"),\"\",StockIn!L45)","v":""},{"$f":"IF(OR(StockIn!E45=0,StockIn!E45=\"\"),\"\",StockIn!E45)","v":""},{"$f":"IF(OR(StockIn!M45=0,StockIn!M45=\"\"),\"\",StockIn!M45)","v":""}]
[{"$f":"StockIn!A46","v":1044},{"$f":"IF(OR(StockIn!B46=0,StockIn!B46=\"\"),\"\",StockIn!B46)","v":""},{"$f":"IF(OR(StockIn!D46=0,StockIn!D46=\"\"),\"\",StockIn!D46)","v":""},{"$f":"IF(OR(StockIn!G46=0,StockIn!G46=\"\"),\"\",StockIn!G46)","v":""},{"$f":"IF(OR(StockIn!H46=0,StockIn!H46=\"\"),\"\",StockIn!H46)","v":""},{"$f":"IF(OR(StockIn!L46=0,StockIn!L46=\"\"),\"\",StockIn!L46)","v":""},{"$f":"IF(OR(StockIn!E46=0,StockIn!E46=\"\"),\"\",StockIn!E46)","v":""},{"$f":"IF(OR(StockIn!M46=0,StockIn!M46=\"\"),\"\",StockIn!M46)","v":""}]
[{"$f":"StockIn!A47","v":1045},{"$f":"IF(OR(StockIn!B47=0,StockIn!B47=\"\"),\"\",StockIn!B47)","v":""},{"$f":"IF(OR(StockIn!D47=0,StockIn!D47=\"\"),\"\",StockIn!D47)","v":""},{"$f":"IF(OR(StockIn!G47=0,StockIn!G47=\"\"),\"\",StockIn!G47)","v":""},{"$f":"IF(OR(StockIn!H47=0,StockIn!H47=\"\"),\"\",StockIn!H47)","v":""},{"$f":"IF(OR(StockIn!L47=0,StockIn!L47=\"\"),\"\",StockIn!L47)","v":""},{"$f":"IF(OR(StockIn!E47=0,StockIn!E47=\"\"),\"\",StockIn!E47)","v":""},{"$f":"IF(OR(StockIn!M47=0,StockIn!M47=\"\"),\"\",StockIn!M47)","v":""}]
[{"$f":"StockIn!A48","v":1046},{"$f":"IF(OR(StockIn!B48=0,StockIn!B48=\"\"),\"\",StockIn!B48)","v":""},{"$f":"IF(OR(StockIn!D48=0,StockIn!D48=\"\"),\"\",StockIn!D48)","v":""},{"$f":"IF(OR(StockIn!G48=0,StockIn!G48=\"\"),\"\",StockIn!G48)","v":""},{"$f":"IF(OR(StockIn!H48=0,StockIn!H48=\"\"),\"\",StockIn!H48)","v":""},{"$f":"IF(OR(StockIn!L48=0,StockIn!L48=\"\"),\"\",StockIn!L48)","v":""},{"$f":"IF(OR(StockIn!E48=0,StockIn!E48=\"\"),\"\",StockIn!E48)","v":""},{"$f":"IF(OR(StockIn!M48=0,StockIn!M48=\"\"),\"\",StockIn!M48)","v":""}]
[{"$f":"StockIn!A49","v":1047},{"$f":"IF(OR(StockIn!B49=0,StockIn!B49=\"\"),\"\",StockIn!B49)","v":""},{"$f":"IF(OR(StockIn!D49=0,StockIn!D49=\"\"),\"\",StockIn!D49)","v":""},{"$f":"IF(OR(StockIn!G49=0,StockIn!G49=\"\"),\"\",StockIn!G49)","v":""},{"$f":"IF(OR(StockIn!H49=0,StockIn!H49=\"\"),\"\",StockIn!H49)","v":""},{"$f":"IF(OR(StockIn!L49=0,StockIn!L49=\"\"),\"\",StockIn!L49)","v":""},{"$f":"IF(OR(StockIn!E49=0,StockIn!E49=\"\"),\"\",StockIn!E49)","v":""},{"$f":"IF(OR(StockIn!M49=0,StockIn!M49=\"\"),\"\",StockIn!M49)","v":""}]
[{"$f":"StockIn!A50","v":1048},{"$f":"IF(OR(StockIn!B50=0,StockIn!B50=\"\"),\"\",StockIn!B50)","v":""},{"$f":"IF(OR(StockIn!D50=0,StockIn!D50=\"\"),\"\",StockIn!D50)","v":""},{"$f":"IF(OR(StockIn!G50=0,StockIn!G50=\"\"),\"\",StockIn!G50)","v":""},{"$f":"IF(OR(StockIn!H50=0,StockIn!H50=\"\"),\"\",StockIn!H50)","v":""},{"$f":"IF(OR(StockIn!L50=0,StockIn!L50=\"\"),\"\",StockIn!L50)","v":""},{"$f":"IF(OR(StockIn!E50=0,StockIn!E50=\"\"),\"\",StockIn!E50)","v":""},{"$f":"IF(OR(StockIn!M50=0,StockIn!M50=\"\"),\"\",StockIn!M50)","v":""}]
[{"$f":"StockIn!A51","v":1049},{"$f":"IF(OR(StockIn!B51=0,StockIn!B51=\"\"),\"\",StockIn!B51)","v":""},{"$f":"IF(OR(StockIn!D51=0,StockIn!D51=\"\"),\"\",StockIn!D51)","v":""},{"$f":"IF(OR(StockIn!G51=0,StockIn!G51=\"\"),\"\",StockIn!G51)","v":""},{"$f":"IF(OR(StockIn!H51=0,StockIn!H51=\"\"),\"\",StockIn!H51)","v":""},{"$f":"IF(OR(StockIn!L51=0,StockIn!L51=\"\"),\"\",StockIn!L51)","v":""},{"$f":"IF(OR(StockIn!E51=0,StockIn!E51=\"\"),\"\",StockIn!E51)","v":""},{"$f":"IF(OR(StockIn!M51=0,StockIn!M51=\"\"),\"\",StockIn!M51)","v":""}]
[{"$f":"StockIn!A52","v":1050},{"$f":"IF(OR(StockIn!B52=0,StockIn!B52=\"\"),\"\",StockIn!B52)","v":""},{"$f":"IF(OR(StockIn!D52=0,StockIn!D52=\"\"),\"\",StockIn!D52)","v":""},{"$f":"IF(OR(StockIn!G52=0,StockIn!G52=\"\"),\"\",StockIn!G52)","v":""},{"$f":"IF(OR(StockIn!H52=0,StockIn!H52=\"\"),\"\",StockIn!H52)","v":""},{"$f":"IF(OR(StockIn!L52=0,StockIn!L52=\"\"),\"\",StockIn!L52)","v":""},{"$f":"IF(OR(StockIn!E52=0,StockIn!E52=\"\"),\"\",StockIn!E52)","v":""},{"$f":"IF(OR(StockIn!M52=0,StockIn!M52=\"\"),\"\",StockIn!M52)","v":""}]
[{"$f":"StockIn!A53","v":1051},{"$f":"IF(OR(StockIn!B53=0,StockIn!B53=\"\"),\"\",StockIn!B53)","v":""},{"$f":"IF(OR(StockIn!D53=0,StockIn!D53=\"\"),\"\",StockIn!D53)","v":""},{"$f":"IF(OR(StockIn!G53=0,StockIn!G53=\"\"),\"\",StockIn!G53)","v":""},{"$f":"IF(OR(StockIn!H53=0,StockIn!H53=\"\"),\"\",StockIn!H53)","v":""},{"$f":"IF(OR(StockIn!L53=0,StockIn!L53=\"\"),\"\",StockIn!L53)","v":""},{"$f":"IF(OR(StockIn!E53=0,StockIn!E53=\"\"),\"\",StockIn!E53)","v":""},{"$f":"IF(OR(StockIn!M53=0,StockIn!M53=\"\"),\"\",StockIn!M53)","v":""}]
[{"$f":"StockIn!A54","v":1052},{"$f":"IF(OR(StockIn!B54=0,StockIn!B54=\"\"),\"\",StockIn!B54)","v":""},{"$f":"IF(OR(StockIn!D54=0,StockIn!D54=\"\"),\"\",StockIn!D54)","v":""},{"$f":"IF(OR(StockIn!G54=0,StockIn!G54=\"\"),\"\",StockIn!G54)","v":""},{"$f":"IF(OR(StockIn!H54=0,StockIn!H54=\"\"),\"\",StockIn!H54)","v":""},{"$f":"IF(OR(StockIn!L54=0,StockIn!L54=\"\"),\"\",StockIn!L54)","v":""},{"$f":"IF(OR(StockIn!E54=0,StockIn!E54=\"\"),\"\",StockIn!E54)","v":""},{"$f":"IF(OR(StockIn!M54=0,StockIn!M54=\"\"),\"\",StockIn!M54)","v":""}]
[{"$f":"StockIn!A55","v":1053},{"$f":"IF(OR(StockIn!B55=0,StockIn!B55=\"\"),\"\",StockIn!B55)","v":""},{"$f":"IF(OR(StockIn!D55=0,StockIn!D55=\"\"),\"\",StockIn!D55)","v":""},{"$f":"IF(OR(StockIn!G55=0,StockIn!G55=\"\"),\"\",StockIn!G55)","v":""},{"$f":"IF(OR(StockIn!H55=0,StockIn!H55=\"\"),\"\",StockIn!H55)","v":""},{"$f":"IF(OR(StockIn!L55=0,StockIn!L55=\"\"),\"\",StockIn!L55)","v":""},{"$f":"IF(OR(StockIn!E55=0,StockIn!E55=\"\"),\"\",StockIn!E55)","v":""},{"$f":"IF(OR(StockIn!M55=0,StockIn!M55=\"\"),\"\",StockIn!M55)","v":""}]
[{"$f":"StockIn!A56","v":1054},{"$f":"IF(OR(StockIn!B56=0,StockIn!B56=\"\"),\"\",StockIn!B56)","v":""},{"$f":"IF(OR(StockIn!D56=0,StockIn!D56=\"\"),\"\",StockIn!D56)","v":""},{"$f":"IF(OR(StockIn!G56=0,StockIn!G56=\"\"),\"\",StockIn!G56)","v":""},{"$f":"IF(OR(StockIn!H56=0,StockIn!H56=\"\"),\"\",StockIn!H56)","v":""},{"$f":"IF(OR(StockIn!L56=0,StockIn!L56=\"\"),\"\",StockIn!L56)","v":""},{"$f":"IF(OR(StockIn!E56=0,StockIn!E56=\"\"),\"\",StockIn!E56)","v":""},{"$f":"IF(OR(StockIn!M56=0,StockIn!M56=\"\"),\"\",StockIn!M56)","v":""}]
[{"$f":"StockIn!A57","v":1055},{"$f":"IF(OR(StockIn!B57=0,StockIn!B57=\"\"),\"\",StockIn!B57)","v":""},{"$f":"IF(OR(StockIn!D57=0,StockIn!D57=\"\"),\"\",StockIn!D57)","v":""},{"$f":"IF(OR(StockIn!G57=0,StockIn!G57=\"\"),\"\",StockIn!G57)","v":""},{"$f":"IF(OR(StockIn!H57=0,StockIn!H57=\"\"),\"\",StockIn!H57)","v":""},{"$f":"IF(OR(StockIn!L57=0,StockIn!L57=\"\"),\"\",StockIn!L57)","v":""},{"$f":"IF(OR(StockIn!E57=0,StockIn!E57=\"\"),\"\",StockIn!E57)","v":""},{"$f":"IF(OR(StockIn!M57=0,StockIn!M57=\"\"),\"\",StockIn!M57)","v":""}]
[{"$f":"StockIn!A58","v":1056},{"$f":"IF(OR(StockIn!B58=0,StockIn!B58=\"\"),\"\",StockIn!B58)","v":""},{"$f":"IF(OR(StockIn!D58=0,StockIn!D58=\"\"),\"\",StockIn!D58)","v":""},{"$f":"IF(OR(StockIn!G58=0,StockIn!G58=\"\"),\"\",StockIn!G58)","v":""},{"$f":"IF(OR(StockIn!H58=0,StockIn!H58=\"\"),\"\",StockIn!H58)","v":""},{"$f":"IF(OR(StockIn!L58=0,StockIn!L58=\"\"),\"\",StockIn!L58)","v":""},{"$f":"IF(OR(StockIn!E58=0,StockIn!E58=\"\"),\"\",StockIn!E58)","v":""},{"$f":"IF(OR(StockIn!M58=0,StockIn!M58=\"\"),\"\",StockIn!M58)","v":""}]
[{"$f":"StockIn!A59","v":1057},{"$f":"IF(OR(StockIn!B59=0,StockIn!B59=\"\"),\"\",StockIn!B59)","v":""},{"$f":"IF(OR(StockIn!D59=0,StockIn!D59=\"\"),\"\",StockIn!D59)","v":""},{"$f":"IF(OR(StockIn!G59=0,StockIn!G59=\"\"),\"\",StockIn!G59)","v":""},{"$f":"IF(OR(StockIn!H59=0,StockIn!H59=\"\"),\"\",StockIn!H59)","v":""},{"$f":"IF(OR(StockIn!L59=0,StockIn!L59=\"\"),\"\",StockIn!L59)","v":""},{"$f":"IF(OR(StockIn!E59=0,StockIn!E59=\"\"),\"\",StockIn!E59)","v":""},{"$f":"IF(OR(StockIn!M59=0,StockIn!M59=\"\"),\"\",StockIn!M59)","v":""}]
[{"$f":"StockIn!A60","v":1058},{"$f":"IF(OR(StockIn!B60=0,StockIn!B60=\"\"),\"\",StockIn!B60)","v":""},{"$f":"IF(OR(StockIn!D60=0,StockIn!D60=\"\"),\"\",StockIn!D60)","v":""},{"$f":"IF(OR(StockIn!G60=0,StockIn!G60=\"\"),\"\",StockIn!G60)","v":""},{"$f":"IF(OR(StockIn!H60=0,StockIn!H60=\"\"),\"\",StockIn!H60)","v":""},{"$f":"IF(OR(StockIn!L60=0,StockIn!L60=\"\"),\"\",StockIn!L60)","v":""},{"$f":"IF(OR(StockIn!E60=0,StockIn!E60=\"\"),\"\",StockIn!E60)","v":""},{"$f":"IF(OR(StockIn!M60=0,StockIn!M60=\"\"),\"\",StockIn!M60)","v":""}]
[{"$f":"StockIn!A61","v":1059},{"$f":"IF(OR(StockIn!B61=0,StockIn!B61=\"\"),\"\",StockIn!B61)","v":""},{"$f":"IF(OR(StockIn!D61=0,StockIn!D61=\"\"),\"\",StockIn!D61)","v":""},{"$f":"IF(OR(StockIn!G61=0,StockIn!G61=\"\"),\"\",StockIn!G61)","v":""},{"$f":"IF(OR(StockIn!H61=0,StockIn!H61=\"\"),\"\",StockIn!H61)","v":""},{"$f":"IF(OR(StockIn!L61=0,StockIn!L61=\"\"),\"\",StockIn!L61)","v":""},{"$f":"IF(OR(StockIn!E61=0,StockIn!E61=\"\"),\"\",StockIn!E61)","v":""},{"$f":"IF(OR(StockIn!M61=0,StockIn!M61=\"\"),\"\",StockIn!M61)","v":""}]
[{"$f":"StockIn!A62","v":1060},{"$f":"IF(OR(StockIn!B62=0,StockIn!B62=\"\"),\"\",StockIn!B62)","v":""},{"$f":"IF(OR(StockIn!D62=0,StockIn!D62=\"\"),\"\",StockIn!D62)","v":""},{"$f":"IF(OR(StockIn!G62=0,StockIn!G62=\"\"),\"\",StockIn!G62)","v":""},{"$f":"IF(OR(StockIn!H62=0,StockIn!H62=\"\"),\"\",StockIn!H62)","v":""},{"$f":"IF(OR(StockIn!L62=0,StockIn!L62=\"\"),\"\",StockIn!L62)","v":""},{"$f":"IF(OR(StockIn!E62=0,StockIn!E62=\"\"),\"\",StockIn!E62)","v":""},{"$f":"IF(OR(StockIn!M62=0,StockIn!M62=\"\"),\"\",StockIn!M62)","v":""}]
[{"$f":"StockIn!A63","v":1061},{"$f":"IF(OR(StockIn!B63=0,StockIn!B63=\"\"),\"\",StockIn!B63)","v":""},{"$f":"IF(OR(StockIn!D63=0,StockIn!D63=\"\"),\"\",StockIn!D63)","v":""},{"$f":"IF(OR(StockIn!G63=0,StockIn!G63=\"\"),\"\",StockIn!G63)","v":""},{"$f":"IF(OR(StockIn!H63=0,StockIn!H63=\"\"),\"\",StockIn!H63)","v":""},{"$f":"IF(OR(StockIn!L63=0,StockIn!L63=\"\"),\"\",StockIn!L63)","v":""},{"$f":"IF(OR(StockIn!E63=0,StockIn!E63=\"\"),\"\",StockIn!E63)","v":""},{"$f":"IF(OR(StockIn!M63=0,StockIn!M63=\"\"),\"\",StockIn!M63)","v":""}]
[{"$f":"StockIn!A64","v":1062},{"$f":"IF(OR(StockIn!B64=0,StockIn!B64=\"\"),\"\",StockIn!B64)","v":""},{"$f":"IF(OR(StockIn!D64=0,StockIn!D64=\"\"),\"\",StockIn!D64)","v":""},{"$f":"IF(OR(StockIn!G64=0,StockIn!G64=\"\"),\"\",StockIn!G64)","v":""},{"$f":"IF(OR(StockIn!H64=0,StockIn!H64=\"\"),\"\",StockIn!H64)","v":""},{"$f":"IF(OR(StockIn!L64=0,StockIn!L64=\"\"),\"\",StockIn!L64)","v":""},{"$f":"IF(OR(StockIn!E64=0,StockIn!E64=\"\"),\"\",StockIn!E64)","v":""},{"$f":"IF(OR(StockIn!M64=0,StockIn!M64=\"\"),\"\",StockIn!M64)","v":""}]
[{"$f":"StockIn!A65","v":1063},{"$f":"IF(OR(StockIn!B65=0,StockIn!B65=\"\"),\"\",StockIn!B65)","v":""},{"$f":"IF(OR(StockIn!D65=0,StockIn!D65=\"\"),\"\",StockIn!D65)","v":""},{"$f":"IF(OR(StockIn!G65=0,StockIn!G65=\"\"),\"\",StockIn!G65)","v":""},{"$f":"IF(OR(StockIn!H65=0,StockIn!H65=\"\"),\"\",StockIn!H65)","v":""},{"$f":"IF(OR(StockIn!L65=0,StockIn!L65=\"\"),\"\",StockIn!L65)","v":""},{"$f":"IF(OR(StockIn!E65=0,StockIn!E65=\"\"),\"\",StockIn!E65)","v":""},{"$f":"IF(OR(StockIn!M65=0,StockIn!M65=\"\"),\"\",StockIn!M65)","v":""}]
[{"$f":"StockIn!A66","v":1064},{"$f":"IF(OR(StockIn!B66=0,StockIn!B66=\"\"),\"\",StockIn!B66)","v":""},{"$f":"IF(OR(StockIn!D66=0,StockIn!D66=\"\"),\"\",StockIn!D66)","v":""},{"$f":"IF(OR(StockIn!G66=0,StockIn!G66=\"\"),\"\",StockIn!G66)","v":""},{"$f":"IF(OR(StockIn!H66=0,StockIn!H66=\"\"),\"\",StockIn!H66)","v":""},{"$f":"IF(OR(StockIn!L66=0,StockIn!L66=\"\"),\"\",StockIn!L66)","v":""},{"$f":"IF(OR(StockIn!E66=0,StockIn!E66=\"\"),\"\",StockIn!E66)","v":""},{"$f":"IF(OR(StockIn!M66=0,StockIn!M66=\"\"),\"\",StockIn!M66)","v":""}]
[{"$f":"StockIn!A67","v":1065},{"$f":"IF(OR(StockIn!B67=0,StockIn!B67=\"\"),\"\",StockIn!B67)","v":""},{"$f":"IF(OR(StockIn!D67=0,StockIn!D67=\"\"),\"\",StockIn!D67)","v":""},{"$f":"IF(OR(StockIn!G67=0,StockIn!G67=\"\"),\"\",StockIn!G67)","v":""},{"$f":"IF(OR(StockIn!H67=0,StockIn!H67=\"\"),\"\",StockIn!H67)","v":""},{"$f":"IF(OR(StockIn!L67=0,StockIn!L67=\"\"),\"\",StockIn!L67)","v":""},{"$f":"IF(OR(StockIn!E67=0,StockIn!E67=\"\"),\"\",StockIn!E67)","v":""},{"$f":"IF(OR(StockIn!M67=0,StockIn!M67=\"\"),\"\",StockIn!M67)","v":""}]
[{"$f":"StockIn!A68","v":1066},{"$f":"IF(OR(StockIn!B68=0,StockIn!B68=\"\"),\"\",StockIn!B68)","v":""},{"$f":"IF(OR(StockIn!D68=0,StockIn!D68=\"\"),\"\",StockIn!D68)","v":""},{"$f":"IF(OR(StockIn!G68=0,StockIn!G68=\"\"),\"\",StockIn!G68)","v":""},{"$f":"IF(OR(StockIn!H68=0,StockIn!H68=\"\"),\"\",StockIn!H68)","v":""},{"$f":"IF(OR(StockIn!L68=0,StockIn!L68=\"\"),\"\",StockIn!L68)","v":""},{"$f":"IF(OR(StockIn!E68=0,StockIn!E68=\"\"),\"\",StockIn!E68)","v":""},{"$f":"IF(OR(StockIn!M68=0,StockIn!M68=\"\"),\"\",StockIn!M68)","v":""}]
[{"$f":"StockIn!A69","v":1067},{"$f":"IF(OR(StockIn!B69=0,StockIn!B69=\"\"),\"\",StockIn!B69)","v":""},{"$f":"IF(OR(StockIn!D69=0,StockIn!D69=\"\"),\"\",StockIn!D69)","v":""},{"$f":"IF(OR(StockIn!G69=0,StockIn!G69=\"\"),\"\",StockIn!G69)","v":""},{"$f":"IF(OR(StockIn!H69=0,StockIn!H69=\"\"),\"\",StockIn!H69)","v":""},{"$f":"IF(OR(StockIn!L69=0,StockIn!L69=\"\"),\"\",StockIn!L69)","v":""},{"$f":"IF(OR(StockIn!E69=0,StockIn!E69=\"\"),\"\",StockIn!E69)","v":""},{"$f":"IF(OR(StockIn!M69=0,StockIn!M69=\"\"),\"\",StockIn!M69)","v":""}]
[{"$f":"StockIn!A70","v":1068},{"$f":"IF(OR(StockIn!B70=0,StockIn!B70=\"\"),\"\",StockIn!B70)","v":""},{"$f":"IF(OR(StockIn!D70=0,StockIn!D70=\"\"),\"\",StockIn!D70)","v":""},{"$f":"IF(OR(StockIn!G70=0,StockIn!G70=\"\"),\"\",StockIn!G70)","v":""},{"$f":"IF(OR(StockIn!H70=0,StockIn!H70=\"\"),\"\",StockIn!H70)","v":""},{"$f":"IF(OR(StockIn!L70=0,StockIn!L70=\"\"),\"\",StockIn!L70)","v":""},{"$f":"IF(OR(StockIn!E70=0,StockIn!E70=\"\"),\"\",StockIn!E70)","v":""},{"$f":"IF(OR(StockIn!M70=0,StockIn!M70=\"\"),\"\",StockIn!M70)","v":""}]
[{"$f":"StockIn!A71","v":1069},{"$f":"IF(OR(StockIn!B71=0,StockIn!B71=\"\"),\"\",StockIn!B71)","v":""},{"$f":"IF(OR(StockIn!D71=0,StockIn!D71=\"\"),\"\",StockIn!D71)","v":""},{"$f":"IF(OR(StockIn!G71=0,StockIn!G71=\"\"),\"\",StockIn!G71)","v":""},{"$f":"IF(OR(StockIn!H71=0,StockIn!H71=\"\"),\"\",StockIn!H71)","v":""},{"$f":"IF(OR(StockIn!L71=0,StockIn!L71=\"\"),\"\",StockIn!L71)","v":""},{"$f":"IF(OR(StockIn!E71=0,StockIn!E71=\"\"),\"\",StockIn!E71)","v":""},{"$f":"IF(OR(StockIn!M71=0,StockIn!M71=\"\"),\"\",StockIn!M71)","v":""}]
[{"$f":"StockIn!A72","v":1070},{"$f":"IF(OR(StockIn!B72=0,StockIn!B72=\"\"),\"\",StockIn!B72)","v":""},{"$f":"IF(OR(StockIn!D72=0,StockIn!D72=\"\"),\"\",StockIn!D72)","v":""},{"$f":"IF(OR(StockIn!G72=0,StockIn!G72=\"\"),\"\",StockIn!G72)","v":""},{"$f":"IF(OR(StockIn!H72=0,StockIn!H72=\"\"),\"\",StockIn!H72)","v":""},{"$f":"IF(OR(StockIn!L72=0,StockIn!L72=\"\"),\"\",StockIn!L72)","v":""},{"$f":"IF(OR(StockIn!E72=0,StockIn!E72=\"\"),\"\",StockIn!E72)","v":""},{"$f":"IF(OR(StockIn!M72=0,StockIn!M72=\"\"),\"\",StockIn!M72)","v":""}]
[{"$f":"StockIn!A73","v":1071},{"$f":"IF(OR(StockIn!B73=0,StockIn!B73=\"\"),\"\",StockIn!B73)","v":""},{"$f":"IF(OR(StockIn!D73=0,StockIn!D73=\"\"),\"\",StockIn!D73)","v":""},{"$f":"IF(OR(StockIn!G73=0,StockIn!G73=\"\"),\"\",StockIn!G73)","v":""},{"$f":"IF(OR(StockIn!H73=0,StockIn!H73=\"\"),\"\",StockIn!H73)","v":""},{"$f":"IF(OR(StockIn!L73=0,StockIn!L73=\"\"),\"\",StockIn!L73)","v":""},{"$f":"IF(OR(StockIn!E73=0,StockIn!E73=\"\"),\"\",StockIn!E73)","v":""},{"$f":"IF(OR(StockIn!M73=0,StockIn!M73=\"\"),\"\",StockIn!M73)","v":""}]
[{"$f":"StockIn!A74","v":1072},{"$f":"IF(OR(StockIn!B74=0,StockIn!B74=\"\"),\"\",StockIn!B74)","v":""},{"$f":"IF(OR(StockIn!D74=0,StockIn!D74=\"\"),\"\",StockIn!D74)","v":""},{"$f":"IF(OR(StockIn!G74=0,StockIn!G74=\"\"),\"\",StockIn!G74)","v":""},{"$f":"IF(OR(StockIn!H74=0,StockIn!H74=\"\"),\"\",StockIn!H74)","v":""},{"$f":"IF(OR(StockIn!L74=0,StockIn!L74=\"\"),\"\",StockIn!L74)","v":""},{"$f":"IF(OR(StockIn!E74=0,StockIn!E74=\"\"),\"\",StockIn!E74)","v":""},{"$f":"IF(OR(StockIn!M74=0,StockIn!M74=\"\"),\"\",StockIn!M74)","v":""}]
[{"$f":"StockIn!A75","v":1073},{"$f":"IF(OR(StockIn!B75=0,StockIn!B75=\"\"),\"\",StockIn!B75)","v":""},{"$f":"IF(OR(StockIn!D75=0,StockIn!D75=\"\"),\"\",StockIn!D75)","v":""},{"$f":"IF(OR(StockIn!G75=0,StockIn!G75=\"\"),\"\",StockIn!G75)","v":""},{"$f":"IF(OR(StockIn!H75=0,StockIn!H75=\"\"),\"\",StockIn!H75)","v":""},{"$f":"IF(OR(StockIn!L75=0,StockIn!L75=\"\"),\"\",StockIn!L75)","v":""},{"$f":"IF(OR(StockIn!E75=0,StockIn!E75=\"\"),\"\",StockIn!E75)","v":""},{"$f":"IF(OR(StockIn!M75=0,StockIn!M75=\"\"),\"\",StockIn!M75)","v":""}]
[{"$f":"StockIn!A76","v":1074},{"$f":"IF(OR(StockIn!B76=0,StockIn!B76=\"\"),\"\",StockIn!B76)","v":""},{"$f":"IF(OR(StockIn!D76=0,StockIn!D76=\"\"),\"\",StockIn!D76)","v":""},{"$f":"IF(OR(StockIn!G76=0,StockIn!G76=\"\"),\"\",StockIn!G76)","v":""},{"$f":"IF(OR(StockIn!H76=0,StockIn!H76=\"\"),\"\",StockIn!H76)","v":""},{"$f":"IF(OR(StockIn!L76=0,StockIn!L76=\"\"),\"\",StockIn!L76)","v":""},{"$f":"IF(OR(StockIn!E76=0,StockIn!E76=\"\"),\"\",StockIn!E76)","v":""},{"$f":"IF(OR(StockIn!M76=0,StockIn!M76=\"\"),\"\",StockIn!M76)","v":""}]
[{"$f":"StockIn!A77","v":1075},{"$f":"IF(OR(StockIn!B77=0,StockIn!B77=\"\"),\"\",StockIn!B77)","v":""},{"$f":"IF(OR(StockIn!D77=0,StockIn!D77=\"\"),\"\",StockIn!D77)","v":""},{"$f":"IF(OR(StockIn!G77=0,StockIn!G77=\"\"),\"\",StockIn!G77)","v":""},{"$f":"IF(OR(StockIn!H77=0,StockIn!H77=\"\"),\"\",StockIn!H77)","v":""},{"$f":"IF(OR(StockIn!L77=0,StockIn!L77=\"\"),\"\",StockIn!L77)","v":""},{"$f":"IF(OR(StockIn!E77=0,StockIn!E77=\"\"),\"\",StockIn!E77)","v":""},{"$f":"IF(OR(StockIn!M77=0,StockIn!M77=\"\"),\"\",StockIn!M77)","v":""}]
[{"$f":"StockIn!A78","v":1076},{"$f":"IF(OR(StockIn!B78=0,StockIn!B78=\"\"),\"\",StockIn!B78)","v":""},{"$f":"IF(OR(StockIn!D78=0,StockIn!D78=\"\"),\"\",StockIn!D78)","v":""},{"$f":"IF(OR(StockIn!G78=0,StockIn!G78=\"\"),\"\",StockIn!G78)","v":""},{"$f":"IF(OR(StockIn!H78=0,StockIn!H78=\"\"),\"\",StockIn!H78)","v":""},{"$f":"IF(OR(StockIn!L78=0,StockIn!L78=\"\"),\"\",StockIn!L78)","v":""},{"$f":"IF(OR(StockIn!E78=0,StockIn!E78=\"\"),\"\",StockIn!E78)","v":""},{"$f":"IF(OR(StockIn!M78=0,StockIn!M78=\"\"),\"\",StockIn!M78)","v":""}]
[{"$f":"StockIn!A79","v":1077},{"$f":"IF(OR(StockIn!B79=0,StockIn!B79=\"\"),\"\",StockIn!B79)","v":""},{"$f":"IF(OR(StockIn!D79=0,StockIn!D79=\"\"),\"\",StockIn!D79)","v":""},{"$f":"IF(OR(StockIn!G79=0,StockIn!G79=\"\"),\"\",StockIn!G79)","v":""},{"$f":"IF(OR(StockIn!H79=0,StockIn!H79=\"\"),\"\",StockIn!H79)","v":""},{"$f":"IF(OR(StockIn!L79=0,StockIn!L79=\"\"),\"\",StockIn!L79)","v":""},{"$f":"IF(OR(StockIn!E79=0,StockIn!E79=\"\"),\"\",StockIn!E79)","v":""},{"$f":"IF(OR(StockIn!M79=0,StockIn!M79=\"\"),\"\",StockIn!M79)","v":""}]
[{"$f":"StockIn!A80","v":1078},{"$f":"IF(OR(StockIn!B80=0,StockIn!B80=\"\"),\"\",StockIn!B80)","v":""},{"$f":"IF(OR(StockIn!D80=0,StockIn!D80=\"\"),\"\",StockIn!D80)","v":""},{"$f":"IF(OR(StockIn!G80=0,StockIn!G80=\"\"),\"\",StockIn!G80)","v":""},{"$f":"IF(OR(StockIn!H80=0,StockIn!H80=\"\"),\"\",StockIn!H80)","v":""},{"$f":"IF(OR(StockIn!L80=0,StockIn!L80=\"\"),\"\",StockIn!L80)","v":""},{"$f":"IF(OR(StockIn!E80=0,StockIn!E80=\"\"),\"\",StockIn!E80)","v":""},{"$f":"IF(OR(StockIn!M80=0,StockIn!M80=\"\"),\"\",StockIn!M80)","v":""}]
[{"$f":"StockIn!A81","v":1079},{"$f":"IF(OR(StockIn!B81=0,StockIn!B81=\"\"),\"\",StockIn!B81)","v":""},{"$f":"IF(OR(StockIn!D81=0,StockIn!D81=\"\"),\"\",StockIn!D81)","v":""},{"$f":"IF(OR(StockIn!G81=0,StockIn!G81=\"\"),\"\",StockIn!G81)","v":""},{"$f":"IF(OR(StockIn!H81=0,StockIn!H81=\"\"),\"\",StockIn!H81)","v":""},{"$f":"IF(OR(StockIn!L81=0,StockIn!L81=\"\"),\"\",StockIn!L81)","v":""},{"$f":"IF(OR(StockIn!E81=0,StockIn!E81=\"\"),\"\",StockIn!E81)","v":""},{"$f":"IF(OR(StockIn!M81=0,StockIn!M81=\"\"),\"\",StockIn!M81)","v":""}]
[{"$f":"StockIn!A82","v":1080},{"$f":"IF(OR(StockIn!B82=0,StockIn!B82=\"\"),\"\",StockIn!B82)","v":""},{"$f":"IF(OR(StockIn!D82=0,StockIn!D82=\"\"),\"\",StockIn!D82)","v":""},{"$f":"IF(OR(StockIn!G82=0,StockIn!G82=\"\"),\"\",StockIn!G82)","v":""},{"$f":"IF(OR(StockIn!H82=0,StockIn!H82=\"\"),\"\",StockIn!H82)","v":""},{"$f":"IF(OR(StockIn!L82=0,StockIn!L82=\"\"),\"\",StockIn!L82)","v":""},{"$f":"IF(OR(StockIn!E82=0,StockIn!E82=\"\"),\"\",StockIn!E82)","v":""},{"$f":"IF(OR(StockIn!M82=0,StockIn!M82=\"\"),\"\",StockIn!M82)","v":""}]
[{"$f":"StockIn!A83","v":1081},{"$f":"IF(OR(StockIn!B83=0,StockIn!B83=\"\"),\"\",StockIn!B83)","v":""},{"$f":"IF(OR(StockIn!D83=0,StockIn!D83=\"\"),\"\",StockIn!D83)","v":""},{"$f":"IF(OR(StockIn!G83=0,StockIn!G83=\"\"),\"\",StockIn!G83)","v":""},{"$f":"IF(OR(StockIn!H83=0,StockIn!H83=\"\"),\"\",StockIn!H83)","v":""},{"$f":"IF(OR(StockIn!L83=0,StockIn!L83=\"\"),\"\",StockIn!L83)","v":""},{"$f":"IF(OR(StockIn!E83=0,StockIn!E83=\"\"),\"\",StockIn!E83)","v":""},{"$f":"IF(OR(StockIn!M83=0,StockIn!M83=\"\"),\"\",StockIn!M83)","v":""}]
[{"$f":"StockIn!A84","v":1082},{"$f":"IF(OR(StockIn!B84=0,StockIn!B84=\"\"),\"\",StockIn!B84)","v":""},{"$f":"IF(OR(StockIn!D84=0,StockIn!D84=\"\"),\"\",StockIn!D84)","v":""},{"$f":"IF(OR(StockIn!G84=0,StockIn!G84=\"\"),\"\",StockIn!G84)","v":""},{"$f":"IF(OR(StockIn!H84=0,StockIn!H84=\"\"),\"\",StockIn!H84)","v":""},{"$f":"IF(OR(StockIn!L84=0,StockIn!L84=\"\"),\"\",StockIn!L84)","v":""},{"$f":"IF(OR(StockIn!E84=0,StockIn!E84=\"\"),\"\",StockIn!E84)","v":""},{"$f":"IF(OR(StockIn!M84=0,StockIn!M84=\"\"),\"\",StockIn!M84)","v":""}]
[{"$f":"StockIn!A85","v":1083},{"$f":"IF(OR(StockIn!B85=0,StockIn!B85=\"\"),\"\",StockIn!B85)","v":""},{"$f":"IF(OR(StockIn!D85=0,StockIn!D85=\"\"),\"\",StockIn!D85)","v":""},{"$f":"IF(OR(StockIn!G85=0,StockIn!G85=\"\"),\"\",StockIn!G85)","v":""},{"$f":"IF(OR(StockIn!H85=0,StockIn!H85=\"\"),\"\",StockIn!H85)","v":""},{"$f":"IF(OR(StockIn!L85=0,StockIn!L85=\"\"),\"\",StockIn!L85)","v":""},{"$f":"IF(OR(StockIn!E85=0,StockIn!E85=\"\"),\"\",StockIn!E85)","v":""},{"$f":"IF(OR(StockIn!M85=0,StockIn!M85=\"\"),\"\",StockIn!M85)","v":""}]
[{"$f":"StockIn!A86","v":1084},{"$f":"IF(OR(StockIn!B86=0,StockIn!B86=\"\"),\"\",StockIn!B86)","v":""},{"$f":"IF(OR(StockIn!D86=0,StockIn!D86=\"\"),\"\",StockIn!D86)","v":""},{"$f":"IF(OR(StockIn!G86=0,StockIn!G86=\"\"),\"\",StockIn!G86)","v":""},{"$f":"IF(OR(StockIn!H86=0,StockIn!H86=\"\"),\"\",StockIn!H86)","v":""},{"$f":"IF(OR(StockIn!L86=0,StockIn!L86=\"\"),\"\",StockIn!L86)","v":""},{"$f":"IF(OR(StockIn!E86=0,StockIn!E86=\"\"),\"\",StockIn!E86)","v":""},{"$f":"IF(OR(StockIn!M86=0,StockIn!M86=\"\"),\"\",StockIn!M86)","v":""}]
[{"$f":"StockIn!A87","v":1085},{"$f":"IF(OR(StockIn!B87=0,StockIn!B87=\"\"),\"\",StockIn!B87)","v":""},{"$f":"IF(OR(StockIn!D87=0,StockIn!D87=\"\"),\"\",StockIn!D87)","v":""},{"$f":"IF(OR(StockIn!G87=0,StockIn!G87=\"\"),\"\",StockIn!G87)","v":""},{"$f":"IF(OR(StockIn!H87=0,StockIn!H87=\"\"),\"\",StockIn!H87)","v":""},{"$f":"IF(OR(StockIn!L87=0,StockIn!L87=\"\"),\"\",StockIn!L87)","v":""},{"$f":"IF(OR(StockIn!E87=0,StockIn!E87=\"\"),\"\",StockIn!E87)","v":""},{"$f":"IF(OR(StockIn!M87=0,StockIn!M87=\"\"),\"\",StockIn!M87)","v":""}]
[{"$f":"StockIn!A88","v":1086},{"$f":"IF(OR(StockIn!B88=0,StockIn!B88=\"\"),\"\",StockIn!B88)","v":""},{"$f":"IF(OR(StockIn!D88=0,StockIn!D88=\"\"),\"\",StockIn!D88)","v":""},{"$f":"IF(OR(StockIn!G88=0,StockIn!G88=\"\"),\"\",StockIn!G88)","v":""},{"$f":"IF(OR(StockIn!H88=0,StockIn!H88=\"\"),\"\",StockIn!H88)","v":""},{"$f":"IF(OR(StockIn!L88=0,StockIn!L88=\"\"),\"\",StockIn!L88)","v":""},{"$f":"IF(OR(StockIn!E88=0,StockIn!E88=\"\"),\"\",StockIn!E88)","v":""},{"$f":"IF(OR(StockIn!M88=0,StockIn!M88=\"\"),\"\",StockIn!M88)","v":""}]
[{"$f":"StockIn!A89","v":1087},{"$f":"IF(OR(StockIn!B89=0,StockIn!B89=\"\"),\"\",StockIn!B89)","v":""},{"$f":"IF(OR(StockIn!D89=0,StockIn!D89=\"\"),\"\",StockIn!D89)","v":""},{"$f":"IF(OR(StockIn!G89=0,StockIn!G89=\"\"),\"\",StockIn!G89)","v":""},{"$f":"IF(OR(StockIn!H89=0,StockIn!H89=\"\"),\"\",StockIn!H89)","v":""},{"$f":"IF(OR(StockIn!L89=0,StockIn!L89=\"\"),\"\",StockIn!L89)","v":""},{"$f":"IF(OR(StockIn!E89=0,StockIn!E89=\"\"),\"\",StockIn!E89)","v":""},{"$f":"IF(OR(StockIn!M89=0,StockIn!M89=\"\"),\"\",StockIn!M89)","v":""}]
[{"$f":"StockIn!A90","v":1088},{"$f":"IF(OR(StockIn!B90=0,StockIn!B90=\"\"),\"\",StockIn!B90)","v":""},{"$f":"IF(OR(StockIn!D90=0,StockIn!D90=\"\"),\"\",StockIn!D90)","v":""},{"$f":"IF(OR(StockIn!G90=0,StockIn!G90=\"\"),\"\",StockIn!G90)","v":""},{"$f":"IF(OR(StockIn!H90=0,StockIn!H90=\"\"),\"\",StockIn!H90)","v":""},{"$f":"IF(OR(StockIn!L90=0,StockIn!L90=\"\"),\"\",StockIn!L90)","v":""},{"$f":"IF(OR(StockIn!E90=0,StockIn!E90=\"\"),\"\",StockIn!E90)","v":""},{"$f":"IF(OR(StockIn!M90=0,StockIn!M90=\"\"),\"\",StockIn!M90)","v":""}]
[{"$f":"StockIn!A91","v":1089},{"$f":"IF(OR(StockIn!B91=0,StockIn!B91=\"\"),\"\",StockIn!B91)","v":""},{"$f":"IF(OR(StockIn!D91=0,StockIn!D91=\"\"),\"\",StockIn!D91)","v":""},{"$f":"IF(OR(StockIn!G91=0,StockIn!G91=\"\"),\"\",StockIn!G91)","v":""},{"$f":"IF(OR(StockIn!H91=0,StockIn!H91=\"\"),\"\",StockIn!H91)","v":""},{"$f":"IF(OR(StockIn!L91=0,StockIn!L91=\"\"),\"\",StockIn!L91)","v":""},{"$f":"IF(OR(StockIn!E91=0,StockIn!E91=\"\"),\"\",StockIn!E91)","v":""},{"$f":"IF(OR(StockIn!M91=0,StockIn!M91=\"\"),\"\",StockIn!M91)","v":""}]
[{"$f":"StockIn!A92","v":1090},{"$f":"IF(OR(StockIn!B92=0,StockIn!B92=\"\"),\"\",StockIn!B92)","v":""},{"$f":"IF(OR(StockIn!D92=0,StockIn!D92=\"\"),\"\",StockIn!D92)","v":""},{"$f":"IF(OR(StockIn!G92=0,StockIn!G92=\"\"),\"\",StockIn!G92)","v":""},{"$f":"IF(OR(StockIn!H92=0,StockIn!H92=\"\"),\"\",StockIn!H92)","v":""},{"$f":"IF(OR(StockIn!L92=0,StockIn!L92=\"\"),\"\",StockIn!L92)","v":""},{"$f":"IF(OR(StockIn!E92=0,StockIn!E92=\"\"),\"\",StockIn!E92)","v":""},{"$f":"IF(OR(StockIn!M92=0,StockIn!M92=\"\"),\"\",StockIn!M92)","v":""}]
[{"$f":"StockIn!A93","v":1091},{"$f":"IF(OR(StockIn!B93=0,StockIn!B93=\"\"),\"\",StockIn!B93)","v":""},{"$f":"IF(OR(StockIn!D93=0,StockIn!D93=\"\"),\"\",StockIn!D93)","v":""},{"$f":"IF(OR(StockIn!G93=0,StockIn!G93=\"\"),\"\",StockIn!G93)","v":""},{"$f":"IF(OR(StockIn!H93=0,StockIn!H93=\"\"),\"\",StockIn!H93)","v":""},{"$f":"IF(OR(StockIn!L93=0,StockIn!L93=\"\"),\"\",StockIn!L93)","v":""},{"$f":"IF(OR(StockIn!E93=0,StockIn!E93=\"\"),\"\",StockIn!E93)","v":""},{"$f":"IF(OR(StockIn!M93=0,StockIn!M93=\"\"),\"\",StockIn!M93)","v":""}]
[{"$f":"StockIn!A94","v":1092},{"$f":"IF(OR(StockIn!B94=0,StockIn!B94=\"\"),\"\",StockIn!B94)","v":""},{"$f":"IF(OR(StockIn!D94=0,StockIn!D94=\"\"),\"\",StockIn!D94)","v":""},{"$f":"IF(OR(StockIn!G94=0,StockIn!G94=\"\"),\"\",StockIn!G94)","v":""},{"$f":"IF(OR(StockIn!H94=0,StockIn!H94=\"\"),\"\",StockIn!H94)","v":""},{"$f":"IF(OR(StockIn!L94=0,StockIn!L94=\"\"),\"\",StockIn!L94)","v":""},{"$f":"IF(OR(StockIn!E94=0,StockIn!E94=\"\"),\"\",StockIn!E94)","v":""},{"$f":"IF(OR(StockIn!M94=0,StockIn!M94=\"\"),\"\",StockIn!M94)","v":""}]
[{"$f":"StockIn!A95","v":1093},{"$f":"IF(OR(StockIn!B95=0,StockIn!B95=\"\"),\"\",StockIn!B95)","v":""},{"$f":"IF(OR(StockIn!D95=0,StockIn!D95=\"\"),\"\",StockIn!D95)","v":""},{"$f":"IF(OR(StockIn!G95=0,StockIn!G95=\"\"),\"\",StockIn!G95)","v":""},{"$f":"IF(OR(StockIn!H95=0,StockIn!H95=\"\"),\"\",StockIn!H95)","v":""},{"$f":"IF(OR(StockIn!L95=0,StockIn!L95=\"\"),\"\",StockIn!L95)","v":""},{"$f":"IF(OR(StockIn!E95=0,StockIn!E95=\"\"),\"\",StockIn!E95)","v":""},{"$f":"IF(OR(StockIn!M95=0,StockIn!M95=\"\"),\"\",StockIn!M95)","v":""}]
[{"$f":"StockIn!A96","v":1094},{"$f":"IF(OR(StockIn!B96=0,StockIn!B96=\"\"),\"\",StockIn!B96)","v":""},{"$f":"IF(OR(StockIn!D96=0,StockIn!D96=\"\"),\"\",StockIn!D96)","v":""},{"$f":"IF(OR(StockIn!G96=0,StockIn!G96=\"\"),\"\",StockIn!G96)","v":""},{"$f":"IF(OR(StockIn!H96=0,StockIn!H96=\"\"),\"\",StockIn!H96)","v":""},{"$f":"IF(OR(StockIn!L96=0,StockIn!L96=\"\"),\"\",StockIn!L96)","v":""},{"$f":"IF(OR(StockIn!E96=0,StockIn!E96=\"\"),\"\",StockIn!E96)","v":""},{"$f":"IF(OR(StockIn!M96=0,StockIn!M96=\"\"),\"\",StockIn!M96)","v":""}]
[{"$f":"StockIn!A97","v":1095},{"$f":"IF(OR(StockIn!B97=0,StockIn!B97=\"\"),\"\",StockIn!B97)","v":""},{"$f":"IF(OR(StockIn!D97=0,StockIn!D97=\"\"),\"\",StockIn!D97)","v":""},{"$f":"IF(OR(StockIn!G97=0,StockIn!G97=\"\"),\"\",StockIn!G97)","v":""},{"$f":"IF(OR(StockIn!H97=0,StockIn!H97=\"\"),\"\",StockIn!H97)","v":""},{"$f":"IF(OR(StockIn!L97=0,StockIn!L97=\"\"),\"\",StockIn!L97)","v":""},{"$f":"IF(OR(StockIn!E97=0,StockIn!E97=\"\"),\"\",StockIn!E97)","v":""},{"$f":"IF(OR(StockIn!M97=0,StockIn!M97=\"\"),\"\",StockIn!M97)","v":""}]
[{"$f":"StockIn!A98","v":1096},{"$f":"IF(OR(StockIn!B98=0,StockIn!B98=\"\"),\"\",StockIn!B98)","v":""},{"$f":"IF(OR(StockIn!D98=0,StockIn!D98=\"\"),\"\",StockIn!D98)","v":""},{"$f":"IF(OR(StockIn!G98=0,StockIn!G98=\"\"),\"\",StockIn!G98)","v":""},{"$f":"IF(OR(StockIn!H98=0,StockIn!H98=\"\"),\"\",StockIn!H98)","v":""},{"$f":"IF(OR(StockIn!L98=0,StockIn!L98=\"\"),\"\",StockIn!L98)","v":""},{"$f":"IF(OR(StockIn!E98=0,StockIn!E98=\"\"),\"\",StockIn!E98)","v":""},{"$f":"IF(OR(StockIn!M98=0,StockIn!M98=\"\"),\"\",StockIn!M98)","v":""}]
[{"$f":"StockIn!A99","v":1097},{"$f":"IF(OR(StockIn!B99=0,StockIn!B99=\"\"),\"\",StockIn!B99)","v":""},{"$f":"IF(OR(StockIn!D99=0,StockIn!D99=\"\"),\"\",StockIn!D99)","v":""},{"$f":"IF(OR(StockIn!G99=0,StockIn!G99=\"\"),\"\",StockIn!G99)","v":""},{"$f":"IF(OR(StockIn!H99=0,StockIn!H99=\"\"),\"\",StockIn!H99)","v":""},{"$f":"IF(OR(StockIn!L99=0,StockIn!L99=\"\"),\"\",StockIn!L99)","v":""},{"$f":"IF(OR(StockIn!E99=0,StockIn!E99=\"\"),\"\",StockIn!E99)","v":""},{"$f":"IF(OR(StockIn!M99=0,StockIn!M99=\"\"),\"\",StockIn!M99)","v":""}]
[{"$f":"StockIn!A100","v":1098},{"$f":"IF(OR(StockIn!B100=0,StockIn!B100=\"\"),\"\",StockIn!B100)","v":""},{"$f":"IF(OR(StockIn!D100=0,StockIn!D100=\"\"),\"\",StockIn!D100)","v":""},{"$f":"IF(OR(StockIn!G100=0,StockIn!G100=\"\"),\"\",StockIn!G100)","v":""},{"$f":"IF(OR(StockIn!H100=0,StockIn!H100=\"\"),\"\",StockIn!H100)","v":""},{"$f":"IF(OR(StockIn!L100=0,StockIn!L100=\"\"),\"\",StockIn!L100)","v":""},{"$f":"IF(OR(StockIn!E100=0,StockIn!E100=\"\"),\"\",StockIn!E100)","v":""},{"$f":"IF(OR(StockIn!M100=0,StockIn!M100=\"\"),\"\",StockIn!M100)","v":""}]
[{"$f":"StockIn!A101","v":1099},{"$f":"IF(OR(StockIn!B101=0,StockIn!B101=\"\"),\"\",StockIn!B101)","v":""},{"$f":"IF(OR(StockIn!D101=0,StockIn!D101=\"\"),\"\",StockIn!D101)","v":""},{"$f":"IF(OR(StockIn!G101=0,StockIn!G101=\"\"),\"\",StockIn!G101)","v":""},{"$f":"IF(OR(StockIn!H101=0,StockIn!H101=\"\"),\"\",StockIn!H101)","v":""},{"$f":"IF(OR(StockIn!L101=0,StockIn!L101=\"\"),\"\",StockIn!L101)","v":""},{"$f":"IF(OR(StockIn!E101=0,StockIn!E101=\"\"),\"\",StockIn!E101)","v":""},{"$f":"IF(OR(StockIn!M101=0,StockIn!M101=\"\"),\"\",StockIn!M101)","v":""}]
[{"$f":"StockIn!A102","v":1100},{"$f":"IF(OR(StockIn!B102=0,StockIn!B102=\"\"),\"\",StockIn!B102)","v":""},{"$f":"IF(OR(StockIn!D102=0,StockIn!D102=\"\"),\"\",StockIn!D102)","v":""},{"$f":"IF(OR(StockIn!G102=0,StockIn!G102=\"\"),\"\",StockIn!G102)","v":""},{"$f":"IF(OR(StockIn!H102=0,StockIn!H102=\"\"),\"\",StockIn!H102)","v":""},{"$f":"IF(OR(StockIn!L102=0,StockIn!L102=\"\"),\"\",StockIn!L102)","v":""},{"$f":"IF(OR(StockIn!E102=0,StockIn!E102=\"\"),\"\",StockIn!E102)","v":""},{"$f":"IF(OR(StockIn!M102=0,StockIn!M102=\"\"),\"\",StockIn!M102)","v":""}]
[{"$f":"StockIn!A103","v":1101},{"$f":"IF(OR(StockIn!B103=0,StockIn!B103=\"\"),\"\",StockIn!B103)","v":""},{"$f":"IF(OR(StockIn!D103=0,StockIn!D103=\"\"),\"\",StockIn!D103)","v":""},{"$f":"IF(OR(StockIn!G103=0,StockIn!G103=\"\"),\"\",StockIn!G103)","v":""},{"$f":"IF(OR(StockIn!H103=0,StockIn!H103=\"\"),\"\",StockIn!H103)","v":""},{"$f":"IF(OR(StockIn!L103=0,StockIn!L103=\"\"),\"\",StockIn!L103)","v":""},{"$f":"IF(OR(StockIn!E103=0,StockIn!E103=\"\"),\"\",StockIn!E103)","v":""},{"$f":"IF(OR(StockIn!M103=0,StockIn!M103=\"\"),\"\",StockIn!M103)","v":""}]
[{"$f":"StockIn!A104","v":1102},{"$f":"IF(OR(StockIn!B104=0,StockIn!B104=\"\"),\"\",StockIn!B104)","v":""},{"$f":"IF(OR(StockIn!D104=0,StockIn!D104=\"\"),\"\",StockIn!D104)","v":""},{"$f":"IF(OR(StockIn!G104=0,StockIn!G104=\"\"),\"\",StockIn!G104)","v":""},{"$f":"IF(OR(StockIn!H104=0,StockIn!H104=\"\"),\"\",StockIn!H104)","v":""},{"$f":"IF(OR(StockIn!L104=0,StockIn!L104=\"\"),\"\",StockIn!L104)","v":""},{"$f":"IF(OR(StockIn!E104=0,StockIn!E104=\"\"),\"\",StockIn!E104)","v":""},{"$f":"IF(OR(StockIn!M104=0,StockIn!M104=\"\"),\"\",StockIn!M104)","v":""}]
[{"$f":"StockIn!A105","v":1103},{"$f":"IF(OR(StockIn!B105=0,StockIn!B105=\"\"),\"\",StockIn!B105)","v":""},{"$f":"IF(OR(StockIn!D105=0,StockIn!D105=\"\"),\"\",StockIn!D105)","v":""},{"$f":"IF(OR(StockIn!G105=0,StockIn!G105=\"\"),\"\",StockIn!G105)","v":""},{"$f":"IF(OR(StockIn!H105=0,StockIn!H105=\"\"),\"\",StockIn!H105)","v":""},{"$f":"IF(OR(StockIn!L105=0,StockIn!L105=\"\"),\"\",StockIn!L105)","v":""},{"$f":"IF(OR(StockIn!E105=0,StockIn!E105=\"\"),\"\",StockIn!E105)","v":""},{"$f":"IF(OR(StockIn!M105=0,StockIn!M105=\"\"),\"\",StockIn!M105)","v":""}]
[{"$f":"StockIn!A106","v":1104},{"$f":"IF(OR(StockIn!B106=0,StockIn!B106=\"\"),\"\",StockIn!B106)","v":""},{"$f":"IF(OR(StockIn!D106=0,StockIn!D106=\"\"),\"\",StockIn!D106)","v":""},{"$f":"IF(OR(StockIn!G106=0,StockIn!G106=\"\"),\"\",StockIn!G106)","v":""},{"$f":"IF(OR(StockIn!H106=0,StockIn!H106=\"\"),\"\",StockIn!H106)","v":""},{"$f":"IF(OR(StockIn!L106=0,StockIn!L106=\"\"),\"\",StockIn!L106)","v":""},{"$f":"IF(OR(StockIn!E106=0,StockIn!E106=\"\"),\"\",StockIn!E106)","v":""},{"$f":"IF(OR(StockIn!M106=0,StockIn!M106=\"\"),\"\",StockIn!M106)","v":""}]
[{"$f":"StockIn!A107","v":1105},{"$f":"IF(OR(StockIn!B107=0,StockIn!B107=\"\"),\"\",StockIn!B107)","v":""},{"$f":"IF(OR(StockIn!D107=0,StockIn!D107=\"\"),\"\",StockIn!D107)","v":""},{"$f":"IF(OR(StockIn!G107=0,StockIn!G107=\"\"),\"\",StockIn!G107)","v":""},{"$f":"IF(OR(StockIn!H107=0,StockIn!H107=\"\"),\"\",StockIn!H107)","v":""},{"$f":"IF(OR(StockIn!L107=0,StockIn!L107=\"\"),\"\",StockIn!L107)","v":""},{"$f":"IF(OR(StockIn!E107=0,StockIn!E107=\"\"),\"\",StockIn!E107)","v":""},{"$f":"IF(OR(StockIn!M107=0,StockIn!M107=\"\"),\"\",StockIn!M107)","v":""}]
[{"$f":"StockIn!A108","v":1106},{"$f":"IF(OR(StockIn!B108=0,StockIn!B108=\"\"),\"\",StockIn!B108)","v":""},{"$f":"IF(OR(StockIn!D108=0,StockIn!D108=\"\"),\"\",StockIn!D108)","v":""},{"$f":"IF(OR(StockIn!G108=0,StockIn!G108=\"\"),\"\",StockIn!G108)","v":""},{"$f":"IF(OR(StockIn!H108=0,StockIn!H108=\"\"),\"\",StockIn!H108)","v":""},{"$f":"IF(OR(StockIn!L108=0,StockIn!L108=\"\"),\"\",StockIn!L108)","v":""},{"$f":"IF(OR(StockIn!E108=0,StockIn!E108=\"\"),\"\",StockIn!E108)","v":""},{"$f":"IF(OR(StockIn!M108=0,StockIn!M108=\"\"),\"\",StockIn!M108)","v":""}]
[{"$f":"StockIn!A109","v":1107},{"$f":"IF(OR(StockIn!B109=0,StockIn!B109=\"\"),\"\",StockIn!B109)","v":""},{"$f":"IF(OR(StockIn!D109=0,StockIn!D109=\"\"),\"\",StockIn!D109)","v":""},{"$f":"IF(OR(StockIn!G109=0,StockIn!G109=\"\"),\"\",StockIn!G109)","v":""},{"$f":"IF(OR(StockIn!H109=0,StockIn!H109=\"\"),\"\",StockIn!H109)","v":""},{"$f":"IF(OR(StockIn!L109=0,StockIn!L109=\"\"),\"\",StockIn!L109)","v":""},{"$f":"IF(OR(StockIn!E109=0,StockIn!E109=\"\"),\"\",StockIn!E109)","v":""},{"$f":"IF(OR(StockIn!M109=0,StockIn!M109=\"\"),\"\",StockIn!M109)","v":""}]
[{"$f":"StockIn!A110","v":1108},{"$f":"IF(OR(StockIn!B110=0,StockIn!B110=\"\"),\"\",StockIn!B110)","v":""},{"$f":"IF(OR(StockIn!D110=0,StockIn!D110=\"\"),\"\",StockIn!D110)","v":""},{"$f":"IF(OR(StockIn!G110=0,StockIn!G110=\"\"),\"\",StockIn!G110)","v":""},{"$f":"IF(OR(StockIn!H110=0,StockIn!H110=\"\"),\"\",StockIn!H110)","v":""},{"$f":"IF(OR(StockIn!L110=0,StockIn!L110=\"\"),\"\",StockIn!L110)","v":""},{"$f":"IF(OR(StockIn!E110=0,StockIn!E110=\"\"),\"\",StockIn!E110)","v":""},{"$f":"IF(OR(StockIn!M110=0,StockIn!M110=\"\"),\"\",StockIn!M110)","v":""}]
[{"$f":"StockIn!A111","v":1109},{"$f":"IF(OR(StockIn!B111=0,StockIn!B111=\"\"),\"\",StockIn!B111)","v":""},{"$f":"IF(OR(StockIn!D111=0,StockIn!D111=\"\"),\"\",StockIn!D111)","v":""},{"$f":"IF(OR(StockIn!G111=0,StockIn!G111=\"\"),\"\",StockIn!G111)","v":""},{"$f":"IF(OR(StockIn!H111=0,StockIn!H111=\"\"),\"\",StockIn!H111)","v":""},{"$f":"IF(OR(StockIn!L111=0,StockIn!L111=\"\"),\"\",StockIn!L111)","v":""},{"$f":"IF(OR(StockIn!E111=0,StockIn!E111=\"\"),\"\",StockIn!E111)","v":""},{"$f":"IF(OR(StockIn!M111=0,StockIn!M111=\"\"),\"\",StockIn!M111)","v":""}]
[{"$f":"StockIn!A112","v":1110},{"$f":"IF(OR(StockIn!B112=0,StockIn!B112=\"\"),\"\",StockIn!B112)","v":""},{"$f":"IF(OR(StockIn!D112=0,StockIn!D112=\"\"),\"\",StockIn!D112)","v":""},{"$f":"IF(OR(StockIn!G112=0,StockIn!G112=\"\"),\"\",StockIn!G112)","v":""},{"$f":"IF(OR(StockIn!H112=0,StockIn!H112=\"\"),\"\",StockIn!H112)","v":""},{"$f":"IF(OR(StockIn!L112=0,StockIn!L112=\"\"),\"\",StockIn!L112)","v":""},{"$f":"IF(OR(StockIn!E112=0,StockIn!E112=\"\"),\"\",StockIn!E112)","v":""},{"$f":"IF(OR(StockIn!M112=0,StockIn!M112=\"\"),\"\",StockIn!M112)","v":""}]
[{"$f":"StockIn!A113","v":1111},{"$f":"IF(OR(StockIn!B113=0,StockIn!B113=\"\"),\"\",StockIn!B113)","v":""},{"$f":"IF(OR(StockIn!D113=0,StockIn!D113=\"\"),\"\",StockIn!D113)","v":""},{"$f":"IF(OR(StockIn!G113=0,StockIn!G113=\"\"),\"\",StockIn!G113)","v":""},{"$f":"IF(OR(StockIn!H113=0,StockIn!H113=\"\"),\"\",StockIn!H113)","v":""},{"$f":"IF(OR(StockIn!L113=0,StockIn!L113=\"\"),\"\",StockIn!L113)","v":""},{"$f":"IF(OR(StockIn!E113=0,StockIn!E113=\"\"),\"\",StockIn!E113)","v":""},{"$f":"IF(OR(StockIn!M113=0,StockIn!M113=\"\"),\"\",StockIn!M113)","v":""}]
[{"$f":"StockIn!A114","v":1112},{"$f":"IF(OR(StockIn!B114=0,StockIn!B114=\"\"),\"\",StockIn!B114)","v":""},{"$f":"IF(OR(StockIn!D114=0,StockIn!D114=\"\"),\"\",StockIn!D114)","v":""},{"$f":"IF(OR(StockIn!G114=0,StockIn!G114=\"\"),\"\",StockIn!G114)","v":""},{"$f":"IF(OR(StockIn!H114=0,StockIn!H114=\"\"),\"\",StockIn!H114)","v":""},{"$f":"IF(OR(StockIn!L114=0,StockIn!L114=\"\"),\"\",StockIn!L114)","v":""},{"$f":"IF(OR(StockIn!E114=0,StockIn!E114=\"\"),\"\",StockIn!E114)","v":""},{"$f":"IF(OR(StockIn!M114=0,StockIn!M114=\"\"),\"\",StockIn!M114)","v":""}]
[{"$f":"StockIn!A115","v":1113},{"$f":"IF(OR(StockIn!B115=0,StockIn!B115=\"\"),\"\",StockIn!B115)","v":""},{"$f":"IF(OR(StockIn!D115=0,StockIn!D115=\"\"),\"\",StockIn!D115)","v":""},{"$f":"IF(OR(StockIn!G115=0,StockIn!G115=\"\"),\"\",StockIn!G115)","v":""},{"$f":"IF(OR(StockIn!H115=0,StockIn!H115=\"\"),\"\",StockIn!H115)","v":""},{"$f":"IF(OR(StockIn!L115=0,StockIn!L115=\"\"),\"\",StockIn!L115)","v":""},{"$f":"IF(OR(StockIn!E115=0,StockIn!E115=\"\"),\"\",StockIn!E115)","v":""},{"$f":"IF(OR(StockIn!M115=0,StockIn!M115=\"\"),\"\",StockIn!M115)","v":""}]
[{"$f":"StockIn!A116","v":1114},{"$f":"IF(OR(StockIn!B116=0,StockIn!B116=\"\"),\"\",StockIn!B116)","v":""},{"$f":"IF(OR(StockIn!D116=0,StockIn!D116=\"\"),\"\",StockIn!D116)","v":""},{"$f":"IF(OR(StockIn!G116=0,StockIn!G116=\"\"),\"\",StockIn!G116)","v":""},{"$f":"IF(OR(StockIn!H116=0,StockIn!H116=\"\"),\"\",StockIn!H116)","v":""},{"$f":"IF(OR(StockIn!L116=0,StockIn!L116=\"\"),\"\",StockIn!L116)","v":""},{"$f":"IF(OR(StockIn!E116=0,StockIn!E116=\"\"),\"\",StockIn!E116)","v":""},{"$f":"IF(OR(StockIn!M116=0,StockIn!M116=\"\"),\"\",StockIn!M116)","v":""}]
[{"$f":"StockIn!A117","v":1115},{"$f":"IF(OR(StockIn!B117=0,StockIn!B117=\"\"),\"\",StockIn!B117)","v":""},{"$f":"IF(OR(StockIn!D117=0,StockIn!D117=\"\"),\"\",StockIn!D117)","v":""},{"$f":"IF(OR(StockIn!G117=0,StockIn!G117=\"\"),\"\",StockIn!G117)","v":""},{"$f":"IF(OR(StockIn!H117=0,StockIn!H117=\"\"),\"\",StockIn!H117)","v":""},{"$f":"IF(OR(StockIn!L117=0,StockIn!L117=\"\"),\"\",StockIn!L117)","v":""},{"$f":"IF(OR(StockIn!E117=0,StockIn!E117=\"\"),\"\",StockIn!E117)","v":""},{"$f":"IF(OR(StockIn!M117=0,StockIn!M117=\"\"),\"\",StockIn!M117)","v":""}]
[{"$f":"StockIn!A118","v":1116},{"$f":"IF(OR(StockIn!B118=0,StockIn!B118=\"\"),\"\",StockIn!B118)","v":""},{"$f":"IF(OR(StockIn!D118=0,StockIn!D118=\"\"),\"\",StockIn!D118)","v":""},{"$f":"IF(OR(StockIn!G118=0,StockIn!G118=\"\"),\"\",StockIn!G118)","v":""},{"$f":"IF(OR(StockIn!H118=0,StockIn!H118=\"\"),\"\",StockIn!H118)","v":""},{"$f":"IF(OR(StockIn!L118=0,StockIn!L118=\"\"),\"\",StockIn!L118)","v":""},{"$f":"IF(OR(StockIn!E118=0,StockIn!E118=\"\"),\"\",StockIn!E118)","v":""},{"$f":"IF(OR(StockIn!M118=0,StockIn!M118=\"\"),\"\",StockIn!M118)","v":""}]
[{"$f":"StockIn!A119","v":1117},{"$f":"IF(OR(StockIn!B119=0,StockIn!B119=\"\"),\"\",StockIn!B119)","v":""},{"$f":"IF(OR(StockIn!D119=0,StockIn!D119=\"\"),\"\",StockIn!D119)","v":""},{"$f":"IF(OR(StockIn!G119=0,StockIn!G119=\"\"),\"\",StockIn!G119)","v":""},{"$f":"IF(OR(StockIn!H119=0,StockIn!H119=\"\"),\"\",StockIn!H119)","v":""},{"$f":"IF(OR(StockIn!L119=0,StockIn!L119=\"\"),\"\",StockIn!L119)","v":""},{"$f":"IF(OR(StockIn!E119=0,StockIn!E119=\"\"),\"\",StockIn!E119)","v":""},{"$f":"IF(OR(StockIn!M119=0,StockIn!M119=\"\"),\"\",StockIn!M119)","v":""}]
[{"$f":"StockIn!A120","v":1118},{"$f":"IF(OR(StockIn!B120=0,StockIn!B120=\"\"),\"\",StockIn!B120)","v":""},{"$f":"IF(OR(StockIn!D120=0,StockIn!D120=\"\"),\"\",StockIn!D120)","v":""},{"$f":"IF(OR(StockIn!G120=0,StockIn!G120=\"\"),\"\",StockIn!G120)","v":""},{"$f":"IF(OR(StockIn!H120=0,StockIn!H120=\"\"),\"\",StockIn!H120)","v":""},{"$f":"IF(OR(StockIn!L120=0,StockIn!L120=\"\"),\"\",StockIn!L120)","v":""},{"$f":"IF(OR(StockIn!E120=0,StockIn!E120=\"\"),\"\",StockIn!E120)","v":""},{"$f":"IF(OR(StockIn!M120=0,StockIn!M120=\"\"),\"\",StockIn!M120)","v":""}]
[{"$f":"StockIn!A121","v":1119},{"$f":"IF(OR(StockIn!B121=0,StockIn!B121=\"\"),\"\",StockIn!B121)","v":""},{"$f":"IF(OR(StockIn!D121=0,StockIn!D121=\"\"),\"\",StockIn!D121)","v":""},{"$f":"IF(OR(StockIn!G121=0,StockIn!G121=\"\"),\"\",StockIn!G121)","v":""},{"$f":"IF(OR(StockIn!H121=0,StockIn!H121=\"\"),\"\",StockIn!H121)","v":""},{"$f":"IF(OR(StockIn!L121=0,StockIn!L121=\"\"),\"\",StockIn!L121)","v":""},{"$f":"IF(OR(StockIn!E121=0,StockIn!E121=\"\"),\"\",StockIn!E121)","v":""},{"$f":"IF(OR(StockIn!M121=0,StockIn!M121=\"\"),\"\",StockIn!M121)","v":""}]
[{"$f":"StockIn!A122","v":1120},{"$f":"IF(OR(StockIn!B122=0,StockIn!B122=\"\"),\"\",StockIn!B122)","v":""},{"$f":"IF(OR(StockIn!D122=0,StockIn!D122=\"\"),\"\",StockIn!D122)","v":""},{"$f":"IF(OR(StockIn!G122=0,StockIn!G122=\"\"),\"\",StockIn!G122)","v":""},{"$f":"IF(OR(StockIn!H122=0,StockIn!H122=\"\"),\"\",StockIn!H122)","v":""},{"$f":"IF(OR(StockIn!L122=0,StockIn!L122=\"\"),\"\",StockIn!L122)","v":""},{"$f":"IF(OR(StockIn!E122=0,StockIn!E122=\"\"),\"\",StockIn!E122)","v":""},{"$f":"IF(OR(StockIn!M122=0,StockIn!M122=\"\"),\"\",StockIn!M122)","v":""}]
[{"$f":"StockIn!A123","v":1121},{"$f":"IF(OR(StockIn!B123=0,StockIn!B123=\"\"),\"\",StockIn!B123)","v":""},{"$f":"IF(OR(StockIn!D123=0,StockIn!D123=\"\"),\"\",StockIn!D123)","v":""},{"$f":"IF(OR(StockIn!G123=0,StockIn!G123=\"\"),\"\",StockIn!G123)","v":""},{"$f":"IF(OR(StockIn!H123=0,StockIn!H123=\"\"),\"\",StockIn!H123)","v":""},{"$f":"IF(OR(StockIn!L123=0,StockIn!L123=\"\"),\"\",StockIn!L123)","v":""},{"$f":"IF(OR(StockIn!E123=0,StockIn!E123=\"\"),\"\",StockIn!E123)","v":""},{"$f":"IF(OR(StockIn!M123=0,StockIn!M123=\"\"),\"\",StockIn!M123)","v":""}]
[{"$f":"StockIn!A124","v":1122},{"$f":"IF(OR(StockIn!B124=0,StockIn!B124=\"\"),\"\",StockIn!B124)","v":""},{"$f":"IF(OR(StockIn!D124=0,StockIn!D124=\"\"),\"\",StockIn!D124)","v":""},{"$f":"IF(OR(StockIn!G124=0,StockIn!G124=\"\"),\"\",StockIn!G124)","v":""},{"$f":"IF(OR(StockIn!H124=0,StockIn!H124=\"\"),\"\",StockIn!H124)","v":""},{"$f":"IF(OR(StockIn!L124=0,StockIn!L124=\"\"),\"\",StockIn!L124)","v":""},{"$f":"IF(OR(StockIn!E124=0,StockIn!E124=\"\"),\"\",StockIn!E124)","v":""},{"$f":"IF(OR(StockIn!M124=0,StockIn!M124=\"\"),\"\",StockIn!M124)","v":""}]
[{"$f":"StockIn!A125","v":1123},{"$f":"IF(OR(StockIn!B125=0,StockIn!B125=\"\"),\"\",StockIn!B125)","v":""},{"$f":"IF(OR(StockIn!D125=0,StockIn!D125=\"\"),\"\",StockIn!D125)","v":""},{"$f":"IF(OR(StockIn!G125=0,StockIn!G125=\"\"),\"\",StockIn!G125)","v":""},{"$f":"IF(OR(StockIn!H125=0,StockIn!H125=\"\"),\"\",StockIn!H125)","v":""},{"$f":"IF(OR(StockIn!L125=0,StockIn!L125=\"\"),\"\",StockIn!L125)","v":""},{"$f":"IF(OR(StockIn!E125=0,StockIn!E125=\"\"),\"\",StockIn!E125)","v":""},{"$f":"IF(OR(StockIn!M125=0,StockIn!M125=\"\"),\"\",StockIn!M125)","v":""}]
[{"$f":"StockIn!A126","v":1124},{"$f":"IF(OR(StockIn!B126=0,StockIn!B126=\"\"),\"\",StockIn!B126)","v":""},{"$f":"IF(OR(StockIn!D126=0,StockIn!D126=\"\"),\"\",StockIn!D126)","v":""},{"$f":"IF(OR(StockIn!G126=0,StockIn!G126=\"\"),\"\",StockIn!G126)","v":""},{"$f":"IF(OR(StockIn!H126=0,StockIn!H126=\"\"),\"\",StockIn!H126)","v":""},{"$f":"IF(OR(StockIn!L126=0,StockIn!L126=\"\"),\"\",StockIn!L126)","v":""},{"$f":"IF(OR(StockIn!E126=0,StockIn!E126=\"\"),\"\",StockIn!E126)","v":""},{"$f":"IF(OR(StockIn!M126=0,StockIn!M126=\"\"),\"\",StockIn!M126)","v":""}]
[{"$f":"StockIn!A127","v":1125},{"$f":"IF(OR(StockIn!B127=0,StockIn!B127=\"\"),\"\",StockIn!B127)","v":""},{"$f":"IF(OR(StockIn!D127=0,StockIn!D127=\"\"),\"\",StockIn!D127)","v":""},{"$f":"IF(OR(StockIn!G127=0,StockIn!G127=\"\"),\"\",StockIn!G127)","v":""},{"$f":"IF(OR(StockIn!H127=0,StockIn!H127=\"\"),\"\",StockIn!H127)","v":""},{"$f":"IF(OR(StockIn!L127=0,StockIn!L127=\"\"),\"\",StockIn!L127)","v":""},{"$f":"IF(OR(StockIn!E127=0,StockIn!E127=\"\"),\"\",StockIn!E127)","v":""},{"$f":"IF(OR(StockIn!M127=0,StockIn!M127=\"\"),\"\",StockIn!M127)","v":""}]
[{"$f":"StockIn!A128","v":1126},{"$f":"IF(OR(StockIn!B128=0,StockIn!B128=\"\"),\"\",StockIn!B128)","v":""},{"$f":"IF(OR(StockIn!D128=0,StockIn!D128=\"\"),\"\",StockIn!D128)","v":""},{"$f":"IF(OR(StockIn!G128=0,StockIn!G128=\"\"),\"\",StockIn!G128)","v":""},{"$f":"IF(OR(StockIn!H128=0,StockIn!H128=\"\"),\"\",StockIn!H128)","v":""},{"$f":"IF(OR(StockIn!L128=0,StockIn!L128=\"\"),\"\",StockIn!L128)","v":""},{"$f":"IF(OR(StockIn!E128=0,StockIn!E128=\"\"),\"\",StockIn!E128)","v":""},{"$f":"IF(OR(StockIn!M128=0,StockIn!M128=\"\"),\"\",StockIn!M128)","v":""}]
[{"$f":"StockIn!A129","v":1127},{"$f":"IF(OR(StockIn!B129=0,StockIn!B129=\"\"),\"\",StockIn!B129)","v":""},{"$f":"IF(OR(StockIn!D129=0,StockIn!D129=\"\"),\"\",StockIn!D129)","v":""},{"$f":"IF(OR(StockIn!G129=0,StockIn!G129=\"\"),\"\",StockIn!G129)","v":""},{"$f":"IF(OR(StockIn!H129=0,StockIn!H129=\"\"),\"\",StockIn!H129)","v":""},{"$f":"IF(OR(StockIn!L129=0,StockIn!L129=\"\"),\"\",StockIn!L129)","v":""},{"$f":"IF(OR(StockIn!E129=0,StockIn!E129=\"\"),\"\",StockIn!E129)","v":""},{"$f":"IF(OR(StockIn!M129=0,StockIn!M129=\"\"),\"\",StockIn!M129)","v":""}]
[{"$f":"StockIn!A130","v":1128},{"$f":"IF(OR(StockIn!B130=0,StockIn!B130=\"\"),\"\",StockIn!B130)","v":""},{"$f":"IF(OR(StockIn!D130=0,StockIn!D130=\"\"),\"\",StockIn!D130)","v":""},{"$f":"IF(OR(StockIn!G130=0,StockIn!G130=\"\"),\"\",StockIn!G130)","v":""},{"$f":"IF(OR(StockIn!H130=0,StockIn!H130=\"\"),\"\",StockIn!H130)","v":""},{"$f":"IF(OR(StockIn!L130=0,StockIn!L130=\"\"),\"\",StockIn!L130)","v":""},{"$f":"IF(OR(StockIn!E130=0,StockIn!E130=\"\"),\"\",StockIn!E130)","v":""},{"$f":"IF(OR(StockIn!M130=0,StockIn!M130=\"\"),\"\",StockIn!M130)","v":""}]
[{"$f":"StockIn!A131","v":1129},{"$f":"IF(OR(StockIn!B131=0,StockIn!B131=\"\"),\"\",StockIn!B131)","v":""},{"$f":"IF(OR(StockIn!D131=0,StockIn!D131=\"\"),\"\",StockIn!D131)","v":""},{"$f":"IF(OR(StockIn!G131=0,StockIn!G131=\"\"),\"\",StockIn!G131)","v":""},{"$f":"IF(OR(StockIn!H131=0,StockIn!H131=\"\"),\"\",StockIn!H131)","v":""},{"$f":"IF(OR(StockIn!L131=0,StockIn!L131=\"\"),\"\",StockIn!L131)","v":""},{"$f":"IF(OR(StockIn!E131=0,StockIn!E131=\"\"),\"\",StockIn!E131)","v":""},{"$f":"IF(OR(StockIn!M131=0,StockIn!M131=\"\"),\"\",StockIn!M131)","v":""}]
[{"$f":"StockIn!A132","v":1130},{"$f":"IF(OR(StockIn!B132=0,StockIn!B132=\"\"),\"\",StockIn!B132)","v":""},{"$f":"IF(OR(StockIn!D132=0,StockIn!D132=\"\"),\"\",StockIn!D132)","v":""},{"$f":"IF(OR(StockIn!G132=0,StockIn!G132=\"\"),\"\",StockIn!G132)","v":""},{"$f":"IF(OR(StockIn!H132=0,StockIn!H132=\"\"),\"\",StockIn!H132)","v":""},{"$f":"IF(OR(StockIn!L132=0,StockIn!L132=\"\"),\"\",StockIn!L132)","v":""},{"$f":"IF(OR(StockIn!E132=0,StockIn!E132=\"\"),\"\",StockIn!E132)","v":""},{"$f":"IF(OR(StockIn!M132=0,StockIn!M132=\"\"),\"\",StockIn!M132)","v":""}]
[{"$f":"StockIn!A133","v":1131},{"$f":"IF(OR(StockIn!B133=0,StockIn!B133=\"\"),\"\",StockIn!B133)","v":""},{"$f":"IF(OR(StockIn!D133=0,StockIn!D133=\"\"),\"\",StockIn!D133)","v":""},{"$f":"IF(OR(StockIn!G133=0,StockIn!G133=\"\"),\"\",StockIn!G133)","v":""},{"$f":"IF(OR(StockIn!H133=0,StockIn!H133=\"\"),\"\",StockIn!H133)","v":""},{"$f":"IF(OR(StockIn!L133=0,StockIn!L133=\"\"),\"\",StockIn!L133)","v":""},{"$f":"IF(OR(StockIn!E133=0,StockIn!E133=\"\"),\"\",StockIn!E133)","v":""},{"$f":"IF(OR(StockIn!M133=0,StockIn!M133=\"\"),\"\",StockIn!M133)","v":""}]
[{"$f":"StockIn!A134","v":1132},{"$f":"IF(OR(StockIn!B134=0,StockIn!B134=\"\"),\"\",StockIn!B134)","v":""},{"$f":"IF(OR(StockIn!D134=0,StockIn!D134=\"\"),\"\",StockIn!D134)","v":""},{"$f":"IF(OR(StockIn!G134=0,StockIn!G134=\"\"),\"\",StockIn!G134)","v":""},{"$f":"IF(OR(StockIn!H134=0,StockIn!H134=\"\"),\"\",StockIn!H134)","v":""},{"$f":"IF(OR(StockIn!L134=0,StockIn!L134=\"\"),\"\",StockIn!L134)","v":""},{"$f":"IF(OR(StockIn!E134=0,StockIn!E134=\"\"),\"\",StockIn!E134)","v":""},{"$f":"IF(OR(StockIn!M134=0,StockIn!M134=\"\"),\"\",StockIn!M134)","v":""}]
[{"$f":"StockIn!A135","v":1133},{"$f":"IF(OR(StockIn!B135=0,StockIn!B135=\"\"),\"\",StockIn!B135)","v":""},{"$f":"IF(OR(StockIn!D135=0,StockIn!D135=\"\"),\"\",StockIn!D135)","v":""},{"$f":"IF(OR(StockIn!G135=0,StockIn!G135=\"\"),\"\",StockIn!G135)","v":""},{"$f":"IF(OR(StockIn!H135=0,StockIn!H135=\"\"),\"\",StockIn!H135)","v":""},{"$f":"IF(OR(StockIn!L135=0,StockIn!L135=\"\"),\"\",StockIn!L135)","v":""},{"$f":"IF(OR(StockIn!E135=0,StockIn!E135=\"\"),\"\",StockIn!E135)","v":""},{"$f":"IF(OR(StockIn!M135=0,StockIn!M135=\"\"),\"\",StockIn!M135)","v":""}]
[{"$f":"StockIn!A136","v":1134},{"$f":"IF(OR(StockIn!B136=0,StockIn!B136=\"\"),\"\",StockIn!B136)","v":""},{"$f":"IF(OR(StockIn!D136=0,StockIn!D136=\"\"),\"\",StockIn!D136)","v":""},{"$f":"IF(OR(StockIn!G136=0,StockIn!G136=\"\"),\"\",StockIn!G136)","v":""},{"$f":"IF(OR(StockIn!H136=0,StockIn!H136=\"\"),\"\",StockIn!H136)","v":""},{"$f":"IF(OR(StockIn!L136=0,StockIn!L136=\"\"),\"\",StockIn!L136)","v":""},{"$f":"IF(OR(StockIn!E136=0,StockIn!E136=\"\"),\"\",StockIn!E136)","v":""},{"$f":"IF(OR(StockIn!M136=0,StockIn!M136=\"\"),\"\",StockIn!M136)","v":""}]
[{"$f":"StockIn!A137","v":1135},{"$f":"IF(OR(StockIn!B137=0,StockIn!B137=\"\"),\"\",StockIn!B137)","v":""},{"$f":"IF(OR(StockIn!D137=0,StockIn!D137=\"\"),\"\",StockIn!D137)","v":""},{"$f":"IF(OR(StockIn!G137=0,StockIn!G137=\"\"),\"\",StockIn!G137)","v":""},{"$f":"IF(OR(StockIn!H137=0,StockIn!H137=\"\"),\"\",StockIn!H137)","v":""},{"$f":"IF(OR(StockIn!L137=0,StockIn!L137=\"\"),\"\",StockIn!L137)","v":""},{"$f":"IF(OR(StockIn!E137=0,StockIn!E137=\"\"),\"\",StockIn!E137)","v":""},{"$f":"IF(OR(StockIn!M137=0,StockIn!M137=\"\"),\"\",StockIn!M137)","v":""}]
[{"$f":"StockIn!A138","v":1136},{"$f":"IF(OR(StockIn!B138=0,StockIn!B138=\"\"),\"\",StockIn!B138)","v":""},{"$f":"IF(OR(StockIn!D138=0,StockIn!D138=\"\"),\"\",StockIn!D138)","v":""},{"$f":"IF(OR(StockIn!G138=0,StockIn!G138=\"\"),\"\",StockIn!G138)","v":""},{"$f":"IF(OR(StockIn!H138=0,StockIn!H138=\"\"),\"\",StockIn!H138)","v":""},{"$f":"IF(OR(StockIn!L138=0,StockIn!L138=\"\"),\"\",StockIn!L138)","v":""},{"$f":"IF(OR(StockIn!E138=0,StockIn!E138=\"\"),\"\",StockIn!E138)","v":""},{"$f":"IF(OR(StockIn!M138=0,StockIn!M138=\"\"),\"\",StockIn!M138)","v":""}]
[{"$f":"StockIn!A139","v":1137},{"$f":"IF(OR(StockIn!B139=0,StockIn!B139=\"\"),\"\",StockIn!B139)","v":""},{"$f":"IF(OR(StockIn!D139=0,StockIn!D139=\"\"),\"\",StockIn!D139)","v":""},{"$f":"IF(OR(StockIn!G139=0,StockIn!G139=\"\"),\"\",StockIn!G139)","v":""},{"$f":"IF(OR(StockIn!H139=0,StockIn!H139=\"\"),\"\",StockIn!H139)","v":""},{"$f":"IF(OR(StockIn!L139=0,StockIn!L139=\"\"),\"\",StockIn!L139)","v":""},{"$f":"IF(OR(StockIn!E139=0,StockIn!E139=\"\"),\"\",StockIn!E139)","v":""},{"$f":"IF(OR(StockIn!M139=0,StockIn!M139=\"\"),\"\",StockIn!M139)","v":""}]
[{"$f":"StockIn!A140","v":1138},{"$f":"IF(OR(StockIn!B140=0,StockIn!B140=\"\"),\"\",StockIn!B140)","v":""},{"$f":"IF(OR(StockIn!D140=0,StockIn!D140=\"\"),\"\",StockIn!D140)","v":""},{"$f":"IF(OR(StockIn!G140=0,StockIn!G140=\"\"),\"\",StockIn!G140)","v":""},{"$f":"IF(OR(StockIn!H140=0,StockIn!H140=\"\"),\"\",StockIn!H140)","v":""},{"$f":"IF(OR(StockIn!L140=0,StockIn!L140=\"\"),\"\",StockIn!L140)","v":""},{"$f":"IF(OR(StockIn!E140=0,StockIn!E140=\"\"),\"\",StockIn!E140)","v":""},{"$f":"IF(OR(StockIn!M140=0,StockIn!M140=\"\"),\"\",StockIn!M140)","v":""}]
[{"$f":"StockIn!A141","v":1139},{"$f":"IF(OR(StockIn!B141=0,StockIn!B141=\"\"),\"\",StockIn!B141)","v":""},{"$f":"IF(OR(StockIn!D141=0,StockIn!D141=\"\"),\"\",StockIn!D141)","v":""},{"$f":"IF(OR(StockIn!G141=0,StockIn!G141=\"\"),\"\",StockIn!G141)","v":""},{"$f":"IF(OR(StockIn!H141=0,StockIn!H141=\"\"),\"\",StockIn!H141)","v":""},{"$f":"IF(OR(StockIn!L141=0,StockIn!L141=\"\"),\"\",StockIn!L141)","v":""},{"$f":"IF(OR(StockIn!E141=0,StockIn!E141=\"\"),\"\",StockIn!E141)","v":""},{"$f":"IF(OR(StockIn!M141=0,StockIn!M141=\"\"),\"\",StockIn!M141)","v":""}]
[{"$f":"StockIn!A142","v":1140},{"$f":"IF(OR(StockIn!B142=0,StockIn!B142=\"\"),\"\",StockIn!B142)","v":""},{"$f":"IF(OR(StockIn!D142=0,StockIn!D142=\"\"),\"\",StockIn!D142)","v":""},{"$f":"IF(OR(StockIn!G142=0,StockIn!G142=\"\"),\"\",StockIn!G142)","v":""},{"$f":"IF(OR(StockIn!H142=0,StockIn!H142=\"\"),\"\",StockIn!H142)","v":""},{"$f":"IF(OR(StockIn!L142=0,StockIn!L142=\"\"),\"\",StockIn!L142)","v":""},{"$f":"IF(OR(StockIn!E142=0,StockIn!E142=\"\"),\"\",StockIn!E142)","v":""},{"$f":"IF(OR(StockIn!M142=0,StockIn!M142=\"\"),\"\",StockIn!M142)","v":""}]
[{"$f":"StockIn!A143","v":1141},{"$f":"IF(OR(StockIn!B143=0,StockIn!B143=\"\"),\"\",StockIn!B143)","v":""},{"$f":"IF(OR(StockIn!D143=0,StockIn!D143=\"\"),\"\",StockIn!D143)","v":""},{"$f":"IF(OR(StockIn!G143=0,StockIn!G143=\"\"),\"\",StockIn!G143)","v":""},{"$f":"IF(OR(StockIn!H143=0,StockIn!H143=\"\"),\"\",StockIn!H143)","v":""},{"$f":"IF(OR(StockIn!L143=0,StockIn!L143=\"\"),\"\",StockIn!L143)","v":""},{"$f":"IF(OR(StockIn!E143=0,StockIn!E143=\"\"),\"\",StockIn!E143)","v":""},{"$f":"IF(OR(StockIn!M143=0,StockIn!M143=\"\"),\"\",StockIn!M143)","v":""}]
[{"$f":"StockIn!A144","v":1142},{"$f":"IF(OR(StockIn!B144=0,StockIn!B144=\"\"),\"\",StockIn!B144)","v":""},{"$f":"IF(OR(StockIn!D144=0,StockIn!D144=\"\"),\"\",StockIn!D144)","v":""},{"$f":"IF(OR(StockIn!G144=0,StockIn!G144=\"\"),\"\",StockIn!G144)","v":""},{"$f":"IF(OR(StockIn!H144=0,StockIn!H144=\"\"),\"\",StockIn!H144)","v":""},{"$f":"IF(OR(StockIn!L144=0,StockIn!L144=\"\"),\"\",StockIn!L144)","v":""},{"$f":"IF(OR(StockIn!E144=0,StockIn!E144=\"\"),\"\",StockIn!E144)","v":""},{"$f":"IF(OR(StockIn!M144=0,StockIn!M144=\"\"),\"\",StockIn!M144)","v":""}]
[{"$f":"StockIn!A145","v":1143},{"$f":"IF(OR(StockIn!B145=0,StockIn!B145=\"\"),\"\",StockIn!B145)","v":""},{"$f":"IF(OR(StockIn!D145=0,StockIn!D145=\"\"),\"\",StockIn!D145)","v":""},{"$f":"IF(OR(StockIn!G145=0,StockIn!G145=\"\"),\"\",StockIn!G145)","v":""},{"$f":"IF(OR(StockIn!H145=0,StockIn!H145=\"\"),\"\",StockIn!H145)","v":""},{"$f":"IF(OR(StockIn!L145=0,StockIn!L145=\"\"),\"\",StockIn!L145)","v":""},{"$f":"IF(OR(StockIn!E145=0,StockIn!E145=\"\"),\"\",StockIn!E145)","v":""},{"$f":"IF(OR(StockIn!M145=0,StockIn!M145=\"\"),\"\",StockIn!M145)","v":""}]
[{"$f":"StockIn!A146","v":1144},{"$f":"IF(OR(StockIn!B146=0,StockIn!B146=\"\"),\"\",StockIn!B146)","v":""},{"$f":"IF(OR(StockIn!D146=0,StockIn!D146=\"\"),\"\",StockIn!D146)","v":""},{"$f":"IF(OR(StockIn!G146=0,StockIn!G146=\"\"),\"\",StockIn!G146)","v":""},{"$f":"IF(OR(StockIn!H146=0,StockIn!H146=\"\"),\"\",StockIn!H146)","v":""},{"$f":"IF(OR(StockIn!L146=0,StockIn!L146=\"\"),\"\",StockIn!L146)","v":""},{"$f":"IF(OR(StockIn!E146=0,StockIn!E146=\"\"),\"\",StockIn!E146)","v":""},{"$f":"IF(OR(StockIn!M146=0,StockIn!M146=\"\"),\"\",StockIn!M146)","v":""}]
[{"$f":"StockIn!A147","v":1145},{"$f":"IF(OR(StockIn!B147=0,StockIn!B147=\"\"),\"\",StockIn!B147)","v":""},{"$f":"IF(OR(StockIn!D147=0,StockIn!D147=\"\"),\"\",StockIn!D147)","v":""},{"$f":"IF(OR(StockIn!G147=0,StockIn!G147=\"\"),\"\",StockIn!G147)","v":""},{"$f":"IF(OR(StockIn!H147=0,StockIn!H147=\"\"),\"\",StockIn!H147)","v":""},{"$f":"IF(OR(StockIn!L147=0,StockIn!L147=\"\"),\"\",StockIn!L147)","v":""},{"$f":"IF(OR(StockIn!E147=0,StockIn!E147=\"\"),\"\",StockIn!E147)","v":""},{"$f":"IF(OR(StockIn!M147=0,StockIn!M147=\"\"),\"\",StockIn!M147)","v":""}]
[{"$f":"StockIn!A148","v":1146},{"$f":"IF(OR(StockIn!B148=0,StockIn!B148=\"\"),\"\",StockIn!B148)","v":""},{"$f":"IF(OR(StockIn!D148=0,StockIn!D148=\"\"),\"\",StockIn!D148)","v":""},{"$f":"IF(OR(StockIn!G148=0,StockIn!G148=\"\"),\"\",StockIn!G148)","v":""},{"$f":"IF(OR(StockIn!H148=0,StockIn!H148=\"\"),\"\",StockIn!H148)","v":""},{"$f":"IF(OR(StockIn!L148=0,StockIn!L148=\"\"),\"\",StockIn!L148)","v":""},{"$f":"IF(OR(StockIn!E148=0,StockIn!E148=\"\"),\"\",StockIn!E148)","v":""},{"$f":"IF(OR(StockIn!M148=0,StockIn!M148=\"\"),\"\",StockIn!M148)","v":""}]
[{"$f":"StockIn!A149","v":1147},{"$f":"IF(OR(StockIn!B149=0,StockIn!B149=\"\"),\"\",StockIn!B149)","v":""},{"$f":"IF(OR(StockIn!D149=0,StockIn!D149=\"\"),\"\",StockIn!D149)","v":""},{"$f":"IF(OR(StockIn!G149=0,StockIn!G149=\"\"),\"\",StockIn!G149)","v":""},{"$f":"IF(OR(StockIn!H149=0,StockIn!H149=\"\"),\"\",StockIn!H149)","v":""},{"$f":"IF(OR(StockIn!L149=0,StockIn!L149=\"\"),\"\",StockIn!L149)","v":""},{"$f":"IF(OR(StockIn!E149=0,StockIn!E149=\"\"),\"\",StockIn!E149)","v":""},{"$f":"IF(OR(StockIn!M149=0,StockIn!M149=\"\"),\"\",StockIn!M149)","v":""}]
[{"$f":"StockIn!A150","v":1148},{"$f":"IF(OR(StockIn!B150=0,StockIn!B150=\"\"),\"\",StockIn!B150)","v":""},{"$f":"IF(OR(StockIn!D150=0,StockIn!D150=\"\"),\"\",StockIn!D150)","v":""},{"$f":"IF(OR(StockIn!G150=0,StockIn!G150=\"\"),\"\",StockIn!G150)","v":""},{"$f":"IF(OR(StockIn!H150=0,StockIn!H150=\"\"),\"\",StockIn!H150)","v":""},{"$f":"IF(OR(StockIn!L150=0,StockIn!L150=\"\"),\"\",StockIn!L150)","v":""},{"$f":"IF(OR(StockIn!E150=0,StockIn!E150=\"\"),\"\",StockIn!E150)","v":""},{"$f":"IF(OR(StockIn!M150=0,StockIn!M150=\"\"),\"\",StockIn!M150)","v":""}]
[{"$f":"StockIn!A151","v":1149},{"$f":"IF(OR(StockIn!B151=0,StockIn!B151=\"\"),\"\",StockIn!B151)","v":""},{"$f":"IF(OR(StockIn!D151=0,StockIn!D151=\"\"),\"\",StockIn!D151)","v":""},{"$f":"IF(OR(StockIn!G151=0,StockIn!G151=\"\"),\"\",StockIn!G151)","v":""},{"$f":"IF(OR(StockIn!H151=0,StockIn!H151=\"\"),\"\",StockIn!H151)","v":""},{"$f":"IF(OR(StockIn!L151=0,StockIn!L151=\"\"),\"\",StockIn!L151)","v":""},{"$f":"IF(OR(StockIn!E151=0,StockIn!E151=\"\"),\"\",StockIn!E151)","v":""},{"$f":"IF(OR(StockIn!M151=0,StockIn!M151=\"\"),\"\",StockIn!M151)","v":""}]
[{"$f":"StockIn!A152","v":1150},{"$f":"IF(OR(StockIn!B152=0,StockIn!B152=\"\"),\"\",StockIn!B152)","v":""},{"$f":"IF(OR(StockIn!D152=0,StockIn!D152=\"\"),\"\",StockIn!D152)","v":""},{"$f":"IF(OR(StockIn!G152=0,StockIn!G152=\"\"),\"\",StockIn!G152)","v":""},{"$f":"IF(OR(StockIn!H152=0,StockIn!H152=\"\"),\"\",StockIn!H152)","v":""},{"$f":"IF(OR(StockIn!L152=0,StockIn!L152=\"\"),\"\",StockIn!L152)","v":""},{"$f":"IF(OR(StockIn!E152=0,StockIn!E152=\"\"),\"\",StockIn!E152)","v":""},{"$f":"IF(OR(StockIn!M152=0,StockIn!M152=\"\"),\"\",StockIn!M152)","v":""}]
[{"$f":"StockIn!A153","v":1151},{"$f":"IF(OR(StockIn!B153=0,StockIn!B153=\"\"),\"\",StockIn!B153)","v":""},{"$f":"IF(OR(StockIn!D153=0,StockIn!D153=\"\"),\"\",StockIn!D153)","v":""},{"$f":"IF(OR(StockIn!G153=0,StockIn!G153=\"\"),\"\",StockIn!G153)","v":""},{"$f":"IF(OR(StockIn!H153=0,StockIn!H153=\"\"),\"\",StockIn!H153)","v":""},{"$f":"IF(OR(StockIn!L153=0,StockIn!L153=\"\"),\"\",StockIn!L153)","v":""},{"$f":"IF(OR(StockIn!E153=0,StockIn!E153=\"\"),\"\",StockIn!E153)","v":""},{"$f":"IF(OR(StockIn!M153=0,StockIn!M153=\"\"),\"\",StockIn!M153)","v":""}]
[{"$f":"StockIn!A154","v":1152},{"$f":"IF(OR(StockIn!B154=0,StockIn!B154=\"\"),\"\",StockIn!B154)","v":""},{"$f":"IF(OR(StockIn!D154=0,StockIn!D154=\"\"),\"\",StockIn!D154)","v":""},{"$f":"IF(OR(StockIn!G154=0,StockIn!G154=\"\"),\"\",StockIn!G154)","v":""},{"$f":"IF(OR(StockIn!H154=0,StockIn!H154=\"\"),\"\",StockIn!H154)","v":""},{"$f":"IF(OR(StockIn!L154=0,StockIn!L154=\"\"),\"\",StockIn!L154)","v":""},{"$f":"IF(OR(StockIn!E154=0,StockIn!E154=\"\"),\"\",StockIn!E154)","v":""},{"$f":"IF(OR(StockIn!M154=0,StockIn!M154=\"\"),\"\",StockIn!M154)","v":""}]
[{"$f":"StockIn!A155","v":1153},{"$f":"IF(OR(StockIn!B155=0,StockIn!B155=\"\"),\"\",StockIn!B155)","v":""},{"$f":"IF(OR(StockIn!D155=0,StockIn!D155=\"\"),\"\",StockIn!D155)","v":""},{"$f":"IF(OR(StockIn!G155=0,StockIn!G155=\"\"),\"\",StockIn!G155)","v":""},{"$f":"IF(OR(StockIn!H155=0,StockIn!H155=\"\"),\"\",StockIn!H155)","v":""},{"$f":"IF(OR(StockIn!L155=0,StockIn!L155=\"\"),\"\",StockIn!L155)","v":""},{"$f":"IF(OR(StockIn!E155=0,StockIn!E155=\"\"),\"\",StockIn!E155)","v":""},{"$f":"IF(OR(StockIn!M155=0,StockIn!M155=\"\"),\"\",StockIn!M155)","v":""}]
[{"$f":"StockIn!A156","v":1154},{"$f":"IF(OR(StockIn!B156=0,StockIn!B156=\"\"),\"\",StockIn!B156)","v":""},{"$f":"IF(OR(StockIn!D156=0,StockIn!D156=\"\"),\"\",StockIn!D156)","v":""},{"$f":"IF(OR(StockIn!G156=0,StockIn!G156=\"\"),\"\",StockIn!G156)","v":""},{"$f":"IF(OR(StockIn!H156=0,StockIn!H156=\"\"),\"\",StockIn!H156)","v":""},{"$f":"IF(OR(StockIn!L156=0,StockIn!L156=\"\"),\"\",StockIn!L156)","v":""},{"$f":"IF(OR(StockIn!E156=0,StockIn!E156=\"\"),\"\",StockIn!E156)","v":""},{"$f":"IF(OR(StockIn!M156=0,StockIn!M156=\"\"),\"\",StockIn!M156)","v":""}]
[{"$f":"StockIn!A157","v":1155},{"$f":"IF(OR(StockIn!B157=0,StockIn!B157=\"\"),\"\",StockIn!B157)","v":""},{"$f":"IF(OR(StockIn!D157=0,StockIn!D157=\"\"),\"\",StockIn!D157)","v":""},{"$f":"IF(OR(StockIn!G157=0,StockIn!G157=\"\"),\"\",StockIn!G157)","v":""},{"$f":"IF(OR(StockIn!H157=0,StockIn!H157=\"\"),\"\",StockIn!H157)","v":""},{"$f":"IF(OR(StockIn!L157=0,StockIn!L157=\"\"),\"\",StockIn!L157)","v":""},{"$f":"IF(OR(StockIn!E157=0,StockIn!E157=\"\"),\"\",StockIn!E157)","v":""},{"$f":"IF(OR(StockIn!M157=0,StockIn!M157=\"\"),\"\",StockIn!M157)","v":""}]
[{"$f":"StockIn!A158","v":1156},{"$f":"IF(OR(StockIn!B158=0,StockIn!B158=\"\"),\"\",StockIn!B158)","v":""},{"$f":"IF(OR(StockIn!D158=0,StockIn!D158=\"\"),\"\",StockIn!D158)","v":""},{"$f":"IF(OR(StockIn!G158=0,StockIn!G158=\"\"),\"\",StockIn!G158)","v":""},{"$f":"IF(OR(StockIn!H158=0,StockIn!H158=\"\"),\"\",StockIn!H158)","v":""},{"$f":"IF(OR(StockIn!L158=0,StockIn!L158=\"\"),\"\",StockIn!L158)","v":""},{"$f":"IF(OR(StockIn!E158=0,StockIn!E158=\"\"),\"\",StockIn!E158)","v":""},{"$f":"IF(OR(StockIn!M158=0,StockIn!M158=\"\"),\"\",StockIn!M158)","v":""}]
[{"$f":"StockIn!A159","v":1157},{"$f":"IF(OR(StockIn!B159=0,StockIn!B159=\"\"),\"\",StockIn!B159)","v":""},{"$f":"IF(OR(StockIn!D159=0,StockIn!D159=\"\"),\"\",StockIn!D159)","v":""},{"$f":"IF(OR(StockIn!G159=0,StockIn!G159=\"\"),\"\",StockIn!G159)","v":""},{"$f":"IF(OR(StockIn!H159=0,StockIn!H159=\"\"),\"\",StockIn!H159)","v":""},{"$f":"IF(OR(StockIn!L159=0,StockIn!L159=\"\"),\"\",StockIn!L159)","v":""},{"$f":"IF(OR(StockIn!E159=0,StockIn!E159=\"\"),\"\",StockIn!E159)","v":""},{"$f":"IF(OR(StockIn!M159=0,StockIn!M159=\"\"),\"\",StockIn!M159)","v":""}]
[{"$f":"StockIn!A160","v":1158},{"$f":"IF(OR(StockIn!B160=0,StockIn!B160=\"\"),\"\",StockIn!B160)","v":""},{"$f":"IF(OR(StockIn!D160=0,StockIn!D160=\"\"),\"\",StockIn!D160)","v":""},{"$f":"IF(OR(StockIn!G160=0,StockIn!G160=\"\"),\"\",StockIn!G160)","v":""},{"$f":"IF(OR(StockIn!H160=0,StockIn!H160=\"\"),\"\",StockIn!H160)","v":""},{"$f":"IF(OR(StockIn!L160=0,StockIn!L160=\"\"),\"\",StockIn!L160)","v":""},{"$f":"IF(OR(StockIn!E160=0,StockIn!E160=\"\"),\"\",StockIn!E160)","v":""},{"$f":"IF(OR(StockIn!M160=0,StockIn!M160=\"\"),\"\",StockIn!M160)","v":""}]
[{"$f":"StockIn!A161","v":1159},{"$f":"IF(OR(StockIn!B161=0,StockIn!B161=\"\"),\"\",StockIn!B161)","v":""},{"$f":"IF(OR(StockIn!D161=0,StockIn!D161=\"\"),\"\",StockIn!D161)","v":""},{"$f":"IF(OR(StockIn!G161=0,StockIn!G161=\"\"),\"\",StockIn!G161)","v":""},{"$f":"IF(OR(StockIn!H161=0,StockIn!H161=\"\"),\"\",StockIn!H161)","v":""},{"$f":"IF(OR(StockIn!L161=0,StockIn!L161=\"\"),\"\",StockIn!L161)","v":""},{"$f":"IF(OR(StockIn!E161=0,StockIn!E161=\"\"),\"\",StockIn!E161)","v":""},{"$f":"IF(OR(StockIn!M161=0,StockIn!M161=\"\"),\"\",StockIn!M161)","v":""}]
[{"$f":"StockIn!A162","v":1160},{"$f":"IF(OR(StockIn!B162=0,StockIn!B162=\"\"),\"\",StockIn!B162)","v":""},{"$f":"IF(OR(StockIn!D162=0,StockIn!D162=\"\"),\"\",StockIn!D162)","v":""},{"$f":"IF(OR(StockIn!G162=0,StockIn!G162=\"\"),\"\",StockIn!G162)","v":""},{"$f":"IF(OR(StockIn!H162=0,StockIn!H162=\"\"),\"\",StockIn!H162)","v":""},{"$f":"IF(OR(StockIn!L162=0,StockIn!L162=\"\"),\"\",StockIn!L162)","v":""},{"$f":"IF(OR(StockIn!E162=0,StockIn!E162=\"\"),\"\",StockIn!E162)","v":""},{"$f":"IF(OR(StockIn!M162=0,StockIn!M162=\"\"),\"\",StockIn!M162)","v":""}]
[{"$f":"StockIn!A163","v":1161},{"$f":"IF(OR(StockIn!B163=0,StockIn!B163=\"\"),\"\",StockIn!B163)","v":""},{"$f":"IF(OR(StockIn!D163=0,StockIn!D163=\"\"),\"\",StockIn!D163)","v":""},{"$f":"IF(OR(StockIn!G163=0,StockIn!G163=\"\"),\"\",StockIn!G163)","v":""},{"$f":"IF(OR(StockIn!H163=0,StockIn!H163=\"\"),\"\",StockIn!H163)","v":""},{"$f":"IF(OR(StockIn!L163=0,StockIn!L163=\"\"),\"\",StockIn!L163)","v":""},{"$f":"IF(OR(StockIn!E163=0,StockIn!E163=\"\"),\"\",StockIn!E163)","v":""},{"$f":"IF(OR(StockIn!M163=0,StockIn!M163=\"\"),\"\",StockIn!M163)","v":""}]
[{"$f":"StockIn!A164","v":1162},{"$f":"IF(OR(StockIn!B164=0,StockIn!B164=\"\"),\"\",StockIn!B164)","v":""},{"$f":"IF(OR(StockIn!D164=0,StockIn!D164=\"\"),\"\",StockIn!D164)","v":""},{"$f":"IF(OR(StockIn!G164=0,StockIn!G164=\"\"),\"\",StockIn!G164)","v":""},{"$f":"IF(OR(StockIn!H164=0,StockIn!H164=\"\"),\"\",StockIn!H164)","v":""},{"$f":"IF(OR(StockIn!L164=0,StockIn!L164=\"\"),\"\",StockIn!L164)","v":""},{"$f":"IF(OR(StockIn!E164=0,StockIn!E164=\"\"),\"\",StockIn!E164)","v":""},{"$f":"IF(OR(StockIn!M164=0,StockIn!M164=\"\"),\"\",StockIn!M164)","v":""}]
[{"$f":"StockIn!A165","v":1163},{"$f":"IF(OR(StockIn!B165=0,StockIn!B165=\"\"),\"\",StockIn!B165)","v":""},{"$f":"IF(OR(StockIn!D165=0,StockIn!D165=\"\"),\"\",StockIn!D165)","v":""},{"$f":"IF(OR(StockIn!G165=0,StockIn!G165=\"\"),\"\",StockIn!G165)","v":""},{"$f":"IF(OR(StockIn!H165=0,StockIn!H165=\"\"),\"\",StockIn!H165)","v":""},{"$f":"IF(OR(StockIn!L165=0,StockIn!L165=\"\"),\"\",StockIn!L165)","v":""},{"$f":"IF(OR(StockIn!E165=0,StockIn!E165=\"\"),\"\",StockIn!E165)","v":""},{"$f":"IF(OR(StockIn!M165=0,StockIn!M165=\"\"),\"\",StockIn!M165)","v":""}]
[{"$f":"StockIn!A166","v":1164},{"$f":"IF(OR(StockIn!B166=0,StockIn!B166=\"\"),\"\",StockIn!B166)","v":""},{"$f":"IF(OR(StockIn!D166=0,StockIn!D166=\"\"),\"\",StockIn!D166)","v":""},{"$f":"IF(OR(StockIn!G166=0,StockIn!G166=\"\"),\"\",StockIn!G166)","v":""},{"$f":"IF(OR(StockIn!H166=0,StockIn!H166=\"\"),\"\",StockIn!H166)","v":""},{"$f":"IF(OR(StockIn!L166=0,StockIn!L166=\"\"),\"\",StockIn!L166)","v":""},{"$f":"IF(OR(StockIn!E166=0,StockIn!E166=\"\"),\"\",StockIn!E166)","v":""},{"$f":"IF(OR(StockIn!M166=0,StockIn!M166=\"\"),\"\",StockIn!M166)","v":""}]
[{"$f":"StockIn!A167","v":1165},{"$f":"IF(OR(StockIn!B167=0,StockIn!B167=\"\"),\"\",StockIn!B167)","v":""},{"$f":"IF(OR(StockIn!D167=0,StockIn!D167=\"\"),\"\",StockIn!D167)","v":""},{"$f":"IF(OR(StockIn!G167=0,StockIn!G167=\"\"),\"\",StockIn!G167)","v":""},{"$f":"IF(OR(StockIn!H167=0,StockIn!H167=\"\"),\"\",StockIn!H167)","v":""},{"$f":"IF(OR(StockIn!L167=0,StockIn!L167=\"\"),\"\",StockIn!L167)","v":""},{"$f":"IF(OR(StockIn!E167=0,StockIn!E167=\"\"),\"\",StockIn!E167)","v":""},{"$f":"IF(OR(StockIn!M167=0,StockIn!M167=\"\"),\"\",StockIn!M167)","v":""}]
[{"$f":"StockIn!A168","v":1166},{"$f":"IF(OR(StockIn!B168=0,StockIn!B168=\"\"),\"\",StockIn!B168)","v":""},{"$f":"IF(OR(StockIn!D168=0,StockIn!D168=\"\"),\"\",StockIn!D168)","v":""},{"$f":"IF(OR(StockIn!G168=0,StockIn!G168=\"\"),\"\",StockIn!G168)","v":""},{"$f":"IF(OR(StockIn!H168=0,StockIn!H168=\"\"),\"\",StockIn!H168)","v":""},{"$f":"IF(OR(StockIn!L168=0,StockIn!L168=\"\"),\"\",StockIn!L168)","v":""},{"$f":"IF(OR(StockIn!E168=0,StockIn!E168=\"\"),\"\",StockIn!E168)","v":""},{"$f":"IF(OR(StockIn!M168=0,StockIn!M168=\"\"),\"\",StockIn!M168)","v":""}]
[{"$f":"StockIn!A169","v":1167},{"$f":"IF(OR(StockIn!B169=0,StockIn!B169=\"\"),\"\",StockIn!B169)","v":""},{"$f":"IF(OR(StockIn!D169=0,StockIn!D169=\"\"),\"\",StockIn!D169)","v":""},{"$f":"IF(OR(StockIn!G169=0,StockIn!G169=\"\"),\"\",StockIn!G169)","v":""},{"$f":"IF(OR(StockIn!H169=0,StockIn!H169=\"\"),\"\",StockIn!H169)","v":""},{"$f":"IF(OR(StockIn!L169=0,StockIn!L169=\"\"),\"\",StockIn!L169)","v":""},{"$f":"IF(OR(StockIn!E169=0,StockIn!E169=\"\"),\"\",StockIn!E169)","v":""},{"$f":"IF(OR(StockIn!M169=0,StockIn!M169=\"\"),\"\",StockIn!M169)","v":""}]
[{"$f":"StockIn!A170","v":1168},{"$f":"IF(OR(StockIn!B170=0,StockIn!B170=\"\"),\"\",StockIn!B170)","v":""},{"$f":"IF(OR(StockIn!D170=0,StockIn!D170=\"\"),\"\",StockIn!D170)","v":""},{"$f":"IF(OR(StockIn!G170=0,StockIn!G170=\"\"),\"\",StockIn!G170)","v":""},{"$f":"IF(OR(StockIn!H170=0,StockIn!H170=\"\"),\"\",StockIn!H170)","v":""},{"$f":"IF(OR(StockIn!L170=0,StockIn!L170=\"\"),\"\",StockIn!L170)","v":""},{"$f":"IF(OR(StockIn!E170=0,StockIn!E170=\"\"),\"\",StockIn!E170)","v":""},{"$f":"IF(OR(StockIn!M170=0,StockIn!M170=\"\"),\"\",StockIn!M170)","v":""}]
[{"$f":"StockIn!A171","v":1169},{"$f":"IF(OR(StockIn!B171=0,StockIn!B171=\"\"),\"\",StockIn!B171)","v":""},{"$f":"IF(OR(StockIn!D171=0,StockIn!D171=\"\"),\"\",StockIn!D171)","v":""},{"$f":"IF(OR(StockIn!G171=0,StockIn!G171=\"\"),\"\",StockIn!G171)","v":""},{"$f":"IF(OR(StockIn!H171=0,StockIn!H171=\"\"),\"\",StockIn!H171)","v":""},{"$f":"IF(OR(StockIn!L171=0,StockIn!L171=\"\"),\"\",StockIn!L171)","v":""},{"$f":"IF(OR(StockIn!E171=0,StockIn!E171=\"\"),\"\",StockIn!E171)","v":""},{"$f":"IF(OR(StockIn!M171=0,StockIn!M171=\"\"),\"\",StockIn!M171)","v":""}]
[{"$f":"StockIn!A172","v":1170},{"$f":"IF(OR(StockIn!B172=0,StockIn!B172=\"\"),\"\",StockIn!B172)","v":""},{"$f":"IF(OR(StockIn!D172=0,StockIn!D172=\"\"),\"\",StockIn!D172)","v":""},{"$f":"IF(OR(StockIn!G172=0,StockIn!G172=\"\"),\"\",StockIn!G172)","v":""},{"$f":"IF(OR(StockIn!H172=0,StockIn!H172=\"\"),\"\",StockIn!H172)","v":""},{"$f":"IF(OR(StockIn!L172=0,StockIn!L172=\"\"),\"\",StockIn!L172)","v":""},{"$f":"IF(OR(StockIn!E172=0,StockIn!E172=\"\"),\"\",StockIn!E172)","v":""},{"$f":"IF(OR(StockIn!M172=0,StockIn!M172=\"\"),\"\",StockIn!M172)","v":""}]
[{"$f":"StockIn!A173","v":1171},{"$f":"IF(OR(StockIn!B173=0,StockIn!B173=\"\"),\"\",StockIn!B173)","v":""},{"$f":"IF(OR(StockIn!D173=0,StockIn!D173=\"\"),\"\",StockIn!D173)","v":""},{"$f":"IF(OR(StockIn!G173=0,StockIn!G173=\"\"),\"\",StockIn!G173)","v":""},{"$f":"IF(OR(StockIn!H173=0,StockIn!H173=\"\"),\"\",StockIn!H173)","v":""},{"$f":"IF(OR(StockIn!L173=0,StockIn!L173=\"\"),\"\",StockIn!L173)","v":""},{"$f":"IF(OR(StockIn!E173=0,StockIn!E173=\"\"),\"\",StockIn!E173)","v":""},{"$f":"IF(OR(StockIn!M173=0,StockIn!M173=\"\"),\"\",StockIn!M173)","v":""}]
[{"$f":"StockIn!A174","v":1172},{"$f":"IF(OR(StockIn!B174=0,StockIn!B174=\"\"),\"\",StockIn!B174)","v":""},{"$f":"IF(OR(StockIn!D174=0,StockIn!D174=\"\"),\"\",StockIn!D174)","v":""},{"$f":"IF(OR(StockIn!G174=0,StockIn!G174=\"\"),\"\",StockIn!G174)","v":""},{"$f":"IF(OR(StockIn!H174=0,StockIn!H174=\"\"),\"\",StockIn!H174)","v":""},{"$f":"IF(OR(StockIn!L174=0,StockIn!L174=\"\"),\"\",StockIn!L174)","v":""},{"$f":"IF(OR(StockIn!E174=0,StockIn!E174=\"\"),\"\",StockIn!E174)","v":""},{"$f":"IF(OR(StockIn!M174=0,StockIn!M174=\"\"),\"\",StockIn!M174)","v":""}]
[{"$f":"StockIn!A175","v":1173},{"$f":"IF(OR(StockIn!B175=0,StockIn!B175=\"\"),\"\",StockIn!B175)","v":""},{"$f":"IF(OR(StockIn!D175=0,StockIn!D175=\"\"),\"\",StockIn!D175)","v":""},{"$f":"IF(OR(StockIn!G175=0,StockIn!G175=\"\"),\"\",StockIn!G175)","v":""},{"$f":"IF(OR(StockIn!H175=0,StockIn!H175=\"\"),\"\",StockIn!H175)","v":""},{"$f":"IF(OR(StockIn!L175=0,StockIn!L175=\"\"),\"\",StockIn!L175)","v":""},{"$f":"IF(OR(StockIn!E175=0,StockIn!E175=\"\"),\"\",StockIn!E175)","v":""},{"$f":"IF(OR(StockIn!M175=0,StockIn!M175=\"\"),\"\",StockIn!M175)","v":""}]
[{"$f":"StockIn!A176","v":1174},{"$f":"IF(OR(StockIn!B176=0,StockIn!B176=\"\"),\"\",StockIn!B176)","v":""},{"$f":"IF(OR(StockIn!D176=0,StockIn!D176=\"\"),\"\",StockIn!D176)","v":""},{"$f":"IF(OR(StockIn!G176=0,StockIn!G176=\"\"),\"\",StockIn!G176)","v":""},{"$f":"IF(OR(StockIn!H176=0,StockIn!H176=\"\"),\"\",StockIn!H176)","v":""},{"$f":"IF(OR(StockIn!L176=0,StockIn!L176=\"\"),\"\",StockIn!L176)","v":""},{"$f":"IF(OR(StockIn!E176=0,StockIn!E176=\"\"),\"\",StockIn!E176)","v":""},{"$f":"IF(OR(StockIn!M176=0,StockIn!M176=\"\"),\"\",StockIn!M176)","v":""}]
[{"$f":"StockIn!A177","v":1175},{"$f":"IF(OR(StockIn!B177=0,StockIn!B177=\"\"),\"\",StockIn!B177)","v":""},{"$f":"IF(OR(StockIn!D177=0,StockIn!D177=\"\"),\"\",StockIn!D177)","v":""},{"$f":"IF(OR(StockIn!G177=0,StockIn!G177=\"\"),\"\",StockIn!G177)","v":""},{"$f":"IF(OR(StockIn!H177=0,StockIn!H177=\"\"),\"\",StockIn!H177)","v":""},{"$f":"IF(OR(StockIn!L177=0,StockIn!L177=\"\"),\"\",StockIn!L177)","v":""},{"$f":"IF(OR(StockIn!E177=0,StockIn!E177=\"\"),\"\",StockIn!E177)","v":""},{"$f":"IF(OR(StockIn!M177=0,StockIn!M177=\"\"),\"\",StockIn!M177)","v":""}]
[{"$f":"StockIn!A178","v":1176},{"$f":"IF(OR(StockIn!B178=0,StockIn!B178=\"\"),\"\",StockIn!B178)","v":""},{"$f":"IF(OR(StockIn!D178=0,StockIn!D178=\"\"),\"\",StockIn!D178)","v":""},{"$f":"IF(OR(StockIn!G178=0,StockIn!G178=\"\"),\"\",StockIn!G178)","v":""},{"$f":"IF(OR(StockIn!H178=0,StockIn!H178=\"\"),\"\",StockIn!H178)","v":""},{"$f":"IF(OR(StockIn!L178=0,StockIn!L178=\"\"),\"\",StockIn!L178)","v":""},{"$f":"IF(OR(StockIn!E178=0,StockIn!E178=\"\"),\"\",StockIn!E178)","v":""},{"$f":"IF(OR(StockIn!M178=0,StockIn!M178=\"\"),\"\",StockIn!M178)","v":""}]
[{"$f":"StockIn!A179","v":1177},{"$f":"IF(OR(StockIn!B179=0,StockIn!B179=\"\"),\"\",StockIn!B179)","v":""},{"$f":"IF(OR(StockIn!D179=0,StockIn!D179=\"\"),\"\",StockIn!D179)","v":""},{"$f":"IF(OR(StockIn!G179=0,StockIn!G179=\"\"),\"\",StockIn!G179)","v":""},{"$f":"IF(OR(StockIn!H179=0,StockIn!H179=\"\"),\"\",StockIn!H179)","v":""},{"$f":"IF(OR(StockIn!L179=0,StockIn!L179=\"\"),\"\",StockIn!L179)","v":""},{"$f":"IF(OR(StockIn!E179=0,StockIn!E179=\"\"),\"\",StockIn!E179)","v":""},{"$f":"IF(OR(StockIn!M179=0,StockIn!M179=\"\"),\"\",StockIn!M179)","v":""}]
[{"$f":"StockIn!A180","v":1178},{"$f":"IF(OR(StockIn!B180=0,StockIn!B180=\"\"),\"\",StockIn!B180)","v":""},{"$f":"IF(OR(StockIn!D180=0,StockIn!D180=\"\"),\"\",StockIn!D180)","v":""},{"$f":"IF(OR(StockIn!G180=0,StockIn!G180=\"\"),\"\",StockIn!G180)","v":""},{"$f":"IF(OR(StockIn!H180=0,StockIn!H180=\"\"),\"\",StockIn!H180)","v":""},{"$f":"IF(OR(StockIn!L180=0,StockIn!L180=\"\"),\"\",StockIn!L180)","v":""},{"$f":"IF(OR(StockIn!E180=0,StockIn!E180=\"\"),\"\",StockIn!E180)","v":""},{"$f":"IF(OR(StockIn!M180=0,StockIn!M180=\"\"),\"\",StockIn!M180)","v":""}]
[{"$f":"StockIn!A181","v":1179},{"$f":"IF(OR(StockIn!B181=0,StockIn!B181=\"\"),\"\",StockIn!B181)","v":""},{"$f":"IF(OR(StockIn!D181=0,StockIn!D181=\"\"),\"\",StockIn!D181)","v":""},{"$f":"IF(OR(StockIn!G181=0,StockIn!G181=\"\"),\"\",StockIn!G181)","v":""},{"$f":"IF(OR(StockIn!H181=0,StockIn!H181=\"\"),\"\",StockIn!H181)","v":""},{"$f":"IF(OR(StockIn!L181=0,StockIn!L181=\"\"),\"\",StockIn!L181)","v":""},{"$f":"IF(OR(StockIn!E181=0,StockIn!E181=\"\"),\"\",StockIn!E181)","v":""},{"$f":"IF(OR(StockIn!M181=0,StockIn!M181=\"\"),\"\",StockIn!M181)","v":""}]
[{"$f":"StockIn!A182","v":1180},{"$f":"IF(OR(StockIn!B182=0,StockIn!B182=\"\"),\"\",StockIn!B182)","v":""},{"$f":"IF(OR(StockIn!D182=0,StockIn!D182=\"\"),\"\",StockIn!D182)","v":""},{"$f":"IF(OR(StockIn!G182=0,StockIn!G182=\"\"),\"\",StockIn!G182)","v":""},{"$f":"IF(OR(StockIn!H182=0,StockIn!H182=\"\"),\"\",StockIn!H182)","v":""},{"$f":"IF(OR(StockIn!L182=0,StockIn!L182=\"\"),\"\",StockIn!L182)","v":""},{"$f":"IF(OR(StockIn!E182=0,StockIn!E182=\"\"),\"\",StockIn!E182)","v":""},{"$f":"IF(OR(StockIn!M182=0,StockIn!M182=\"\"),\"\",StockIn!M182)","v":""}]
[{"$f":"StockIn!A183","v":1181},{"$f":"IF(OR(StockIn!B183=0,StockIn!B183=\"\"),\"\",StockIn!B183)","v":""},{"$f":"IF(OR(StockIn!D183=0,StockIn!D183=\"\"),\"\",StockIn!D183)","v":""},{"$f":"IF(OR(StockIn!G183=0,StockIn!G183=\"\"),\"\",StockIn!G183)","v":""},{"$f":"IF(OR(StockIn!H183=0,StockIn!H183=\"\"),\"\",StockIn!H183)","v":""},{"$f":"IF(OR(StockIn!L183=0,StockIn!L183=\"\"),\"\",StockIn!L183)","v":""},{"$f":"IF(OR(StockIn!E183=0,StockIn!E183=\"\"),\"\",StockIn!E183)","v":""},{"$f":"IF(OR(StockIn!M183=0,StockIn!M183=\"\"),\"\",StockIn!M183)","v":""}]
[{"$f":"StockIn!A184","v":1182},{"$f":"IF(OR(StockIn!B184=0,StockIn!B184=\"\"),\"\",StockIn!B184)","v":""},{"$f":"IF(OR(StockIn!D184=0,StockIn!D184=\"\"),\"\",StockIn!D184)","v":""},{"$f":"IF(OR(StockIn!G184=0,StockIn!G184=\"\"),\"\",StockIn!G184)","v":""},{"$f":"IF(OR(StockIn!H184=0,StockIn!H184=\"\"),\"\",StockIn!H184)","v":""},{"$f":"IF(OR(StockIn!L184=0,StockIn!L184=\"\"),\"\",StockIn!L184)","v":""},{"$f":"IF(OR(StockIn!E184=0,StockIn!E184=\"\"),\"\",StockIn!E184)","v":""},{"$f":"IF(OR(StockIn!M184=0,StockIn!M184=\"\"),\"\",StockIn!M184)","v":""}]
[{"$f":"StockIn!A185","v":1183},{"$f":"IF(OR(StockIn!B185=0,StockIn!B185=\"\"),\"\",StockIn!B185)","v":""},{"$f":"IF(OR(StockIn!D185=0,StockIn!D185=\"\"),\"\",StockIn!D185)","v":""},{"$f":"IF(OR(StockIn!G185=0,StockIn!G185=\"\"),\"\",StockIn!G185)","v":""},{"$f":"IF(OR(StockIn!H185=0,StockIn!H185=\"\"),\"\",StockIn!H185)","v":""},{"$f":"IF(OR(StockIn!L185=0,StockIn!L185=\"\"),\"\",StockIn!L185)","v":""},{"$f":"IF(OR(StockIn!E185=0,StockIn!E185=\"\"),\"\",StockIn!E185)","v":""},{"$f":"IF(OR(StockIn!M185=0,StockIn!M185=\"\"),\"\",StockIn!M185)","v":""}]
[{"$f":"StockIn!A186","v":1184},{"$f":"IF(OR(StockIn!B186=0,StockIn!B186=\"\"),\"\",StockIn!B186)","v":""},{"$f":"IF(OR(StockIn!D186=0,StockIn!D186=\"\"),\"\",StockIn!D186)","v":""},{"$f":"IF(OR(StockIn!G186=0,StockIn!G186=\"\"),\"\",StockIn!G186)","v":""},{"$f":"IF(OR(StockIn!H186=0,StockIn!H186=\"\"),\"\",StockIn!H186)","v":""},{"$f":"IF(OR(StockIn!L186=0,StockIn!L186=\"\"),\"\",StockIn!L186)","v":""},{"$f":"IF(OR(StockIn!E186=0,StockIn!E186=\"\"),\"\",StockIn!E186)","v":""},{"$f":"IF(OR(StockIn!M186=0,StockIn!M186=\"\"),\"\",StockIn!M186)","v":""}]
[{"$f":"StockIn!A187","v":1185},{"$f":"IF(OR(StockIn!B187=0,StockIn!B187=\"\"),\"\",StockIn!B187)","v":""},{"$f":"IF(OR(StockIn!D187=0,StockIn!D187=\"\"),\"\",StockIn!D187)","v":""},{"$f":"IF(OR(StockIn!G187=0,StockIn!G187=\"\"),\"\",StockIn!G187)","v":""},{"$f":"IF(OR(StockIn!H187=0,StockIn!H187=\"\"),\"\",StockIn!H187)","v":""},{"$f":"IF(OR(StockIn!L187=0,StockIn!L187=\"\"),\"\",StockIn!L187)","v":""},{"$f":"IF(OR(StockIn!E187=0,StockIn!E187=\"\"),\"\",StockIn!E187)","v":""},{"$f":"IF(OR(StockIn!M187=0,StockIn!M187=\"\"),\"\",StockIn!M187)","v":""}]
[{"$f":"StockIn!A188","v":1186},{"$f":"IF(OR(StockIn!B188=0,StockIn!B188=\"\"),\"\",StockIn!B188)","v":""},{"$f":"IF(OR(StockIn!D188=0,StockIn!D188=\"\"),\"\",StockIn!D188)","v":""},{"$f":"IF(OR(StockIn!G188=0,StockIn!G188=\"\"),\"\",StockIn!G188)","v":""},{"$f":"IF(OR(StockIn!H188=0,StockIn!H188=\"\"),\"\",StockIn!H188)","v":""},{"$f":"IF(OR(StockIn!L188=0,StockIn!L188=\"\"),\"\",StockIn!L188)","v":""},{"$f":"IF(OR(StockIn!E188=0,StockIn!E188=\"\"),\"\",StockIn!E188)","v":""},{"$f":"IF(OR(StockIn!M188=0,StockIn!M188=\"\"),\"\",StockIn!M188)","v":""}]
[{"$f":"StockIn!A189","v":1187},{"$f":"IF(OR(StockIn!B189=0,StockIn!B189=\"\"),\"\",StockIn!B189)","v":""},{"$f":"IF(OR(StockIn!D189=0,StockIn!D189=\"\"),\"\",StockIn!D189)","v":""},{"$f":"IF(OR(StockIn!G189=0,StockIn!G189=\"\"),\"\",StockIn!G189)","v":""},{"$f":"IF(OR(StockIn!H189=0,StockIn!H189=\"\"),\"\",StockIn!H189)","v":""},{"$f":"IF(OR(StockIn!L189=0,StockIn!L189=\"\"),\"\",StockIn!L189)","v":""},{"$f":"IF(OR(StockIn!E189=0,StockIn!E189=\"\"),\"\",StockIn!E189)","v":""},{"$f":"IF(OR(StockIn!M189=0,StockIn!M189=\"\"),\"\",StockIn!M189)","v":""}]
[{"$f":"StockIn!A190","v":1188},{"$f":"IF(OR(StockIn!B190=0,StockIn!B190=\"\"),\"\",StockIn!B190)","v":""},{"$f":"IF(OR(StockIn!D190=0,StockIn!D190=\"\"),\"\",StockIn!D190)","v":""},{"$f":"IF(OR(StockIn!G190=0,StockIn!G190=\"\"),\"\",StockIn!G190)","v":""},{"$f":"IF(OR(StockIn!H190=0,StockIn!H190=\"\"),\"\",StockIn!H190)","v":""},{"$f":"IF(OR(StockIn!L190=0,StockIn!L190=\"\"),\"\",StockIn!L190)","v":""},{"$f":"IF(OR(StockIn!E190=0,StockIn!E190=\"\"),\"\",StockIn!E190)","v":""},{"$f":"IF(OR(StockIn!M190=0,StockIn!M190=\"\"),\"\",StockIn!M190)","v":""}]
[{"$f":"StockIn!A191","v":1189},{"$f":"IF(OR(StockIn!B191=0,StockIn!B191=\"\"),\"\",StockIn!B191)","v":""},{"$f":"IF(OR(StockIn!D191=0,StockIn!D191=\"\"),\"\",StockIn!D191)","v":""},{"$f":"IF(OR(StockIn!G191=0,StockIn!G191=\"\"),\"\",StockIn!G191)","v":""},{"$f":"IF(OR(StockIn!H191=0,StockIn!H191=\"\"),\"\",StockIn!H191)","v":""},{"$f":"IF(OR(StockIn!L191=0,StockIn!L191=\"\"),\"\",StockIn!L191)","v":""},{"$f":"IF(OR(StockIn!E191=0,StockIn!E191=\"\"),\"\",StockIn!E191)","v":""},{"$f":"IF(OR(StockIn!M191=0,StockIn!M191=\"\"),\"\",StockIn!M191)","v":""}]
[{"$f":"StockIn!A192","v":1190},{"$f":"IF(OR(StockIn!B192=0,StockIn!B192=\"\"),\"\",StockIn!B192)","v":""},{"$f":"IF(OR(StockIn!D192=0,StockIn!D192=\"\"),\"\",StockIn!D192)","v":""},{"$f":"IF(OR(StockIn!G192=0,StockIn!G192=\"\"),\"\",StockIn!G192)","v":""},{"$f":"IF(OR(StockIn!H192=0,StockIn!H192=\"\"),\"\",StockIn!H192)","v":""},{"$f":"IF(OR(StockIn!L192=0,StockIn!L192=\"\"),\"\",StockIn!L192)","v":""},{"$f":"IF(OR(StockIn!E192=0,StockIn!E192=\"\"),\"\",StockIn!E192)","v":""},{"$f":"IF(OR(StockIn!M192=0,StockIn!M192=\"\"),\"\",StockIn!M192)","v":""}]
[{"$f":"StockIn!A193","v":1191},{"$f":"IF(OR(StockIn!B193=0,StockIn!B193=\"\"),\"\",StockIn!B193)","v":""},{"$f":"IF(OR(StockIn!D193=0,StockIn!D193=\"\"),\"\",StockIn!D193)","v":""},{"$f":"IF(OR(StockIn!G193=0,StockIn!G193=\"\"),\"\",StockIn!G193)","v":""},{"$f":"IF(OR(StockIn!H193=0,StockIn!H193=\"\"),\"\",StockIn!H193)","v":""},{"$f":"IF(OR(StockIn!L193=0,StockIn!L193=\"\"),\"\",StockIn!L193)","v":""},{"$f":"IF(OR(StockIn!E193=0,StockIn!E193=\"\"),\"\",StockIn!E193)","v":""},{"$f":"IF(OR(StockIn!M193=0,StockIn!M193=\"\"),\"\",StockIn!M193)","v":""}]
[{"$f":"StockIn!A194","v":1192},{"$f":"IF(OR(StockIn!B194=0,StockIn!B194=\"\"),\"\",StockIn!B194)","v":""},{"$f":"IF(OR(StockIn!D194=0,StockIn!D194=\"\"),\"\",StockIn!D194)","v":""},{"$f":"IF(OR(StockIn!G194=0,StockIn!G194=\"\"),\"\",StockIn!G194)","v":""},{"$f":"IF(OR(StockIn!H194=0,StockIn!H194=\"\"),\"\",StockIn!H194)","v":""},{"$f":"IF(OR(StockIn!L194=0,StockIn!L194=\"\"),\"\",StockIn!L194)","v":""},{"$f":"IF(OR(StockIn!E194=0,StockIn!E194=\"\"),\"\",StockIn!E194)","v":""},{"$f":"IF(OR(StockIn!M194=0,StockIn!M194=\"\"),\"\",StockIn!M194)","v":""}]
[{"$f":"StockIn!A195","v":1193},{"$f":"IF(OR(StockIn!B195=0,StockIn!B195=\"\"),\"\",StockIn!B195)","v":""},{"$f":"IF(OR(StockIn!D195=0,StockIn!D195=\"\"),\"\",StockIn!D195)","v":""},{"$f":"IF(OR(StockIn!G195=0,StockIn!G195=\"\"),\"\",StockIn!G195)","v":""},{"$f":"IF(OR(StockIn!H195=0,StockIn!H195=\"\"),\"\",StockIn!H195)","v":""},{"$f":"IF(OR(StockIn!L195=0,StockIn!L195=\"\"),\"\",StockIn!L195)","v":""},{"$f":"IF(OR(StockIn!E195=0,StockIn!E195=\"\"),\"\",StockIn!E195)","v":""},{"$f":"IF(OR(StockIn!M195=0,StockIn!M195=\"\"),\"\",StockIn!M195)","v":""}]
[{"$f":"StockIn!A196","v":1194},{"$f":"IF(OR(StockIn!B196=0,StockIn!B196=\"\"),\"\",StockIn!B196)","v":""},{"$f":"IF(OR(StockIn!D196=0,StockIn!D196=\"\"),\"\",StockIn!D196)","v":""},{"$f":"IF(OR(StockIn!G196=0,StockIn!G196=\"\"),\"\",StockIn!G196)","v":""},{"$f":"IF(OR(StockIn!H196=0,StockIn!H196=\"\"),\"\",StockIn!H196)","v":""},{"$f":"IF(OR(StockIn!L196=0,StockIn!L196=\"\"),\"\",StockIn!L196)","v":""},{"$f":"IF(OR(StockIn!E196=0,StockIn!E196=\"\"),\"\",StockIn!E196)","v":""},{"$f":"IF(OR(StockIn!M196=0,StockIn!M196=\"\"),\"\",StockIn!M196)","v":""}]
[{"$f":"StockIn!A197","v":1195},{"$f":"IF(OR(StockIn!B197=0,StockIn!B197=\"\"),\"\",StockIn!B197)","v":""},{"$f":"IF(OR(StockIn!D197=0,StockIn!D197=\"\"),\"\",StockIn!D197)","v":""},{"$f":"IF(OR(StockIn!G197=0,StockIn!G197=\"\"),\"\",StockIn!G197)","v":""},{"$f":"IF(OR(StockIn!H197=0,StockIn!H197=\"\"),\"\",StockIn!H197)","v":""},{"$f":"IF(OR(StockIn!L197=0,StockIn!L197=\"\"),\"\",StockIn!L197)","v":""},{"$f":"IF(OR(StockIn!E197=0,StockIn!E197=\"\"),\"\",StockIn!E197)","v":""},{"$f":"IF(OR(StockIn!M197=0,StockIn!M197=\"\"),\"\",StockIn!M197)","v":""}]
[{"$f":"StockIn!A198","v":1196},{"$f":"IF(OR(StockIn!B198=0,StockIn!B198=\"\"),\"\",StockIn!B198)","v":""},{"$f":"IF(OR(StockIn!D198=0,StockIn!D198=\"\"),\"\",StockIn!D198)","v":""},{"$f":"IF(OR(StockIn!G198=0,StockIn!G198=\"\"),\"\",StockIn!G198)","v":""},{"$f":"IF(OR(StockIn!H198=0,StockIn!H198=\"\"),\"\",StockIn!H198)","v":""},{"$f":"IF(OR(StockIn!L198=0,StockIn!L198=\"\"),\"\",StockIn!L198)","v":""},{"$f":"IF(OR(StockIn!E198=0,StockIn!E198=\"\"),\"\",StockIn!E198)","v":""},{"$f":"IF(OR(StockIn!M198=0,StockIn!M198=\"\"),\"\",StockIn!M198)","v":""}]
[{"$f":"StockIn!A199","v":1197},{"$f":"IF(OR(StockIn!B199=0,StockIn!B199=\"\"),\"\",StockIn!B199)","v":""},{"$f":"IF(OR(StockIn!D199=0,StockIn!D199=\"\"),\"\",StockIn!D199)","v":""},{"$f":"IF(OR(StockIn!G199=0,StockIn!G199=\"\"),\"\",StockIn!G199)","v":""},{"$f":"IF(OR(StockIn!H199=0,StockIn!H199=\"\"),\"\",StockIn!H199)","v":""},{"$f":"IF(OR(StockIn!L199=0,StockIn!L199=\"\"),\"\",StockIn!L199)","v":""},{"$f":"IF(OR(StockIn!E199=0,StockIn!E199=\"\"),\"\",StockIn!E199)","v":""},{"$f":"IF(OR(StockIn!M199=0,StockIn!M199=\"\"),\"\",StockIn!M199)","v":""}]
[{"$f":"StockIn!A200","v":1198},{"$f":"IF(OR(StockIn!B200=0,StockIn!B200=\"\"),\"\",StockIn!B200)","v":""},{"$f":"IF(OR(StockIn!D200=0,StockIn!D200=\"\"),\"\",StockIn!D200)","v":""},{"$f":"IF(OR(StockIn!G200=0,StockIn!G200=\"\"),\"\",StockIn!G200)","v":""},{"$f":"IF(OR(StockIn!H200=0,StockIn!H200=\"\"),\"\",StockIn!H200)","v":""},{"$f":"IF(OR(StockIn!L200=0,StockIn!L200=\"\"),\"\",StockIn!L200)","v":""},{"$f":"IF(OR(StockIn!E200=0,StockIn!E200=\"\"),\"\",StockIn!E200)","v":""},{"$f":"IF(OR(StockIn!M200=0,StockIn!M200=\"\"),\"\",StockIn!M200)","v":""}]
[{"$f":"StockIn!A201","v":1199},{"$f":"IF(OR(StockIn!B201=0,StockIn!B201=\"\"),\"\",StockIn!B201)","v":""},{"$f":"IF(OR(StockIn!D201=0,StockIn!D201=\"\"),\"\",StockIn!D201)","v":""},{"$f":"IF(OR(StockIn!G201=0,StockIn!G201=\"\"),\"\",StockIn!G201)","v":""},{"$f":"IF(OR(StockIn!H201=0,StockIn!H201=\"\"),\"\",StockIn!H201)","v":""},{"$f":"IF(OR(StockIn!L201=0,StockIn!L201=\"\"),\"\",StockIn!L201)","v":""},{"$f":"IF(OR(StockIn!E201=0,StockIn!E201=\"\"),\"\",StockIn!E201)","v":""},{"$f":"IF(OR(StockIn!M201=0,StockIn!M201=\"\"),\"\",StockIn!M201)","v":""}]
[{"$f":"StockIn!A202","v":1200},{"$f":"IF(OR(StockIn!B202=0,StockIn!B202=\"\"),\"\",StockIn!B202)","v":""},{"$f":"IF(OR(StockIn!D202=0,StockIn!D202=\"\"),\"\",StockIn!D202)","v":""},{"$f":"IF(OR(StockIn!G202=0,StockIn!G202=\"\"),\"\",StockIn!G202)","v":""},{"$f":"IF(OR(StockIn!H202=0,StockIn!H202=\"\"),\"\",StockIn!H202)","v":""},{"$f":"IF(OR(StockIn!L202=0,StockIn!L202=\"\"),\"\",StockIn!L202)","v":""},{"$f":"IF(OR(StockIn!E202=0,StockIn!E202=\"\"),\"\",StockIn!E202)","v":""},{"$f":"IF(OR(StockIn!M202=0,StockIn!M202=\"\"),\"\",StockIn!M202)","v":""}]
[{"$f":"StockIn!A203","v":1201},{"$f":"IF(OR(StockIn!B203=0,StockIn!B203=\"\"),\"\",StockIn!B203)","v":""},{"$f":"IF(OR(StockIn!D203=0,StockIn!D203=\"\"),\"\",StockIn!D203)","v":""},{"$f":"IF(OR(StockIn!G203=0,StockIn!G203=\"\"),\"\",StockIn!G203)","v":""},{"$f":"IF(OR(StockIn!H203=0,StockIn!H203=\"\"),\"\",StockIn!H203)","v":""},{"$f":"IF(OR(StockIn!L203=0,StockIn!L203=\"\"),\"\",StockIn!L203)","v":""},{"$f":"IF(OR(StockIn!E203=0,StockIn!E203=\"\"),\"\",StockIn!E203)","v":""},{"$f":"IF(OR(StockIn!M203=0,StockIn!M203=\"\"),\"\",StockIn!M203)","v":""}]
[{"$f":"StockIn!A204","v":1202},{"$f":"IF(OR(StockIn!B204=0,StockIn!B204=\"\"),\"\",StockIn!B204)","v":""},{"$f":"IF(OR(StockIn!D204=0,StockIn!D204=\"\"),\"\",StockIn!D204)","v":""},{"$f":"IF(OR(StockIn!G204=0,StockIn!G204=\"\"),\"\",StockIn!G204)","v":""},{"$f":"IF(OR(StockIn!H204=0,StockIn!H204=\"\"),\"\",StockIn!H204)","v":""},{"$f":"IF(OR(StockIn!L204=0,StockIn!L204=\"\"),\"\",StockIn!L204)","v":""},{"$f":"IF(OR(StockIn!E204=0,StockIn!E204=\"\"),\"\",StockIn!E204)","v":""},{"$f":"IF(OR(StockIn!M204=0,StockIn!M204=\"\"),\"\",StockIn!M204)","v":""}]
[{"$f":"StockIn!A205","v":1203},{"$f":"IF(OR(StockIn!B205=0,StockIn!B205=\"\"),\"\",StockIn!B205)","v":""},{"$f":"IF(OR(StockIn!D205=0,StockIn!D205=\"\"),\"\",StockIn!D205)","v":""},{"$f":"IF(OR(StockIn!G205=0,StockIn!G205=\"\"),\"\",StockIn!G205)","v":""},{"$f":"IF(OR(StockIn!H205=0,StockIn!H205=\"\"),\"\",StockIn!H205)","v":""},{"$f":"IF(OR(StockIn!L205=0,StockIn!L205=\"\"),\"\",StockIn!L205)","v":""},{"$f":"IF(OR(StockIn!E205=0,StockIn!E205=\"\"),\"\",StockIn!E205)","v":""},{"$f":"IF(OR(StockIn!M205=0,StockIn!M205=\"\"),\"\",StockIn!M205)","v":""}]
[{"$f":"StockIn!A206","v":1204},{"$f":"IF(OR(StockIn!B206=0,StockIn!B206=\"\"),\"\",StockIn!B206)","v":""},{"$f":"IF(OR(StockIn!D206=0,StockIn!D206=\"\"),\"\",StockIn!D206)","v":""},{"$f":"IF(OR(StockIn!G206=0,StockIn!G206=\"\"),\"\",StockIn!G206)","v":""},{"$f":"IF(OR(StockIn!H206=0,StockIn!H206=\"\"),\"\",StockIn!H206)","v":""},{"$f":"IF(OR(StockIn!L206=0,StockIn!L206=\"\"),\"\",StockIn!L206)","v":""},{"$f":"IF(OR(StockIn!E206=0,StockIn!E206=\"\"),\"\",StockIn!E206)","v":""},{"$f":"IF(OR(StockIn!M206=0,StockIn!M206=\"\"),\"\",StockIn!M206)","v":""}]
[{"$f":"StockIn!A207","v":1205},{"$f":"IF(OR(StockIn!B207=0,StockIn!B207=\"\"),\"\",StockIn!B207)","v":""},{"$f":"IF(OR(StockIn!D207=0,StockIn!D207=\"\"),\"\",StockIn!D207)","v":""},{"$f":"IF(OR(StockIn!G207=0,StockIn!G207=\"\"),\"\",StockIn!G207)","v":""},{"$f":"IF(OR(StockIn!H207=0,StockIn!H207=\"\"),\"\",StockIn!H207)","v":""},{"$f":"IF(OR(StockIn!L207=0,StockIn!L207=\"\"),\"\",StockIn!L207)","v":""},{"$f":"IF(OR(StockIn!E207=0,StockIn!E207=\"\"),\"\",StockIn!E207)","v":""},{"$f":"IF(OR(StockIn!M207=0,StockIn!M207=\"\"),\"\",StockIn!M207)","v":""}]
[{"$f":"StockIn!A208","v":1206},{"$f":"IF(OR(StockIn!B208=0,StockIn!B208=\"\"),\"\",StockIn!B208)","v":""},{"$f":"IF(OR(StockIn!D208=0,StockIn!D208=\"\"),\"\",StockIn!D208)","v":""},{"$f":"IF(OR(StockIn!G208=0,StockIn!G208=\"\"),\"\",StockIn!G208)","v":""},{"$f":"IF(OR(StockIn!H208=0,StockIn!H208=\"\"),\"\",StockIn!H208)","v":""},{"$f":"IF(OR(StockIn!L208=0,StockIn!L208=\"\"),\"\",StockIn!L208)","v":""},{"$f":"IF(OR(StockIn!E208=0,StockIn!E208=\"\"),\"\",StockIn!E208)","v":""},{"$f":"IF(OR(StockIn!M208=0,StockIn!M208=\"\"),\"\",StockIn!M208)","v":""}]
[{"$f":"StockIn!A209","v":1207},{"$f":"IF(OR(StockIn!B209=0,StockIn!B209=\"\"),\"\",StockIn!B209)","v":""},{"$f":"IF(OR(StockIn!D209=0,StockIn!D209=\"\"),\"\",StockIn!D209)","v":""},{"$f":"IF(OR(StockIn!G209=0,StockIn!G209=\"\"),\"\",StockIn!G209)","v":""},{"$f":"IF(OR(StockIn!H209=0,StockIn!H209=\"\"),\"\",StockIn!H209)","v":""},{"$f":"IF(OR(StockIn!L209=0,StockIn!L209=\"\"),\"\",StockIn!L209)","v":""},{"$f":"IF(OR(StockIn!E209=0,StockIn!E209=\"\"),\"\",StockIn!E209)","v":""},{"$f":"IF(OR(StockIn!M209=0,StockIn!M209=\"\"),\"\",StockIn!M209)","v":""}]
[{"$f":"StockIn!A210","v":1208},{"$f":"IF(OR(StockIn!B210=0,StockIn!B210=\"\"),\"\",StockIn!B210)","v":""},{"$f":"IF(OR(StockIn!D210=0,StockIn!D210=\"\"),\"\",StockIn!D210)","v":""},{"$f":"IF(OR(StockIn!G210=0,StockIn!G210=\"\"),\"\",StockIn!G210)","v":""},{"$f":"IF(OR(StockIn!H210=0,StockIn!H210=\"\"),\"\",StockIn!H210)","v":""},{"$f":"IF(OR(StockIn!L210=0,StockIn!L210=\"\"),\"\",StockIn!L210)","v":""},{"$f":"IF(OR(StockIn!E210=0,StockIn!E210=\"\"),\"\",StockIn!E210)","v":""},{"$f":"IF(OR(StockIn!M210=0,StockIn!M210=\"\"),\"\",StockIn!M210)","v":""}]
[{"$f":"StockIn!A211","v":1209},{"$f":"IF(OR(StockIn!B211=0,StockIn!B211=\"\"),\"\",StockIn!B211)","v":""},{"$f":"IF(OR(StockIn!D211=0,StockIn!D211=\"\"),\"\",StockIn!D211)","v":""},{"$f":"IF(OR(StockIn!G211=0,StockIn!G211=\"\"),\"\",StockIn!G211)","v":""},{"$f":"IF(OR(StockIn!H211=0,StockIn!H211=\"\"),\"\",StockIn!H211)","v":""},{"$f":"IF(OR(StockIn!L211=0,StockIn!L211=\"\"),\"\",StockIn!L211)","v":""},{"$f":"IF(OR(StockIn!E211=0,StockIn!E211=\"\"),\"\",StockIn!E211)","v":""},{"$f":"IF(OR(StockIn!M211=0,StockIn!M211=\"\"),\"\",StockIn!M211)","v":""}]
[{"$f":"StockIn!A212","v":1210},{"$f":"IF(OR(StockIn!B212=0,StockIn!B212=\"\"),\"\",StockIn!B212)","v":""},{"$f":"IF(OR(StockIn!D212=0,StockIn!D212=\"\"),\"\",StockIn!D212)","v":""},{"$f":"IF(OR(StockIn!G212=0,StockIn!G212=\"\"),\"\",StockIn!G212)","v":""},{"$f":"IF(OR(StockIn!H212=0,StockIn!H212=\"\"),\"\",StockIn!H212)","v":""},{"$f":"IF(OR(StockIn!L212=0,StockIn!L212=\"\"),\"\",StockIn!L212)","v":""},{"$f":"IF(OR(StockIn!E212=0,StockIn!E212=\"\"),\"\",StockIn!E212)","v":""},{"$f":"IF(OR(StockIn!M212=0,StockIn!M212=\"\"),\"\",StockIn!M212)","v":""}]
[{"$f":"StockIn!A213","v":1211},{"$f":"IF(OR(StockIn!B213=0,StockIn!B213=\"\"),\"\",StockIn!B213)","v":""},{"$f":"IF(OR(StockIn!D213=0,StockIn!D213=\"\"),\"\",StockIn!D213)","v":""},{"$f":"IF(OR(StockIn!G213=0,StockIn!G213=\"\"),\"\",StockIn!G213)","v":""},{"$f":"IF(OR(StockIn!H213=0,StockIn!H213=\"\"),\"\",StockIn!H213)","v":""},{"$f":"IF(OR(StockIn!L213=0,StockIn!L213=\"\"),\"\",StockIn!L213)","v":""},{"$f":"IF(OR(StockIn!E213=0,StockIn!E213=\"\"),\"\",StockIn!E213)","v":""},{"$f":"IF(OR(StockIn!M213=0,StockIn!M213=\"\"),\"\",StockIn!M213)","v":""}]
[{"$f":"StockIn!A214","v":1212},{"$f":"IF(OR(StockIn!B214=0,StockIn!B214=\"\"),\"\",StockIn!B214)","v":""},{"$f":"IF(OR(StockIn!D214=0,StockIn!D214=\"\"),\"\",StockIn!D214)","v":""},{"$f":"IF(OR(StockIn!G214=0,StockIn!G214=\"\"),\"\",StockIn!G214)","v":""},{"$f":"IF(OR(StockIn!H214=0,StockIn!H214=\"\"),\"\",StockIn!H214)","v":""},{"$f":"IF(OR(StockIn!L214=0,StockIn!L214=\"\"),\"\",StockIn!L214)","v":""},{"$f":"IF(OR(StockIn!E214=0,StockIn!E214=\"\"),\"\",StockIn!E214)","v":""},{"$f":"IF(OR(StockIn!M214=0,StockIn!M214=\"\"),\"\",StockIn!M214)","v":""}]
[{"$f":"StockIn!A215","v":1213},{"$f":"IF(OR(StockIn!B215=0,StockIn!B215=\"\"),\"\",StockIn!B215)","v":""},{"$f":"IF(OR(StockIn!D215=0,StockIn!D215=\"\"),\"\",StockIn!D215)","v":""},{"$f":"IF(OR(StockIn!G215=0,StockIn!G215=\"\"),\"\",StockIn!G215)","v":""},{"$f":"IF(OR(StockIn!H215=0,StockIn!H215=\"\"),\"\",StockIn!H215)","v":""},{"$f":"IF(OR(StockIn!L215=0,StockIn!L215=\"\"),\"\",StockIn!L215)","v":""},{"$f":"IF(OR(StockIn!E215=0,StockIn!E215=\"\"),\"\",StockIn!E215)","v":""},{"$f":"IF(OR(StockIn!M215=0,StockIn!M215=\"\"),\"\",StockIn!M215)","v":""}]
[{"$f":"StockIn!A216","v":1214},{"$f":"IF(OR(StockIn!B216=0,StockIn!B216=\"\"),\"\",StockIn!B216)","v":""},{"$f":"IF(OR(StockIn!D216=0,StockIn!D216=\"\"),\"\",StockIn!D216)","v":""},{"$f":"IF(OR(StockIn!G216=0,StockIn!G216=\"\"),\"\",StockIn!G216)","v":""},{"$f":"IF(OR(StockIn!H216=0,StockIn!H216=\"\"),\"\",StockIn!H216)","v":""},{"$f":"IF(OR(StockIn!L216=0,StockIn!L216=\"\"),\"\",StockIn!L216)","v":""},{"$f":"IF(OR(StockIn!E216=0,StockIn!E216=\"\"),\"\",StockIn!E216)","v":""},{"$f":"IF(OR(StockIn!M216=0,StockIn!M216=\"\"),\"\",StockIn!M216)","v":""}]
[{"$f":"StockIn!A217","v":1215},{"$f":"IF(OR(StockIn!B217=0,StockIn!B217=\"\"),\"\",StockIn!B217)","v":""},{"$f":"IF(OR(StockIn!D217=0,StockIn!D217=\"\"),\"\",StockIn!D217)","v":""},{"$f":"IF(OR(StockIn!G217=0,StockIn!G217=\"\"),\"\",StockIn!G217)","v":""},{"$f":"IF(OR(StockIn!H217=0,StockIn!H217=\"\"),\"\",StockIn!H217)","v":""},{"$f":"IF(OR(StockIn!L217=0,StockIn!L217=\"\"),\"\",StockIn!L217)","v":""},{"$f":"IF(OR(StockIn!E217=0,StockIn!E217=\"\"),\"\",StockIn!E217)","v":""},{"$f":"IF(OR(StockIn!M217=0,StockIn!M217=\"\"),\"\",StockIn!M217)","v":""}]
[{"$f":"StockIn!A218","v":1216},{"$f":"IF(OR(StockIn!B218=0,StockIn!B218=\"\"),\"\",StockIn!B218)","v":""},{"$f":"IF(OR(StockIn!D218=0,StockIn!D218=\"\"),\"\",StockIn!D218)","v":""},{"$f":"IF(OR(StockIn!G218=0,StockIn!G218=\"\"),\"\",StockIn!G218)","v":""},{"$f":"IF(OR(StockIn!H218=0,StockIn!H218=\"\"),\"\",StockIn!H218)","v":""},{"$f":"IF(OR(StockIn!L218=0,StockIn!L218=\"\"),\"\",StockIn!L218)","v":""},{"$f":"IF(OR(StockIn!E218=0,StockIn!E218=\"\"),\"\",StockIn!E218)","v":""},{"$f":"IF(OR(StockIn!M218=0,StockIn!M218=\"\"),\"\",StockIn!M218)","v":""}]
[{"$f":"StockIn!A219","v":1217},{"$f":"IF(OR(StockIn!B219=0,StockIn!B219=\"\"),\"\",StockIn!B219)","v":""},{"$f":"IF(OR(StockIn!D219=0,StockIn!D219=\"\"),\"\",StockIn!D219)","v":""},{"$f":"IF(OR(StockIn!G219=0,StockIn!G219=\"\"),\"\",StockIn!G219)","v":""},{"$f":"IF(OR(StockIn!H219=0,StockIn!H219=\"\"),\"\",StockIn!H219)","v":""},{"$f":"IF(OR(StockIn!L219=0,StockIn!L219=\"\"),\"\",StockIn!L219)","v":""},{"$f":"IF(OR(StockIn!E219=0,StockIn!E219=\"\"),\"\",StockIn!E219)","v":""},{"$f":"IF(OR(StockIn!M219=0,StockIn!M219=\"\"),\"\",StockIn!M219)","v":""}]
[{"$f":"StockIn!A220","v":1218},{"$f":"IF(OR(StockIn!B220=0,StockIn!B220=\"\"),\"\",StockIn!B220)","v":""},{"$f":"IF(OR(StockIn!D220=0,StockIn!D220=\"\"),\"\",StockIn!D220)","v":""},{"$f":"IF(OR(StockIn!G220=0,StockIn!G220=\"\"),\"\",StockIn!G220)","v":""},{"$f":"IF(OR(StockIn!H220=0,StockIn!H220=\"\"),\"\",StockIn!H220)","v":""},{"$f":"IF(OR(StockIn!L220=0,StockIn!L220=\"\"),\"\",StockIn!L220)","v":""},{"$f":"IF(OR(StockIn!E220=0,StockIn!E220=\"\"),\"\",StockIn!E220)","v":""},{"$f":"IF(OR(StockIn!M220=0,StockIn!M220=\"\"),\"\",StockIn!M220)","v":""}]
[{"$f":"StockIn!A221","v":1219},{"$f":"IF(OR(StockIn!B221=0,StockIn!B221=\"\"),\"\",StockIn!B221)","v":""},{"$f":"IF(OR(StockIn!D221=0,StockIn!D221=\"\"),\"\",StockIn!D221)","v":""},{"$f":"IF(OR(StockIn!G221=0,StockIn!G221=\"\"),\"\",StockIn!G221)","v":""},{"$f":"IF(OR(StockIn!H221=0,StockIn!H221=\"\"),\"\",StockIn!H221)","v":""},{"$f":"IF(OR(StockIn!L221=0,StockIn!L221=\"\"),\"\",StockIn!L221)","v":""},{"$f":"IF(OR(StockIn!E221=0,StockIn!E221=\"\"),\"\",StockIn!E221)","v":""},{"$f":"IF(OR(StockIn!M221=0,StockIn!M221=\"\"),\"\",StockIn!M221)","v":""}]
[{"$f":"StockIn!A222","v":1220},{"$f":"IF(OR(StockIn!B222=0,StockIn!B222=\"\"),\"\",StockIn!B222)","v":""},{"$f":"IF(OR(StockIn!D222=0,StockIn!D222=\"\"),\"\",StockIn!D222)","v":""},{"$f":"IF(OR(StockIn!G222=0,StockIn!G222=\"\"),\"\",StockIn!G222)","v":""},{"$f":"IF(OR(StockIn!H222=0,StockIn!H222=\"\"),\"\",StockIn!H222)","v":""},{"$f":"IF(OR(StockIn!L222=0,StockIn!L222=\"\"),\"\",StockIn!L222)","v":""},{"$f":"IF(OR(StockIn!E222=0,StockIn!E222=\"\"),\"\",StockIn!E222)","v":""},{"$f":"IF(OR(StockIn!M222=0,StockIn!M222=\"\"),\"\",StockIn!M222)","v":""}]
[{"$f":"StockIn!A223","v":1221},{"$f":"IF(OR(StockIn!B223=0,StockIn!B223=\"\"),\"\",StockIn!B223)","v":""},{"$f":"IF(OR(StockIn!D223=0,StockIn!D223=\"\"),\"\",StockIn!D223)","v":""},{"$f":"IF(OR(StockIn!G223=0,StockIn!G223=\"\"),\"\",StockIn!G223)","v":""},{"$f":"IF(OR(StockIn!H223=0,StockIn!H223=\"\"),\"\",StockIn!H223)","v":""},{"$f":"IF(OR(StockIn!L223=0,StockIn!L223=\"\"),\"\",StockIn!L223)","v":""},{"$f":"IF(OR(StockIn!E223=0,StockIn!E223=\"\"),\"\",StockIn!E223)","v":""},{"$f":"IF(OR(StockIn!M223=0,StockIn!M223=\"\"),\"\",StockIn!M223)","v":""}]
[{"$f":"StockIn!A224","v":1222},{"$f":"IF(OR(StockIn!B224=0,StockIn!B224=\"\"),\"\",StockIn!B224)","v":""},{"$f":"IF(OR(StockIn!D224=0,StockIn!D224=\"\"),\"\",StockIn!D224)","v":""},{"$f":"IF(OR(StockIn!G224=0,StockIn!G224=\"\"),\"\",StockIn!G224)","v":""},{"$f":"IF(OR(StockIn!H224=0,StockIn!H224=\"\"),\"\",StockIn!H224)","v":""},{"$f":"IF(OR(StockIn!L224=0,StockIn!L224=\"\"),\"\",StockIn!L224)","v":""},{"$f":"IF(OR(StockIn!E224=0,StockIn!E224=\"\"),\"\",StockIn!E224)","v":""},{"$f":"IF(OR(StockIn!M224=0,StockIn!M224=\"\"),\"\",StockIn!M224)","v":""}]
[{"$f":"StockIn!A225","v":1223},{"$f":"IF(OR(StockIn!B225=0,StockIn!B225=\"\"),\"\",StockIn!B225)","v":""},{"$f":"IF(OR(StockIn!D225=0,StockIn!D225=\"\"),\"\",StockIn!D225)","v":""},{"$f":"IF(OR(StockIn!G225=0,StockIn!G225=\"\"),\"\",StockIn!G225)","v":""},{"$f":"IF(OR(StockIn!H225=0,StockIn!H225=\"\"),\"\",StockIn!H225)","v":""},{"$f":"IF(OR(StockIn!L225=0,StockIn!L225=\"\"),\"\",StockIn!L225)","v":""},{"$f":"IF(OR(StockIn!E225=0,StockIn!E225=\"\"),\"\",StockIn!E225)","v":""},{"$f":"IF(OR(StockIn!M225=0,StockIn!M225=\"\"),\"\",StockIn!M225)","v":""}]
[{"$f":"StockIn!A226","v":1224},{"$f":"IF(OR(StockIn!B226=0,StockIn!B226=\"\"),\"\",StockIn!B226)","v":""},{"$f":"IF(OR(StockIn!D226=0,StockIn!D226=\"\"),\"\",StockIn!D226)","v":""},{"$f":"IF(OR(StockIn!G226=0,StockIn!G226=\"\"),\"\",StockIn!G226)","v":""},{"$f":"IF(OR(StockIn!H226=0,StockIn!H226=\"\"),\"\",StockIn!H226)","v":""},{"$f":"IF(OR(StockIn!L226=0,StockIn!L226=\"\"),\"\",StockIn!L226)","v":""},{"$f":"IF(OR(StockIn!E226=0,StockIn!E226=\"\"),\"\",StockIn!E226)","v":""},{"$f":"IF(OR(StockIn!M226=0,StockIn!M226=\"\"),\"\",StockIn!M226)","v":""}]
[{"$f":"StockIn!A227","v":1225},{"$f":"IF(OR(StockIn!B227=0,StockIn!B227=\"\"),\"\",StockIn!B227)","v":""},{"$f":"IF(OR(StockIn!D227=0,StockIn!D227=\"\"),\"\",StockIn!D227)","v":""},{"$f":"IF(OR(StockIn!G227=0,StockIn!G227=\"\"),\"\",StockIn!G227)","v":""},{"$f":"IF(OR(StockIn!H227=0,StockIn!H227=\"\"),\"\",StockIn!H227)","v":""},{"$f":"IF(OR(StockIn!L227=0,StockIn!L227=\"\"),\"\",StockIn!L227)","v":""},{"$f":"IF(OR(StockIn!E227=0,StockIn!E227=\"\"),\"\",StockIn!E227)","v":""},{"$f":"IF(OR(StockIn!M227=0,StockIn!M227=\"\"),\"\",StockIn!M227)","v":""}]
[{"$f":"StockIn!A228","v":1226},{"$f":"IF(OR(StockIn!B228=0,StockIn!B228=\"\"),\"\",StockIn!B228)","v":""},{"$f":"IF(OR(StockIn!D228=0,StockIn!D228=\"\"),\"\",StockIn!D228)","v":""},{"$f":"IF(OR(StockIn!G228=0,StockIn!G228=\"\"),\"\",StockIn!G228)","v":""},{"$f":"IF(OR(StockIn!H228=0,StockIn!H228=\"\"),\"\",StockIn!H228)","v":""},{"$f":"IF(OR(StockIn!L228=0,StockIn!L228=\"\"),\"\",StockIn!L228)","v":""},{"$f":"IF(OR(StockIn!E228=0,StockIn!E228=\"\"),\"\",StockIn!E228)","v":""},{"$f":"IF(OR(StockIn!M228=0,StockIn!M228=\"\"),\"\",StockIn!M228)","v":""}]
[{"$f":"StockIn!A229","v":1227},{"$f":"IF(OR(StockIn!B229=0,StockIn!B229=\"\"),\"\",StockIn!B229)","v":""},{"$f":"IF(OR(StockIn!D229=0,StockIn!D229=\"\"),\"\",StockIn!D229)","v":""},{"$f":"IF(OR(StockIn!G229=0,StockIn!G229=\"\"),\"\",StockIn!G229)","v":""},{"$f":"IF(OR(StockIn!H229=0,StockIn!H229=\"\"),\"\",StockIn!H229)","v":""},{"$f":"IF(OR(StockIn!L229=0,StockIn!L229=\"\"),\"\",StockIn!L229)","v":""},{"$f":"IF(OR(StockIn!E229=0,StockIn!E229=\"\"),\"\",StockIn!E229)","v":""},{"$f":"IF(OR(StockIn!M229=0,StockIn!M229=\"\"),\"\",StockIn!M229)","v":""}]
[{"$f":"StockIn!A230","v":1228},{"$f":"IF(OR(StockIn!B230=0,StockIn!B230=\"\"),\"\",StockIn!B230)","v":""},{"$f":"IF(OR(StockIn!D230=0,StockIn!D230=\"\"),\"\",StockIn!D230)","v":""},{"$f":"IF(OR(StockIn!G230=0,StockIn!G230=\"\"),\"\",StockIn!G230)","v":""},{"$f":"IF(OR(StockIn!H230=0,StockIn!H230=\"\"),\"\",StockIn!H230)","v":""},{"$f":"IF(OR(StockIn!L230=0,StockIn!L230=\"\"),\"\",StockIn!L230)","v":""},{"$f":"IF(OR(StockIn!E230=0,StockIn!E230=\"\"),\"\",StockIn!E230)","v":""},{"$f":"IF(OR(StockIn!M230=0,StockIn!M230=\"\"),\"\",StockIn!M230)","v":""}]
[{"$f":"StockIn!A231","v":1229},{"$f":"IF(OR(StockIn!B231=0,StockIn!B231=\"\"),\"\",StockIn!B231)","v":""},{"$f":"IF(OR(StockIn!D231=0,StockIn!D231=\"\"),\"\",StockIn!D231)","v":""},{"$f":"IF(OR(StockIn!G231=0,StockIn!G231=\"\"),\"\",StockIn!G231)","v":""},{"$f":"IF(OR(StockIn!H231=0,StockIn!H231=\"\"),\"\",StockIn!H231)","v":""},{"$f":"IF(OR(StockIn!L231=0,StockIn!L231=\"\"),\"\",StockIn!L231)","v":""},{"$f":"IF(OR(StockIn!E231=0,StockIn!E231=\"\"),\"\",StockIn!E231)","v":""},{"$f":"IF(OR(StockIn!M231=0,StockIn!M231=\"\"),\"\",StockIn!M231)","v":""}]
[{"$f":"StockIn!A232","v":1230},{"$f":"IF(OR(StockIn!B232=0,StockIn!B232=\"\"),\"\",StockIn!B232)","v":""},{"$f":"IF(OR(StockIn!D232=0,StockIn!D232=\"\"),\"\",StockIn!D232)","v":""},{"$f":"IF(OR(StockIn!G232=0,StockIn!G232=\"\"),\"\",StockIn!G232)","v":""},{"$f":"IF(OR(StockIn!H232=0,StockIn!H232=\"\"),\"\",StockIn!H232)","v":""},{"$f":"IF(OR(StockIn!L232=0,StockIn!L232=\"\"),\"\",StockIn!L232)","v":""},{"$f":"IF(OR(StockIn!E232=0,StockIn!E232=\"\"),\"\",StockIn!E232)","v":""},{"$f":"IF(OR(StockIn!M232=0,StockIn!M232=\"\"),\"\",StockIn!M232)","v":""}]
[{"$f":"StockIn!A233","v":1231},{"$f":"IF(OR(StockIn!B233=0,StockIn!B233=\"\"),\"\",StockIn!B233)","v":""},{"$f":"IF(OR(StockIn!D233=0,StockIn!D233=\"\"),\"\",StockIn!D233)","v":""},{"$f":"IF(OR(StockIn!G233=0,StockIn!G233=\"\"),\"\",StockIn!G233)","v":""},{"$f":"IF(OR(StockIn!H233=0,StockIn!H233=\"\"),\"\",StockIn!H233)","v":""},{"$f":"IF(OR(StockIn!L233=0,StockIn!L233=\"\"),\"\",StockIn!L233)","v":""},{"$f":"IF(OR(StockIn!E233=0,StockIn!E233=\"\"),\"\",StockIn!E233)","v":""},{"$f":"IF(OR(StockIn!M233=0,StockIn!M233=\"\"),\"\",StockIn!M233)","v":""}]
[{"$f":"StockIn!A234","v":1232},{"$f":"IF(OR(StockIn!B234=0,StockIn!B234=\"\"),\"\",StockIn!B234)","v":""},{"$f":"IF(OR(StockIn!D234=0,StockIn!D234=\"\"),\"\",StockIn!D234)","v":""},{"$f":"IF(OR(StockIn!G234=0,StockIn!G234=\"\"),\"\",StockIn!G234)","v":""},{"$f":"IF(OR(StockIn!H234=0,StockIn!H234=\"\"),\"\",StockIn!H234)","v":""},{"$f":"IF(OR(StockIn!L234=0,StockIn!L234=\"\"),\"\",StockIn!L234)","v":""},{"$f":"IF(OR(StockIn!E234=0,StockIn!E234=\"\"),\"\",StockIn!E234)","v":""},{"$f":"IF(OR(StockIn!M234=0,StockIn!M234=\"\"),\"\",StockIn!M234)","v":""}]
[{"$f":"StockIn!A235","v":1233},{"$f":"IF(OR(StockIn!B235=0,StockIn!B235=\"\"),\"\",StockIn!B235)","v":""},{"$f":"IF(OR(StockIn!D235=0,StockIn!D235=\"\"),\"\",StockIn!D235)","v":""},{"$f":"IF(OR(StockIn!G235=0,StockIn!G235=\"\"),\"\",StockIn!G235)","v":""},{"$f":"IF(OR(StockIn!H235=0,StockIn!H235=\"\"),\"\",StockIn!H235)","v":""},{"$f":"IF(OR(StockIn!L235=0,StockIn!L235=\"\"),\"\",StockIn!L235)","v":""},{"$f":"IF(OR(StockIn!E235=0,StockIn!E235=\"\"),\"\",StockIn!E235)","v":""},{"$f":"IF(OR(StockIn!M235=0,StockIn!M235=\"\"),\"\",StockIn!M235)","v":""}]
[{"$f":"StockIn!A236","v":1234},{"$f":"IF(OR(StockIn!B236=0,StockIn!B236=\"\"),\"\",StockIn!B236)","v":""},{"$f":"IF(OR(StockIn!D236=0,StockIn!D236=\"\"),\"\",StockIn!D236)","v":""},{"$f":"IF(OR(StockIn!G236=0,StockIn!G236=\"\"),\"\",StockIn!G236)","v":""},{"$f":"IF(OR(StockIn!H236=0,StockIn!H236=\"\"),\"\",StockIn!H236)","v":""},{"$f":"IF(OR(StockIn!L236=0,StockIn!L236=\"\"),\"\",StockIn!L236)","v":""},{"$f":"IF(OR(StockIn!E236=0,StockIn!E236=\"\"),\"\",StockIn!E236)","v":""},{"$f":"IF(OR(StockIn!M236=0,StockIn!M236=\"\"),\"\",StockIn!M236)","v":""}]
[{"$f":"StockIn!A237","v":1235},{"$f":"IF(OR(StockIn!B237=0,StockIn!B237=\"\"),\"\",StockIn!B237)","v":""},{"$f":"IF(OR(StockIn!D237=0,StockIn!D237=\"\"),\"\",StockIn!D237)","v":""},{"$f":"IF(OR(StockIn!G237=0,StockIn!G237=\"\"),\"\",StockIn!G237)","v":""},{"$f":"IF(OR(StockIn!H237=0,StockIn!H237=\"\"),\"\",StockIn!H237)","v":""},{"$f":"IF(OR(StockIn!L237=0,StockIn!L237=\"\"),\"\",StockIn!L237)","v":""},{"$f":"IF(OR(StockIn!E237=0,StockIn!E237=\"\"),\"\",StockIn!E237)","v":""},{"$f":"IF(OR(StockIn!M237=0,StockIn!M237=\"\"),\"\",StockIn!M237)","v":""}]
[{"$f":"StockIn!A238","v":1236},{"$f":"IF(OR(StockIn!B238=0,StockIn!B238=\"\"),\"\",StockIn!B238)","v":""},{"$f":"IF(OR(StockIn!D238=0,StockIn!D238=\"\"),\"\",StockIn!D238)","v":""},{"$f":"IF(OR(StockIn!G238=0,StockIn!G238=\"\"),\"\",StockIn!G238)","v":""},{"$f":"IF(OR(StockIn!H238=0,StockIn!H238=\"\"),\"\",StockIn!H238)","v":""},{"$f":"IF(OR(StockIn!L238=0,StockIn!L238=\"\"),\"\",StockIn!L238)","v":""},{"$f":"IF(OR(StockIn!E238=0,StockIn!E238=\"\"),\"\",StockIn!E238)","v":""},{"$f":"IF(OR(StockIn!M238=0,StockIn!M238=\"\"),\"\",StockIn!M238)","v":""}]
[{"$f":"StockIn!A239","v":1237},{"$f":"IF(OR(StockIn!B239=0,StockIn!B239=\"\"),\"\",StockIn!B239)","v":""},{"$f":"IF(OR(StockIn!D239=0,StockIn!D239=\"\"),\"\",StockIn!D239)","v":""},{"$f":"IF(OR(StockIn!G239=0,StockIn!G239=\"\"),\"\",StockIn!G239)","v":""},{"$f":"IF(OR(StockIn!H239=0,StockIn!H239=\"\"),\"\",StockIn!H239)","v":""},{"$f":"IF(OR(StockIn!L239=0,StockIn!L239=\"\"),\"\",StockIn!L239)","v":""},{"$f":"IF(OR(StockIn!E239=0,StockIn!E239=\"\"),\"\",StockIn!E239)","v":""},{"$f":"IF(OR(StockIn!M239=0,StockIn!M239=\"\"),\"\",StockIn!M239)","v":""}]
[{"$f":"StockIn!A240","v":1238},{"$f":"IF(OR(StockIn!B240=0,StockIn!B240=\"\"),\"\",StockIn!B240)","v":""},{"$f":"IF(OR(StockIn!D240=0,StockIn!D240=\"\"),\"\",StockIn!D240)","v":""},{"$f":"IF(OR(StockIn!G240=0,StockIn!G240=\"\"),\"\",StockIn!G240)","v":""},{"$f":"IF(OR(StockIn!H240=0,StockIn!H240=\"\"),\"\",StockIn!H240)","v":""},{"$f":"IF(OR(StockIn!L240=0,StockIn!L240=\"\"),\"\",StockIn!L240)","v":""},{"$f":"IF(OR(StockIn!E240=0,StockIn!E240=\"\"),\"\",StockIn!E240)","v":""},{"$f":"IF(OR(StockIn!M240=0,StockIn!M240=\"\"),\"\",StockIn!M240)","v":""}]
[{"$f":"StockIn!A241","v":1239},{"$f":"IF(OR(StockIn!B241=0,StockIn!B241=\"\"),\"\",StockIn!B241)","v":""},{"$f":"IF(OR(StockIn!D241=0,StockIn!D241=\"\"),\"\",StockIn!D241)","v":""},{"$f":"IF(OR(StockIn!G241=0,StockIn!G241=\"\"),\"\",StockIn!G241)","v":""},{"$f":"IF(OR(StockIn!H241=0,StockIn!H241=\"\"),\"\",StockIn!H241)","v":""},{"$f":"IF(OR(StockIn!L241=0,StockIn!L241=\"\"),\"\",StockIn!L241)","v":""},{"$f":"IF(OR(StockIn!E241=0,StockIn!E241=\"\"),\"\",StockIn!E241)","v":""},{"$f":"IF(OR(StockIn!M241=0,StockIn!M241=\"\"),\"\",StockIn!M241)","v":""}]
[{"$f":"StockIn!A242","v":1240},{"$f":"IF(OR(StockIn!B242=0,StockIn!B242=\"\"),\"\",StockIn!B242)","v":""},{"$f":"IF(OR(StockIn!D242=0,StockIn!D242=\"\"),\"\",StockIn!D242)","v":""},{"$f":"IF(OR(StockIn!G242=0,StockIn!G242=\"\"),\"\",StockIn!G242)","v":""},{"$f":"IF(OR(StockIn!H242=0,StockIn!H242=\"\"),\"\",StockIn!H242)","v":""},{"$f":"IF(OR(StockIn!L242=0,StockIn!L242=\"\"),\"\",StockIn!L242)","v":""},{"$f":"IF(OR(StockIn!E242=0,StockIn!E242=\"\"),\"\",StockIn!E242)","v":""},{"$f":"IF(OR(StockIn!M242=0,StockIn!M242=\"\"),\"\",StockIn!M242)","v":""}]
[{"$f":"StockIn!A243","v":1241},{"$f":"IF(OR(StockIn!B243=0,StockIn!B243=\"\"),\"\",StockIn!B243)","v":""},{"$f":"IF(OR(StockIn!D243=0,StockIn!D243=\"\"),\"\",StockIn!D243)","v":""},{"$f":"IF(OR(StockIn!G243=0,StockIn!G243=\"\"),\"\",StockIn!G243)","v":""},{"$f":"IF(OR(StockIn!H243=0,StockIn!H243=\"\"),\"\",StockIn!H243)","v":""},{"$f":"IF(OR(StockIn!L243=0,StockIn!L243=\"\"),\"\",StockIn!L243)","v":""},{"$f":"IF(OR(StockIn!E243=0,StockIn!E243=\"\"),\"\",StockIn!E243)","v":""},{"$f":"IF(OR(StockIn!M243=0,StockIn!M243=\"\"),\"\",StockIn!M243)","v":""}]
[{"$f":"StockIn!A244","v":1242},{"$f":"IF(OR(StockIn!B244=0,StockIn!B244=\"\"),\"\",StockIn!B244)","v":""},{"$f":"IF(OR(StockIn!D244=0,StockIn!D244=\"\"),\"\",StockIn!D244)","v":""},{"$f":"IF(OR(StockIn!G244=0,StockIn!G244=\"\"),\"\",StockIn!G244)","v":""},{"$f":"IF(OR(StockIn!H244=0,StockIn!H244=\"\"),\"\",StockIn!H244)","v":""},{"$f":"IF(OR(StockIn!L244=0,StockIn!L244=\"\"),\"\",StockIn!L244)","v":""},{"$f":"IF(OR(StockIn!E244=0,StockIn!E244=\"\"),\"\",StockIn!E244)","v":""},{"$f":"IF(OR(StockIn!M244=0,StockIn!M244=\"\"),\"\",StockIn!M244)","v":""}]
[{"$f":"StockIn!A245","v":1243},{"$f":"IF(OR(StockIn!B245=0,StockIn!B245=\"\"),\"\",StockIn!B245)","v":""},{"$f":"IF(OR(StockIn!D245=0,StockIn!D245=\"\"),\"\",StockIn!D245)","v":""},{"$f":"IF(OR(StockIn!G245=0,StockIn!G245=\"\"),\"\",StockIn!G245)","v":""},{"$f":"IF(OR(StockIn!H245=0,StockIn!H245=\"\"),\"\",StockIn!H245)","v":""},{"$f":"IF(OR(StockIn!L245=0,StockIn!L245=\"\"),\"\",StockIn!L245)","v":""},{"$f":"IF(OR(StockIn!E245=0,StockIn!E245=\"\"),\"\",StockIn!E245)","v":""},{"$f":"IF(OR(StockIn!M245=0,StockIn!M245=\"\"),\"\",StockIn!M245)","v":""}]
[{"$f":"StockIn!A246","v":1244},{"$f":"IF(OR(StockIn!B246=0,StockIn!B246=\"\"),\"\",StockIn!B246)","v":""},{"$f":"IF(OR(StockIn!D246=0,StockIn!D246=\"\"),\"\",StockIn!D246)","v":""},{"$f":"IF(OR(StockIn!G246=0,StockIn!G246=\"\"),\"\",StockIn!G246)","v":""},{"$f":"IF(OR(StockIn!H246=0,StockIn!H246=\"\"),\"\",StockIn!H246)","v":""},{"$f":"IF(OR(StockIn!L246=0,StockIn!L246=\"\"),\"\",StockIn!L246)","v":""},{"$f":"IF(OR(StockIn!E246=0,StockIn!E246=\"\"),\"\",StockIn!E246)","v":""},{"$f":"IF(OR(StockIn!M246=0,StockIn!M246=\"\"),\"\",StockIn!M246)","v":""}]
[{"$f":"StockIn!A247","v":1245},{"$f":"IF(OR(StockIn!B247=0,StockIn!B247=\"\"),\"\",StockIn!B247)","v":""},{"$f":"IF(OR(StockIn!D247=0,StockIn!D247=\"\"),\"\",StockIn!D247)","v":""},{"$f":"IF(OR(StockIn!G247=0,StockIn!G247=\"\"),\"\",StockIn!G247)","v":""},{"$f":"IF(OR(StockIn!H247=0,StockIn!H247=\"\"),\"\",StockIn!H247)","v":""},{"$f":"IF(OR(StockIn!L247=0,StockIn!L247=\"\"),\"\",StockIn!L247)","v":""},{"$f":"IF(OR(StockIn!E247=0,StockIn!E247=\"\"),\"\",StockIn!E247)","v":""},{"$f":"IF(OR(StockIn!M247=0,StockIn!M247=\"\"),\"\",StockIn!M247)","v":""}]
[{"$f":"StockIn!A248","v":1246},{"$f":"IF(OR(StockIn!B248=0,StockIn!B248=\"\"),\"\",StockIn!B248)","v":""},{"$f":"IF(OR(StockIn!D248=0,StockIn!D248=\"\"),\"\",StockIn!D248)","v":""},{"$f":"IF(OR(StockIn!G248=0,StockIn!G248=\"\"),\"\",StockIn!G248)","v":""},{"$f":"IF(OR(StockIn!H248=0,StockIn!H248=\"\"),\"\",StockIn!H248)","v":""},{"$f":"IF(OR(StockIn!L248=0,StockIn!L248=\"\"),\"\",StockIn!L248)","v":""},{"$f":"IF(OR(StockIn!E248=0,StockIn!E248=\"\"),\"\",StockIn!E248)","v":""},{"$f":"IF(OR(StockIn!M248=0,StockIn!M248=\"\"),\"\",StockIn!M248)","v":""}]
[{"$f":"StockIn!A249","v":1247},{"$f":"IF(OR(StockIn!B249=0,StockIn!B249=\"\"),\"\",StockIn!B249)","v":""},{"$f":"IF(OR(StockIn!D249=0,StockIn!D249=\"\"),\"\",StockIn!D249)","v":""},{"$f":"IF(OR(StockIn!G249=0,StockIn!G249=\"\"),\"\",StockIn!G249)","v":""},{"$f":"IF(OR(StockIn!H249=0,StockIn!H249=\"\"),\"\",StockIn!H249)","v":""},{"$f":"IF(OR(StockIn!L249=0,StockIn!L249=\"\"),\"\",StockIn!L249)","v":""},{"$f":"IF(OR(StockIn!E249=0,StockIn!E249=\"\"),\"\",StockIn!E249)","v":""},{"$f":"IF(OR(StockIn!M249=0,StockIn!M249=\"\"),\"\",StockIn!M249)","v":""}]
[{"$f":"StockIn!A250","v":1248},{"$f":"IF(OR(StockIn!B250=0,StockIn!B250=\"\"),\"\",StockIn!B250)","v":""},{"$f":"IF(OR(StockIn!D250=0,StockIn!D250=\"\"),\"\",StockIn!D250)","v":""},{"$f":"IF(OR(StockIn!G250=0,StockIn!G250=\"\"),\"\",StockIn!G250)","v":""},{"$f":"IF(OR(StockIn!H250=0,StockIn!H250=\"\"),\"\",StockIn!H250)","v":""},{"$f":"IF(OR(StockIn!L250=0,StockIn!L250=\"\"),\"\",StockIn!L250)","v":""},{"$f":"IF(OR(StockIn!E250=0,StockIn!E250=\"\"),\"\",StockIn!E250)","v":""},{"$f":"IF(OR(StockIn!M250=0,StockIn!M250=\"\"),\"\",StockIn!M250)","v":""}]
[{"$f":"StockIn!A251","v":1249},{"$f":"IF(OR(StockIn!B251=0,StockIn!B251=\"\"),\"\",StockIn!B251)","v":""},{"$f":"IF(OR(StockIn!D251=0,StockIn!D251=\"\"),\"\",StockIn!D251)","v":""},{"$f":"IF(OR(StockIn!G251=0,StockIn!G251=\"\"),\"\",StockIn!G251)","v":""},{"$f":"IF(OR(StockIn!H251=0,StockIn!H251=\"\"),\"\",StockIn!H251)","v":""},{"$f":"IF(OR(StockIn!L251=0,StockIn!L251=\"\"),\"\",StockIn!L251)","v":""},{"$f":"IF(OR(StockIn!E251=0,StockIn!E251=\"\"),\"\",StockIn!E251)","v":""},{"$f":"IF(OR(StockIn!M251=0,StockIn!M251=\"\"),\"\",StockIn!M251)","v":""}]
[{"$f":"StockIn!A252","v":1250},{"$f":"IF(OR(StockIn!B252=0,StockIn!B252=\"\"),\"\",StockIn!B252)","v":""},{"$f":"IF(OR(StockIn!D252=0,StockIn!D252=\"\"),\"\",StockIn!D252)","v":""},{"$f":"IF(OR(StockIn!G252=0,StockIn!G252=\"\"),\"\",StockIn!G252)","v":""},{"$f":"IF(OR(StockIn!H252=0,StockIn!H252=\"\"),\"\",StockIn!H252)","v":""},{"$f":"IF(OR(StockIn!L252=0,StockIn!L252=\"\"),\"\",StockIn!L252)","v":""},{"$f":"IF(OR(StockIn!E252=0,StockIn!E252=\"\"),\"\",StockIn!E252)","v":""},{"$f":"IF(OR(StockIn!M252=0,StockIn!M252=\"\"),\"\",StockIn!M252)","v":""}]
[{"$f":"StockIn!A253","v":1251},{"$f":"IF(OR(StockIn!B253=0,StockIn!B253=\"\"),\"\",StockIn!B253)","v":""},{"$f":"IF(OR(StockIn!D253=0,StockIn!D253=\"\"),\"\",StockIn!D253)","v":""},{"$f":"IF(OR(StockIn!G253=0,StockIn!G253=\"\"),\"\",StockIn!G253)","v":""},{"$f":"IF(OR(StockIn!H253=0,StockIn!H253=\"\"),\"\",StockIn!H253)","v":""},{"$f":"IF(OR(StockIn!L253=0,StockIn!L253=\"\"),\"\",StockIn!L253)","v":""},{"$f":"IF(OR(StockIn!E253=0,StockIn!E253=\"\"),\"\",StockIn!E253)","v":""},{"$f":"IF(OR(StockIn!M253=0,StockIn!M253=\"\"),\"\",StockIn!M253)","v":""}]
[{"$f":"StockIn!A254","v":1252},{"$f":"IF(OR(StockIn!B254=0,StockIn!B254=\"\"),\"\",StockIn!B254)","v":""},{"$f":"IF(OR(StockIn!D254=0,StockIn!D254=\"\"),\"\",StockIn!D254)","v":""},{"$f":"IF(OR(StockIn!G254=0,StockIn!G254=\"\"),\"\",StockIn!G254)","v":""},{"$f":"IF(OR(StockIn!H254=0,StockIn!H254=\"\"),\"\",StockIn!H254)","v":""},{"$f":"IF(OR(StockIn!L254=0,StockIn!L254=\"\"),\"\",StockIn!L254)","v":""},{"$f":"IF(OR(StockIn!E254=0,StockIn!E254=\"\"),\"\",StockIn!E254)","v":""},{"$f":"IF(OR(StockIn!M254=0,StockIn!M254=\"\"),\"\",StockIn!M254)","v":""}]
[{"$f":"StockIn!A255","v":1253},{"$f":"IF(OR(StockIn!B255=0,StockIn!B255=\"\"),\"\",StockIn!B255)","v":""},{"$f":"IF(OR(StockIn!D255=0,StockIn!D255=\"\"),\"\",StockIn!D255)","v":""},{"$f":"IF(OR(StockIn!G255=0,StockIn!G255=\"\"),\"\",StockIn!G255)","v":""},{"$f":"IF(OR(StockIn!H255=0,StockIn!H255=\"\"),\"\",StockIn!H255)","v":""},{"$f":"IF(OR(StockIn!L255=0,StockIn!L255=\"\"),\"\",StockIn!L255)","v":""},{"$f":"IF(OR(StockIn!E255=0,StockIn!E255=\"\"),\"\",StockIn!E255)","v":""},{"$f":"IF(OR(StockIn!M255=0,StockIn!M255=\"\"),\"\",StockIn!M255)","v":""}]
[{"$f":"StockIn!A256","v":1254},{"$f":"IF(OR(StockIn!B256=0,StockIn!B256=\"\"),\"\",StockIn!B256)","v":""},{"$f":"IF(OR(StockIn!D256=0,StockIn!D256=\"\"),\"\",StockIn!D256)","v":""},{"$f":"IF(OR(StockIn!G256=0,StockIn!G256=\"\"),\"\",StockIn!G256)","v":""},{"$f":"IF(OR(StockIn!H256=0,StockIn!H256=\"\"),\"\",StockIn!H256)","v":""},{"$f":"IF(OR(StockIn!L256=0,StockIn!L256=\"\"),\"\",StockIn!L256)","v":""},{"$f":"IF(OR(StockIn!E256=0,StockIn!E256=\"\"),\"\",StockIn!E256)","v":""},{"$f":"IF(OR(StockIn!M256=0,StockIn!M256=\"\"),\"\",StockIn!M256)","v":""}]
[{"$f":"StockIn!A257","v":1255},{"$f":"IF(OR(StockIn!B257=0,StockIn!B257=\"\"),\"\",StockIn!B257)","v":""},{"$f":"IF(OR(StockIn!D257=0,StockIn!D257=\"\"),\"\",StockIn!D257)","v":""},{"$f":"IF(OR(StockIn!G257=0,StockIn!G257=\"\"),\"\",StockIn!G257)","v":""},{"$f":"IF(OR(StockIn!H257=0,StockIn!H257=\"\"),\"\",StockIn!H257)","v":""},{"$f":"IF(OR(StockIn!L257=0,StockIn!L257=\"\"),\"\",StockIn!L257)","v":""},{"$f":"IF(OR(StockIn!E257=0,StockIn!E257=\"\"),\"\",StockIn!E257)","v":""},{"$f":"IF(OR(StockIn!M257=0,StockIn!M257=\"\"),\"\",StockIn!M257)","v":""}]
[{"$f":"StockIn!A258","v":1256},{"$f":"IF(OR(StockIn!B258=0,StockIn!B258=\"\"),\"\",StockIn!B258)","v":""},{"$f":"IF(OR(StockIn!D258=0,StockIn!D258=\"\"),\"\",StockIn!D258)","v":""},{"$f":"IF(OR(StockIn!G258=0,StockIn!G258=\"\"),\"\",StockIn!G258)","v":""},{"$f":"IF(OR(StockIn!H258=0,StockIn!H258=\"\"),\"\",StockIn!H258)","v":""},{"$f":"IF(OR(StockIn!L258=0,StockIn!L258=\"\"),\"\",StockIn!L258)","v":""},{"$f":"IF(OR(StockIn!E258=0,StockIn!E258=\"\"),\"\",StockIn!E258)","v":""},{"$f":"IF(OR(StockIn!M258=0,StockIn!M258=\"\"),\"\",StockIn!M258)","v":""}]
[{"$f":"StockIn!A259","v":1257},{"$f":"IF(OR(StockIn!B259=0,StockIn!B259=\"\"),\"\",StockIn!B259)","v":""},{"$f":"IF(OR(StockIn!D259=0,StockIn!D259=\"\"),\"\",StockIn!D259)","v":""},{"$f":"IF(OR(StockIn!G259=0,StockIn!G259=\"\"),\"\",StockIn!G259)","v":""},{"$f":"IF(OR(StockIn!H259=0,StockIn!H259=\"\"),\"\",StockIn!H259)","v":""},{"$f":"IF(OR(StockIn!L259=0,StockIn!L259=\"\"),\"\",StockIn!L259)","v":""},{"$f":"IF(OR(StockIn!E259=0,StockIn!E259=\"\"),\"\",StockIn!E259)","v":""},{"$f":"IF(OR(StockIn!M259=0,StockIn!M259=\"\"),\"\",StockIn!M259)","v":""}]
[{"$f":"StockIn!A260","v":1258},{"$f":"IF(OR(StockIn!B260=0,StockIn!B260=\"\"),\"\",StockIn!B260)","v":""},{"$f":"IF(OR(StockIn!D260=0,StockIn!D260=\"\"),\"\",StockIn!D260)","v":""},{"$f":"IF(OR(StockIn!G260=0,StockIn!G260=\"\"),\"\",StockIn!G260)","v":""},{"$f":"IF(OR(StockIn!H260=0,StockIn!H260=\"\"),\"\",StockIn!H260)","v":""},{"$f":"IF(OR(StockIn!L260=0,StockIn!L260=\"\"),\"\",StockIn!L260)","v":""},{"$f":"IF(OR(StockIn!E260=0,StockIn!E260=\"\"),\"\",StockIn!E260)","v":""},{"$f":"IF(OR(StockIn!M260=0,StockIn!M260=\"\"),\"\",StockIn!M260)","v":""}]
[{"$f":"StockIn!A261","v":1259},{"$f":"IF(OR(StockIn!B261=0,StockIn!B261=\"\"),\"\",StockIn!B261)","v":""},{"$f":"IF(OR(StockIn!D261=0,StockIn!D261=\"\"),\"\",StockIn!D261)","v":""},{"$f":"IF(OR(StockIn!G261=0,StockIn!G261=\"\"),\"\",StockIn!G261)","v":""},{"$f":"IF(OR(StockIn!H261=0,StockIn!H261=\"\"),\"\",StockIn!H261)","v":""},{"$f":"IF(OR(StockIn!L261=0,StockIn!L261=\"\"),\"\",StockIn!L261)","v":""},{"$f":"IF(OR(StockIn!E261=0,StockIn!E261=\"\"),\"\",StockIn!E261)","v":""},{"$f":"IF(OR(StockIn!M261=0,StockIn!M261=\"\"),\"\",StockIn!M261)","v":""}]
[{"$f":"StockIn!A262","v":1260},{"$f":"IF(OR(StockIn!B262=0,StockIn!B262=\"\"),\"\",StockIn!B262)","v":""},{"$f":"IF(OR(StockIn!D262=0,StockIn!D262=\"\"),\"\",StockIn!D262)","v":""},{"$f":"IF(OR(StockIn!G262=0,StockIn!G262=\"\"),\"\",StockIn!G262)","v":""},{"$f":"IF(OR(StockIn!H262=0,StockIn!H262=\"\"),\"\",StockIn!H262)","v":""},{"$f":"IF(OR(StockIn!L262=0,StockIn!L262=\"\"),\"\",StockIn!L262)","v":""},{"$f":"IF(OR(StockIn!E262=0,StockIn!E262=\"\"),\"\",StockIn!E262)","v":""},{"$f":"IF(OR(StockIn!M262=0,StockIn!M262=\"\"),\"\",StockIn!M262)","v":""}]
[{"$f":"StockIn!A263","v":1261},{"$f":"IF(OR(StockIn!B263=0,StockIn!B263=\"\"),\"\",StockIn!B263)","v":""},{"$f":"IF(OR(StockIn!D263=0,StockIn!D263=\"\"),\"\",StockIn!D263)","v":""},{"$f":"IF(OR(StockIn!G263=0,StockIn!G263=\"\"),\"\",StockIn!G263)","v":""},{"$f":"IF(OR(StockIn!H263=0,StockIn!H263=\"\"),\"\",StockIn!H263)","v":""},{"$f":"IF(OR(StockIn!L263=0,StockIn!L263=\"\"),\"\",StockIn!L263)","v":""},{"$f":"IF(OR(StockIn!E263=0,StockIn!E263=\"\"),\"\",StockIn!E263)","v":""},{"$f":"IF(OR(StockIn!M263=0,StockIn!M263=\"\"),\"\",StockIn!M263)","v":""}]
[{"$f":"StockIn!A264","v":1262},{"$f":"IF(OR(StockIn!B264=0,StockIn!B264=\"\"),\"\",StockIn!B264)","v":""},{"$f":"IF(OR(StockIn!D264=0,StockIn!D264=\"\"),\"\",StockIn!D264)","v":""},{"$f":"IF(OR(StockIn!G264=0,StockIn!G264=\"\"),\"\",StockIn!G264)","v":""},{"$f":"IF(OR(StockIn!H264=0,StockIn!H264=\"\"),\"\",StockIn!H264)","v":""},{"$f":"IF(OR(StockIn!L264=0,StockIn!L264=\"\"),\"\",StockIn!L264)","v":""},{"$f":"IF(OR(StockIn!E264=0,StockIn!E264=\"\"),\"\",StockIn!E264)","v":""},{"$f":"IF(OR(StockIn!M264=0,StockIn!M264=\"\"),\"\",StockIn!M264)","v":""}]
[{"$f":"StockIn!A265","v":1263},{"$f":"IF(OR(StockIn!B265=0,StockIn!B265=\"\"),\"\",StockIn!B265)","v":""},{"$f":"IF(OR(StockIn!D265=0,StockIn!D265=\"\"),\"\",StockIn!D265)","v":""},{"$f":"IF(OR(StockIn!G265=0,StockIn!G265=\"\"),\"\",StockIn!G265)","v":""},{"$f":"IF(OR(StockIn!H265=0,StockIn!H265=\"\"),\"\",StockIn!H265)","v":""},{"$f":"IF(OR(StockIn!L265=0,StockIn!L265=\"\"),\"\",StockIn!L265)","v":""},{"$f":"IF(OR(StockIn!E265=0,StockIn!E265=\"\"),\"\",StockIn!E265)","v":""},{"$f":"IF(OR(StockIn!M265=0,StockIn!M265=\"\"),\"\",StockIn!M265)","v":""}]
[{"$f":"StockIn!A266","v":1264},{"$f":"IF(OR(StockIn!B266=0,StockIn!B266=\"\"),\"\",StockIn!B266)","v":""},{"$f":"IF(OR(StockIn!D266=0,StockIn!D266=\"\"),\"\",StockIn!D266)","v":""},{"$f":"IF(OR(StockIn!G266=0,StockIn!G266=\"\"),\"\",StockIn!G266)","v":""},{"$f":"IF(OR(StockIn!H266=0,StockIn!H266=\"\"),\"\",StockIn!H266)","v":""},{"$f":"IF(OR(StockIn!L266=0,StockIn!L266=\"\"),\"\",StockIn!L266)","v":""},{"$f":"IF(OR(StockIn!E266=0,StockIn!E266=\"\"),\"\",StockIn!E266)","v":""},{"$f":"IF(OR(StockIn!M266=0,StockIn!M266=\"\"),\"\",StockIn!M266)","v":""}]
[{"$f":"StockIn!A267","v":1265},{"$f":"IF(OR(StockIn!B267=0,StockIn!B267=\"\"),\"\",StockIn!B267)","v":""},{"$f":"IF(OR(StockIn!D267=0,StockIn!D267=\"\"),\"\",StockIn!D267)","v":""},{"$f":"IF(OR(StockIn!G267=0,StockIn!G267=\"\"),\"\",StockIn!G267)","v":""},{"$f":"IF(OR(StockIn!H267=0,StockIn!H267=\"\"),\"\",StockIn!H267)","v":""},{"$f":"IF(OR(StockIn!L267=0,StockIn!L267=\"\"),\"\",StockIn!L267)","v":""},{"$f":"IF(OR(StockIn!E267=0,StockIn!E267=\"\"),\"\",StockIn!E267)","v":""},{"$f":"IF(OR(StockIn!M267=0,StockIn!M267=\"\"),\"\",StockIn!M267)","v":""}]
[{"$f":"StockIn!A268","v":1266},{"$f":"IF(OR(StockIn!B268=0,StockIn!B268=\"\"),\"\",StockIn!B268)","v":""},{"$f":"IF(OR(StockIn!D268=0,StockIn!D268=\"\"),\"\",StockIn!D268)","v":""},{"$f":"IF(OR(StockIn!G268=0,StockIn!G268=\"\"),\"\",StockIn!G268)","v":""},{"$f":"IF(OR(StockIn!H268=0,StockIn!H268=\"\"),\"\",StockIn!H268)","v":""},{"$f":"IF(OR(StockIn!L268=0,StockIn!L268=\"\"),\"\",StockIn!L268)","v":""},{"$f":"IF(OR(StockIn!E268=0,StockIn!E268=\"\"),\"\",StockIn!E268)","v":""},{"$f":"IF(OR(StockIn!M268=0,StockIn!M268=\"\"),\"\",StockIn!M268)","v":""}]
[{"$f":"StockIn!A269","v":1267},{"$f":"IF(OR(StockIn!B269=0,StockIn!B269=\"\"),\"\",StockIn!B269)","v":""},{"$f":"IF(OR(StockIn!D269=0,StockIn!D269=\"\"),\"\",StockIn!D269)","v":""},{"$f":"IF(OR(StockIn!G269=0,StockIn!G269=\"\"),\"\",StockIn!G269)","v":""},{"$f":"IF(OR(StockIn!H269=0,StockIn!H269=\"\"),\"\",StockIn!H269)","v":""},{"$f":"IF(OR(StockIn!L269=0,StockIn!L269=\"\"),\"\",StockIn!L269)","v":""},{"$f":"IF(OR(StockIn!E269=0,StockIn!E269=\"\"),\"\",StockIn!E269)","v":""},{"$f":"IF(OR(StockIn!M269=0,StockIn!M269=\"\"),\"\",StockIn!M269)","v":""}]
[{"$f":"StockIn!A270","v":1268},{"$f":"IF(OR(StockIn!B270=0,StockIn!B270=\"\"),\"\",StockIn!B270)","v":""},{"$f":"IF(OR(StockIn!D270=0,StockIn!D270=\"\"),\"\",StockIn!D270)","v":""},{"$f":"IF(OR(StockIn!G270=0,StockIn!G270=\"\"),\"\",StockIn!G270)","v":""},{"$f":"IF(OR(StockIn!H270=0,StockIn!H270=\"\"),\"\",StockIn!H270)","v":""},{"$f":"IF(OR(StockIn!L270=0,StockIn!L270=\"\"),\"\",StockIn!L270)","v":""},{"$f":"IF(OR(StockIn!E270=0,StockIn!E270=\"\"),\"\",StockIn!E270)","v":""},{"$f":"IF(OR(StockIn!M270=0,StockIn!M270=\"\"),\"\",StockIn!M270)","v":""}]
[{"$f":"StockIn!A271","v":1269},{"$f":"IF(OR(StockIn!B271=0,StockIn!B271=\"\"),\"\",StockIn!B271)","v":""},{"$f":"IF(OR(StockIn!D271=0,StockIn!D271=\"\"),\"\",StockIn!D271)","v":""},{"$f":"IF(OR(StockIn!G271=0,StockIn!G271=\"\"),\"\",StockIn!G271)","v":""},{"$f":"IF(OR(StockIn!H271=0,StockIn!H271=\"\"),\"\",StockIn!H271)","v":""},{"$f":"IF(OR(StockIn!L271=0,StockIn!L271=\"\"),\"\",StockIn!L271)","v":""},{"$f":"IF(OR(StockIn!E271=0,StockIn!E271=\"\"),\"\",StockIn!E271)","v":""},{"$f":"IF(OR(StockIn!M271=0,StockIn!M271=\"\"),\"\",StockIn!M271)","v":""}]
[{"$f":"StockIn!A272","v":1270},{"$f":"IF(OR(StockIn!B272=0,StockIn!B272=\"\"),\"\",StockIn!B272)","v":""},{"$f":"IF(OR(StockIn!D272=0,StockIn!D272=\"\"),\"\",StockIn!D272)","v":""},{"$f":"IF(OR(StockIn!G272=0,StockIn!G272=\"\"),\"\",StockIn!G272)","v":""},{"$f":"IF(OR(StockIn!H272=0,StockIn!H272=\"\"),\"\",StockIn!H272)","v":""},{"$f":"IF(OR(StockIn!L272=0,StockIn!L272=\"\"),\"\",StockIn!L272)","v":""},{"$f":"IF(OR(StockIn!E272=0,StockIn!E272=\"\"),\"\",StockIn!E272)","v":""},{"$f":"IF(OR(StockIn!M272=0,StockIn!M272=\"\"),\"\",StockIn!M272)","v":""}]
[{"$f":"StockIn!A273","v":1271},{"$f":"IF(OR(StockIn!B273=0,StockIn!B273=\"\"),\"\",StockIn!B273)","v":""},{"$f":"IF(OR(StockIn!D273=0,StockIn!D273=\"\"),\"\",StockIn!D273)","v":""},{"$f":"IF(OR(StockIn!G273=0,StockIn!G273=\"\"),\"\",StockIn!G273)","v":""},{"$f":"IF(OR(StockIn!H273=0,StockIn!H273=\"\"),\"\",StockIn!H273)","v":""},{"$f":"IF(OR(StockIn!L273=0,StockIn!L273=\"\"),\"\",StockIn!L273)","v":""},{"$f":"IF(OR(StockIn!E273=0,StockIn!E273=\"\"),\"\",StockIn!E273)","v":""},{"$f":"IF(OR(StockIn!M273=0,StockIn!M273=\"\"),\"\",StockIn!M273)","v":""}]
[{"$f":"StockIn!A274","v":1272},{"$f":"IF(OR(StockIn!B274=0,StockIn!B274=\"\"),\"\",StockIn!B274)","v":""},{"$f":"IF(OR(StockIn!D274=0,StockIn!D274=\"\"),\"\",StockIn!D274)","v":""},{"$f":"IF(OR(StockIn!G274=0,StockIn!G274=\"\"),\"\",StockIn!G274)","v":""},{"$f":"IF(OR(StockIn!H274=0,StockIn!H274=\"\"),\"\",StockIn!H274)","v":""},{"$f":"IF(OR(StockIn!L274=0,StockIn!L274=\"\"),\"\",StockIn!L274)","v":""},{"$f":"IF(OR(StockIn!E274=0,StockIn!E274=\"\"),\"\",StockIn!E274)","v":""},{"$f":"IF(OR(StockIn!M274=0,StockIn!M274=\"\"),\"\",StockIn!M274)","v":""}]
[{"$f":"StockIn!A275","v":1273},{"$f":"IF(OR(StockIn!B275=0,StockIn!B275=\"\"),\"\",StockIn!B275)","v":""},{"$f":"IF(OR(StockIn!D275=0,StockIn!D275=\"\"),\"\",StockIn!D275)","v":""},{"$f":"IF(OR(StockIn!G275=0,StockIn!G275=\"\"),\"\",StockIn!G275)","v":""},{"$f":"IF(OR(StockIn!H275=0,StockIn!H275=\"\"),\"\",StockIn!H275)","v":""},{"$f":"IF(OR(StockIn!L275=0,StockIn!L275=\"\"),\"\",StockIn!L275)","v":""},{"$f":"IF(OR(StockIn!E275=0,StockIn!E275=\"\"),\"\",StockIn!E275)","v":""},{"$f":"IF(OR(StockIn!M275=0,StockIn!M275=\"\"),\"\",StockIn!M275)","v":""}]
[{"$f":"StockIn!A276","v":1274},{"$f":"IF(OR(StockIn!B276=0,StockIn!B276=\"\"),\"\",StockIn!B276)","v":""},{"$f":"IF(OR(StockIn!D276=0,StockIn!D276=\"\"),\"\",StockIn!D276)","v":""},{"$f":"IF(OR(StockIn!G276=0,StockIn!G276=\"\"),\"\",StockIn!G276)","v":""},{"$f":"IF(OR(StockIn!H276=0,StockIn!H276=\"\"),\"\",StockIn!H276)","v":""},{"$f":"IF(OR(StockIn!L276=0,StockIn!L276=\"\"),\"\",StockIn!L276)","v":""},{"$f":"IF(OR(StockIn!E276=0,StockIn!E276=\"\"),\"\",StockIn!E276)","v":""},{"$f":"IF(OR(StockIn!M276=0,StockIn!M276=\"\"),\"\",StockIn!M276)","v":""}]
[{"$f":"StockIn!A277","v":1275},{"$f":"IF(OR(StockIn!B277=0,StockIn!B277=\"\"),\"\",StockIn!B277)","v":""},{"$f":"IF(OR(StockIn!D277=0,StockIn!D277=\"\"),\"\",StockIn!D277)","v":""},{"$f":"IF(OR(StockIn!G277=0,StockIn!G277=\"\"),\"\",StockIn!G277)","v":""},{"$f":"IF(OR(StockIn!H277=0,StockIn!H277=\"\"),\"\",StockIn!H277)","v":""},{"$f":"IF(OR(StockIn!L277=0,StockIn!L277=\"\"),\"\",StockIn!L277)","v":""},{"$f":"IF(OR(StockIn!E277=0,StockIn!E277=\"\"),\"\",StockIn!E277)","v":""},{"$f":"IF(OR(StockIn!M277=0,StockIn!M277=\"\"),\"\",StockIn!M277)","v":""}]
[{"$f":"StockIn!A278","v":1276},{"$f":"IF(OR(StockIn!B278=0,StockIn!B278=\"\"),\"\",StockIn!B278)","v":""},{"$f":"IF(OR(StockIn!D278=0,StockIn!D278=\"\"),\"\",StockIn!D278)","v":""},{"$f":"IF(OR(StockIn!G278=0,StockIn!G278=\"\"),\"\",StockIn!G278)","v":""},{"$f":"IF(OR(StockIn!H278=0,StockIn!H278=\"\"),\"\",StockIn!H278)","v":""},{"$f":"IF(OR(StockIn!L278=0,StockIn!L278=\"\"),\"\",StockIn!L278)","v":""},{"$f":"IF(OR(StockIn!E278=0,StockIn!E278=\"\"),\"\",StockIn!E278)","v":""},{"$f":"IF(OR(StockIn!M278=0,StockIn!M278=\"\"),\"\",StockIn!M278)","v":""}]
[{"$f":"StockIn!A279","v":1277},{"$f":"IF(OR(StockIn!B279=0,StockIn!B279=\"\"),\"\",StockIn!B279)","v":""},{"$f":"IF(OR(StockIn!D279=0,StockIn!D279=\"\"),\"\",StockIn!D279)","v":""},{"$f":"IF(OR(StockIn!G279=0,StockIn!G279=\"\"),\"\",StockIn!G279)","v":""},{"$f":"IF(OR(StockIn!H279=0,StockIn!H279=\"\"),\"\",StockIn!H279)","v":""},{"$f":"IF(OR(StockIn!L279=0,StockIn!L279=\"\"),\"\",StockIn!L279)","v":""},{"$f":"IF(OR(StockIn!E279=0,StockIn!E279=\"\"),\"\",StockIn!E279)","v":""},{"$f":"IF(OR(StockIn!M279=0,StockIn!M279=\"\"),\"\",StockIn!M279)","v":""}]
[{"$f":"StockIn!A280","v":1278},{"$f":"IF(OR(StockIn!B280=0,StockIn!B280=\"\"),\"\",StockIn!B280)","v":""},{"$f":"IF(OR(StockIn!D280=0,StockIn!D280=\"\"),\"\",StockIn!D280)","v":""},{"$f":"IF(OR(StockIn!G280=0,StockIn!G280=\"\"),\"\",StockIn!G280)","v":""},{"$f":"IF(OR(StockIn!H280=0,StockIn!H280=\"\"),\"\",StockIn!H280)","v":""},{"$f":"IF(OR(StockIn!L280=0,StockIn!L280=\"\"),\"\",StockIn!L280)","v":""},{"$f":"IF(OR(StockIn!E280=0,StockIn!E280=\"\"),\"\",StockIn!E280)","v":""},{"$f":"IF(OR(StockIn!M280=0,StockIn!M280=\"\"),\"\",StockIn!M280)","v":""}]
[{"$f":"StockIn!A281","v":1279},{"$f":"IF(OR(StockIn!B281=0,StockIn!B281=\"\"),\"\",StockIn!B281)","v":""},{"$f":"IF(OR(StockIn!D281=0,StockIn!D281=\"\"),\"\",StockIn!D281)","v":""},{"$f":"IF(OR(StockIn!G281=0,StockIn!G281=\"\"),\"\",StockIn!G281)","v":""},{"$f":"IF(OR(StockIn!H281=0,StockIn!H281=\"\"),\"\",StockIn!H281)","v":""},{"$f":"IF(OR(StockIn!L281=0,StockIn!L281=\"\"),\"\",StockIn!L281)","v":""},{"$f":"IF(OR(StockIn!E281=0,StockIn!E281=\"\"),\"\",StockIn!E281)","v":""},{"$f":"IF(OR(StockIn!M281=0,StockIn!M281=\"\"),\"\",StockIn!M281)","v":""}]
[{"$f":"StockIn!A282","v":1280},{"$f":"IF(OR(StockIn!B282=0,StockIn!B282=\"\"),\"\",StockIn!B282)","v":""},{"$f":"IF(OR(StockIn!D282=0,StockIn!D282=\"\"),\"\",StockIn!D282)","v":""},{"$f":"IF(OR(StockIn!G282=0,StockIn!G282=\"\"),\"\",StockIn!G282)","v":""},{"$f":"IF(OR(StockIn!H282=0,StockIn!H282=\"\"),\"\",StockIn!H282)","v":""},{"$f":"IF(OR(StockIn!L282=0,StockIn!L282=\"\"),\"\",StockIn!L282)","v":""},{"$f":"IF(OR(StockIn!E282=0,StockIn!E282=\"\"),\"\",StockIn!E282)","v":""},{"$f":"IF(OR(StockIn!M282=0,StockIn!M282=\"\"),\"\",StockIn!M282)","v":""}]
[{"$f":"StockIn!A283","v":1281},{"$f":"IF(OR(StockIn!B283=0,StockIn!B283=\"\"),\"\",StockIn!B283)","v":""},{"$f":"IF(OR(StockIn!D283=0,StockIn!D283=\"\"),\"\",StockIn!D283)","v":""},{"$f":"IF(OR(StockIn!G283=0,StockIn!G283=\"\"),\"\",StockIn!G283)","v":""},{"$f":"IF(OR(StockIn!H283=0,StockIn!H283=\"\"),\"\",StockIn!H283)","v":""},{"$f":"IF(OR(StockIn!L283=0,StockIn!L283=\"\"),\"\",StockIn!L283)","v":""},{"$f":"IF(OR(StockIn!E283=0,StockIn!E283=\"\"),\"\",StockIn!E283)","v":""},{"$f":"IF(OR(StockIn!M283=0,StockIn!M283=\"\"),\"\",StockIn!M283)","v":""}]
[{"$f":"StockIn!A284","v":1282},{"$f":"IF(OR(StockIn!B284=0,StockIn!B284=\"\"),\"\",StockIn!B284)","v":""},{"$f":"IF(OR(StockIn!D284=0,StockIn!D284=\"\"),\"\",StockIn!D284)","v":""},{"$f":"IF(OR(StockIn!G284=0,StockIn!G284=\"\"),\"\",StockIn!G284)","v":""},{"$f":"IF(OR(StockIn!H284=0,StockIn!H284=\"\"),\"\",StockIn!H284)","v":""},{"$f":"IF(OR(StockIn!L284=0,StockIn!L284=\"\"),\"\",StockIn!L284)","v":""},{"$f":"IF(OR(StockIn!E284=0,StockIn!E284=\"\"),\"\",StockIn!E284)","v":""},{"$f":"IF(OR(StockIn!M284=0,StockIn!M284=\"\"),\"\",StockIn!M284)","v":""}]
[{"$f":"StockIn!A285","v":1283},{"$f":"IF(OR(StockIn!B285=0,StockIn!B285=\"\"),\"\",StockIn!B285)","v":""},{"$f":"IF(OR(StockIn!D285=0,StockIn!D285=\"\"),\"\",StockIn!D285)","v":""},{"$f":"IF(OR(StockIn!G285=0,StockIn!G285=\"\"),\"\",StockIn!G285)","v":""},{"$f":"IF(OR(StockIn!H285=0,StockIn!H285=\"\"),\"\",StockIn!H285)","v":""},{"$f":"IF(OR(StockIn!L285=0,StockIn!L285=\"\"),\"\",StockIn!L285)","v":""},{"$f":"IF(OR(StockIn!E285=0,StockIn!E285=\"\"),\"\",StockIn!E285)","v":""},{"$f":"IF(OR(StockIn!M285=0,StockIn!M285=\"\"),\"\",StockIn!M285)","v":""}]
[{"$f":"StockIn!A286","v":1284},{"$f":"IF(OR(StockIn!B286=0,StockIn!B286=\"\"),\"\",StockIn!B286)","v":""},{"$f":"IF(OR(StockIn!D286=0,StockIn!D286=\"\"),\"\",StockIn!D286)","v":""},{"$f":"IF(OR(StockIn!G286=0,StockIn!G286=\"\"),\"\",StockIn!G286)","v":""},{"$f":"IF(OR(StockIn!H286=0,StockIn!H286=\"\"),\"\",StockIn!H286)","v":""},{"$f":"IF(OR(StockIn!L286=0,StockIn!L286=\"\"),\"\",StockIn!L286)","v":""},{"$f":"IF(OR(StockIn!E286=0,StockIn!E286=\"\"),\"\",StockIn!E286)","v":""},{"$f":"IF(OR(StockIn!M286=0,StockIn!M286=\"\"),\"\",StockIn!M286)","v":""}]
[{"$f":"StockIn!A287","v":1285},{"$f":"IF(OR(StockIn!B287=0,StockIn!B287=\"\"),\"\",StockIn!B287)","v":""},{"$f":"IF(OR(StockIn!D287=0,StockIn!D287=\"\"),\"\",StockIn!D287)","v":""},{"$f":"IF(OR(StockIn!G287=0,StockIn!G287=\"\"),\"\",StockIn!G287)","v":""},{"$f":"IF(OR(StockIn!H287=0,StockIn!H287=\"\"),\"\",StockIn!H287)","v":""},{"$f":"IF(OR(StockIn!L287=0,StockIn!L287=\"\"),\"\",StockIn!L287)","v":""},{"$f":"IF(OR(StockIn!E287=0,StockIn!E287=\"\"),\"\",StockIn!E287)","v":""},{"$f":"IF(OR(StockIn!M287=0,StockIn!M287=\"\"),\"\",StockIn!M287)","v":""}]
[{"$f":"StockIn!A288","v":1286},{"$f":"IF(OR(StockIn!B288=0,StockIn!B288=\"\"),\"\",StockIn!B288)","v":""},{"$f":"IF(OR(StockIn!D288=0,StockIn!D288=\"\"),\"\",StockIn!D288)","v":""},{"$f":"IF(OR(StockIn!G288=0,StockIn!G288=\"\"),\"\",StockIn!G288)","v":""},{"$f":"IF(OR(StockIn!H288=0,StockIn!H288=\"\"),\"\",StockIn!H288)","v":""},{"$f":"IF(OR(StockIn!L288=0,StockIn!L288=\"\"),\"\",StockIn!L288)","v":""},{"$f":"IF(OR(StockIn!E288=0,StockIn!E288=\"\"),\"\",StockIn!E288)","v":""},{"$f":"IF(OR(StockIn!M288=0,StockIn!M288=\"\"),\"\",StockIn!M288)","v":""}]
[{"$f":"StockIn!A289","v":1287},{"$f":"IF(OR(StockIn!B289=0,StockIn!B289=\"\"),\"\",StockIn!B289)","v":""},{"$f":"IF(OR(StockIn!D289=0,StockIn!D289=\"\"),\"\",StockIn!D289)","v":""},{"$f":"IF(OR(StockIn!G289=0,StockIn!G289=\"\"),\"\",StockIn!G289)","v":""},{"$f":"IF(OR(StockIn!H289=0,StockIn!H289=\"\"),\"\",StockIn!H289)","v":""},{"$f":"IF(OR(StockIn!L289=0,StockIn!L289=\"\"),\"\",StockIn!L289)","v":""},{"$f":"IF(OR(StockIn!E289=0,StockIn!E289=\"\"),\"\",StockIn!E289)","v":""},{"$f":"IF(OR(StockIn!M289=0,StockIn!M289=\"\"),\"\",StockIn!M289)","v":""}]
[{"$f":"StockIn!A290","v":1288},{"$f":"IF(OR(StockIn!B290=0,StockIn!B290=\"\"),\"\",StockIn!B290)","v":""},{"$f":"IF(OR(StockIn!D290=0,StockIn!D290=\"\"),\"\",StockIn!D290)","v":""},{"$f":"IF(OR(StockIn!G290=0,StockIn!G290=\"\"),\"\",StockIn!G290)","v":""},{"$f":"IF(OR(StockIn!H290=0,StockIn!H290=\"\"),\"\",StockIn!H290)","v":""},{"$f":"IF(OR(StockIn!L290=0,StockIn!L290=\"\"),\"\",StockIn!L290)","v":""},{"$f":"IF(OR(StockIn!E290=0,StockIn!E290=\"\"),\"\",StockIn!E290)","v":""},{"$f":"IF(OR(StockIn!M290=0,StockIn!M290=\"\"),\"\",StockIn!M290)","v":""}]
[{"$f":"StockIn!A291","v":1289},{"$f":"IF(OR(StockIn!B291=0,StockIn!B291=\"\"),\"\",StockIn!B291)","v":""},{"$f":"IF(OR(StockIn!D291=0,StockIn!D291=\"\"),\"\",StockIn!D291)","v":""},{"$f":"IF(OR(StockIn!G291=0,StockIn!G291=\"\"),\"\",StockIn!G291)","v":""},{"$f":"IF(OR(StockIn!H291=0,StockIn!H291=\"\"),\"\",StockIn!H291)","v":""},{"$f":"IF(OR(StockIn!L291=0,StockIn!L291=\"\"),\"\",StockIn!L291)","v":""},{"$f":"IF(OR(StockIn!E291=0,StockIn!E291=\"\"),\"\",StockIn!E291)","v":""},{"$f":"IF(OR(StockIn!M291=0,StockIn!M291=\"\"),\"\",StockIn!M291)","v":""}]
[{"$f":"StockIn!A292","v":1290},{"$f":"IF(OR(StockIn!B292=0,StockIn!B292=\"\"),\"\",StockIn!B292)","v":""},{"$f":"IF(OR(StockIn!D292=0,StockIn!D292=\"\"),\"\",StockIn!D292)","v":""},{"$f":"IF(OR(StockIn!G292=0,StockIn!G292=\"\"),\"\",StockIn!G292)","v":""},{"$f":"IF(OR(StockIn!H292=0,StockIn!H292=\"\"),\"\",StockIn!H292)","v":""},{"$f":"IF(OR(StockIn!L292=0,StockIn!L292=\"\"),\"\",StockIn!L292)","v":""},{"$f":"IF(OR(StockIn!E292=0,StockIn!E292=\"\"),\"\",StockIn!E292)","v":""},{"$f":"IF(OR(StockIn!M292=0,StockIn!M292=\"\"),\"\",StockIn!M292)","v":""}]
[{"$f":"StockIn!A293","v":1291},{"$f":"IF(OR(StockIn!B293=0,StockIn!B293=\"\"),\"\",StockIn!B293)","v":""},{"$f":"IF(OR(StockIn!D293=0,StockIn!D293=\"\"),\"\",StockIn!D293)","v":""},{"$f":"IF(OR(StockIn!G293=0,StockIn!G293=\"\"),\"\",StockIn!G293)","v":""},{"$f":"IF(OR(StockIn!H293=0,StockIn!H293=\"\"),\"\",StockIn!H293)","v":""},{"$f":"IF(OR(StockIn!L293=0,StockIn!L293=\"\"),\"\",StockIn!L293)","v":""},{"$f":"IF(OR(StockIn!E293=0,StockIn!E293=\"\"),\"\",StockIn!E293)","v":""},{"$f":"IF(OR(StockIn!M293=0,StockIn!M293=\"\"),\"\",StockIn!M293)","v":""}]
[{"$f":"StockIn!A294","v":1292},{"$f":"IF(OR(StockIn!B294=0,StockIn!B294=\"\"),\"\",StockIn!B294)","v":""},{"$f":"IF(OR(StockIn!D294=0,StockIn!D294=\"\"),\"\",StockIn!D294)","v":""},{"$f":"IF(OR(StockIn!G294=0,StockIn!G294=\"\"),\"\",StockIn!G294)","v":""},{"$f":"IF(OR(StockIn!H294=0,StockIn!H294=\"\"),\"\",StockIn!H294)","v":""},{"$f":"IF(OR(StockIn!L294=0,StockIn!L294=\"\"),\"\",StockIn!L294)","v":""},{"$f":"IF(OR(StockIn!E294=0,StockIn!E294=\"\"),\"\",StockIn!E294)","v":""},{"$f":"IF(OR(StockIn!M294=0,StockIn!M294=\"\"),\"\",StockIn!M294)","v":""}]
[{"$f":"StockIn!A295","v":1293},{"$f":"IF(OR(StockIn!B295=0,StockIn!B295=\"\"),\"\",StockIn!B295)","v":""},{"$f":"IF(OR(StockIn!D295=0,StockIn!D295=\"\"),\"\",StockIn!D295)","v":""},{"$f":"IF(OR(StockIn!G295=0,StockIn!G295=\"\"),\"\",StockIn!G295)","v":""},{"$f":"IF(OR(StockIn!H295=0,StockIn!H295=\"\"),\"\",StockIn!H295)","v":""},{"$f":"IF(OR(StockIn!L295=0,StockIn!L295=\"\"),\"\",StockIn!L295)","v":""},{"$f":"IF(OR(StockIn!E295=0,StockIn!E295=\"\"),\"\",StockIn!E295)","v":""},{"$f":"IF(OR(StockIn!M295=0,StockIn!M295=\"\"),\"\",StockIn!M295)","v":""}]
[{"$f":"StockIn!A296","v":1294},{"$f":"IF(OR(StockIn!B296=0,StockIn!B296=\"\"),\"\",StockIn!B296)","v":""},{"$f":"IF(OR(StockIn!D296=0,StockIn!D296=\"\"),\"\",StockIn!D296)","v":""},{"$f":"IF(OR(StockIn!G296=0,StockIn!G296=\"\"),\"\",StockIn!G296)","v":""},{"$f":"IF(OR(StockIn!H296=0,StockIn!H296=\"\"),\"\",StockIn!H296)","v":""},{"$f":"IF(OR(StockIn!L296=0,StockIn!L296=\"\"),\"\",StockIn!L296)","v":""},{"$f":"IF(OR(StockIn!E296=0,StockIn!E296=\"\"),\"\",StockIn!E296)","v":""},{"$f":"IF(OR(StockIn!M296=0,StockIn!M296=\"\"),\"\",StockIn!M296)","v":""}]
[{"$f":"StockIn!A297","v":1295},{"$f":"IF(OR(StockIn!B297=0,StockIn!B297=\"\"),\"\",StockIn!B297)","v":""},{"$f":"IF(OR(StockIn!D297=0,StockIn!D297=\"\"),\"\",StockIn!D297)","v":""},{"$f":"IF(OR(StockIn!G297=0,StockIn!G297=\"\"),\"\",StockIn!G297)","v":""},{"$f":"IF(OR(StockIn!H297=0,StockIn!H297=\"\"),\"\",StockIn!H297)","v":""},{"$f":"IF(OR(StockIn!L297=0,StockIn!L297=\"\"),\"\",StockIn!L297)","v":""},{"$f":"IF(OR(StockIn!E297=0,StockIn!E297=\"\"),\"\",StockIn!E297)","v":""},{"$f":"IF(OR(StockIn!M297=0,StockIn!M297=\"\"),\"\",StockIn!M297)","v":""}]
[{"$f":"StockIn!A298","v":1296},{"$f":"IF(OR(StockIn!B298=0,StockIn!B298=\"\"),\"\",StockIn!B298)","v":""},{"$f":"IF(OR(StockIn!D298=0,StockIn!D298=\"\"),\"\",StockIn!D298)","v":""},{"$f":"IF(OR(StockIn!G298=0,StockIn!G298=\"\"),\"\",StockIn!G298)","v":""},{"$f":"IF(OR(StockIn!H298=0,StockIn!H298=\"\"),\"\",StockIn!H298)","v":""},{"$f":"IF(OR(StockIn!L298=0,StockIn!L298=\"\"),\"\",StockIn!L298)","v":""},{"$f":"IF(OR(StockIn!E298=0,StockIn!E298=\"\"),\"\",StockIn!E298)","v":""},{"$f":"IF(OR(StockIn!M298=0,StockIn!M298=\"\"),\"\",StockIn!M298)","v":""}]
[{"$f":"StockIn!A299","v":1297},{"$f":"IF(OR(StockIn!B299=0,StockIn!B299=\"\"),\"\",StockIn!B299)","v":""},{"$f":"IF(OR(StockIn!D299=0,StockIn!D299=\"\"),\"\",StockIn!D299)","v":""},{"$f":"IF(OR(StockIn!G299=0,StockIn!G299=\"\"),\"\",StockIn!G299)","v":""},{"$f":"IF(OR(StockIn!H299=0,StockIn!H299=\"\"),\"\",StockIn!H299)","v":""},{"$f":"IF(OR(StockIn!L299=0,StockIn!L299=\"\"),\"\",StockIn!L299)","v":""},{"$f":"IF(OR(StockIn!E299=0,StockIn!E299=\"\"),\"\",StockIn!E299)","v":""},{"$f":"IF(OR(StockIn!M299=0,StockIn!M299=\"\"),\"\",StockIn!M299)","v":""}]
[{"$f":"StockIn!A300","v":1298},{"$f":"IF(OR(StockIn!B300=0,StockIn!B300=\"\"),\"\",StockIn!B300)","v":""},{"$f":"IF(OR(StockIn!D300=0,StockIn!D300=\"\"),\"\",StockIn!D300)","v":""},{"$f":"IF(OR(StockIn!G300=0,StockIn!G300=\"\"),\"\",StockIn!G300)","v":""},{"$f":"IF(OR(StockIn!H300=0,StockIn!H300=\"\"),\"\",StockIn!H300)","v":""},{"$f":"IF(OR(StockIn!L300=0,StockIn!L300=\"\"),\"\",StockIn!L300)","v":""},{"$f":"IF(OR(StockIn!E300=0,StockIn!E300=\"\"),\"\",StockIn!E300)","v":""},{"$f":"IF(OR(StockIn!M300=0,StockIn!M300=\"\"),\"\",StockIn!M300)","v":""}]
[{"$f":"StockIn!A301","v":1299},{"$f":"IF(OR(StockIn!B301=0,StockIn!B301=\"\"),\"\",StockIn!B301)","v":""},{"$f":"IF(OR(StockIn!D301=0,StockIn!D301=\"\"),\"\",StockIn!D301)","v":""},{"$f":"IF(OR(StockIn!G301=0,StockIn!G301=\"\"),\"\",StockIn!G301)","v":""},{"$f":"IF(OR(StockIn!H301=0,StockIn!H301=\"\"),\"\",StockIn!H301)","v":""},{"$f":"IF(OR(StockIn!L301=0,StockIn!L301=\"\"),\"\",StockIn!L301)","v":""},{"$f":"IF(OR(StockIn!E301=0,StockIn!E301=\"\"),\"\",StockIn!E301)","v":""},{"$f":"IF(OR(StockIn!M301=0,StockIn!M301=\"\"),\"\",StockIn!M301)","v":""}]
[{"$f":"StockIn!A302","v":1300},{"$f":"IF(OR(StockIn!B302=0,StockIn!B302=\"\"),\"\",StockIn!B302)","v":""},{"$f":"IF(OR(StockIn!D302=0,StockIn!D302=\"\"),\"\",StockIn!D302)","v":""},{"$f":"IF(OR(StockIn!G302=0,StockIn!G302=\"\"),\"\",StockIn!G302)","v":""},{"$f":"IF(OR(StockIn!H302=0,StockIn!H302=\"\"),\"\",StockIn!H302)","v":""},{"$f":"IF(OR(StockIn!L302=0,StockIn!L302=\"\"),\"\",StockIn!L302)","v":""},{"$f":"IF(OR(StockIn!E302=0,StockIn!E302=\"\"),\"\",StockIn!E302)","v":""},{"$f":"IF(OR(StockIn!M302=0,StockIn!M302=\"\"),\"\",StockIn!M302)","v":""}]
[{"$f":"StockIn!A303","v":1301},{"$f":"IF(OR(StockIn!B303=0,StockIn!B303=\"\"),\"\",StockIn!B303)","v":""},{"$f":"IF(OR(StockIn!D303=0,StockIn!D303=\"\"),\"\",StockIn!D303)","v":""},{"$f":"IF(OR(StockIn!G303=0,StockIn!G303=\"\"),\"\",StockIn!G303)","v":""},{"$f":"IF(OR(StockIn!H303=0,StockIn!H303=\"\"),\"\",StockIn!H303)","v":""},{"$f":"IF(OR(StockIn!L303=0,StockIn!L303=\"\"),\"\",StockIn!L303)","v":""},{"$f":"IF(OR(StockIn!E303=0,StockIn!E303=\"\"),\"\",StockIn!E303)","v":""},{"$f":"IF(OR(StockIn!M303=0,StockIn!M303=\"\"),\"\",StockIn!M303)","v":""}]
[{"$f":"StockIn!A304","v":1302},{"$f":"IF(OR(StockIn!B304=0,StockIn!B304=\"\"),\"\",StockIn!B304)","v":""},{"$f":"IF(OR(StockIn!D304=0,StockIn!D304=\"\"),\"\",StockIn!D304)","v":""},{"$f":"IF(OR(StockIn!G304=0,StockIn!G304=\"\"),\"\",StockIn!G304)","v":""},{"$f":"IF(OR(StockIn!H304=0,StockIn!H304=\"\"),\"\",StockIn!H304)","v":""},{"$f":"IF(OR(StockIn!L304=0,StockIn!L304=\"\"),\"\",StockIn!L304)","v":""},{"$f":"IF(OR(StockIn!E304=0,StockIn!E304=\"\"),\"\",StockIn!E304)","v":""},{"$f":"IF(OR(StockIn!M304=0,StockIn!M304=\"\"),\"\",StockIn!M304)","v":""}]
[{"$f":"StockIn!A305","v":1303},{"$f":"IF(OR(StockIn!B305=0,StockIn!B305=\"\"),\"\",StockIn!B305)","v":""},{"$f":"IF(OR(StockIn!D305=0,StockIn!D305=\"\"),\"\",StockIn!D305)","v":""},{"$f":"IF(OR(StockIn!G305=0,StockIn!G305=\"\"),\"\",StockIn!G305)","v":""},{"$f":"IF(OR(StockIn!H305=0,StockIn!H305=\"\"),\"\",StockIn!H305)","v":""},{"$f":"IF(OR(StockIn!L305=0,StockIn!L305=\"\"),\"\",StockIn!L305)","v":""},{"$f":"IF(OR(StockIn!E305=0,StockIn!E305=\"\"),\"\",StockIn!E305)","v":""},{"$f":"IF(OR(StockIn!M305=0,StockIn!M305=\"\"),\"\",StockIn!M305)","v":""}]
[{"$f":"StockIn!A306","v":1304},{"$f":"IF(OR(StockIn!B306=0,StockIn!B306=\"\"),\"\",StockIn!B306)","v":""},{"$f":"IF(OR(StockIn!D306=0,StockIn!D306=\"\"),\"\",StockIn!D306)","v":""},{"$f":"IF(OR(StockIn!G306=0,StockIn!G306=\"\"),\"\",StockIn!G306)","v":""},{"$f":"IF(OR(StockIn!H306=0,StockIn!H306=\"\"),\"\",StockIn!H306)","v":""},{"$f":"IF(OR(StockIn!L306=0,StockIn!L306=\"\"),\"\",StockIn!L306)","v":""},{"$f":"IF(OR(StockIn!E306=0,StockIn!E306=\"\"),\"\",StockIn!E306)","v":""},{"$f":"IF(OR(StockIn!M306=0,StockIn!M306=\"\"),\"\",StockIn!M306)","v":""}]
[{"$f":"StockIn!A307","v":1305},{"$f":"IF(OR(StockIn!B307=0,StockIn!B307=\"\"),\"\",StockIn!B307)","v":""},{"$f":"IF(OR(StockIn!D307=0,StockIn!D307=\"\"),\"\",StockIn!D307)","v":""},{"$f":"IF(OR(StockIn!G307=0,StockIn!G307=\"\"),\"\",StockIn!G307)","v":""},{"$f":"IF(OR(StockIn!H307=0,StockIn!H307=\"\"),\"\",StockIn!H307)","v":""},{"$f":"IF(OR(StockIn!L307=0,StockIn!L307=\"\"),\"\",StockIn!L307)","v":""},{"$f":"IF(OR(StockIn!E307=0,StockIn!E307=\"\"),\"\",StockIn!E307)","v":""},{"$f":"IF(OR(StockIn!M307=0,StockIn!M307=\"\"),\"\",StockIn!M307)","v":""}]
[{"$f":"StockIn!A308","v":1306},{"$f":"IF(OR(StockIn!B308=0,StockIn!B308=\"\"),\"\",StockIn!B308)","v":""},{"$f":"IF(OR(StockIn!D308=0,StockIn!D308=\"\"),\"\",StockIn!D308)","v":""},{"$f":"IF(OR(StockIn!G308=0,StockIn!G308=\"\"),\"\",StockIn!G308)","v":""},{"$f":"IF(OR(StockIn!H308=0,StockIn!H308=\"\"),\"\",StockIn!H308)","v":""},{"$f":"IF(OR(StockIn!L308=0,StockIn!L308=\"\"),\"\",StockIn!L308)","v":""},{"$f":"IF(OR(StockIn!E308=0,StockIn!E308=\"\"),\"\",StockIn!E308)","v":""},{"$f":"IF(OR(StockIn!M308=0,StockIn!M308=\"\"),\"\",StockIn!M308)","v":""}]
[{"$f":"StockIn!A309","v":1307},{"$f":"IF(OR(StockIn!B309=0,StockIn!B309=\"\"),\"\",StockIn!B309)","v":""},{"$f":"IF(OR(StockIn!D309=0,StockIn!D309=\"\"),\"\",StockIn!D309)","v":""},{"$f":"IF(OR(StockIn!G309=0,StockIn!G309=\"\"),\"\",StockIn!G309)","v":""},{"$f":"IF(OR(StockIn!H309=0,StockIn!H309=\"\"),\"\",StockIn!H309)","v":""},{"$f":"IF(OR(StockIn!L309=0,StockIn!L309=\"\"),\"\",StockIn!L309)","v":""},{"$f":"IF(OR(StockIn!E309=0,StockIn!E309=\"\"),\"\",StockIn!E309)","v":""},{"$f":"IF(OR(StockIn!M309=0,StockIn!M309=\"\"),\"\",StockIn!M309)","v":""}]
[{"$f":"StockIn!A310","v":1308},{"$f":"IF(OR(StockIn!B310=0,StockIn!B310=\"\"),\"\",StockIn!B310)","v":""},{"$f":"IF(OR(StockIn!D310=0,StockIn!D310=\"\"),\"\",StockIn!D310)","v":""},{"$f":"IF(OR(StockIn!G310=0,StockIn!G310=\"\"),\"\",StockIn!G310)","v":""},{"$f":"IF(OR(StockIn!H310=0,StockIn!H310=\"\"),\"\",StockIn!H310)","v":""},{"$f":"IF(OR(StockIn!L310=0,StockIn!L310=\"\"),\"\",StockIn!L310)","v":""},{"$f":"IF(OR(StockIn!E310=0,StockIn!E310=\"\"),\"\",StockIn!E310)","v":""},{"$f":"IF(OR(StockIn!M310=0,StockIn!M310=\"\"),\"\",StockIn!M310)","v":""}]
[{"$f":"StockIn!A311","v":1309},{"$f":"IF(OR(StockIn!B311=0,StockIn!B311=\"\"),\"\",StockIn!B311)","v":""},{"$f":"IF(OR(StockIn!D311=0,StockIn!D311=\"\"),\"\",StockIn!D311)","v":""},{"$f":"IF(OR(StockIn!G311=0,StockIn!G311=\"\"),\"\",StockIn!G311)","v":""},{"$f":"IF(OR(StockIn!H311=0,StockIn!H311=\"\"),\"\",StockIn!H311)","v":""},{"$f":"IF(OR(StockIn!L311=0,StockIn!L311=\"\"),\"\",StockIn!L311)","v":""},{"$f":"IF(OR(StockIn!E311=0,StockIn!E311=\"\"),\"\",StockIn!E311)","v":""},{"$f":"IF(OR(StockIn!M311=0,StockIn!M311=\"\"),\"\",StockIn!M311)","v":""}]
[{"$f":"StockIn!A312","v":1310},{"$f":"IF(OR(StockIn!B312=0,StockIn!B312=\"\"),\"\",StockIn!B312)","v":""},{"$f":"IF(OR(StockIn!D312=0,StockIn!D312=\"\"),\"\",StockIn!D312)","v":""},{"$f":"IF(OR(StockIn!G312=0,StockIn!G312=\"\"),\"\",StockIn!G312)","v":""},{"$f":"IF(OR(StockIn!H312=0,StockIn!H312=\"\"),\"\",StockIn!H312)","v":""},{"$f":"IF(OR(StockIn!L312=0,StockIn!L312=\"\"),\"\",StockIn!L312)","v":""},{"$f":"IF(OR(StockIn!E312=0,StockIn!E312=\"\"),\"\",StockIn!E312)","v":""},{"$f":"IF(OR(StockIn!M312=0,StockIn!M312=\"\"),\"\",StockIn!M312)","v":""}]
[{"$f":"StockIn!A313","v":1311},{"$f":"IF(OR(StockIn!B313=0,StockIn!B313=\"\"),\"\",StockIn!B313)","v":""},{"$f":"IF(OR(StockIn!D313=0,StockIn!D313=\"\"),\"\",StockIn!D313)","v":""},{"$f":"IF(OR(StockIn!G313=0,StockIn!G313=\"\"),\"\",StockIn!G313)","v":""},{"$f":"IF(OR(StockIn!H313=0,StockIn!H313=\"\"),\"\",StockIn!H313)","v":""},{"$f":"IF(OR(StockIn!L313=0,StockIn!L313=\"\"),\"\",StockIn!L313)","v":""},{"$f":"IF(OR(StockIn!E313=0,StockIn!E313=\"\"),\"\",StockIn!E313)","v":""},{"$f":"IF(OR(StockIn!M313=0,StockIn!M313=\"\"),\"\",StockIn!M313)","v":""}]
[{"$f":"StockIn!A314","v":1312},{"$f":"IF(OR(StockIn!B314=0,StockIn!B314=\"\"),\"\",StockIn!B314)","v":""},{"$f":"IF(OR(StockIn!D314=0,StockIn!D314=\"\"),\"\",StockIn!D314)","v":""},{"$f":"IF(OR(StockIn!G314=0,StockIn!G314=\"\"),\"\",StockIn!G314)","v":""},{"$f":"IF(OR(StockIn!H314=0,StockIn!H314=\"\"),\"\",StockIn!H314)","v":""},{"$f":"IF(OR(StockIn!L314=0,StockIn!L314=\"\"),\"\",StockIn!L314)","v":""},{"$f":"IF(OR(StockIn!E314=0,StockIn!E314=\"\"),\"\",StockIn!E314)","v":""},{"$f":"IF(OR(StockIn!M314=0,StockIn!M314=\"\"),\"\",StockIn!M314)","v":""}]
[{"$f":"StockIn!A315","v":1313},{"$f":"IF(OR(StockIn!B315=0,StockIn!B315=\"\"),\"\",StockIn!B315)","v":""},{"$f":"IF(OR(StockIn!D315=0,StockIn!D315=\"\"),\"\",StockIn!D315)","v":""},{"$f":"IF(OR(StockIn!G315=0,StockIn!G315=\"\"),\"\",StockIn!G315)","v":""},{"$f":"IF(OR(StockIn!H315=0,StockIn!H315=\"\"),\"\",StockIn!H315)","v":""},{"$f":"IF(OR(StockIn!L315=0,StockIn!L315=\"\"),\"\",StockIn!L315)","v":""},{"$f":"IF(OR(StockIn!E315=0,StockIn!E315=\"\"),\"\",StockIn!E315)","v":""},{"$f":"IF(OR(StockIn!M315=0,StockIn!M315=\"\"),\"\",StockIn!M315)","v":""}]
[{"$f":"StockIn!A316","v":1314},{"$f":"IF(OR(StockIn!B316=0,StockIn!B316=\"\"),\"\",StockIn!B316)","v":""},{"$f":"IF(OR(StockIn!D316=0,StockIn!D316=\"\"),\"\",StockIn!D316)","v":""},{"$f":"IF(OR(StockIn!G316=0,StockIn!G316=\"\"),\"\",StockIn!G316)","v":""},{"$f":"IF(OR(StockIn!H316=0,StockIn!H316=\"\"),\"\",StockIn!H316)","v":""},{"$f":"IF(OR(StockIn!L316=0,StockIn!L316=\"\"),\"\",StockIn!L316)","v":""},{"$f":"IF(OR(StockIn!E316=0,StockIn!E316=\"\"),\"\",StockIn!E316)","v":""},{"$f":"IF(OR(StockIn!M316=0,StockIn!M316=\"\"),\"\",StockIn!M316)","v":""}]
[{"$f":"StockIn!A317","v":1315},{"$f":"IF(OR(StockIn!B317=0,StockIn!B317=\"\"),\"\",StockIn!B317)","v":""},{"$f":"IF(OR(StockIn!D317=0,StockIn!D317=\"\"),\"\",StockIn!D317)","v":""},{"$f":"IF(OR(StockIn!G317=0,StockIn!G317=\"\"),\"\",StockIn!G317)","v":""},{"$f":"IF(OR(StockIn!H317=0,StockIn!H317=\"\"),\"\",StockIn!H317)","v":""},{"$f":"IF(OR(StockIn!L317=0,StockIn!L317=\"\"),\"\",StockIn!L317)","v":""},{"$f":"IF(OR(StockIn!E317=0,StockIn!E317=\"\"),\"\",StockIn!E317)","v":""},{"$f":"IF(OR(StockIn!M317=0,StockIn!M317=\"\"),\"\",StockIn!M317)","v":""}]
[{"$f":"StockIn!A318","v":1316},{"$f":"IF(OR(StockIn!B318=0,StockIn!B318=\"\"),\"\",StockIn!B318)","v":""},{"$f":"IF(OR(StockIn!D318=0,StockIn!D318=\"\"),\"\",StockIn!D318)","v":""},{"$f":"IF(OR(StockIn!G318=0,StockIn!G318=\"\"),\"\",StockIn!G318)","v":""},{"$f":"IF(OR(StockIn!H318=0,StockIn!H318=\"\"),\"\",StockIn!H318)","v":""},{"$f":"IF(OR(StockIn!L318=0,StockIn!L318=\"\"),\"\",StockIn!L318)","v":""},{"$f":"IF(OR(StockIn!E318=0,StockIn!E318=\"\"),\"\",StockIn!E318)","v":""},{"$f":"IF(OR(StockIn!M318=0,StockIn!M318=\"\"),\"\",StockIn!M318)","v":""}]
[{"$f":"StockIn!A319","v":1317},{"$f":"IF(OR(StockIn!B319=0,StockIn!B319=\"\"),\"\",StockIn!B319)","v":""},{"$f":"IF(OR(StockIn!D319=0,StockIn!D319=\"\"),\"\",StockIn!D319)","v":""},{"$f":"IF(OR(StockIn!G319=0,StockIn!G319=\"\"),\"\",StockIn!G319)","v":""},{"$f":"IF(OR(StockIn!H319=0,StockIn!H319=\"\"),\"\",StockIn!H319)","v":""},{"$f":"IF(OR(StockIn!L319=0,StockIn!L319=\"\"),\"\",StockIn!L319)","v":""},{"$f":"IF(OR(StockIn!E319=0,StockIn!E319=\"\"),\"\",StockIn!E319)","v":""},{"$f":"IF(OR(StockIn!M319=0,StockIn!M319=\"\"),\"\",StockIn!M319)","v":""}]
[{"$f":"StockIn!A320","v":1318},{"$f":"IF(OR(StockIn!B320=0,StockIn!B320=\"\"),\"\",StockIn!B320)","v":""},{"$f":"IF(OR(StockIn!D320=0,StockIn!D320=\"\"),\"\",StockIn!D320)","v":""},{"$f":"IF(OR(StockIn!G320=0,StockIn!G320=\"\"),\"\",StockIn!G320)","v":""},{"$f":"IF(OR(StockIn!H320=0,StockIn!H320=\"\"),\"\",StockIn!H320)","v":""},{"$f":"IF(OR(StockIn!L320=0,StockIn!L320=\"\"),\"\",StockIn!L320)","v":""},{"$f":"IF(OR(StockIn!E320=0,StockIn!E320=\"\"),\"\",StockIn!E320)","v":""},{"$f":"IF(OR(StockIn!M320=0,StockIn!M320=\"\"),\"\",StockIn!M320)","v":""}]
[{"$f":"StockIn!A321","v":1319},{"$f":"IF(OR(StockIn!B321=0,StockIn!B321=\"\"),\"\",StockIn!B321)","v":""},{"$f":"IF(OR(StockIn!D321=0,StockIn!D321=\"\"),\"\",StockIn!D321)","v":""},{"$f":"IF(OR(StockIn!G321=0,StockIn!G321=\"\"),\"\",StockIn!G321)","v":""},{"$f":"IF(OR(StockIn!H321=0,StockIn!H321=\"\"),\"\",StockIn!H321)","v":""},{"$f":"IF(OR(StockIn!L321=0,StockIn!L321=\"\"),\"\",StockIn!L321)","v":""},{"$f":"IF(OR(StockIn!E321=0,StockIn!E321=\"\"),\"\",StockIn!E321)","v":""},{"$f":"IF(OR(StockIn!M321=0,StockIn!M321=\"\"),\"\",StockIn!M321)","v":""}]
[{"$f":"StockIn!A322","v":1320},{"$f":"IF(OR(StockIn!B322=0,StockIn!B322=\"\"),\"\",StockIn!B322)","v":""},{"$f":"IF(OR(StockIn!D322=0,StockIn!D322=\"\"),\"\",StockIn!D322)","v":""},{"$f":"IF(OR(StockIn!G322=0,StockIn!G322=\"\"),\"\",StockIn!G322)","v":""},{"$f":"IF(OR(StockIn!H322=0,StockIn!H322=\"\"),\"\",StockIn!H322)","v":""},{"$f":"IF(OR(StockIn!L322=0,StockIn!L322=\"\"),\"\",StockIn!L322)","v":""},{"$f":"IF(OR(StockIn!E322=0,StockIn!E322=\"\"),\"\",StockIn!E322)","v":""},{"$f":"IF(OR(StockIn!M322=0,StockIn!M322=\"\"),\"\",StockIn!M322)","v":""}]
[{"$f":"StockIn!A323","v":1321},{"$f":"IF(OR(StockIn!B323=0,StockIn!B323=\"\"),\"\",StockIn!B323)","v":""},{"$f":"IF(OR(StockIn!D323=0,StockIn!D323=\"\"),\"\",StockIn!D323)","v":""},{"$f":"IF(OR(StockIn!G323=0,StockIn!G323=\"\"),\"\",StockIn!G323)","v":""},{"$f":"IF(OR(StockIn!H323=0,StockIn!H323=\"\"),\"\",StockIn!H323)","v":""},{"$f":"IF(OR(StockIn!L323=0,StockIn!L323=\"\"),\"\",StockIn!L323)","v":""},{"$f":"IF(OR(StockIn!E323=0,StockIn!E323=\"\"),\"\",StockIn!E323)","v":""},{"$f":"IF(OR(StockIn!M323=0,StockIn!M323=\"\"),\"\",StockIn!M323)","v":""}]
[{"$f":"StockIn!A324","v":1322},{"$f":"IF(OR(StockIn!B324=0,StockIn!B324=\"\"),\"\",StockIn!B324)","v":""},{"$f":"IF(OR(StockIn!D324=0,StockIn!D324=\"\"),\"\",StockIn!D324)","v":""},{"$f":"IF(OR(StockIn!G324=0,StockIn!G324=\"\"),\"\",StockIn!G324)","v":""},{"$f":"IF(OR(StockIn!H324=0,StockIn!H324=\"\"),\"\",StockIn!H324)","v":""},{"$f":"IF(OR(StockIn!L324=0,StockIn!L324=\"\"),\"\",StockIn!L324)","v":""},{"$f":"IF(OR(StockIn!E324=0,StockIn!E324=\"\"),\"\",StockIn!E324)","v":""},{"$f":"IF(OR(StockIn!M324=0,StockIn!M324=\"\"),\"\",StockIn!M324)","v":""}]
[{"$f":"StockIn!A325","v":1323},{"$f":"IF(OR(StockIn!B325=0,StockIn!B325=\"\"),\"\",StockIn!B325)","v":""},{"$f":"IF(OR(StockIn!D325=0,StockIn!D325=\"\"),\"\",StockIn!D325)","v":""},{"$f":"IF(OR(StockIn!G325=0,StockIn!G325=\"\"),\"\",StockIn!G325)","v":""},{"$f":"IF(OR(StockIn!H325=0,StockIn!H325=\"\"),\"\",StockIn!H325)","v":""},{"$f":"IF(OR(StockIn!L325=0,StockIn!L325=\"\"),\"\",StockIn!L325)","v":""},{"$f":"IF(OR(StockIn!E325=0,StockIn!E325=\"\"),\"\",StockIn!E325)","v":""},{"$f":"IF(OR(StockIn!M325=0,StockIn!M325=\"\"),\"\",StockIn!M325)","v":""}]
[{"$f":"StockIn!A326","v":1324},{"$f":"IF(OR(StockIn!B326=0,StockIn!B326=\"\"),\"\",StockIn!B326)","v":""},{"$f":"IF(OR(StockIn!D326=0,StockIn!D326=\"\"),\"\",StockIn!D326)","v":""},{"$f":"IF(OR(StockIn!G326=0,StockIn!G326=\"\"),\"\",StockIn!G326)","v":""},{"$f":"IF(OR(StockIn!H326=0,StockIn!H326=\"\"),\"\",StockIn!H326)","v":""},{"$f":"IF(OR(StockIn!L326=0,StockIn!L326=\"\"),\"\",StockIn!L326)","v":""},{"$f":"IF(OR(StockIn!E326=0,StockIn!E326=\"\"),\"\",StockIn!E326)","v":""},{"$f":"IF(OR(StockIn!M326=0,StockIn!M326=\"\"),\"\",StockIn!M326)","v":""}]
[{"$f":"StockIn!A327","v":1325},{"$f":"IF(OR(StockIn!B327=0,StockIn!B327=\"\"),\"\",StockIn!B327)","v":""},{"$f":"IF(OR(StockIn!D327=0,StockIn!D327=\"\"),\"\",StockIn!D327)","v":""},{"$f":"IF(OR(StockIn!G327=0,StockIn!G327=\"\"),\"\",StockIn!G327)","v":""},{"$f":"IF(OR(StockIn!H327=0,StockIn!H327=\"\"),\"\",StockIn!H327)","v":""},{"$f":"IF(OR(StockIn!L327=0,StockIn!L327=\"\"),\"\",StockIn!L327)","v":""},{"$f":"IF(OR(StockIn!E327=0,StockIn!E327=\"\"),\"\",StockIn!E327)","v":""},{"$f":"IF(OR(StockIn!M327=0,StockIn!M327=\"\"),\"\",StockIn!M327)","v":""}]
[{"$f":"StockIn!A328","v":1326},{"$f":"IF(OR(StockIn!B328=0,StockIn!B328=\"\"),\"\",StockIn!B328)","v":""},{"$f":"IF(OR(StockIn!D328=0,StockIn!D328=\"\"),\"\",StockIn!D328)","v":""},{"$f":"IF(OR(StockIn!G328=0,StockIn!G328=\"\"),\"\",StockIn!G328)","v":""},{"$f":"IF(OR(StockIn!H328=0,StockIn!H328=\"\"),\"\",StockIn!H328)","v":""},{"$f":"IF(OR(StockIn!L328=0,StockIn!L328=\"\"),\"\",StockIn!L328)","v":""},{"$f":"IF(OR(StockIn!E328=0,StockIn!E328=\"\"),\"\",StockIn!E328)","v":""},{"$f":"IF(OR(StockIn!M328=0,StockIn!M328=\"\"),\"\",StockIn!M328)","v":""}]
[{"$f":"StockIn!A329","v":1327},{"$f":"IF(OR(StockIn!B329=0,StockIn!B329=\"\"),\"\",StockIn!B329)","v":""},{"$f":"IF(OR(StockIn!D329=0,StockIn!D329=\"\"),\"\",StockIn!D329)","v":""},{"$f":"IF(OR(StockIn!G329=0,StockIn!G329=\"\"),\"\",StockIn!G329)","v":""},{"$f":"IF(OR(StockIn!H329=0,StockIn!H329=\"\"),\"\",StockIn!H329)","v":""},{"$f":"IF(OR(StockIn!L329=0,StockIn!L329=\"\"),\"\",StockIn!L329)","v":""},{"$f":"IF(OR(StockIn!E329=0,StockIn!E329=\"\"),\"\",StockIn!E329)","v":""},{"$f":"IF(OR(StockIn!M329=0,StockIn!M329=\"\"),\"\",StockIn!M329)","v":""}]
[{"$f":"StockIn!A330","v":1328},{"$f":"IF(OR(StockIn!B330=0,StockIn!B330=\"\"),\"\",StockIn!B330)","v":""},{"$f":"IF(OR(StockIn!D330=0,StockIn!D330=\"\"),\"\",StockIn!D330)","v":""},{"$f":"IF(OR(StockIn!G330=0,StockIn!G330=\"\"),\"\",StockIn!G330)","v":""},{"$f":"IF(OR(StockIn!H330=0,StockIn!H330=\"\"),\"\",StockIn!H330)","v":""},{"$f":"IF(OR(StockIn!L330=0,StockIn!L330=\"\"),\"\",StockIn!L330)","v":""},{"$f":"IF(OR(StockIn!E330=0,StockIn!E330=\"\"),\"\",StockIn!E330)","v":""},{"$f":"IF(OR(StockIn!M330=0,StockIn!M330=\"\"),\"\",StockIn!M330)","v":""}]
[{"$f":"StockIn!A331","v":1329},{"$f":"IF(OR(StockIn!B331=0,StockIn!B331=\"\"),\"\",StockIn!B331)","v":""},{"$f":"IF(OR(StockIn!D331=0,StockIn!D331=\"\"),\"\",StockIn!D331)","v":""},{"$f":"IF(OR(StockIn!G331=0,StockIn!G331=\"\"),\"\",StockIn!G331)","v":""},{"$f":"IF(OR(StockIn!H331=0,StockIn!H331=\"\"),\"\",StockIn!H331)","v":""},{"$f":"IF(OR(StockIn!L331=0,StockIn!L331=\"\"),\"\",StockIn!L331)","v":""},{"$f":"IF(OR(StockIn!E331=0,StockIn!E331=\"\"),\"\",StockIn!E331)","v":""},{"$f":"IF(OR(StockIn!M331=0,StockIn!M331=\"\"),\"\",StockIn!M331)","v":""}]
[{"$f":"StockIn!A332","v":1330},{"$f":"IF(OR(StockIn!B332=0,StockIn!B332=\"\"),\"\",StockIn!B332)","v":""},{"$f":"IF(OR(StockIn!D332=0,StockIn!D332=\"\"),\"\",StockIn!D332)","v":""},{"$f":"IF(OR(StockIn!G332=0,StockIn!G332=\"\"),\"\",StockIn!G332)","v":""},{"$f":"IF(OR(StockIn!H332=0,StockIn!H332=\"\"),\"\",StockIn!H332)","v":""},{"$f":"IF(OR(StockIn!L332=0,StockIn!L332=\"\"),\"\",StockIn!L332)","v":""},{"$f":"IF(OR(StockIn!E332=0,StockIn!E332=\"\"),\"\",StockIn!E332)","v":""},{"$f":"IF(OR(StockIn!M332=0,StockIn!M332=\"\"),\"\",StockIn!M332)","v":""}]
[{"$f":"StockIn!A333","v":1331},{"$f":"IF(OR(StockIn!B333=0,StockIn!B333=\"\"),\"\",StockIn!B333)","v":""},{"$f":"IF(OR(StockIn!D333=0,StockIn!D333=\"\"),\"\",StockIn!D333)","v":""},{"$f":"IF(OR(StockIn!G333=0,StockIn!G333=\"\"),\"\",StockIn!G333)","v":""},{"$f":"IF(OR(StockIn!H333=0,StockIn!H333=\"\"),\"\",StockIn!H333)","v":""},{"$f":"IF(OR(StockIn!L333=0,StockIn!L333=\"\"),\"\",StockIn!L333)","v":""},{"$f":"IF(OR(StockIn!E333=0,StockIn!E333=\"\"),\"\",StockIn!E333)","v":""},{"$f":"IF(OR(StockIn!M333=0,StockIn!M333=\"\"),\"\",StockIn!M333)","v":""}]
[{"$f":"StockIn!A334","v":1332},{"$f":"IF(OR(StockIn!B334=0,StockIn!B334=\"\"),\"\",StockIn!B334)","v":""},{"$f":"IF(OR(StockIn!D334=0,StockIn!D334=\"\"),\"\",StockIn!D334)","v":""},{"$f":"IF(OR(StockIn!G334=0,StockIn!G334=\"\"),\"\",StockIn!G334)","v":""},{"$f":"IF(OR(StockIn!H334=0,StockIn!H334=\"\"),\"\",StockIn!H334)","v":""},{"$f":"IF(OR(StockIn!L334=0,StockIn!L334=\"\"),\"\",StockIn!L334)","v":""},{"$f":"IF(OR(StockIn!E334=0,StockIn!E334=\"\"),\"\",StockIn!E334)","v":""},{"$f":"IF(OR(StockIn!M334=0,StockIn!M334=\"\"),\"\",StockIn!M334)","v":""}]
[{"$f":"StockIn!A335","v":1333},{"$f":"IF(OR(StockIn!B335=0,StockIn!B335=\"\"),\"\",StockIn!B335)","v":""},{"$f":"IF(OR(StockIn!D335=0,StockIn!D335=\"\"),\"\",StockIn!D335)","v":""},{"$f":"IF(OR(StockIn!G335=0,StockIn!G335=\"\"),\"\",StockIn!G335)","v":""},{"$f":"IF(OR(StockIn!H335=0,StockIn!H335=\"\"),\"\",StockIn!H335)","v":""},{"$f":"IF(OR(StockIn!L335=0,StockIn!L335=\"\"),\"\",StockIn!L335)","v":""},{"$f":"IF(OR(StockIn!E335=0,StockIn!E335=\"\"),\"\",StockIn!E335)","v":""},{"$f":"IF(OR(StockIn!M335=0,StockIn!M335=\"\"),\"\",StockIn!M335)","v":""}]
[{"$f":"StockIn!A336","v":1334},{"$f":"IF(OR(StockIn!B336=0,StockIn!B336=\"\"),\"\",StockIn!B336)","v":""},{"$f":"IF(OR(StockIn!D336=0,StockIn!D336=\"\"),\"\",StockIn!D336)","v":""},{"$f":"IF(OR(StockIn!G336=0,StockIn!G336=\"\"),\"\",StockIn!G336)","v":""},{"$f":"IF(OR(StockIn!H336=0,StockIn!H336=\"\"),\"\",StockIn!H336)","v":""},{"$f":"IF(OR(StockIn!L336=0,StockIn!L336=\"\"),\"\",StockIn!L336)","v":""},{"$f":"IF(OR(StockIn!E336=0,StockIn!E336=\"\"),\"\",StockIn!E336)","v":""},{"$f":"IF(OR(StockIn!M336=0,StockIn!M336=\"\"),\"\",StockIn!M336)","v":""}]
[{"$f":"StockIn!A337","v":1335},{"$f":"IF(OR(StockIn!B337=0,StockIn!B337=\"\"),\"\",StockIn!B337)","v":""},{"$f":"IF(OR(StockIn!D337=0,StockIn!D337=\"\"),\"\",StockIn!D337)","v":""},{"$f":"IF(OR(StockIn!G337=0,StockIn!G337=\"\"),\"\",StockIn!G337)","v":""},{"$f":"IF(OR(StockIn!H337=0,StockIn!H337=\"\"),\"\",StockIn!H337)","v":""},{"$f":"IF(OR(StockIn!L337=0,StockIn!L337=\"\"),\"\",StockIn!L337)","v":""},{"$f":"IF(OR(StockIn!E337=0,StockIn!E337=\"\"),\"\",StockIn!E337)","v":""},{"$f":"IF(OR(StockIn!M337=0,StockIn!M337=\"\"),\"\",StockIn!M337)","v":""}]
[{"$f":"StockIn!A338","v":1336},{"$f":"IF(OR(StockIn!B338=0,StockIn!B338=\"\"),\"\",StockIn!B338)","v":""},{"$f":"IF(OR(StockIn!D338=0,StockIn!D338=\"\"),\"\",StockIn!D338)","v":""},{"$f":"IF(OR(StockIn!G338=0,StockIn!G338=\"\"),\"\",StockIn!G338)","v":""},{"$f":"IF(OR(StockIn!H338=0,StockIn!H338=\"\"),\"\",StockIn!H338)","v":""},{"$f":"IF(OR(StockIn!L338=0,StockIn!L338=\"\"),\"\",StockIn!L338)","v":""},{"$f":"IF(OR(StockIn!E338=0,StockIn!E338=\"\"),\"\",StockIn!E338)","v":""},{"$f":"IF(OR(StockIn!M338=0,StockIn!M338=\"\"),\"\",StockIn!M338)","v":""}]
[{"$f":"StockIn!A339","v":1337},{"$f":"IF(OR(StockIn!B339=0,StockIn!B339=\"\"),\"\",StockIn!B339)","v":""},{"$f":"IF(OR(StockIn!D339=0,StockIn!D339=\"\"),\"\",StockIn!D339)","v":""},{"$f":"IF(OR(StockIn!G339=0,StockIn!G339=\"\"),\"\",StockIn!G339)","v":""},{"$f":"IF(OR(StockIn!H339=0,StockIn!H339=\"\"),\"\",StockIn!H339)","v":""},{"$f":"IF(OR(StockIn!L339=0,StockIn!L339=\"\"),\"\",StockIn!L339)","v":""},{"$f":"IF(OR(StockIn!E339=0,StockIn!E339=\"\"),\"\",StockIn!E339)","v":""},{"$f":"IF(OR(StockIn!M339=0,StockIn!M339=\"\"),\"\",StockIn!M339)","v":""}]
[{"$f":"StockIn!A340","v":1338},{"$f":"IF(OR(StockIn!B340=0,StockIn!B340=\"\"),\"\",StockIn!B340)","v":""},{"$f":"IF(OR(StockIn!D340=0,StockIn!D340=\"\"),\"\",StockIn!D340)","v":""},{"$f":"IF(OR(StockIn!G340=0,StockIn!G340=\"\"),\"\",StockIn!G340)","v":""},{"$f":"IF(OR(StockIn!H340=0,StockIn!H340=\"\"),\"\",StockIn!H340)","v":""},{"$f":"IF(OR(StockIn!L340=0,StockIn!L340=\"\"),\"\",StockIn!L340)","v":""},{"$f":"IF(OR(StockIn!E340=0,StockIn!E340=\"\"),\"\",StockIn!E340)","v":""},{"$f":"IF(OR(StockIn!M340=0,StockIn!M340=\"\"),\"\",StockIn!M340)","v":""}]
[{"$f":"StockIn!A341","v":1339},{"$f":"IF(OR(StockIn!B341=0,StockIn!B341=\"\"),\"\",StockIn!B341)","v":""},{"$f":"IF(OR(StockIn!D341=0,StockIn!D341=\"\"),\"\",StockIn!D341)","v":""},{"$f":"IF(OR(StockIn!G341=0,StockIn!G341=\"\"),\"\",StockIn!G341)","v":""},{"$f":"IF(OR(StockIn!H341=0,StockIn!H341=\"\"),\"\",StockIn!H341)","v":""},{"$f":"IF(OR(StockIn!L341=0,StockIn!L341=\"\"),\"\",StockIn!L341)","v":""},{"$f":"IF(OR(StockIn!E341=0,StockIn!E341=\"\"),\"\",StockIn!E341)","v":""},{"$f":"IF(OR(StockIn!M341=0,StockIn!M341=\"\"),\"\",StockIn!M341)","v":""}]
[{"$f":"StockIn!A342","v":1340},{"$f":"IF(OR(StockIn!B342=0,StockIn!B342=\"\"),\"\",StockIn!B342)","v":""},{"$f":"IF(OR(StockIn!D342=0,StockIn!D342=\"\"),\"\",StockIn!D342)","v":""},{"$f":"IF(OR(StockIn!G342=0,StockIn!G342=\"\"),\"\",StockIn!G342)","v":""},{"$f":"IF(OR(StockIn!H342=0,StockIn!H342=\"\"),\"\",StockIn!H342)","v":""},{"$f":"IF(OR(StockIn!L342=0,StockIn!L342=\"\"),\"\",StockIn!L342)","v":""},{"$f":"IF(OR(StockIn!E342=0,StockIn!E342=\"\"),\"\",StockIn!E342)","v":""},{"$f":"IF(OR(StockIn!M342=0,StockIn!M342=\"\"),\"\",StockIn!M342)","v":""}]
[{"$f":"StockIn!A343","v":1341},{"$f":"IF(OR(StockIn!B343=0,StockIn!B343=\"\"),\"\",StockIn!B343)","v":""},{"$f":"IF(OR(StockIn!D343=0,StockIn!D343=\"\"),\"\",StockIn!D343)","v":""},{"$f":"IF(OR(StockIn!G343=0,StockIn!G343=\"\"),\"\",StockIn!G343)","v":""},{"$f":"IF(OR(StockIn!H343=0,StockIn!H343=\"\"),\"\",StockIn!H343)","v":""},{"$f":"IF(OR(StockIn!L343=0,StockIn!L343=\"\"),\"\",StockIn!L343)","v":""},{"$f":"IF(OR(StockIn!E343=0,StockIn!E343=\"\"),\"\",StockIn!E343)","v":""},{"$f":"IF(OR(StockIn!M343=0,StockIn!M343=\"\"),\"\",StockIn!M343)","v":""}]
[{"$f":"StockIn!A344","v":1342},{"$f":"IF(OR(StockIn!B344=0,StockIn!B344=\"\"),\"\",StockIn!B344)","v":""},{"$f":"IF(OR(StockIn!D344=0,StockIn!D344=\"\"),\"\",StockIn!D344)","v":""},{"$f":"IF(OR(StockIn!G344=0,StockIn!G344=\"\"),\"\",StockIn!G344)","v":""},{"$f":"IF(OR(StockIn!H344=0,StockIn!H344=\"\"),\"\",StockIn!H344)","v":""},{"$f":"IF(OR(StockIn!L344=0,StockIn!L344=\"\"),\"\",StockIn!L344)","v":""},{"$f":"IF(OR(StockIn!E344=0,StockIn!E344=\"\"),\"\",StockIn!E344)","v":""},{"$f":"IF(OR(StockIn!M344=0,StockIn!M344=\"\"),\"\",StockIn!M344)","v":""}]
[{"$f":"StockIn!A345","v":1343},{"$f":"IF(OR(StockIn!B345=0,StockIn!B345=\"\"),\"\",StockIn!B345)","v":""},{"$f":"IF(OR(StockIn!D345=0,StockIn!D345=\"\"),\"\",StockIn!D345)","v":""},{"$f":"IF(OR(StockIn!G345=0,StockIn!G345=\"\"),\"\",StockIn!G345)","v":""},{"$f":"IF(OR(StockIn!H345=0,StockIn!H345=\"\"),\"\",StockIn!H345)","v":""},{"$f":"IF(OR(StockIn!L345=0,StockIn!L345=\"\"),\"\",StockIn!L345)","v":""},{"$f":"IF(OR(StockIn!E345=0,StockIn!E345=\"\"),\"\",StockIn!E345)","v":""},{"$f":"IF(OR(StockIn!M345=0,StockIn!M345=\"\"),\"\",StockIn!M345)","v":""}]
[{"$f":"StockIn!A346","v":1344},{"$f":"IF(OR(StockIn!B346=0,StockIn!B346=\"\"),\"\",StockIn!B346)","v":""},{"$f":"IF(OR(StockIn!D346=0,StockIn!D346=\"\"),\"\",StockIn!D346)","v":""},{"$f":"IF(OR(StockIn!G346=0,StockIn!G346=\"\"),\"\",StockIn!G346)","v":""},{"$f":"IF(OR(StockIn!H346=0,StockIn!H346=\"\"),\"\",StockIn!H346)","v":""},{"$f":"IF(OR(StockIn!L346=0,StockIn!L346=\"\"),\"\",StockIn!L346)","v":""},{"$f":"IF(OR(StockIn!E346=0,StockIn!E346=\"\"),\"\",StockIn!E346)","v":""},{"$f":"IF(OR(StockIn!M346=0,StockIn!M346=\"\"),\"\",StockIn!M346)","v":""}]
[{"$f":"StockIn!A347","v":1345},{"$f":"IF(OR(StockIn!B347=0,StockIn!B347=\"\"),\"\",StockIn!B347)","v":""},{"$f":"IF(OR(StockIn!D347=0,StockIn!D347=\"\"),\"\",StockIn!D347)","v":""},{"$f":"IF(OR(StockIn!G347=0,StockIn!G347=\"\"),\"\",StockIn!G347)","v":""},{"$f":"IF(OR(StockIn!H347=0,StockIn!H347=\"\"),\"\",StockIn!H347)","v":""},{"$f":"IF(OR(StockIn!L347=0,StockIn!L347=\"\"),\"\",StockIn!L347)","v":""},{"$f":"IF(OR(StockIn!E347=0,StockIn!E347=\"\"),\"\",StockIn!E347)","v":""},{"$f":"IF(OR(StockIn!M347=0,StockIn!M347=\"\"),\"\",StockIn!M347)","v":""}]
[{"$f":"StockIn!A348","v":1346},{"$f":"IF(OR(StockIn!B348=0,StockIn!B348=\"\"),\"\",StockIn!B348)","v":""},{"$f":"IF(OR(StockIn!D348=0,StockIn!D348=\"\"),\"\",StockIn!D348)","v":""},{"$f":"IF(OR(StockIn!G348=0,StockIn!G348=\"\"),\"\",StockIn!G348)","v":""},{"$f":"IF(OR(StockIn!H348=0,StockIn!H348=\"\"),\"\",StockIn!H348)","v":""},{"$f":"IF(OR(StockIn!L348=0,StockIn!L348=\"\"),\"\",StockIn!L348)","v":""},{"$f":"IF(OR(StockIn!E348=0,StockIn!E348=\"\"),\"\",StockIn!E348)","v":""},{"$f":"IF(OR(StockIn!M348=0,StockIn!M348=\"\"),\"\",StockIn!M348)","v":""}]
[{"$f":"StockIn!A349","v":1347},{"$f":"IF(OR(StockIn!B349=0,StockIn!B349=\"\"),\"\",StockIn!B349)","v":""},{"$f":"IF(OR(StockIn!D349=0,StockIn!D349=\"\"),\"\",StockIn!D349)","v":""},{"$f":"IF(OR(StockIn!G349=0,StockIn!G349=\"\"),\"\",StockIn!G349)","v":""},{"$f":"IF(OR(StockIn!H349=0,StockIn!H349=\"\"),\"\",StockIn!H349)","v":""},{"$f":"IF(OR(StockIn!L349=0,StockIn!L349=\"\"),\"\",StockIn!L349)","v":""},{"$f":"IF(OR(StockIn!E349=0,StockIn!E349=\"\"),\"\",StockIn!E349)","v":""},{"$f":"IF(OR(StockIn!M349=0,StockIn!M349=\"\"),\"\",StockIn!M349)","v":""}]
[{"$f":"StockIn!A350","v":1348},{"$f":"IF(OR(StockIn!B350=0,StockIn!B350=\"\"),\"\",StockIn!B350)","v":""},{"$f":"IF(OR(StockIn!D350=0,StockIn!D350=\"\"),\"\",StockIn!D350)","v":""},{"$f":"IF(OR(StockIn!G350=0,StockIn!G350=\"\"),\"\",StockIn!G350)","v":""},{"$f":"IF(OR(StockIn!H350=0,StockIn!H350=\"\"),\"\",StockIn!H350)","v":""},{"$f":"IF(OR(StockIn!L350=0,StockIn!L350=\"\"),\"\",StockIn!L350)","v":""},{"$f":"IF(OR(StockIn!E350=0,StockIn!E350=\"\"),\"\",StockIn!E350)","v":""},{"$f":"IF(OR(StockIn!M350=0,StockIn!M350=\"\"),\"\",StockIn!M350)","v":""}]
[{"$f":"StockIn!A351","v":1349},{"$f":"IF(OR(StockIn!B351=0,StockIn!B351=\"\"),\"\",StockIn!B351)","v":""},{"$f":"IF(OR(StockIn!D351=0,StockIn!D351=\"\"),\"\",StockIn!D351)","v":""},{"$f":"IF(OR(StockIn!G351=0,StockIn!G351=\"\"),\"\",StockIn!G351)","v":""},{"$f":"IF(OR(StockIn!H351=0,StockIn!H351=\"\"),\"\",StockIn!H351)","v":""},{"$f":"IF(OR(StockIn!L351=0,StockIn!L351=\"\"),\"\",StockIn!L351)","v":""},{"$f":"IF(OR(StockIn!E351=0,StockIn!E351=\"\"),\"\",StockIn!E351)","v":""},{"$f":"IF(OR(StockIn!M351=0,StockIn!M351=\"\"),\"\",StockIn!M351)","v":""}]
[{"$f":"StockIn!A352","v":1350},{"$f":"IF(OR(StockIn!B352=0,StockIn!B352=\"\"),\"\",StockIn!B352)","v":""},{"$f":"IF(OR(StockIn!D352=0,StockIn!D352=\"\"),\"\",StockIn!D352)","v":""},{"$f":"IF(OR(StockIn!G352=0,StockIn!G352=\"\"),\"\",StockIn!G352)","v":""},{"$f":"IF(OR(StockIn!H352=0,StockIn!H352=\"\"),\"\",StockIn!H352)","v":""},{"$f":"IF(OR(StockIn!L352=0,StockIn!L352=\"\"),\"\",StockIn!L352)","v":""},{"$f":"IF(OR(StockIn!E352=0,StockIn!E352=\"\"),\"\",StockIn!E352)","v":""},{"$f":"IF(OR(StockIn!M352=0,StockIn!M352=\"\"),\"\",StockIn!M352)","v":""}]
[{"$f":"StockIn!A353","v":1351},{"$f":"IF(OR(StockIn!B353=0,StockIn!B353=\"\"),\"\",StockIn!B353)","v":""},{"$f":"IF(OR(StockIn!D353=0,StockIn!D353=\"\"),\"\",StockIn!D353)","v":""},{"$f":"IF(OR(StockIn!G353=0,StockIn!G353=\"\"),\"\",StockIn!G353)","v":""},{"$f":"IF(OR(StockIn!H353=0,StockIn!H353=\"\"),\"\",StockIn!H353)","v":""},{"$f":"IF(OR(StockIn!L353=0,StockIn!L353=\"\"),\"\",StockIn!L353)","v":""},{"$f":"IF(OR(StockIn!E353=0,StockIn!E353=\"\"),\"\",StockIn!E353)","v":""},{"$f":"IF(OR(StockIn!M353=0,StockIn!M353=\"\"),\"\",StockIn!M353)","v":""}]
[{"$f":"StockIn!A354","v":1352},{"$f":"IF(OR(StockIn!B354=0,StockIn!B354=\"\"),\"\",StockIn!B354)","v":""},{"$f":"IF(OR(StockIn!D354=0,StockIn!D354=\"\"),\"\",StockIn!D354)","v":""},{"$f":"IF(OR(StockIn!G354=0,StockIn!G354=\"\"),\"\",StockIn!G354)","v":""},{"$f":"IF(OR(StockIn!H354=0,StockIn!H354=\"\"),\"\",StockIn!H354)","v":""},{"$f":"IF(OR(StockIn!L354=0,StockIn!L354=\"\"),\"\",StockIn!L354)","v":""},{"$f":"IF(OR(StockIn!E354=0,StockIn!E354=\"\"),\"\",StockIn!E354)","v":""},{"$f":"IF(OR(StockIn!M354=0,StockIn!M354=\"\"),\"\",StockIn!M354)","v":""}]
[{"$f":"StockIn!A355","v":1353},{"$f":"IF(OR(StockIn!B355=0,StockIn!B355=\"\"),\"\",StockIn!B355)","v":""},{"$f":"IF(OR(StockIn!D355=0,StockIn!D355=\"\"),\"\",StockIn!D355)","v":""},{"$f":"IF(OR(StockIn!G355=0,StockIn!G355=\"\"),\"\",StockIn!G355)","v":""},{"$f":"IF(OR(StockIn!H355=0,StockIn!H355=\"\"),\"\",StockIn!H355)","v":""},{"$f":"IF(OR(StockIn!L355=0,StockIn!L355=\"\"),\"\",StockIn!L355)","v":""},{"$f":"IF(OR(StockIn!E355=0,StockIn!E355=\"\"),\"\",StockIn!E355)","v":""},{"$f":"IF(OR(StockIn!M355=0,StockIn!M355=\"\"),\"\",StockIn!M355)","v":""}]
[{"$f":"StockIn!A356","v":1354},{"$f":"IF(OR(StockIn!B356=0,StockIn!B356=\"\"),\"\",StockIn!B356)","v":""},{"$f":"IF(OR(StockIn!D356=0,StockIn!D356=\"\"),\"\",StockIn!D356)","v":""},{"$f":"IF(OR(StockIn!G356=0,StockIn!G356=\"\"),\"\",StockIn!G356)","v":""},{"$f":"IF(OR(StockIn!H356=0,StockIn!H356=\"\"),\"\",StockIn!H356)","v":""},{"$f":"IF(OR(StockIn!L356=0,StockIn!L356=\"\"),\"\",StockIn!L356)","v":""},{"$f":"IF(OR(StockIn!E356=0,StockIn!E356=\"\"),\"\",StockIn!E356)","v":""},{"$f":"IF(OR(StockIn!M356=0,StockIn!M356=\"\"),\"\",StockIn!M356)","v":""}]
[{"$f":"StockIn!A357","v":1355},{"$f":"IF(OR(StockIn!B357=0,StockIn!B357=\"\"),\"\",StockIn!B357)","v":""},{"$f":"IF(OR(StockIn!D357=0,StockIn!D357=\"\"),\"\",StockIn!D357)","v":""},{"$f":"IF(OR(StockIn!G357=0,StockIn!G357=\"\"),\"\",StockIn!G357)","v":""},{"$f":"IF(OR(StockIn!H357=0,StockIn!H357=\"\"),\"\",StockIn!H357)","v":""},{"$f":"IF(OR(StockIn!L357=0,StockIn!L357=\"\"),\"\",StockIn!L357)","v":""},{"$f":"IF(OR(StockIn!E357=0,StockIn!E357=\"\"),\"\",StockIn!E357)","v":""},{"$f":"IF(OR(StockIn!M357=0,StockIn!M357=\"\"),\"\",StockIn!M357)","v":""}]
[{"$f":"StockIn!A358","v":1356},{"$f":"IF(OR(StockIn!B358=0,StockIn!B358=\"\"),\"\",StockIn!B358)","v":""},{"$f":"IF(OR(StockIn!D358=0,StockIn!D358=\"\"),\"\",StockIn!D358)","v":""},{"$f":"IF(OR(StockIn!G358=0,StockIn!G358=\"\"),\"\",StockIn!G358)","v":""},{"$f":"IF(OR(StockIn!H358=0,StockIn!H358=\"\"),\"\",StockIn!H358)","v":""},{"$f":"IF(OR(StockIn!L358=0,StockIn!L358=\"\"),\"\",StockIn!L358)","v":""},{"$f":"IF(OR(StockIn!E358=0,StockIn!E358=\"\"),\"\",StockIn!E358)","v":""},{"$f":"IF(OR(StockIn!M358=0,StockIn!M358=\"\"),\"\",StockIn!M358)","v":""}]
[{"$f":"StockIn!A359","v":1357},{"$f":"IF(OR(StockIn!B359=0,StockIn!B359=\"\"),\"\",StockIn!B359)","v":""},{"$f":"IF(OR(StockIn!D359=0,StockIn!D359=\"\"),\"\",StockIn!D359)","v":""},{"$f":"IF(OR(StockIn!G359=0,StockIn!G359=\"\"),\"\",StockIn!G359)","v":""},{"$f":"IF(OR(StockIn!H359=0,StockIn!H359=\"\"),\"\",StockIn!H359)","v":""},{"$f":"IF(OR(StockIn!L359=0,StockIn!L359=\"\"),\"\",StockIn!L359)","v":""},{"$f":"IF(OR(StockIn!E359=0,StockIn!E359=\"\"),\"\",StockIn!E359)","v":""},{"$f":"IF(OR(StockIn!M359=0,StockIn!M359=\"\"),\"\",StockIn!M359)","v":""}]
[{"$f":"StockIn!A360","v":1358},{"$f":"IF(OR(StockIn!B360=0,StockIn!B360=\"\"),\"\",StockIn!B360)","v":""},{"$f":"IF(OR(StockIn!D360=0,StockIn!D360=\"\"),\"\",StockIn!D360)","v":""},{"$f":"IF(OR(StockIn!G360=0,StockIn!G360=\"\"),\"\",StockIn!G360)","v":""},{"$f":"IF(OR(StockIn!H360=0,StockIn!H360=\"\"),\"\",StockIn!H360)","v":""},{"$f":"IF(OR(StockIn!L360=0,StockIn!L360=\"\"),\"\",StockIn!L360)","v":""},{"$f":"IF(OR(StockIn!E360=0,StockIn!E360=\"\"),\"\",StockIn!E360)","v":""},{"$f":"IF(OR(StockIn!M360=0,StockIn!M360=\"\"),\"\",StockIn!M360)","v":""}]
[{"$f":"StockIn!A361","v":1359},{"$f":"IF(OR(StockIn!B361=0,StockIn!B361=\"\"),\"\",StockIn!B361)","v":""},{"$f":"IF(OR(StockIn!D361=0,StockIn!D361=\"\"),\"\",StockIn!D361)","v":""},{"$f":"IF(OR(StockIn!G361=0,StockIn!G361=\"\"),\"\",StockIn!G361)","v":""},{"$f":"IF(OR(StockIn!H361=0,StockIn!H361=\"\"),\"\",StockIn!H361)","v":""},{"$f":"IF(OR(StockIn!L361=0,StockIn!L361=\"\"),\"\",StockIn!L361)","v":""},{"$f":"IF(OR(StockIn!E361=0,StockIn!E361=\"\"),\"\",StockIn!E361)","v":""},{"$f":"IF(OR(StockIn!M361=0,StockIn!M361=\"\"),\"\",StockIn!M361)","v":""}]
[{"$f":"StockIn!A362","v":1360},{"$f":"IF(OR(StockIn!B362=0,StockIn!B362=\"\"),\"\",StockIn!B362)","v":""},{"$f":"IF(OR(StockIn!D362=0,StockIn!D362=\"\"),\"\",StockIn!D362)","v":""},{"$f":"IF(OR(StockIn!G362=0,StockIn!G362=\"\"),\"\",StockIn!G362)","v":""},{"$f":"IF(OR(StockIn!H362=0,StockIn!H362=\"\"),\"\",StockIn!H362)","v":""},{"$f":"IF(OR(StockIn!L362=0,StockIn!L362=\"\"),\"\",StockIn!L362)","v":""},{"$f":"IF(OR(StockIn!E362=0,StockIn!E362=\"\"),\"\",StockIn!E362)","v":""},{"$f":"IF(OR(StockIn!M362=0,StockIn!M362=\"\"),\"\",StockIn!M362)","v":""}]
[{"$f":"StockIn!A363","v":1361},{"$f":"IF(OR(StockIn!B363=0,StockIn!B363=\"\"),\"\",StockIn!B363)","v":""},{"$f":"IF(OR(StockIn!D363=0,StockIn!D363=\"\"),\"\",StockIn!D363)","v":""},{"$f":"IF(OR(StockIn!G363=0,StockIn!G363=\"\"),\"\",StockIn!G363)","v":""},{"$f":"IF(OR(StockIn!H363=0,StockIn!H363=\"\"),\"\",StockIn!H363)","v":""},{"$f":"IF(OR(StockIn!L363=0,StockIn!L363=\"\"),\"\",StockIn!L363)","v":""},{"$f":"IF(OR(StockIn!E363=0,StockIn!E363=\"\"),\"\",StockIn!E363)","v":""},{"$f":"IF(OR(StockIn!M363=0,StockIn!M363=\"\"),\"\",StockIn!M363)","v":""}]
[{"$f":"StockIn!A364","v":1362},{"$f":"IF(OR(StockIn!B364=0,StockIn!B364=\"\"),\"\",StockIn!B364)","v":""},{"$f":"IF(OR(StockIn!D364=0,StockIn!D364=\"\"),\"\",StockIn!D364)","v":""},{"$f":"IF(OR(StockIn!G364=0,StockIn!G364=\"\"),\"\",StockIn!G364)","v":""},{"$f":"IF(OR(StockIn!H364=0,StockIn!H364=\"\"),\"\",StockIn!H364)","v":""},{"$f":"IF(OR(StockIn!L364=0,StockIn!L364=\"\"),\"\",StockIn!L364)","v":""},{"$f":"IF(OR(StockIn!E364=0,StockIn!E364=\"\"),\"\",StockIn!E364)","v":""},{"$f":"IF(OR(StockIn!M364=0,StockIn!M364=\"\"),\"\",StockIn!M364)","v":""}]
[{"$f":"StockIn!A365","v":1363},{"$f":"IF(OR(StockIn!B365=0,StockIn!B365=\"\"),\"\",StockIn!B365)","v":""},{"$f":"IF(OR(StockIn!D365=0,StockIn!D365=\"\"),\"\",StockIn!D365)","v":""},{"$f":"IF(OR(StockIn!G365=0,StockIn!G365=\"\"),\"\",StockIn!G365)","v":""},{"$f":"IF(OR(StockIn!H365=0,StockIn!H365=\"\"),\"\",StockIn!H365)","v":""},{"$f":"IF(OR(StockIn!L365=0,StockIn!L365=\"\"),\"\",StockIn!L365)","v":""},{"$f":"IF(OR(StockIn!E365=0,StockIn!E365=\"\"),\"\",StockIn!E365)","v":""},{"$f":"IF(OR(StockIn!M365=0,StockIn!M365=\"\"),\"\",StockIn!M365)","v":""}]
[{"$f":"StockIn!A366","v":1364},{"$f":"IF(OR(StockIn!B366=0,StockIn!B366=\"\"),\"\",StockIn!B366)","v":""},{"$f":"IF(OR(StockIn!D366=0,StockIn!D366=\"\"),\"\",StockIn!D366)","v":""},{"$f":"IF(OR(StockIn!G366=0,StockIn!G366=\"\"),\"\",StockIn!G366)","v":""},{"$f":"IF(OR(StockIn!H366=0,StockIn!H366=\"\"),\"\",StockIn!H366)","v":""},{"$f":"IF(OR(StockIn!L366=0,StockIn!L366=\"\"),\"\",StockIn!L366)","v":""},{"$f":"IF(OR(StockIn!E366=0,StockIn!E366=\"\"),\"\",StockIn!E366)","v":""},{"$f":"IF(OR(StockIn!M366=0,StockIn!M366=\"\"),\"\",StockIn!M366)","v":""}]
[{"$f":"StockIn!A367","v":1365},{"$f":"IF(OR(StockIn!B367=0,StockIn!B367=\"\"),\"\",StockIn!B367)","v":""},{"$f":"IF(OR(StockIn!D367=0,StockIn!D367=\"\"),\"\",StockIn!D367)","v":""},{"$f":"IF(OR(StockIn!G367=0,StockIn!G367=\"\"),\"\",StockIn!G367)","v":""},{"$f":"IF(OR(StockIn!H367=0,StockIn!H367=\"\"),\"\",StockIn!H367)","v":""},{"$f":"IF(OR(StockIn!L367=0,StockIn!L367=\"\"),\"\",StockIn!L367)","v":""},{"$f":"IF(OR(StockIn!E367=0,StockIn!E367=\"\"),\"\",StockIn!E367)","v":""},{"$f":"IF(OR(StockIn!M367=0,StockIn!M367=\"\"),\"\",StockIn!M367)","v":""}]
[{"$f":"StockIn!A368","v":1366},{"$f":"IF(OR(StockIn!B368=0,StockIn!B368=\"\"),\"\",StockIn!B368)","v":""},{"$f":"IF(OR(StockIn!D368=0,StockIn!D368=\"\"),\"\",StockIn!D368)","v":""},{"$f":"IF(OR(StockIn!G368=0,StockIn!G368=\"\"),\"\",StockIn!G368)","v":""},{"$f":"IF(OR(StockIn!H368=0,StockIn!H368=\"\"),\"\",StockIn!H368)","v":""},{"$f":"IF(OR(StockIn!L368=0,StockIn!L368=\"\"),\"\",StockIn!L368)","v":""},{"$f":"IF(OR(StockIn!E368=0,StockIn!E368=\"\"),\"\",StockIn!E368)","v":""},{"$f":"IF(OR(StockIn!M368=0,StockIn!M368=\"\"),\"\",StockIn!M368)","v":""}]
[{"$f":"StockIn!A369","v":1367},{"$f":"IF(OR(StockIn!B369=0,StockIn!B369=\"\"),\"\",StockIn!B369)","v":""},{"$f":"IF(OR(StockIn!D369=0,StockIn!D369=\"\"),\"\",StockIn!D369)","v":""},{"$f":"IF(OR(StockIn!G369=0,StockIn!G369=\"\"),\"\",StockIn!G369)","v":""},{"$f":"IF(OR(StockIn!H369=0,StockIn!H369=\"\"),\"\",StockIn!H369)","v":""},{"$f":"IF(OR(StockIn!L369=0,StockIn!L369=\"\"),\"\",StockIn!L369)","v":""},{"$f":"IF(OR(StockIn!E369=0,StockIn!E369=\"\"),\"\",StockIn!E369)","v":""},{"$f":"IF(OR(StockIn!M369=0,StockIn!M369=\"\"),\"\",StockIn!M369)","v":""}]
[{"$f":"StockIn!A370","v":1368},{"$f":"IF(OR(StockIn!B370=0,StockIn!B370=\"\"),\"\",StockIn!B370)","v":""},{"$f":"IF(OR(StockIn!D370=0,StockIn!D370=\"\"),\"\",StockIn!D370)","v":""},{"$f":"IF(OR(StockIn!G370=0,StockIn!G370=\"\"),\"\",StockIn!G370)","v":""},{"$f":"IF(OR(StockIn!H370=0,StockIn!H370=\"\"),\"\",StockIn!H370)","v":""},{"$f":"IF(OR(StockIn!L370=0,StockIn!L370=\"\"),\"\",StockIn!L370)","v":""},{"$f":"IF(OR(StockIn!E370=0,StockIn!E370=\"\"),\"\",StockIn!E370)","v":""},{"$f":"IF(OR(StockIn!M370=0,StockIn!M370=\"\"),\"\",StockIn!M370)","v":""}]
[{"$f":"StockIn!A371","v":1369},{"$f":"IF(OR(StockIn!B371=0,StockIn!B371=\"\"),\"\",StockIn!B371)","v":""},{"$f":"IF(OR(StockIn!D371=0,StockIn!D371=\"\"),\"\",StockIn!D371)","v":""},{"$f":"IF(OR(StockIn!G371=0,StockIn!G371=\"\"),\"\",StockIn!G371)","v":""},{"$f":"IF(OR(StockIn!H371=0,StockIn!H371=\"\"),\"\",StockIn!H371)","v":""},{"$f":"IF(OR(StockIn!L371=0,StockIn!L371=\"\"),\"\",StockIn!L371)","v":""},{"$f":"IF(OR(StockIn!E371=0,StockIn!E371=\"\"),\"\",StockIn!E371)","v":""},{"$f":"IF(OR(StockIn!M371=0,StockIn!M371=\"\"),\"\",StockIn!M371)","v":""}]
[{"$f":"StockIn!A372","v":1370},{"$f":"IF(OR(StockIn!B372=0,StockIn!B372=\"\"),\"\",StockIn!B372)","v":""},{"$f":"IF(OR(StockIn!D372=0,StockIn!D372=\"\"),\"\",StockIn!D372)","v":""},{"$f":"IF(OR(StockIn!G372=0,StockIn!G372=\"\"),\"\",StockIn!G372)","v":""},{"$f":"IF(OR(StockIn!H372=0,StockIn!H372=\"\"),\"\",StockIn!H372)","v":""},{"$f":"IF(OR(StockIn!L372=0,StockIn!L372=\"\"),\"\",StockIn!L372)","v":""},{"$f":"IF(OR(StockIn!E372=0,StockIn!E372=\"\"),\"\",StockIn!E372)","v":""},{"$f":"IF(OR(StockIn!M372=0,StockIn!M372=\"\"),\"\",StockIn!M372)","v":""}]
[{"$f":"StockIn!A373","v":1371},{"$f":"IF(OR(StockIn!B373=0,StockIn!B373=\"\"),\"\",StockIn!B373)","v":""},{"$f":"IF(OR(StockIn!D373=0,StockIn!D373=\"\"),\"\",StockIn!D373)","v":""},{"$f":"IF(OR(StockIn!G373=0,StockIn!G373=\"\"),\"\",StockIn!G373)","v":""},{"$f":"IF(OR(StockIn!H373=0,StockIn!H373=\"\"),\"\",StockIn!H373)","v":""},{"$f":"IF(OR(StockIn!L373=0,StockIn!L373=\"\"),\"\",StockIn!L373)","v":""},{"$f":"IF(OR(StockIn!E373=0,StockIn!E373=\"\"),\"\",StockIn!E373)","v":""},{"$f":"IF(OR(StockIn!M373=0,StockIn!M373=\"\"),\"\",StockIn!M373)","v":""}]
[{"$f":"StockIn!A374","v":1372},{"$f":"IF(OR(StockIn!B374=0,StockIn!B374=\"\"),\"\",StockIn!B374)","v":""},{"$f":"IF(OR(StockIn!D374=0,StockIn!D374=\"\"),\"\",StockIn!D374)","v":""},{"$f":"IF(OR(StockIn!G374=0,StockIn!G374=\"\"),\"\",StockIn!G374)","v":""},{"$f":"IF(OR(StockIn!H374=0,StockIn!H374=\"\"),\"\",StockIn!H374)","v":""},{"$f":"IF(OR(StockIn!L374=0,StockIn!L374=\"\"),\"\",StockIn!L374)","v":""},{"$f":"IF(OR(StockIn!E374=0,StockIn!E374=\"\"),\"\",StockIn!E374)","v":""},{"$f":"IF(OR(StockIn!M374=0,StockIn!M374=\"\"),\"\",StockIn!M374)","v":""}]
[{"$f":"StockIn!A375","v":1373},{"$f":"IF(OR(StockIn!B375=0,StockIn!B375=\"\"),\"\",StockIn!B375)","v":""},{"$f":"IF(OR(StockIn!D375=0,StockIn!D375=\"\"),\"\",StockIn!D375)","v":""},{"$f":"IF(OR(StockIn!G375=0,StockIn!G375=\"\"),\"\",StockIn!G375)","v":""},{"$f":"IF(OR(StockIn!H375=0,StockIn!H375=\"\"),\"\",StockIn!H375)","v":""},{"$f":"IF(OR(StockIn!L375=0,StockIn!L375=\"\"),\"\",StockIn!L375)","v":""},{"$f":"IF(OR(StockIn!E375=0,StockIn!E375=\"\"),\"\",StockIn!E375)","v":""},{"$f":"IF(OR(StockIn!M375=0,StockIn!M375=\"\"),\"\",StockIn!M375)","v":""}]
[{"$f":"StockIn!A376","v":1374},{"$f":"IF(OR(StockIn!B376=0,StockIn!B376=\"\"),\"\",StockIn!B376)","v":""},{"$f":"IF(OR(StockIn!D376=0,StockIn!D376=\"\"),\"\",StockIn!D376)","v":""},{"$f":"IF(OR(StockIn!G376=0,StockIn!G376=\"\"),\"\",StockIn!G376)","v":""},{"$f":"IF(OR(StockIn!H376=0,StockIn!H376=\"\"),\"\",StockIn!H376)","v":""},{"$f":"IF(OR(StockIn!L376=0,StockIn!L376=\"\"),\"\",StockIn!L376)","v":""},{"$f":"IF(OR(StockIn!E376=0,StockIn!E376=\"\"),\"\",StockIn!E376)","v":""},{"$f":"IF(OR(StockIn!M376=0,StockIn!M376=\"\"),\"\",StockIn!M376)","v":""}]
[{"$f":"StockIn!A377","v":1375},{"$f":"IF(OR(StockIn!B377=0,StockIn!B377=\"\"),\"\",StockIn!B377)","v":""},{"$f":"IF(OR(StockIn!D377=0,StockIn!D377=\"\"),\"\",StockIn!D377)","v":""},{"$f":"IF(OR(StockIn!G377=0,StockIn!G377=\"\"),\"\",StockIn!G377)","v":""},{"$f":"IF(OR(StockIn!H377=0,StockIn!H377=\"\"),\"\",StockIn!H377)","v":""},{"$f":"IF(OR(StockIn!L377=0,StockIn!L377=\"\"),\"\",StockIn!L377)","v":""},{"$f":"IF(OR(StockIn!E377=0,StockIn!E377=\"\"),\"\",StockIn!E377)","v":""},{"$f":"IF(OR(StockIn!M377=0,StockIn!M377=\"\"),\"\",StockIn!M377)","v":""}]
[{"$f":"StockIn!A378","v":1376},{"$f":"IF(OR(StockIn!B378=0,StockIn!B378=\"\"),\"\",StockIn!B378)","v":""},{"$f":"IF(OR(StockIn!D378=0,StockIn!D378=\"\"),\"\",StockIn!D378)","v":""},{"$f":"IF(OR(StockIn!G378=0,StockIn!G378=\"\"),\"\",StockIn!G378)","v":""},{"$f":"IF(OR(StockIn!H378=0,StockIn!H378=\"\"),\"\",StockIn!H378)","v":""},{"$f":"IF(OR(StockIn!L378=0,StockIn!L378=\"\"),\"\",StockIn!L378)","v":""},{"$f":"IF(OR(StockIn!E378=0,StockIn!E378=\"\"),\"\",StockIn!E378)","v":""},{"$f":"IF(OR(StockIn!M378=0,StockIn!M378=\"\"),\"\",StockIn!M378)","v":""}]
[{"$f":"StockIn!A379","v":1377},{"$f":"IF(OR(StockIn!B379=0,StockIn!B379=\"\"),\"\",StockIn!B379)","v":""},{"$f":"IF(OR(StockIn!D379=0,StockIn!D379=\"\"),\"\",StockIn!D379)","v":""},{"$f":"IF(OR(StockIn!G379=0,StockIn!G379=\"\"),\"\",StockIn!G379)","v":""},{"$f":"IF(OR(StockIn!H379=0,StockIn!H379=\"\"),\"\",StockIn!H379)","v":""},{"$f":"IF(OR(StockIn!L379=0,StockIn!L379=\"\"),\"\",StockIn!L379)","v":""},{"$f":"IF(OR(StockIn!E379=0,StockIn!E379=\"\"),\"\",StockIn!E379)","v":""},{"$f":"IF(OR(StockIn!M379=0,StockIn!M379=\"\"),\"\",StockIn!M379)","v":""}]
[{"$f":"StockIn!A380","v":1378},{"$f":"IF(OR(StockIn!B380=0,StockIn!B380=\"\"),\"\",StockIn!B380)","v":""},{"$f":"IF(OR(StockIn!D380=0,StockIn!D380=\"\"),\"\",StockIn!D380)","v":""},{"$f":"IF(OR(StockIn!G380=0,StockIn!G380=\"\"),\"\",StockIn!G380)","v":""},{"$f":"IF(OR(StockIn!H380=0,StockIn!H380=\"\"),\"\",StockIn!H380)","v":""},{"$f":"IF(OR(StockIn!L380=0,StockIn!L380=\"\"),\"\",StockIn!L380)","v":""},{"$f":"IF(OR(StockIn!E380=0,StockIn!E380=\"\"),\"\",StockIn!E380)","v":""},{"$f":"IF(OR(StockIn!M380=0,StockIn!M380=\"\"),\"\",StockIn!M380)","v":""}]
[{"$f":"StockIn!A381","v":1379},{"$f":"IF(OR(StockIn!B381=0,StockIn!B381=\"\"),\"\",StockIn!B381)","v":""},{"$f":"IF(OR(StockIn!D381=0,StockIn!D381=\"\"),\"\",StockIn!D381)","v":""},{"$f":"IF(OR(StockIn!G381=0,StockIn!G381=\"\"),\"\",StockIn!G381)","v":""},{"$f":"IF(OR(StockIn!H381=0,StockIn!H381=\"\"),\"\",StockIn!H381)","v":""},{"$f":"IF(OR(StockIn!L381=0,StockIn!L381=\"\"),\"\",StockIn!L381)","v":""},{"$f":"IF(OR(StockIn!E381=0,StockIn!E381=\"\"),\"\",StockIn!E381)","v":""},{"$f":"IF(OR(StockIn!M381=0,StockIn!M381=\"\"),\"\",StockIn!M381)","v":""}]
[{"$f":"StockIn!A382","v":1380},{"$f":"IF(OR(StockIn!B382=0,StockIn!B382=\"\"),\"\",StockIn!B382)","v":""},{"$f":"IF(OR(StockIn!D382=0,StockIn!D382=\"\"),\"\",StockIn!D382)","v":""},{"$f":"IF(OR(StockIn!G382=0,StockIn!G382=\"\"),\"\",StockIn!G382)","v":""},{"$f":"IF(OR(StockIn!H382=0,StockIn!H382=\"\"),\"\",StockIn!H382)","v":""},{"$f":"IF(OR(StockIn!L382=0,StockIn!L382=\"\"),\"\",StockIn!L382)","v":""},{"$f":"IF(OR(StockIn!E382=0,StockIn!E382=\"\"),\"\",StockIn!E382)","v":""},{"$f":"IF(OR(StockIn!M382=0,StockIn!M382=\"\"),\"\",StockIn!M382)","v":""}]
[{"$f":"StockIn!A383","v":1381},{"$f":"IF(OR(StockIn!B383=0,StockIn!B383=\"\"),\"\",StockIn!B383)","v":""},{"$f":"IF(OR(StockIn!D383=0,StockIn!D383=\"\"),\"\",StockIn!D383)","v":""},{"$f":"IF(OR(StockIn!G383=0,StockIn!G383=\"\"),\"\",StockIn!G383)","v":""},{"$f":"IF(OR(StockIn!H383=0,StockIn!H383=\"\"),\"\",StockIn!H383)","v":""},{"$f":"IF(OR(StockIn!L383=0,StockIn!L383=\"\"),\"\",StockIn!L383)","v":""},{"$f":"IF(OR(StockIn!E383=0,StockIn!E383=\"\"),\"\",StockIn!E383)","v":""},{"$f":"IF(OR(StockIn!M383=0,StockIn!M383=\"\"),\"\",StockIn!M383)","v":""}]
[{"$f":"StockIn!A384","v":1382},{"$f":"IF(OR(StockIn!B384=0,StockIn!B384=\"\"),\"\",StockIn!B384)","v":""},{"$f":"IF(OR(StockIn!D384=0,StockIn!D384=\"\"),\"\",StockIn!D384)","v":""},{"$f":"IF(OR(StockIn!G384=0,StockIn!G384=\"\"),\"\",StockIn!G384)","v":""},{"$f":"IF(OR(StockIn!H384=0,StockIn!H384=\"\"),\"\",StockIn!H384)","v":""},{"$f":"IF(OR(StockIn!L384=0,StockIn!L384=\"\"),\"\",StockIn!L384)","v":""},{"$f":"IF(OR(StockIn!E384=0,StockIn!E384=\"\"),\"\",StockIn!E384)","v":""},{"$f":"IF(OR(StockIn!M384=0,StockIn!M384=\"\"),\"\",StockIn!M384)","v":""}]
[{"$f":"StockIn!A385","v":1383},{"$f":"IF(OR(StockIn!B385=0,StockIn!B385=\"\"),\"\",StockIn!B385)","v":""},{"$f":"IF(OR(StockIn!D385=0,StockIn!D385=\"\"),\"\",StockIn!D385)","v":""},{"$f":"IF(OR(StockIn!G385=0,StockIn!G385=\"\"),\"\",StockIn!G385)","v":""},{"$f":"IF(OR(StockIn!H385=0,StockIn!H385=\"\"),\"\",StockIn!H385)","v":""},{"$f":"IF(OR(StockIn!L385=0,StockIn!L385=\"\"),\"\",StockIn!L385)","v":""},{"$f":"IF(OR(StockIn!E385=0,StockIn!E385=\"\"),\"\",StockIn!E385)","v":""},{"$f":"IF(OR(StockIn!M385=0,StockIn!M385=\"\"),\"\",StockIn!M385)","v":""}]
[{"$f":"StockIn!A386","v":1384},{"$f":"IF(OR(StockIn!B386=0,StockIn!B386=\"\"),\"\",StockIn!B386)","v":""},{"$f":"IF(OR(StockIn!D386=0,StockIn!D386=\"\"),\"\",StockIn!D386)","v":""},{"$f":"IF(OR(StockIn!G386=0,StockIn!G386=\"\"),\"\",StockIn!G386)","v":""},{"$f":"IF(OR(StockIn!H386=0,StockIn!H386=\"\"),\"\",StockIn!H386)","v":""},{"$f":"IF(OR(StockIn!L386=0,StockIn!L386=\"\"),\"\",StockIn!L386)","v":""},{"$f":"IF(OR(StockIn!E386=0,StockIn!E386=\"\"),\"\",StockIn!E386)","v":""},{"$f":"IF(OR(StockIn!M386=0,StockIn!M386=\"\"),\"\",StockIn!M386)","v":""}]
[{"$f":"StockIn!A387","v":1385},{"$f":"IF(OR(StockIn!B387=0,StockIn!B387=\"\"),\"\",StockIn!B387)","v":""},{"$f":"IF(OR(StockIn!D387=0,StockIn!D387=\"\"),\"\",StockIn!D387)","v":""},{"$f":"IF(OR(StockIn!G387=0,StockIn!G387=\"\"),\"\",StockIn!G387)","v":""},{"$f":"IF(OR(StockIn!H387=0,StockIn!H387=\"\"),\"\",StockIn!H387)","v":""},{"$f":"IF(OR(StockIn!L387=0,StockIn!L387=\"\"),\"\",StockIn!L387)","v":""},{"$f":"IF(OR(StockIn!E387=0,StockIn!E387=\"\"),\"\",StockIn!E387)","v":""},{"$f":"IF(OR(StockIn!M387=0,StockIn!M387=\"\"),\"\",StockIn!M387)","v":""}]
[{"$f":"StockIn!A388","v":1386},{"$f":"IF(OR(StockIn!B388=0,StockIn!B388=\"\"),\"\",StockIn!B388)","v":""},{"$f":"IF(OR(StockIn!D388=0,StockIn!D388=\"\"),\"\",StockIn!D388)","v":""},{"$f":"IF(OR(StockIn!G388=0,StockIn!G388=\"\"),\"\",StockIn!G388)","v":""},{"$f":"IF(OR(StockIn!H388=0,StockIn!H388=\"\"),\"\",StockIn!H388)","v":""},{"$f":"IF(OR(StockIn!L388=0,StockIn!L388=\"\"),\"\",StockIn!L388)","v":""},{"$f":"IF(OR(StockIn!E388=0,StockIn!E388=\"\"),\"\",StockIn!E388)","v":""},{"$f":"IF(OR(StockIn!M388=0,StockIn!M388=\"\"),\"\",StockIn!M388)","v":""}]
[{"$f":"StockIn!A389","v":1387},{"$f":"IF(OR(StockIn!B389=0,StockIn!B389=\"\"),\"\",StockIn!B389)","v":""},{"$f":"IF(OR(StockIn!D389=0,StockIn!D389=\"\"),\"\",StockIn!D389)","v":""},{"$f":"IF(OR(StockIn!G389=0,StockIn!G389=\"\"),\"\",StockIn!G389)","v":""},{"$f":"IF(OR(StockIn!H389=0,StockIn!H389=\"\"),\"\",StockIn!H389)","v":""},{"$f":"IF(OR(StockIn!L389=0,StockIn!L389=\"\"),\"\",StockIn!L389)","v":""},{"$f":"IF(OR(StockIn!E389=0,StockIn!E389=\"\"),\"\",StockIn!E389)","v":""},{"$f":"IF(OR(StockIn!M389=0,StockIn!M389=\"\"),\"\",StockIn!M389)","v":""}]
[{"$f":"StockIn!A390","v":1388},{"$f":"IF(OR(StockIn!B390=0,StockIn!B390=\"\"),\"\",StockIn!B390)","v":""},{"$f":"IF(OR(StockIn!D390=0,StockIn!D390=\"\"),\"\",StockIn!D390)","v":""},{"$f":"IF(OR(StockIn!G390=0,StockIn!G390=\"\"),\"\",StockIn!G390)","v":""},{"$f":"IF(OR(StockIn!H390=0,StockIn!H390=\"\"),\"\",StockIn!H390)","v":""},{"$f":"IF(OR(StockIn!L390=0,StockIn!L390=\"\"),\"\",StockIn!L390)","v":""},{"$f":"IF(OR(StockIn!E390=0,StockIn!E390=\"\"),\"\",StockIn!E390)","v":""},{"$f":"IF(OR(StockIn!M390=0,StockIn!M390=\"\"),\"\",StockIn!M390)","v":""}]
[{"$f":"StockIn!A391","v":1389},{"$f":"IF(OR(StockIn!B391=0,StockIn!B391=\"\"),\"\",StockIn!B391)","v":""},{"$f":"IF(OR(StockIn!D391=0,StockIn!D391=\"\"),\"\",StockIn!D391)","v":""},{"$f":"IF(OR(StockIn!G391=0,StockIn!G391=\"\"),\"\",StockIn!G391)","v":""},{"$f":"IF(OR(StockIn!H391=0,StockIn!H391=\"\"),\"\",StockIn!H391)","v":""},{"$f":"IF(OR(StockIn!L391=0,StockIn!L391=\"\"),\"\",StockIn!L391)","v":""},{"$f":"IF(OR(StockIn!E391=0,StockIn!E391=\"\"),\"\",StockIn!E391)","v":""},{"$f":"IF(OR(StockIn!M391=0,StockIn!M391=\"\"),\"\",StockIn!M391)","v":""}]
[{"$f":"StockIn!A392","v":1390},{"$f":"IF(OR(StockIn!B392=0,StockIn!B392=\"\"),\"\",StockIn!B392)","v":""},{"$f":"IF(OR(StockIn!D392=0,StockIn!D392=\"\"),\"\",StockIn!D392)","v":""},{"$f":"IF(OR(StockIn!G392=0,StockIn!G392=\"\"),\"\",StockIn!G392)","v":""},{"$f":"IF(OR(StockIn!H392=0,StockIn!H392=\"\"),\"\",StockIn!H392)","v":""},{"$f":"IF(OR(StockIn!L392=0,StockIn!L392=\"\"),\"\",StockIn!L392)","v":""},{"$f":"IF(OR(StockIn!E392=0,StockIn!E392=\"\"),\"\",StockIn!E392)","v":""},{"$f":"IF(OR(StockIn!M392=0,StockIn!M392=\"\"),\"\",StockIn!M392)","v":""}]
[{"$f":"StockIn!A393","v":1391},{"$f":"IF(OR(StockIn!B393=0,StockIn!B393=\"\"),\"\",StockIn!B393)","v":""},{"$f":"IF(OR(StockIn!D393=0,StockIn!D393=\"\"),\"\",StockIn!D393)","v":""},{"$f":"IF(OR(StockIn!G393=0,StockIn!G393=\"\"),\"\",StockIn!G393)","v":""},{"$f":"IF(OR(StockIn!H393=0,StockIn!H393=\"\"),\"\",StockIn!H393)","v":""},{"$f":"IF(OR(StockIn!L393=0,StockIn!L393=\"\"),\"\",StockIn!L393)","v":""},{"$f":"IF(OR(StockIn!E393=0,StockIn!E393=\"\"),\"\",StockIn!E393)","v":""},{"$f":"IF(OR(StockIn!M393=0,StockIn!M393=\"\"),\"\",StockIn!M393)","v":""}]
[{"$f":"StockIn!A394","v":1392},{"$f":"IF(OR(StockIn!B394=0,StockIn!B394=\"\"),\"\",StockIn!B394)","v":""},{"$f":"IF(OR(StockIn!D394=0,StockIn!D394=\"\"),\"\",StockIn!D394)","v":""},{"$f":"IF(OR(StockIn!G394=0,StockIn!G394=\"\"),\"\",StockIn!G394)","v":""},{"$f":"IF(OR(StockIn!H394=0,StockIn!H394=\"\"),\"\",StockIn!H394)","v":""},{"$f":"IF(OR(StockIn!L394=0,StockIn!L394=\"\"),\"\",StockIn!L394)","v":""},{"$f":"IF(OR(StockIn!E394=0,StockIn!E394=\"\"),\"\",StockIn!E394)","v":""},{"$f":"IF(OR(StockIn!M394=0,StockIn!M394=\"\"),\"\",StockIn!M394)","v":""}]
[{"$f":"StockIn!A395","v":1393},{"$f":"IF(OR(StockIn!B395=0,StockIn!B395=\"\"),\"\",StockIn!B395)","v":""},{"$f":"IF(OR(StockIn!D395=0,StockIn!D395=\"\"),\"\",StockIn!D395)","v":""},{"$f":"IF(OR(StockIn!G395=0,StockIn!G395=\"\"),\"\",StockIn!G395)","v":""},{"$f":"IF(OR(StockIn!H395=0,StockIn!H395=\"\"),\"\",StockIn!H395)","v":""},{"$f":"IF(OR(StockIn!L395=0,StockIn!L395=\"\"),\"\",StockIn!L395)","v":""},{"$f":"IF(OR(StockIn!E395=0,StockIn!E395=\"\"),\"\",StockIn!E395)","v":""},{"$f":"IF(OR(StockIn!M395=0,StockIn!M395=\"\"),\"\",StockIn!M395)","v":""}]
[{"$f":"StockIn!A396","v":1394},{"$f":"IF(OR(StockIn!B396=0,StockIn!B396=\"\"),\"\",StockIn!B396)","v":""},{"$f":"IF(OR(StockIn!D396=0,StockIn!D396=\"\"),\"\",StockIn!D396)","v":""},{"$f":"IF(OR(StockIn!G396=0,StockIn!G396=\"\"),\"\",StockIn!G396)","v":""},{"$f":"IF(OR(StockIn!H396=0,StockIn!H396=\"\"),\"\",StockIn!H396)","v":""},{"$f":"IF(OR(StockIn!L396=0,StockIn!L396=\"\"),\"\",StockIn!L396)","v":""},{"$f":"IF(OR(StockIn!E396=0,StockIn!E396=\"\"),\"\",StockIn!E396)","v":""},{"$f":"IF(OR(StockIn!M396=0,StockIn!M396=\"\"),\"\",StockIn!M396)","v":""}]
[{"$f":"StockIn!A397","v":1395},{"$f":"IF(OR(StockIn!B397=0,StockIn!B397=\"\"),\"\",StockIn!B397)","v":""},{"$f":"IF(OR(StockIn!D397=0,StockIn!D397=\"\"),\"\",StockIn!D397)","v":""},{"$f":"IF(OR(StockIn!G397=0,StockIn!G397=\"\"),\"\",StockIn!G397)","v":""},{"$f":"IF(OR(StockIn!H397=0,StockIn!H397=\"\"),\"\",StockIn!H397)","v":""},{"$f":"IF(OR(StockIn!L397=0,StockIn!L397=\"\"),\"\",StockIn!L397)","v":""},{"$f":"IF(OR(StockIn!E397=0,StockIn!E397=\"\"),\"\",StockIn!E397)","v":""},{"$f":"IF(OR(StockIn!M397=0,StockIn!M397=\"\"),\"\",StockIn!M397)","v":""}]
[{"$f":"StockIn!A398","v":1396},{"$f":"IF(OR(StockIn!B398=0,StockIn!B398=\"\"),\"\",StockIn!B398)","v":""},{"$f":"IF(OR(StockIn!D398=0,StockIn!D398=\"\"),\"\",StockIn!D398)","v":""},{"$f":"IF(OR(StockIn!G398=0,StockIn!G398=\"\"),\"\",StockIn!G398)","v":""},{"$f":"IF(OR(StockIn!H398=0,StockIn!H398=\"\"),\"\",StockIn!H398)","v":""},{"$f":"IF(OR(StockIn!L398=0,StockIn!L398=\"\"),\"\",StockIn!L398)","v":""},{"$f":"IF(OR(StockIn!E398=0,StockIn!E398=\"\"),\"\",StockIn!E398)","v":""},{"$f":"IF(OR(StockIn!M398=0,StockIn!M398=\"\"),\"\",StockIn!M398)","v":""}]
[{"$f":"StockIn!A399","v":1397},{"$f":"IF(OR(StockIn!B399=0,StockIn!B399=\"\"),\"\",StockIn!B399)","v":""},{"$f":"IF(OR(StockIn!D399=0,StockIn!D399=\"\"),\"\",StockIn!D399)","v":""},{"$f":"IF(OR(StockIn!G399=0,StockIn!G399=\"\"),\"\",StockIn!G399)","v":""},{"$f":"IF(OR(StockIn!H399=0,StockIn!H399=\"\"),\"\",StockIn!H399)","v":""},{"$f":"IF(OR(StockIn!L399=0,StockIn!L399=\"\"),\"\",StockIn!L399)","v":""},{"$f":"IF(OR(StockIn!E399=0,StockIn!E399=\"\"),\"\",StockIn!E399)","v":""},{"$f":"IF(OR(StockIn!M399=0,StockIn!M399=\"\"),\"\",StockIn!M399)","v":""}]
[{"$f":"StockIn!A400","v":1398},{"$f":"IF(OR(StockIn!B400=0,StockIn!B400=\"\"),\"\",StockIn!B400)","v":""},{"$f":"IF(OR(StockIn!D400=0,StockIn!D400=\"\"),\"\",StockIn!D400)","v":""},{"$f":"IF(OR(StockIn!G400=0,StockIn!G400=\"\"),\"\",StockIn!G400)","v":""},{"$f":"IF(OR(StockIn!H400=0,StockIn!H400=\"\"),\"\",StockIn!H400)","v":""},{"$f":"IF(OR(StockIn!L400=0,StockIn!L400=\"\"),\"\",StockIn!L400)","v":""},{"$f":"IF(OR(StockIn!E400=0,StockIn!E400=\"\"),\"\",StockIn!E400)","v":""},{"$f":"IF(OR(StockIn!M400=0,StockIn!M400=\"\"),\"\",StockIn!M400)","v":""}]
[{"$f":"StockIn!A401","v":1399},{"$f":"IF(OR(StockIn!B401=0,StockIn!B401=\"\"),\"\",StockIn!B401)","v":""},{"$f":"IF(OR(StockIn!D401=0,StockIn!D401=\"\"),\"\",StockIn!D401)","v":""},{"$f":"IF(OR(StockIn!G401=0,StockIn!G401=\"\"),\"\",StockIn!G401)","v":""},{"$f":"IF(OR(StockIn!H401=0,StockIn!H401=\"\"),\"\",StockIn!H401)","v":""},{"$f":"IF(OR(StockIn!L401=0,StockIn!L401=\"\"),\"\",StockIn!L401)","v":""},{"$f":"IF(OR(StockIn!E401=0,StockIn!E401=\"\"),\"\",StockIn!E401)","v":""},{"$f":"IF(OR(StockIn!M401=0,StockIn!M401=\"\"),\"\",StockIn!M401)","v":""}]
[{"$f":"StockIn!A402","v":1400},{"$f":"IF(OR(StockIn!B402=0,StockIn!B402=\"\"),\"\",StockIn!B402)","v":""},{"$f":"IF(OR(StockIn!D402=0,StockIn!D402=\"\"),\"\",StockIn!D402)","v":""},{"$f":"IF(OR(StockIn!G402=0,StockIn!G402=\"\"),\"\",StockIn!G402)","v":""},{"$f":"IF(OR(StockIn!H402=0,StockIn!H402=\"\"),\"\",StockIn!H402)","v":""},{"$f":"IF(OR(StockIn!L402=0,StockIn!L402=\"\"),\"\",StockIn!L402)","v":""},{"$f":"IF(OR(StockIn!E402=0,StockIn!E402=\"\"),\"\",StockIn!E402)","v":""},{"$f":"IF(OR(StockIn!M402=0,StockIn!M402=\"\"),\"\",StockIn!M402)","v":""}]
[{"$f":"StockIn!A403","v":1401},{"$f":"IF(OR(StockIn!B403=0,StockIn!B403=\"\"),\"\",StockIn!B403)","v":""},{"$f":"IF(OR(StockIn!D403=0,StockIn!D403=\"\"),\"\",StockIn!D403)","v":""},{"$f":"IF(OR(StockIn!G403=0,StockIn!G403=\"\"),\"\",StockIn!G403)","v":""},{"$f":"IF(OR(StockIn!H403=0,StockIn!H403=\"\"),\"\",StockIn!H403)","v":""},{"$f":"IF(OR(StockIn!L403=0,StockIn!L403=\"\"),\"\",StockIn!L403)","v":""},{"$f":"IF(OR(StockIn!E403=0,StockIn!E403=\"\"),\"\",StockIn!E403)","v":""},{"$f":"IF(OR(StockIn!M403=0,StockIn!M403=\"\"),\"\",StockIn!M403)","v":""}]
[{"$f":"StockIn!A404","v":1402},{"$f":"IF(OR(StockIn!B404=0,StockIn!B404=\"\"),\"\",StockIn!B404)","v":""},{"$f":"IF(OR(StockIn!D404=0,StockIn!D404=\"\"),\"\",StockIn!D404)","v":""},{"$f":"IF(OR(StockIn!G404=0,StockIn!G404=\"\"),\"\",StockIn!G404)","v":""},{"$f":"IF(OR(StockIn!H404=0,StockIn!H404=\"\"),\"\",StockIn!H404)","v":""},{"$f":"IF(OR(StockIn!L404=0,StockIn!L404=\"\"),\"\",StockIn!L404)","v":""},{"$f":"IF(OR(StockIn!E404=0,StockIn!E404=\"\"),\"\",StockIn!E404)","v":""},{"$f":"IF(OR(StockIn!M404=0,StockIn!M404=\"\"),\"\",StockIn!M404)","v":""}]
[{"$f":"StockIn!A405","v":1403},{"$f":"IF(OR(StockIn!B405=0,StockIn!B405=\"\"),\"\",StockIn!B405)","v":""},{"$f":"IF(OR(StockIn!D405=0,StockIn!D405=\"\"),\"\",StockIn!D405)","v":""},{"$f":"IF(OR(StockIn!G405=0,StockIn!G405=\"\"),\"\",StockIn!G405)","v":""},{"$f":"IF(OR(StockIn!H405=0,StockIn!H405=\"\"),\"\",StockIn!H405)","v":""},{"$f":"IF(OR(StockIn!L405=0,StockIn!L405=\"\"),\"\",StockIn!L405)","v":""},{"$f":"IF(OR(StockIn!E405=0,StockIn!E405=\"\"),\"\",StockIn!E405)","v":""},{"$f":"IF(OR(StockIn!M405=0,StockIn!M405=\"\"),\"\",StockIn!M405)","v":""}]
[{"$f":"StockIn!A406","v":1404},{"$f":"IF(OR(StockIn!B406=0,StockIn!B406=\"\"),\"\",StockIn!B406)","v":""},{"$f":"IF(OR(StockIn!D406=0,StockIn!D406=\"\"),\"\",StockIn!D406)","v":""},{"$f":"IF(OR(StockIn!G406=0,StockIn!G406=\"\"),\"\",StockIn!G406)","v":""},{"$f":"IF(OR(StockIn!H406=0,StockIn!H406=\"\"),\"\",StockIn!H406)","v":""},{"$f":"IF(OR(StockIn!L406=0,StockIn!L406=\"\"),\"\",StockIn!L406)","v":""},{"$f":"IF(OR(StockIn!E406=0,StockIn!E406=\"\"),\"\",StockIn!E406)","v":""},{"$f":"IF(OR(StockIn!M406=0,StockIn!M406=\"\"),\"\",StockIn!M406)","v":""}]
[{"$f":"StockIn!A407","v":1405},{"$f":"IF(OR(StockIn!B407=0,StockIn!B407=\"\"),\"\",StockIn!B407)","v":""},{"$f":"IF(OR(StockIn!D407=0,StockIn!D407=\"\"),\"\",StockIn!D407)","v":""},{"$f":"IF(OR(StockIn!G407=0,StockIn!G407=\"\"),\"\",StockIn!G407)","v":""},{"$f":"IF(OR(StockIn!H407=0,StockIn!H407=\"\"),\"\",StockIn!H407)","v":""},{"$f":"IF(OR(StockIn!L407=0,StockIn!L407=\"\"),\"\",StockIn!L407)","v":""},{"$f":"IF(OR(StockIn!E407=0,StockIn!E407=\"\"),\"\",StockIn!E407)","v":""},{"$f":"IF(OR(StockIn!M407=0,StockIn!M407=\"\"),\"\",StockIn!M407)","v":""}]
[{"$f":"StockIn!A408","v":1406},{"$f":"IF(OR(StockIn!B408=0,StockIn!B408=\"\"),\"\",StockIn!B408)","v":""},{"$f":"IF(OR(StockIn!D408=0,StockIn!D408=\"\"),\"\",StockIn!D408)","v":""},{"$f":"IF(OR(StockIn!G408=0,StockIn!G408=\"\"),\"\",StockIn!G408)","v":""},{"$f":"IF(OR(StockIn!H408=0,StockIn!H408=\"\"),\"\",StockIn!H408)","v":""},{"$f":"IF(OR(StockIn!L408=0,StockIn!L408=\"\"),\"\",StockIn!L408)","v":""},{"$f":"IF(OR(StockIn!E408=0,StockIn!E408=\"\"),\"\",StockIn!E408)","v":""},{"$f":"IF(OR(StockIn!M408=0,StockIn!M408=\"\"),\"\",StockIn!M408)","v":""}]
[{"$f":"StockIn!A409","v":1407},{"$f":"IF(OR(StockIn!B409=0,StockIn!B409=\"\"),\"\",StockIn!B409)","v":""},{"$f":"IF(OR(StockIn!D409=0,StockIn!D409=\"\"),\"\",StockIn!D409)","v":""},{"$f":"IF(OR(StockIn!G409=0,StockIn!G409=\"\"),\"\",StockIn!G409)","v":""},{"$f":"IF(OR(StockIn!H409=0,StockIn!H409=\"\"),\"\",StockIn!H409)","v":""},{"$f":"IF(OR(StockIn!L409=0,StockIn!L409=\"\"),\"\",StockIn!L409)","v":""},{"$f":"IF(OR(StockIn!E409=0,StockIn!E409=\"\"),\"\",StockIn!E409)","v":""},{"$f":"IF(OR(StockIn!M409=0,StockIn!M409=\"\"),\"\",StockIn!M409)","v":""}]
[{"$f":"StockIn!A410","v":1408},{"$f":"IF(OR(StockIn!B410=0,StockIn!B410=\"\"),\"\",StockIn!B410)","v":""},{"$f":"IF(OR(StockIn!D410=0,StockIn!D410=\"\"),\"\",StockIn!D410)","v":""},{"$f":"IF(OR(StockIn!G410=0,StockIn!G410=\"\"),\"\",StockIn!G410)","v":""},{"$f":"IF(OR(StockIn!H410=0,StockIn!H410=\"\"),\"\",StockIn!H410)","v":""},{"$f":"IF(OR(StockIn!L410=0,StockIn!L410=\"\"),\"\",StockIn!L410)","v":""},{"$f":"IF(OR(StockIn!E410=0,StockIn!E410=\"\"),\"\",StockIn!E410)","v":""},{"$f":"IF(OR(StockIn!M410=0,StockIn!M410=\"\"),\"\",StockIn!M410)","v":""}]
[{"$f":"StockIn!A411","v":1409},{"$f":"IF(OR(StockIn!B411=0,StockIn!B411=\"\"),\"\",StockIn!B411)","v":""},{"$f":"IF(OR(StockIn!D411=0,StockIn!D411=\"\"),\"\",StockIn!D411)","v":""},{"$f":"IF(OR(StockIn!G411=0,StockIn!G411=\"\"),\"\",StockIn!G411)","v":""},{"$f":"IF(OR(StockIn!H411=0,StockIn!H411=\"\"),\"\",StockIn!H411)","v":""},{"$f":"IF(OR(StockIn!L411=0,StockIn!L411=\"\"),\"\",StockIn!L411)","v":""},{"$f":"IF(OR(StockIn!E411=0,StockIn!E411=\"\"),\"\",StockIn!E411)","v":""},{"$f":"IF(OR(StockIn!M411=0,StockIn!M411=\"\"),\"\",StockIn!M411)","v":""}]
[{"$f":"StockIn!A412","v":1410},{"$f":"IF(OR(StockIn!B412=0,StockIn!B412=\"\"),\"\",StockIn!B412)","v":""},{"$f":"IF(OR(StockIn!D412=0,StockIn!D412=\"\"),\"\",StockIn!D412)","v":""},{"$f":"IF(OR(StockIn!G412=0,StockIn!G412=\"\"),\"\",StockIn!G412)","v":""},{"$f":"IF(OR(StockIn!H412=0,StockIn!H412=\"\"),\"\",StockIn!H412)","v":""},{"$f":"IF(OR(StockIn!L412=0,StockIn!L412=\"\"),\"\",StockIn!L412)","v":""},{"$f":"IF(OR(StockIn!E412=0,StockIn!E412=\"\"),\"\",StockIn!E412)","v":""},{"$f":"IF(OR(StockIn!M412=0,StockIn!M412=\"\"),\"\",StockIn!M412)","v":""}]
[{"$f":"StockIn!A413","v":1411},{"$f":"IF(OR(StockIn!B413=0,StockIn!B413=\"\"),\"\",StockIn!B413)","v":""},{"$f":"IF(OR(StockIn!D413=0,StockIn!D413=\"\"),\"\",StockIn!D413)","v":""},{"$f":"IF(OR(StockIn!G413=0,StockIn!G413=\"\"),\"\",StockIn!G413)","v":""},{"$f":"IF(OR(StockIn!H413=0,StockIn!H413=\"\"),\"\",StockIn!H413)","v":""},{"$f":"IF(OR(StockIn!L413=0,StockIn!L413=\"\"),\"\",StockIn!L413)","v":""},{"$f":"IF(OR(StockIn!E413=0,StockIn!E413=\"\"),\"\",StockIn!E413)","v":""},{"$f":"IF(OR(StockIn!M413=0,StockIn!M413=\"\"),\"\",StockIn!M413)","v":""}]
[{"$f":"StockIn!A414","v":1412},{"$f":"IF(OR(StockIn!B414=0,StockIn!B414=\"\"),\"\",StockIn!B414)","v":""},{"$f":"IF(OR(StockIn!D414=0,StockIn!D414=\"\"),\"\",StockIn!D414)","v":""},{"$f":"IF(OR(StockIn!G414=0,StockIn!G414=\"\"),\"\",StockIn!G414)","v":""},{"$f":"IF(OR(StockIn!H414=0,StockIn!H414=\"\"),\"\",StockIn!H414)","v":""},{"$f":"IF(OR(StockIn!L414=0,StockIn!L414=\"\"),\"\",StockIn!L414)","v":""},{"$f":"IF(OR(StockIn!E414=0,StockIn!E414=\"\"),\"\",StockIn!E414)","v":""},{"$f":"IF(OR(StockIn!M414=0,StockIn!M414=\"\"),\"\",StockIn!M414)","v":""}]
[{"$f":"StockIn!A415","v":1413},{"$f":"IF(OR(StockIn!B415=0,StockIn!B415=\"\"),\"\",StockIn!B415)","v":""},{"$f":"IF(OR(StockIn!D415=0,StockIn!D415=\"\"),\"\",StockIn!D415)","v":""},{"$f":"IF(OR(StockIn!G415=0,StockIn!G415=\"\"),\"\",StockIn!G415)","v":""},{"$f":"IF(OR(StockIn!H415=0,StockIn!H415=\"\"),\"\",StockIn!H415)","v":""},{"$f":"IF(OR(StockIn!L415=0,StockIn!L415=\"\"),\"\",StockIn!L415)","v":""},{"$f":"IF(OR(StockIn!E415=0,StockIn!E415=\"\"),\"\",StockIn!E415)","v":""},{"$f":"IF(OR(StockIn!M415=0,StockIn!M415=\"\"),\"\",StockIn!M415)","v":""}]
[{"$f":"StockIn!A416","v":1414},{"$f":"IF(OR(StockIn!B416=0,StockIn!B416=\"\"),\"\",StockIn!B416)","v":""},{"$f":"IF(OR(StockIn!D416=0,StockIn!D416=\"\"),\"\",StockIn!D416)","v":""},{"$f":"IF(OR(StockIn!G416=0,StockIn!G416=\"\"),\"\",StockIn!G416)","v":""},{"$f":"IF(OR(StockIn!H416=0,StockIn!H416=\"\"),\"\",StockIn!H416)","v":""},{"$f":"IF(OR(StockIn!L416=0,StockIn!L416=\"\"),\"\",StockIn!L416)","v":""},{"$f":"IF(OR(StockIn!E416=0,StockIn!E416=\"\"),\"\",StockIn!E416)","v":""},{"$f":"IF(OR(StockIn!M416=0,StockIn!M416=\"\"),\"\",StockIn!M416)","v":""}]
[{"$f":"StockIn!A417","v":1415},{"$f":"IF(OR(StockIn!B417=0,StockIn!B417=\"\"),\"\",StockIn!B417)","v":""},{"$f":"IF(OR(StockIn!D417=0,StockIn!D417=\"\"),\"\",StockIn!D417)","v":""},{"$f":"IF(OR(StockIn!G417=0,StockIn!G417=\"\"),\"\",StockIn!G417)","v":""},{"$f":"IF(OR(StockIn!H417=0,StockIn!H417=\"\"),\"\",StockIn!H417)","v":""},{"$f":"IF(OR(StockIn!L417=0,StockIn!L417=\"\"),\"\",StockIn!L417)","v":""},{"$f":"IF(OR(StockIn!E417=0,StockIn!E417=\"\"),\"\",StockIn!E417)","v":""},{"$f":"IF(OR(StockIn!M417=0,StockIn!M417=\"\"),\"\",StockIn!M417)","v":""}]
[{"$f":"StockIn!A418","v":1416},{"$f":"IF(OR(StockIn!B418=0,StockIn!B418=\"\"),\"\",StockIn!B418)","v":""},{"$f":"IF(OR(StockIn!D418=0,StockIn!D418=\"\"),\"\",StockIn!D418)","v":""},{"$f":"IF(OR(StockIn!G418=0,StockIn!G418=\"\"),\"\",StockIn!G418)","v":""},{"$f":"IF(OR(StockIn!H418=0,StockIn!H418=\"\"),\"\",StockIn!H418)","v":""},{"$f":"IF(OR(StockIn!L418=0,StockIn!L418=\"\"),\"\",StockIn!L418)","v":""},{"$f":"IF(OR(StockIn!E418=0,StockIn!E418=\"\"),\"\",StockIn!E418)","v":""},{"$f":"IF(OR(StockIn!M418=0,StockIn!M418=\"\"),\"\",StockIn!M418)","v":""}]
[{"$f":"StockIn!A419","v":1417},{"$f":"IF(OR(StockIn!B419=0,StockIn!B419=\"\"),\"\",StockIn!B419)","v":""},{"$f":"IF(OR(StockIn!D419=0,StockIn!D419=\"\"),\"\",StockIn!D419)","v":""},{"$f":"IF(OR(StockIn!G419=0,StockIn!G419=\"\"),\"\",StockIn!G419)","v":""},{"$f":"IF(OR(StockIn!H419=0,StockIn!H419=\"\"),\"\",StockIn!H419)","v":""},{"$f":"IF(OR(StockIn!L419=0,StockIn!L419=\"\"),\"\",StockIn!L419)","v":""},{"$f":"IF(OR(StockIn!E419=0,StockIn!E419=\"\"),\"\",StockIn!E419)","v":""},{"$f":"IF(OR(StockIn!M419=0,StockIn!M419=\"\"),\"\",StockIn!M419)","v":""}]
[{"$f":"StockIn!A420","v":1418},{"$f":"IF(OR(StockIn!B420=0,StockIn!B420=\"\"),\"\",StockIn!B420)","v":""},{"$f":"IF(OR(StockIn!D420=0,StockIn!D420=\"\"),\"\",StockIn!D420)","v":""},{"$f":"IF(OR(StockIn!G420=0,StockIn!G420=\"\"),\"\",StockIn!G420)","v":""},{"$f":"IF(OR(StockIn!H420=0,StockIn!H420=\"\"),\"\",StockIn!H420)","v":""},{"$f":"IF(OR(StockIn!L420=0,StockIn!L420=\"\"),\"\",StockIn!L420)","v":""},{"$f":"IF(OR(StockIn!E420=0,StockIn!E420=\"\"),\"\",StockIn!E420)","v":""},{"$f":"IF(OR(StockIn!M420=0,StockIn!M420=\"\"),\"\",StockIn!M420)","v":""}]
[{"$f":"StockIn!A421","v":1419},{"$f":"IF(OR(StockIn!B421=0,StockIn!B421=\"\"),\"\",StockIn!B421)","v":""},{"$f":"IF(OR(StockIn!D421=0,StockIn!D421=\"\"),\"\",StockIn!D421)","v":""},{"$f":"IF(OR(StockIn!G421=0,StockIn!G421=\"\"),\"\",StockIn!G421)","v":""},{"$f":"IF(OR(StockIn!H421=0,StockIn!H421=\"\"),\"\",StockIn!H421)","v":""},{"$f":"IF(OR(StockIn!L421=0,StockIn!L421=\"\"),\"\",StockIn!L421)","v":""},{"$f":"IF(OR(StockIn!E421=0,StockIn!E421=\"\"),\"\",StockIn!E421)","v":""},{"$f":"IF(OR(StockIn!M421=0,StockIn!M421=\"\"),\"\",StockIn!M421)","v":""}]
[{"$f":"StockIn!A422","v":1420},{"$f":"IF(OR(StockIn!B422=0,StockIn!B422=\"\"),\"\",StockIn!B422)","v":""},{"$f":"IF(OR(StockIn!D422=0,StockIn!D422=\"\"),\"\",StockIn!D422)","v":""},{"$f":"IF(OR(StockIn!G422=0,StockIn!G422=\"\"),\"\",StockIn!G422)","v":""},{"$f":"IF(OR(StockIn!H422=0,StockIn!H422=\"\"),\"\",StockIn!H422)","v":""},{"$f":"IF(OR(StockIn!L422=0,StockIn!L422=\"\"),\"\",StockIn!L422)","v":""},{"$f":"IF(OR(StockIn!E422=0,StockIn!E422=\"\"),\"\",StockIn!E422)","v":""},{"$f":"IF(OR(StockIn!M422=0,StockIn!M422=\"\"),\"\",StockIn!M422)","v":""}]
[{"$f":"StockIn!A423","v":1421},{"$f":"IF(OR(StockIn!B423=0,StockIn!B423=\"\"),\"\",StockIn!B423)","v":""},{"$f":"IF(OR(StockIn!D423=0,StockIn!D423=\"\"),\"\",StockIn!D423)","v":""},{"$f":"IF(OR(StockIn!G423=0,StockIn!G423=\"\"),\"\",StockIn!G423)","v":""},{"$f":"IF(OR(StockIn!H423=0,StockIn!H423=\"\"),\"\",StockIn!H423)","v":""},{"$f":"IF(OR(StockIn!L423=0,StockIn!L423=\"\"),\"\",StockIn!L423)","v":""},{"$f":"IF(OR(StockIn!E423=0,StockIn!E423=\"\"),\"\",StockIn!E423)","v":""},{"$f":"IF(OR(StockIn!M423=0,StockIn!M423=\"\"),\"\",StockIn!M423)","v":""}]
[{"$f":"StockIn!A424","v":1422},{"$f":"IF(OR(StockIn!B424=0,StockIn!B424=\"\"),\"\",StockIn!B424)","v":""},{"$f":"IF(OR(StockIn!D424=0,StockIn!D424=\"\"),\"\",StockIn!D424)","v":""},{"$f":"IF(OR(StockIn!G424=0,StockIn!G424=\"\"),\"\",StockIn!G424)","v":""},{"$f":"IF(OR(StockIn!H424=0,StockIn!H424=\"\"),\"\",StockIn!H424)","v":""},{"$f":"IF(OR(StockIn!L424=0,StockIn!L424=\"\"),\"\",StockIn!L424)","v":""},{"$f":"IF(OR(StockIn!E424=0,StockIn!E424=\"\"),\"\",StockIn!E424)","v":""},{"$f":"IF(OR(StockIn!M424=0,StockIn!M424=\"\"),\"\",StockIn!M424)","v":""}]
[{"$f":"StockIn!A425","v":1423},{"$f":"IF(OR(StockIn!B425=0,StockIn!B425=\"\"),\"\",StockIn!B425)","v":""},{"$f":"IF(OR(StockIn!D425=0,StockIn!D425=\"\"),\"\",StockIn!D425)","v":""},{"$f":"IF(OR(StockIn!G425=0,StockIn!G425=\"\"),\"\",StockIn!G425)","v":""},{"$f":"IF(OR(StockIn!H425=0,StockIn!H425=\"\"),\"\",StockIn!H425)","v":""},{"$f":"IF(OR(StockIn!L425=0,StockIn!L425=\"\"),\"\",StockIn!L425)","v":""},{"$f":"IF(OR(StockIn!E425=0,StockIn!E425=\"\"),\"\",StockIn!E425)","v":""},{"$f":"IF(OR(StockIn!M425=0,StockIn!M425=\"\"),\"\",StockIn!M425)","v":""}]
[{"$f":"StockIn!A426","v":1424},{"$f":"IF(OR(StockIn!B426=0,StockIn!B426=\"\"),\"\",StockIn!B426)","v":""},{"$f":"IF(OR(StockIn!D426=0,StockIn!D426=\"\"),\"\",StockIn!D426)","v":""},{"$f":"IF(OR(StockIn!G426=0,StockIn!G426=\"\"),\"\",StockIn!G426)","v":""},{"$f":"IF(OR(StockIn!H426=0,StockIn!H426=\"\"),\"\",StockIn!H426)","v":""},{"$f":"IF(OR(StockIn!L426=0,StockIn!L426=\"\"),\"\",StockIn!L426)","v":""},{"$f":"IF(OR(StockIn!E426=0,StockIn!E426=\"\"),\"\",StockIn!E426)","v":""},{"$f":"IF(OR(StockIn!M426=0,StockIn!M426=\"\"),\"\",StockIn!M426)","v":""}]
[{"$f":"StockIn!A427","v":1425},{"$f":"IF(OR(StockIn!B427=0,StockIn!B427=\"\"),\"\",StockIn!B427)","v":""},{"$f":"IF(OR(StockIn!D427=0,StockIn!D427=\"\"),\"\",StockIn!D427)","v":""},{"$f":"IF(OR(StockIn!G427=0,StockIn!G427=\"\"),\"\",StockIn!G427)","v":""},{"$f":"IF(OR(StockIn!H427=0,StockIn!H427=\"\"),\"\",StockIn!H427)","v":""},{"$f":"IF(OR(StockIn!L427=0,StockIn!L427=\"\"),\"\",StockIn!L427)","v":""},{"$f":"IF(OR(StockIn!E427=0,StockIn!E427=\"\"),\"\",StockIn!E427)","v":""},{"$f":"IF(OR(StockIn!M427=0,StockIn!M427=\"\"),\"\",StockIn!M427)","v":""}]
[{"$f":"StockIn!A428","v":1426},{"$f":"IF(OR(StockIn!B428=0,StockIn!B428=\"\"),\"\",StockIn!B428)","v":""},{"$f":"IF(OR(StockIn!D428=0,StockIn!D428=\"\"),\"\",StockIn!D428)","v":""},{"$f":"IF(OR(StockIn!G428=0,StockIn!G428=\"\"),\"\",StockIn!G428)","v":""},{"$f":"IF(OR(StockIn!H428=0,StockIn!H428=\"\"),\"\",StockIn!H428)","v":""},{"$f":"IF(OR(StockIn!L428=0,StockIn!L428=\"\"),\"\",StockIn!L428)","v":""},{"$f":"IF(OR(StockIn!E428=0,StockIn!E428=\"\"),\"\",StockIn!E428)","v":""},{"$f":"IF(OR(StockIn!M428=0,StockIn!M428=\"\"),\"\",StockIn!M428)","v":""}]
[{"$f":"StockIn!A429","v":1427},{"$f":"IF(OR(StockIn!B429=0,StockIn!B429=\"\"),\"\",StockIn!B429)","v":""},{"$f":"IF(OR(StockIn!D429=0,StockIn!D429=\"\"),\"\",StockIn!D429)","v":""},{"$f":"IF(OR(StockIn!G429=0,StockIn!G429=\"\"),\"\",StockIn!G429)","v":""},{"$f":"IF(OR(StockIn!H429=0,StockIn!H429=\"\"),\"\",StockIn!H429)","v":""},{"$f":"IF(OR(StockIn!L429=0,StockIn!L429=\"\"),\"\",StockIn!L429)","v":""},{"$f":"IF(OR(StockIn!E429=0,StockIn!E429=\"\"),\"\",StockIn!E429)","v":""},{"$f":"IF(OR(StockIn!M429=0,StockIn!M429=\"\"),\"\",StockIn!M429)","v":""}]
[{"$f":"StockIn!A430","v":1428},{"$f":"IF(OR(StockIn!B430=0,StockIn!B430=\"\"),\"\",StockIn!B430)","v":""},{"$f":"IF(OR(StockIn!D430=0,StockIn!D430=\"\"),\"\",StockIn!D430)","v":""},{"$f":"IF(OR(StockIn!G430=0,StockIn!G430=\"\"),\"\",StockIn!G430)","v":""},{"$f":"IF(OR(StockIn!H430=0,StockIn!H430=\"\"),\"\",StockIn!H430)","v":""},{"$f":"IF(OR(StockIn!L430=0,StockIn!L430=\"\"),\"\",StockIn!L430)","v":""},{"$f":"IF(OR(StockIn!E430=0,StockIn!E430=\"\"),\"\",StockIn!E430)","v":""},{"$f":"IF(OR(StockIn!M430=0,StockIn!M430=\"\"),\"\",StockIn!M430)","v":""}]
[{"$f":"StockIn!A431","v":1429},{"$f":"IF(OR(StockIn!B431=0,StockIn!B431=\"\"),\"\",StockIn!B431)","v":""},{"$f":"IF(OR(StockIn!D431=0,StockIn!D431=\"\"),\"\",StockIn!D431)","v":""},{"$f":"IF(OR(StockIn!G431=0,StockIn!G431=\"\"),\"\",StockIn!G431)","v":""},{"$f":"IF(OR(StockIn!H431=0,StockIn!H431=\"\"),\"\",StockIn!H431)","v":""},{"$f":"IF(OR(StockIn!L431=0,StockIn!L431=\"\"),\"\",StockIn!L431)","v":""},{"$f":"IF(OR(StockIn!E431=0,StockIn!E431=\"\"),\"\",StockIn!E431)","v":""},{"$f":"IF(OR(StockIn!M431=0,StockIn!M431=\"\"),\"\",StockIn!M431)","v":""}]
[{"$f":"StockIn!A432","v":1430},{"$f":"IF(OR(StockIn!B432=0,StockIn!B432=\"\"),\"\",StockIn!B432)","v":""},{"$f":"IF(OR(StockIn!D432=0,StockIn!D432=\"\"),\"\",StockIn!D432)","v":""},{"$f":"IF(OR(StockIn!G432=0,StockIn!G432=\"\"),\"\",StockIn!G432)","v":""},{"$f":"IF(OR(StockIn!H432=0,StockIn!H432=\"\"),\"\",StockIn!H432)","v":""},{"$f":"IF(OR(StockIn!L432=0,StockIn!L432=\"\"),\"\",StockIn!L432)","v":""},{"$f":"IF(OR(StockIn!E432=0,StockIn!E432=\"\"),\"\",StockIn!E432)","v":""},{"$f":"IF(OR(StockIn!M432=0,StockIn!M432=\"\"),\"\",StockIn!M432)","v":""}]
[{"$f":"StockIn!A433","v":1431},{"$f":"IF(OR(StockIn!B433=0,StockIn!B433=\"\"),\"\",StockIn!B433)","v":""},{"$f":"IF(OR(StockIn!D433=0,StockIn!D433=\"\"),\"\",StockIn!D433)","v":""},{"$f":"IF(OR(StockIn!G433=0,StockIn!G433=\"\"),\"\",StockIn!G433)","v":""},{"$f":"IF(OR(StockIn!H433=0,StockIn!H433=\"\"),\"\",StockIn!H433)","v":""},{"$f":"IF(OR(StockIn!L433=0,StockIn!L433=\"\"),\"\",StockIn!L433)","v":""},{"$f":"IF(OR(StockIn!E433=0,StockIn!E433=\"\"),\"\",StockIn!E433)","v":""},{"$f":"IF(OR(StockIn!M433=0,StockIn!M433=\"\"),\"\",StockIn!M433)","v":""}]
[{"$f":"StockIn!A434","v":1432},{"$f":"IF(OR(StockIn!B434=0,StockIn!B434=\"\"),\"\",StockIn!B434)","v":""},{"$f":"IF(OR(StockIn!D434=0,StockIn!D434=\"\"),\"\",StockIn!D434)","v":""},{"$f":"IF(OR(StockIn!G434=0,StockIn!G434=\"\"),\"\",StockIn!G434)","v":""},{"$f":"IF(OR(StockIn!H434=0,StockIn!H434=\"\"),\"\",StockIn!H434)","v":""},{"$f":"IF(OR(StockIn!L434=0,StockIn!L434=\"\"),\"\",StockIn!L434)","v":""},{"$f":"IF(OR(StockIn!E434=0,StockIn!E434=\"\"),\"\",StockIn!E434)","v":""},{"$f":"IF(OR(StockIn!M434=0,StockIn!M434=\"\"),\"\",StockIn!M434)","v":""}]
[{"$f":"StockIn!A435","v":1433},{"$f":"IF(OR(StockIn!B435=0,StockIn!B435=\"\"),\"\",StockIn!B435)","v":""},{"$f":"IF(OR(StockIn!D435=0,StockIn!D435=\"\"),\"\",StockIn!D435)","v":""},{"$f":"IF(OR(StockIn!G435=0,StockIn!G435=\"\"),\"\",StockIn!G435)","v":""},{"$f":"IF(OR(StockIn!H435=0,StockIn!H435=\"\"),\"\",StockIn!H435)","v":""},{"$f":"IF(OR(StockIn!L435=0,StockIn!L435=\"\"),\"\",StockIn!L435)","v":""},{"$f":"IF(OR(StockIn!E435=0,StockIn!E435=\"\"),\"\",StockIn!E435)","v":""},{"$f":"IF(OR(StockIn!M435=0,StockIn!M435=\"\"),\"\",StockIn!M435)","v":""}]
[{"$f":"StockIn!A436","v":1434},{"$f":"IF(OR(StockIn!B436=0,StockIn!B436=\"\"),\"\",StockIn!B436)","v":""},{"$f":"IF(OR(StockIn!D436=0,StockIn!D436=\"\"),\"\",StockIn!D436)","v":""},{"$f":"IF(OR(StockIn!G436=0,StockIn!G436=\"\"),\"\",StockIn!G436)","v":""},{"$f":"IF(OR(StockIn!H436=0,StockIn!H436=\"\"),\"\",StockIn!H436)","v":""},{"$f":"IF(OR(StockIn!L436=0,StockIn!L436=\"\"),\"\",StockIn!L436)","v":""},{"$f":"IF(OR(StockIn!E436=0,StockIn!E436=\"\"),\"\",StockIn!E436)","v":""},{"$f":"IF(OR(StockIn!M436=0,StockIn!M436=\"\"),\"\",StockIn!M436)","v":""}]
[{"$f":"StockIn!A437","v":1435},{"$f":"IF(OR(StockIn!B437=0,StockIn!B437=\"\"),\"\",StockIn!B437)","v":""},{"$f":"IF(OR(StockIn!D437=0,StockIn!D437=\"\"),\"\",StockIn!D437)","v":""},{"$f":"IF(OR(StockIn!G437=0,StockIn!G437=\"\"),\"\",StockIn!G437)","v":""},{"$f":"IF(OR(StockIn!H437=0,StockIn!H437=\"\"),\"\",StockIn!H437)","v":""},{"$f":"IF(OR(StockIn!L437=0,StockIn!L437=\"\"),\"\",StockIn!L437)","v":""},{"$f":"IF(OR(StockIn!E437=0,StockIn!E437=\"\"),\"\",StockIn!E437)","v":""},{"$f":"IF(OR(StockIn!M437=0,StockIn!M437=\"\"),\"\",StockIn!M437)","v":""}]
[{"$f":"StockIn!A438","v":1436},{"$f":"IF(OR(StockIn!B438=0,StockIn!B438=\"\"),\"\",StockIn!B438)","v":""},{"$f":"IF(OR(StockIn!D438=0,StockIn!D438=\"\"),\"\",StockIn!D438)","v":""},{"$f":"IF(OR(StockIn!G438=0,StockIn!G438=\"\"),\"\",StockIn!G438)","v":""},{"$f":"IF(OR(StockIn!H438=0,StockIn!H438=\"\"),\"\",StockIn!H438)","v":""},{"$f":"IF(OR(StockIn!L438=0,StockIn!L438=\"\"),\"\",StockIn!L438)","v":""},{"$f":"IF(OR(StockIn!E438=0,StockIn!E438=\"\"),\"\",StockIn!E438)","v":""},{"$f":"IF(OR(StockIn!M438=0,StockIn!M438=\"\"),\"\",StockIn!M438)","v":""}]
[{"$f":"StockIn!A439","v":1437},{"$f":"IF(OR(StockIn!B439=0,StockIn!B439=\"\"),\"\",StockIn!B439)","v":""},{"$f":"IF(OR(StockIn!D439=0,StockIn!D439=\"\"),\"\",StockIn!D439)","v":""},{"$f":"IF(OR(StockIn!G439=0,StockIn!G439=\"\"),\"\",StockIn!G439)","v":""},{"$f":"IF(OR(StockIn!H439=0,StockIn!H439=\"\"),\"\",StockIn!H439)","v":""},{"$f":"IF(OR(StockIn!L439=0,StockIn!L439=\"\"),\"\",StockIn!L439)","v":""},{"$f":"IF(OR(StockIn!E439=0,StockIn!E439=\"\"),\"\",StockIn!E439)","v":""},{"$f":"IF(OR(StockIn!M439=0,StockIn!M439=\"\"),\"\",StockIn!M439)","v":""}]
[{"$f":"StockIn!A440","v":1438},{"$f":"IF(OR(StockIn!B440=0,StockIn!B440=\"\"),\"\",StockIn!B440)","v":""},{"$f":"IF(OR(StockIn!D440=0,StockIn!D440=\"\"),\"\",StockIn!D440)","v":""},{"$f":"IF(OR(StockIn!G440=0,StockIn!G440=\"\"),\"\",StockIn!G440)","v":""},{"$f":"IF(OR(StockIn!H440=0,StockIn!H440=\"\"),\"\",StockIn!H440)","v":""},{"$f":"IF(OR(StockIn!L440=0,StockIn!L440=\"\"),\"\",StockIn!L440)","v":""},{"$f":"IF(OR(StockIn!E440=0,StockIn!E440=\"\"),\"\",StockIn!E440)","v":""},{"$f":"IF(OR(StockIn!M440=0,StockIn!M440=\"\"),\"\",StockIn!M440)","v":""}]
[{"$f":"StockIn!A441","v":1439},{"$f":"IF(OR(StockIn!B441=0,StockIn!B441=\"\"),\"\",StockIn!B441)","v":""},{"$f":"IF(OR(StockIn!D441=0,StockIn!D441=\"\"),\"\",StockIn!D441)","v":""},{"$f":"IF(OR(StockIn!G441=0,StockIn!G441=\"\"),\"\",StockIn!G441)","v":""},{"$f":"IF(OR(StockIn!H441=0,StockIn!H441=\"\"),\"\",StockIn!H441)","v":""},{"$f":"IF(OR(StockIn!L441=0,StockIn!L441=\"\"),\"\",StockIn!L441)","v":""},{"$f":"IF(OR(StockIn!E441=0,StockIn!E441=\"\"),\"\",StockIn!E441)","v":""},{"$f":"IF(OR(StockIn!M441=0,StockIn!M441=\"\"),\"\",StockIn!M441)","v":""}]
[{"$f":"StockIn!A442","v":1440},{"$f":"IF(OR(StockIn!B442=0,StockIn!B442=\"\"),\"\",StockIn!B442)","v":""},{"$f":"IF(OR(StockIn!D442=0,StockIn!D442=\"\"),\"\",StockIn!D442)","v":""},{"$f":"IF(OR(StockIn!G442=0,StockIn!G442=\"\"),\"\",StockIn!G442)","v":""},{"$f":"IF(OR(StockIn!H442=0,StockIn!H442=\"\"),\"\",StockIn!H442)","v":""},{"$f":"IF(OR(StockIn!L442=0,StockIn!L442=\"\"),\"\",StockIn!L442)","v":""},{"$f":"IF(OR(StockIn!E442=0,StockIn!E442=\"\"),\"\",StockIn!E442)","v":""},{"$f":"IF(OR(StockIn!M442=0,StockIn!M442=\"\"),\"\",StockIn!M442)","v":""}]
[{"$f":"StockIn!A443","v":1441},{"$f":"IF(OR(StockIn!B443=0,StockIn!B443=\"\"),\"\",StockIn!B443)","v":""},{"$f":"IF(OR(StockIn!D443=0,StockIn!D443=\"\"),\"\",StockIn!D443)","v":""},{"$f":"IF(OR(StockIn!G443=0,StockIn!G443=\"\"),\"\",StockIn!G443)","v":""},{"$f":"IF(OR(StockIn!H443=0,StockIn!H443=\"\"),\"\",StockIn!H443)","v":""},{"$f":"IF(OR(StockIn!L443=0,StockIn!L443=\"\"),\"\",StockIn!L443)","v":""},{"$f":"IF(OR(StockIn!E443=0,StockIn!E443=\"\"),\"\",StockIn!E443)","v":""},{"$f":"IF(OR(StockIn!M443=0,StockIn!M443=\"\"),\"\",StockIn!M443)","v":""}]
[{"$f":"StockIn!A444","v":1442},{"$f":"IF(OR(StockIn!B444=0,StockIn!B444=\"\"),\"\",StockIn!B444)","v":""},{"$f":"IF(OR(StockIn!D444=0,StockIn!D444=\"\"),\"\",StockIn!D444)","v":""},{"$f":"IF(OR(StockIn!G444=0,StockIn!G444=\"\"),\"\",StockIn!G444)","v":""},{"$f":"IF(OR(StockIn!H444=0,StockIn!H444=\"\"),\"\",StockIn!H444)","v":""},{"$f":"IF(OR(StockIn!L444=0,StockIn!L444=\"\"),\"\",StockIn!L444)","v":""},{"$f":"IF(OR(StockIn!E444=0,StockIn!E444=\"\"),\"\",StockIn!E444)","v":""},{"$f":"IF(OR(StockIn!M444=0,StockIn!M444=\"\"),\"\",StockIn!M444)","v":""}]
[{"$f":"StockIn!A445","v":1443},{"$f":"IF(OR(StockIn!B445=0,StockIn!B445=\"\"),\"\",StockIn!B445)","v":""},{"$f":"IF(OR(StockIn!D445=0,StockIn!D445=\"\"),\"\",StockIn!D445)","v":""},{"$f":"IF(OR(StockIn!G445=0,StockIn!G445=\"\"),\"\",StockIn!G445)","v":""},{"$f":"IF(OR(StockIn!H445=0,StockIn!H445=\"\"),\"\",StockIn!H445)","v":""},{"$f":"IF(OR(StockIn!L445=0,StockIn!L445=\"\"),\"\",StockIn!L445)","v":""},{"$f":"IF(OR(StockIn!E445=0,StockIn!E445=\"\"),\"\",StockIn!E445)","v":""},{"$f":"IF(OR(StockIn!M445=0,StockIn!M445=\"\"),\"\",StockIn!M445)","v":""}]
[{"$f":"StockIn!A446","v":1444},{"$f":"IF(OR(StockIn!B446=0,StockIn!B446=\"\"),\"\",StockIn!B446)","v":""},{"$f":"IF(OR(StockIn!D446=0,StockIn!D446=\"\"),\"\",StockIn!D446)","v":""},{"$f":"IF(OR(StockIn!G446=0,StockIn!G446=\"\"),\"\",StockIn!G446)","v":""},{"$f":"IF(OR(StockIn!H446=0,StockIn!H446=\"\"),\"\",StockIn!H446)","v":""},{"$f":"IF(OR(StockIn!L446=0,StockIn!L446=\"\"),\"\",StockIn!L446)","v":""},{"$f":"IF(OR(StockIn!E446=0,StockIn!E446=\"\"),\"\",StockIn!E446)","v":""},{"$f":"IF(OR(StockIn!M446=0,StockIn!M446=\"\"),\"\",StockIn!M446)","v":""}]
[{"$f":"StockIn!A447","v":1445},{"$f":"IF(OR(StockIn!B447=0,StockIn!B447=\"\"),\"\",StockIn!B447)","v":""},{"$f":"IF(OR(StockIn!D447=0,StockIn!D447=\"\"),\"\",StockIn!D447)","v":""},{"$f":"IF(OR(StockIn!G447=0,StockIn!G447=\"\"),\"\",StockIn!G447)","v":""},{"$f":"IF(OR(StockIn!H447=0,StockIn!H447=\"\"),\"\",StockIn!H447)","v":""},{"$f":"IF(OR(StockIn!L447=0,StockIn!L447=\"\"),\"\",StockIn!L447)","v":""},{"$f":"IF(OR(StockIn!E447=0,StockIn!E447=\"\"),\"\",StockIn!E447)","v":""},{"$f":"IF(OR(StockIn!M447=0,StockIn!M447=\"\"),\"\",StockIn!M447)","v":""}]
[{"$f":"StockIn!A448","v":1446},{"$f":"IF(OR(StockIn!B448=0,StockIn!B448=\"\"),\"\",StockIn!B448)","v":""},{"$f":"IF(OR(StockIn!D448=0,StockIn!D448=\"\"),\"\",StockIn!D448)","v":""},{"$f":"IF(OR(StockIn!G448=0,StockIn!G448=\"\"),\"\",StockIn!G448)","v":""},{"$f":"IF(OR(StockIn!H448=0,StockIn!H448=\"\"),\"\",StockIn!H448)","v":""},{"$f":"IF(OR(StockIn!L448=0,StockIn!L448=\"\"),\"\",StockIn!L448)","v":""},{"$f":"IF(OR(StockIn!E448=0,StockIn!E448=\"\"),\"\",StockIn!E448)","v":""},{"$f":"IF(OR(StockIn!M448=0,StockIn!M448=\"\"),\"\",StockIn!M448)","v":""}]
[{"$f":"StockIn!A449","v":1447},{"$f":"IF(OR(StockIn!B449=0,StockIn!B449=\"\"),\"\",StockIn!B449)","v":""},{"$f":"IF(OR(StockIn!D449=0,StockIn!D449=\"\"),\"\",StockIn!D449)","v":""},{"$f":"IF(OR(StockIn!G449=0,StockIn!G449=\"\"),\"\",StockIn!G449)","v":""},{"$f":"IF(OR(StockIn!H449=0,StockIn!H449=\"\"),\"\",StockIn!H449)","v":""},{"$f":"IF(OR(StockIn!L449=0,StockIn!L449=\"\"),\"\",StockIn!L449)","v":""},{"$f":"IF(OR(StockIn!E449=0,StockIn!E449=\"\"),\"\",StockIn!E449)","v":""},{"$f":"IF(OR(StockIn!M449=0,StockIn!M449=\"\"),\"\",StockIn!M449)","v":""}]
[{"$f":"StockIn!A450","v":1448},{"$f":"IF(OR(StockIn!B450=0,StockIn!B450=\"\"),\"\",StockIn!B450)","v":""},{"$f":"IF(OR(StockIn!D450=0,StockIn!D450=\"\"),\"\",StockIn!D450)","v":""},{"$f":"IF(OR(StockIn!G450=0,StockIn!G450=\"\"),\"\",StockIn!G450)","v":""},{"$f":"IF(OR(StockIn!H450=0,StockIn!H450=\"\"),\"\",StockIn!H450)","v":""},{"$f":"IF(OR(StockIn!L450=0,StockIn!L450=\"\"),\"\",StockIn!L450)","v":""},{"$f":"IF(OR(StockIn!E450=0,StockIn!E450=\"\"),\"\",StockIn!E450)","v":""},{"$f":"IF(OR(StockIn!M450=0,StockIn!M450=\"\"),\"\",StockIn!M450)","v":""}]
[{"$f":"StockIn!A451","v":1449},{"$f":"IF(OR(StockIn!B451=0,StockIn!B451=\"\"),\"\",StockIn!B451)","v":""},{"$f":"IF(OR(StockIn!D451=0,StockIn!D451=\"\"),\"\",StockIn!D451)","v":""},{"$f":"IF(OR(StockIn!G451=0,StockIn!G451=\"\"),\"\",StockIn!G451)","v":""},{"$f":"IF(OR(StockIn!H451=0,StockIn!H451=\"\"),\"\",StockIn!H451)","v":""},{"$f":"IF(OR(StockIn!L451=0,StockIn!L451=\"\"),\"\",StockIn!L451)","v":""},{"$f":"IF(OR(StockIn!E451=0,StockIn!E451=\"\"),\"\",StockIn!E451)","v":""},{"$f":"IF(OR(StockIn!M451=0,StockIn!M451=\"\"),\"\",StockIn!M451)","v":""}]
[{"$f":"StockIn!A452","v":1450},{"$f":"IF(OR(StockIn!B452=0,StockIn!B452=\"\"),\"\",StockIn!B452)","v":""},{"$f":"IF(OR(StockIn!D452=0,StockIn!D452=\"\"),\"\",StockIn!D452)","v":""},{"$f":"IF(OR(StockIn!G452=0,StockIn!G452=\"\"),\"\",StockIn!G452)","v":""},{"$f":"IF(OR(StockIn!H452=0,StockIn!H452=\"\"),\"\",StockIn!H452)","v":""},{"$f":"IF(OR(StockIn!L452=0,StockIn!L452=\"\"),\"\",StockIn!L452)","v":""},{"$f":"IF(OR(StockIn!E452=0,StockIn!E452=\"\"),\"\",StockIn!E452)","v":""},{"$f":"IF(OR(StockIn!M452=0,StockIn!M452=\"\"),\"\",StockIn!M452)","v":""}]
[{"$f":"StockIn!A453","v":1451},{"$f":"IF(OR(StockIn!B453=0,StockIn!B453=\"\"),\"\",StockIn!B453)","v":""},{"$f":"IF(OR(StockIn!D453=0,StockIn!D453=\"\"),\"\",StockIn!D453)","v":""},{"$f":"IF(OR(StockIn!G453=0,StockIn!G453=\"\"),\"\",StockIn!G453)","v":""},{"$f":"IF(OR(StockIn!H453=0,StockIn!H453=\"\"),\"\",StockIn!H453)","v":""},{"$f":"IF(OR(StockIn!L453=0,StockIn!L453=\"\"),\"\",StockIn!L453)","v":""},{"$f":"IF(OR(StockIn!E453=0,StockIn!E453=\"\"),\"\",StockIn!E453)","v":""},{"$f":"IF(OR(StockIn!M453=0,StockIn!M453=\"\"),\"\",StockIn!M453)","v":""}]
[{"$f":"StockIn!A454","v":1452},{"$f":"IF(OR(StockIn!B454=0,StockIn!B454=\"\"),\"\",StockIn!B454)","v":""},{"$f":"IF(OR(StockIn!D454=0,StockIn!D454=\"\"),\"\",StockIn!D454)","v":""},{"$f":"IF(OR(StockIn!G454=0,StockIn!G454=\"\"),\"\",StockIn!G454)","v":""},{"$f":"IF(OR(StockIn!H454=0,StockIn!H454=\"\"),\"\",StockIn!H454)","v":""},{"$f":"IF(OR(StockIn!L454=0,StockIn!L454=\"\"),\"\",StockIn!L454)","v":""},{"$f":"IF(OR(StockIn!E454=0,StockIn!E454=\"\"),\"\",StockIn!E454)","v":""},{"$f":"IF(OR(StockIn!M454=0,StockIn!M454=\"\"),\"\",StockIn!M454)","v":""}]
[{"$f":"StockIn!A455","v":1453},{"$f":"IF(OR(StockIn!B455=0,StockIn!B455=\"\"),\"\",StockIn!B455)","v":""},{"$f":"IF(OR(StockIn!D455=0,StockIn!D455=\"\"),\"\",StockIn!D455)","v":""},{"$f":"IF(OR(StockIn!G455=0,StockIn!G455=\"\"),\"\",StockIn!G455)","v":""},{"$f":"IF(OR(StockIn!H455=0,StockIn!H455=\"\"),\"\",StockIn!H455)","v":""},{"$f":"IF(OR(StockIn!L455=0,StockIn!L455=\"\"),\"\",StockIn!L455)","v":""},{"$f":"IF(OR(StockIn!E455=0,StockIn!E455=\"\"),\"\",StockIn!E455)","v":""},{"$f":"IF(OR(StockIn!M455=0,StockIn!M455=\"\"),\"\",StockIn!M455)","v":""}]
[{"$f":"StockIn!A456","v":1454},{"$f":"IF(OR(StockIn!B456=0,StockIn!B456=\"\"),\"\",StockIn!B456)","v":""},{"$f":"IF(OR(StockIn!D456=0,StockIn!D456=\"\"),\"\",StockIn!D456)","v":""},{"$f":"IF(OR(StockIn!G456=0,StockIn!G456=\"\"),\"\",StockIn!G456)","v":""},{"$f":"IF(OR(StockIn!H456=0,StockIn!H456=\"\"),\"\",StockIn!H456)","v":""},{"$f":"IF(OR(StockIn!L456=0,StockIn!L456=\"\"),\"\",StockIn!L456)","v":""},{"$f":"IF(OR(StockIn!E456=0,StockIn!E456=\"\"),\"\",StockIn!E456)","v":""},{"$f":"IF(OR(StockIn!M456=0,StockIn!M456=\"\"),\"\",StockIn!M456)","v":""}]
[{"$f":"StockIn!A457","v":1455},{"$f":"IF(OR(StockIn!B457=0,StockIn!B457=\"\"),\"\",StockIn!B457)","v":""},{"$f":"IF(OR(StockIn!D457=0,StockIn!D457=\"\"),\"\",StockIn!D457)","v":""},{"$f":"IF(OR(StockIn!G457=0,StockIn!G457=\"\"),\"\",StockIn!G457)","v":""},{"$f":"IF(OR(StockIn!H457=0,StockIn!H457=\"\"),\"\",StockIn!H457)","v":""},{"$f":"IF(OR(StockIn!L457=0,StockIn!L457=\"\"),\"\",StockIn!L457)","v":""},{"$f":"IF(OR(StockIn!E457=0,StockIn!E457=\"\"),\"\",StockIn!E457)","v":""},{"$f":"IF(OR(StockIn!M457=0,StockIn!M457=\"\"),\"\",StockIn!M457)","v":""}]
[{"$f":"StockIn!A458","v":1456},{"$f":"IF(OR(StockIn!B458=0,StockIn!B458=\"\"),\"\",StockIn!B458)","v":""},{"$f":"IF(OR(StockIn!D458=0,StockIn!D458=\"\"),\"\",StockIn!D458)","v":""},{"$f":"IF(OR(StockIn!G458=0,StockIn!G458=\"\"),\"\",StockIn!G458)","v":""},{"$f":"IF(OR(StockIn!H458=0,StockIn!H458=\"\"),\"\",StockIn!H458)","v":""},{"$f":"IF(OR(StockIn!L458=0,StockIn!L458=\"\"),\"\",StockIn!L458)","v":""},{"$f":"IF(OR(StockIn!E458=0,StockIn!E458=\"\"),\"\",StockIn!E458)","v":""},{"$f":"IF(OR(StockIn!M458=0,StockIn!M458=\"\"),\"\",StockIn!M458)","v":""}]
[{"$f":"StockIn!A459","v":1457},{"$f":"IF(OR(StockIn!B459=0,StockIn!B459=\"\"),\"\",StockIn!B459)","v":""},{"$f":"IF(OR(StockIn!D459=0,StockIn!D459=\"\"),\"\",StockIn!D459)","v":""},{"$f":"IF(OR(StockIn!G459=0,StockIn!G459=\"\"),\"\",StockIn!G459)","v":""},{"$f":"IF(OR(StockIn!H459=0,StockIn!H459=\"\"),\"\",StockIn!H459)","v":""},{"$f":"IF(OR(StockIn!L459=0,StockIn!L459=\"\"),\"\",StockIn!L459)","v":""},{"$f":"IF(OR(StockIn!E459=0,StockIn!E459=\"\"),\"\",StockIn!E459)","v":""},{"$f":"IF(OR(StockIn!M459=0,StockIn!M459=\"\"),\"\",StockIn!M459)","v":""}]
[{"$f":"StockIn!A460","v":1458},{"$f":"IF(OR(StockIn!B460=0,StockIn!B460=\"\"),\"\",StockIn!B460)","v":""},{"$f":"IF(OR(StockIn!D460=0,StockIn!D460=\"\"),\"\",StockIn!D460)","v":""},{"$f":"IF(OR(StockIn!G460=0,StockIn!G460=\"\"),\"\",StockIn!G460)","v":""},{"$f":"IF(OR(StockIn!H460=0,StockIn!H460=\"\"),\"\",StockIn!H460)","v":""},{"$f":"IF(OR(StockIn!L460=0,StockIn!L460=\"\"),\"\",StockIn!L460)","v":""},{"$f":"IF(OR(StockIn!E460=0,StockIn!E460=\"\"),\"\",StockIn!E460)","v":""},{"$f":"IF(OR(StockIn!M460=0,StockIn!M460=\"\"),\"\",StockIn!M460)","v":""}]
[{"$f":"StockIn!A461","v":1459},{"$f":"IF(OR(StockIn!B461=0,StockIn!B461=\"\"),\"\",StockIn!B461)","v":""},{"$f":"IF(OR(StockIn!D461=0,StockIn!D461=\"\"),\"\",StockIn!D461)","v":""},{"$f":"IF(OR(StockIn!G461=0,StockIn!G461=\"\"),\"\",StockIn!G461)","v":""},{"$f":"IF(OR(StockIn!H461=0,StockIn!H461=\"\"),\"\",StockIn!H461)","v":""},{"$f":"IF(OR(StockIn!L461=0,StockIn!L461=\"\"),\"\",StockIn!L461)","v":""},{"$f":"IF(OR(StockIn!E461=0,StockIn!E461=\"\"),\"\",StockIn!E461)","v":""},{"$f":"IF(OR(StockIn!M461=0,StockIn!M461=\"\"),\"\",StockIn!M461)","v":""}]
[{"$f":"StockIn!A462","v":1460},{"$f":"IF(OR(StockIn!B462=0,StockIn!B462=\"\"),\"\",StockIn!B462)","v":""},{"$f":"IF(OR(StockIn!D462=0,StockIn!D462=\"\"),\"\",StockIn!D462)","v":""},{"$f":"IF(OR(StockIn!G462=0,StockIn!G462=\"\"),\"\",StockIn!G462)","v":""},{"$f":"IF(OR(StockIn!H462=0,StockIn!H462=\"\"),\"\",StockIn!H462)","v":""},{"$f":"IF(OR(StockIn!L462=0,StockIn!L462=\"\"),\"\",StockIn!L462)","v":""},{"$f":"IF(OR(StockIn!E462=0,StockIn!E462=\"\"),\"\",StockIn!E462)","v":""},{"$f":"IF(OR(StockIn!M462=0,StockIn!M462=\"\"),\"\",StockIn!M462)","v":""}]
[{"$f":"StockIn!A463","v":1461},{"$f":"IF(OR(StockIn!B463=0,StockIn!B463=\"\"),\"\",StockIn!B463)","v":""},{"$f":"IF(OR(StockIn!D463=0,StockIn!D463=\"\"),\"\",StockIn!D463)","v":""},{"$f":"IF(OR(StockIn!G463=0,StockIn!G463=\"\"),\"\",StockIn!G463)","v":""},{"$f":"IF(OR(StockIn!H463=0,StockIn!H463=\"\"),\"\",StockIn!H463)","v":""},{"$f":"IF(OR(StockIn!L463=0,StockIn!L463=\"\"),\"\",StockIn!L463)","v":""},{"$f":"IF(OR(StockIn!E463=0,StockIn!E463=\"\"),\"\",StockIn!E463)","v":""},{"$f":"IF(OR(StockIn!M463=0,StockIn!M463=\"\"),\"\",StockIn!M463)","v":""}]
[{"$f":"StockIn!A464","v":1462},{"$f":"IF(OR(StockIn!B464=0,StockIn!B464=\"\"),\"\",StockIn!B464)","v":""},{"$f":"IF(OR(StockIn!D464=0,StockIn!D464=\"\"),\"\",StockIn!D464)","v":""},{"$f":"IF(OR(StockIn!G464=0,StockIn!G464=\"\"),\"\",StockIn!G464)","v":""},{"$f":"IF(OR(StockIn!H464=0,StockIn!H464=\"\"),\"\",StockIn!H464)","v":""},{"$f":"IF(OR(StockIn!L464=0,StockIn!L464=\"\"),\"\",StockIn!L464)","v":""},{"$f":"IF(OR(StockIn!E464=0,StockIn!E464=\"\"),\"\",StockIn!E464)","v":""},{"$f":"IF(OR(StockIn!M464=0,StockIn!M464=\"\"),\"\",StockIn!M464)","v":""}]
[{"$f":"StockIn!A465","v":1463},{"$f":"IF(OR(StockIn!B465=0,StockIn!B465=\"\"),\"\",StockIn!B465)","v":""},{"$f":"IF(OR(StockIn!D465=0,StockIn!D465=\"\"),\"\",StockIn!D465)","v":""},{"$f":"IF(OR(StockIn!G465=0,StockIn!G465=\"\"),\"\",StockIn!G465)","v":""},{"$f":"IF(OR(StockIn!H465=0,StockIn!H465=\"\"),\"\",StockIn!H465)","v":""},{"$f":"IF(OR(StockIn!L465=0,StockIn!L465=\"\"),\"\",StockIn!L465)","v":""},{"$f":"IF(OR(StockIn!E465=0,StockIn!E465=\"\"),\"\",StockIn!E465)","v":""},{"$f":"IF(OR(StockIn!M465=0,StockIn!M465=\"\"),\"\",StockIn!M465)","v":""}]
[{"$f":"StockIn!A466","v":1464},{"$f":"IF(OR(StockIn!B466=0,StockIn!B466=\"\"),\"\",StockIn!B466)","v":""},{"$f":"IF(OR(StockIn!D466=0,StockIn!D466=\"\"),\"\",StockIn!D466)","v":""},{"$f":"IF(OR(StockIn!G466=0,StockIn!G466=\"\"),\"\",StockIn!G466)","v":""},{"$f":"IF(OR(StockIn!H466=0,StockIn!H466=\"\"),\"\",StockIn!H466)","v":""},{"$f":"IF(OR(StockIn!L466=0,StockIn!L466=\"\"),\"\",StockIn!L466)","v":""},{"$f":"IF(OR(StockIn!E466=0,StockIn!E466=\"\"),\"\",StockIn!E466)","v":""},{"$f":"IF(OR(StockIn!M466=0,StockIn!M466=\"\"),\"\",StockIn!M466)","v":""}]
[{"$f":"StockIn!A467","v":1465},{"$f":"IF(OR(StockIn!B467=0,StockIn!B467=\"\"),\"\",StockIn!B467)","v":""},{"$f":"IF(OR(StockIn!D467=0,StockIn!D467=\"\"),\"\",StockIn!D467)","v":""},{"$f":"IF(OR(StockIn!G467=0,StockIn!G467=\"\"),\"\",StockIn!G467)","v":""},{"$f":"IF(OR(StockIn!H467=0,StockIn!H467=\"\"),\"\",StockIn!H467)","v":""},{"$f":"IF(OR(StockIn!L467=0,StockIn!L467=\"\"),\"\",StockIn!L467)","v":""},{"$f":"IF(OR(StockIn!E467=0,StockIn!E467=\"\"),\"\",StockIn!E467)","v":""},{"$f":"IF(OR(StockIn!M467=0,StockIn!M467=\"\"),\"\",StockIn!M467)","v":""}]
[{"$f":"StockIn!A468","v":1466},{"$f":"IF(OR(StockIn!B468=0,StockIn!B468=\"\"),\"\",StockIn!B468)","v":""},{"$f":"IF(OR(StockIn!D468=0,StockIn!D468=\"\"),\"\",StockIn!D468)","v":""},{"$f":"IF(OR(StockIn!G468=0,StockIn!G468=\"\"),\"\",StockIn!G468)","v":""},{"$f":"IF(OR(StockIn!H468=0,StockIn!H468=\"\"),\"\",StockIn!H468)","v":""},{"$f":"IF(OR(StockIn!L468=0,StockIn!L468=\"\"),\"\",StockIn!L468)","v":""},{"$f":"IF(OR(StockIn!E468=0,StockIn!E468=\"\"),\"\",StockIn!E468)","v":""},{"$f":"IF(OR(StockIn!M468=0,StockIn!M468=\"\"),\"\",StockIn!M468)","v":""}]
[{"$f":"StockIn!A469","v":1467},{"$f":"IF(OR(StockIn!B469=0,StockIn!B469=\"\"),\"\",StockIn!B469)","v":""},{"$f":"IF(OR(StockIn!D469=0,StockIn!D469=\"\"),\"\",StockIn!D469)","v":""},{"$f":"IF(OR(StockIn!G469=0,StockIn!G469=\"\"),\"\",StockIn!G469)","v":""},{"$f":"IF(OR(StockIn!H469=0,StockIn!H469=\"\"),\"\",StockIn!H469)","v":""},{"$f":"IF(OR(StockIn!L469=0,StockIn!L469=\"\"),\"\",StockIn!L469)","v":""},{"$f":"IF(OR(StockIn!E469=0,StockIn!E469=\"\"),\"\",StockIn!E469)","v":""},{"$f":"IF(OR(StockIn!M469=0,StockIn!M469=\"\"),\"\",StockIn!M469)","v":""}]
[{"$f":"StockIn!A470","v":1468},{"$f":"IF(OR(StockIn!B470=0,StockIn!B470=\"\"),\"\",StockIn!B470)","v":""},{"$f":"IF(OR(StockIn!D470=0,StockIn!D470=\"\"),\"\",StockIn!D470)","v":""},{"$f":"IF(OR(StockIn!G470=0,StockIn!G470=\"\"),\"\",StockIn!G470)","v":""},{"$f":"IF(OR(StockIn!H470=0,StockIn!H470=\"\"),\"\",StockIn!H470)","v":""},{"$f":"IF(OR(StockIn!L470=0,StockIn!L470=\"\"),\"\",StockIn!L470)","v":""},{"$f":"IF(OR(StockIn!E470=0,StockIn!E470=\"\"),\"\",StockIn!E470)","v":""},{"$f":"IF(OR(StockIn!M470=0,StockIn!M470=\"\"),\"\",StockIn!M470)","v":""}]
[{"$f":"StockIn!A471","v":1469},{"$f":"IF(OR(StockIn!B471=0,StockIn!B471=\"\"),\"\",StockIn!B471)","v":""},{"$f":"IF(OR(StockIn!D471=0,StockIn!D471=\"\"),\"\",StockIn!D471)","v":""},{"$f":"IF(OR(StockIn!G471=0,StockIn!G471=\"\"),\"\",StockIn!G471)","v":""},{"$f":"IF(OR(StockIn!H471=0,StockIn!H471=\"\"),\"\",StockIn!H471)","v":""},{"$f":"IF(OR(StockIn!L471=0,StockIn!L471=\"\"),\"\",StockIn!L471)","v":""},{"$f":"IF(OR(StockIn!E471=0,StockIn!E471=\"\"),\"\",StockIn!E471)","v":""},{"$f":"IF(OR(StockIn!M471=0,StockIn!M471=\"\"),\"\",StockIn!M471)","v":""}]
[{"$f":"StockIn!A472","v":1470},{"$f":"IF(OR(StockIn!B472=0,StockIn!B472=\"\"),\"\",StockIn!B472)","v":""},{"$f":"IF(OR(StockIn!D472=0,StockIn!D472=\"\"),\"\",StockIn!D472)","v":""},{"$f":"IF(OR(StockIn!G472=0,StockIn!G472=\"\"),\"\",StockIn!G472)","v":""},{"$f":"IF(OR(StockIn!H472=0,StockIn!H472=\"\"),\"\",StockIn!H472)","v":""},{"$f":"IF(OR(StockIn!L472=0,StockIn!L472=\"\"),\"\",StockIn!L472)","v":""},{"$f":"IF(OR(StockIn!E472=0,StockIn!E472=\"\"),\"\",StockIn!E472)","v":""},{"$f":"IF(OR(StockIn!M472=0,StockIn!M472=\"\"),\"\",StockIn!M472)","v":""}]
[{"$f":"StockIn!A473","v":1471},{"$f":"IF(OR(StockIn!B473=0,StockIn!B473=\"\"),\"\",StockIn!B473)","v":""},{"$f":"IF(OR(StockIn!D473=0,StockIn!D473=\"\"),\"\",StockIn!D473)","v":""},{"$f":"IF(OR(StockIn!G473=0,StockIn!G473=\"\"),\"\",StockIn!G473)","v":""},{"$f":"IF(OR(StockIn!H473=0,StockIn!H473=\"\"),\"\",StockIn!H473)","v":""},{"$f":"IF(OR(StockIn!L473=0,StockIn!L473=\"\"),\"\",StockIn!L473)","v":""},{"$f":"IF(OR(StockIn!E473=0,StockIn!E473=\"\"),\"\",StockIn!E473)","v":""},{"$f":"IF(OR(StockIn!M473=0,StockIn!M473=\"\"),\"\",StockIn!M473)","v":""}]
[{"$f":"StockIn!A474","v":1472},{"$f":"IF(OR(StockIn!B474=0,StockIn!B474=\"\"),\"\",StockIn!B474)","v":""},{"$f":"IF(OR(StockIn!D474=0,StockIn!D474=\"\"),\"\",StockIn!D474)","v":""},{"$f":"IF(OR(StockIn!G474=0,StockIn!G474=\"\"),\"\",StockIn!G474)","v":""},{"$f":"IF(OR(StockIn!H474=0,StockIn!H474=\"\"),\"\",StockIn!H474)","v":""},{"$f":"IF(OR(StockIn!L474=0,StockIn!L474=\"\"),\"\",StockIn!L474)","v":""},{"$f":"IF(OR(StockIn!E474=0,StockIn!E474=\"\"),\"\",StockIn!E474)","v":""},{"$f":"IF(OR(StockIn!M474=0,StockIn!M474=\"\"),\"\",StockIn!M474)","v":""}]
[{"$f":"StockIn!A475","v":1473},{"$f":"IF(OR(StockIn!B475=0,StockIn!B475=\"\"),\"\",StockIn!B475)","v":""},{"$f":"IF(OR(StockIn!D475=0,StockIn!D475=\"\"),\"\",StockIn!D475)","v":""},{"$f":"IF(OR(StockIn!G475=0,StockIn!G475=\"\"),\"\",StockIn!G475)","v":""},{"$f":"IF(OR(StockIn!H475=0,StockIn!H475=\"\"),\"\",StockIn!H475)","v":""},{"$f":"IF(OR(StockIn!L475=0,StockIn!L475=\"\"),\"\",StockIn!L475)","v":""},{"$f":"IF(OR(StockIn!E475=0,StockIn!E475=\"\"),\"\",StockIn!E475)","v":""},{"$f":"IF(OR(StockIn!M475=0,StockIn!M475=\"\"),\"\",StockIn!M475)","v":""}]
[{"$f":"StockIn!A476","v":1474},{"$f":"IF(OR(StockIn!B476=0,StockIn!B476=\"\"),\"\",StockIn!B476)","v":""},{"$f":"IF(OR(StockIn!D476=0,StockIn!D476=\"\"),\"\",StockIn!D476)","v":""},{"$f":"IF(OR(StockIn!G476=0,StockIn!G476=\"\"),\"\",StockIn!G476)","v":""},{"$f":"IF(OR(StockIn!H476=0,StockIn!H476=\"\"),\"\",StockIn!H476)","v":""},{"$f":"IF(OR(StockIn!L476=0,StockIn!L476=\"\"),\"\",StockIn!L476)","v":""},{"$f":"IF(OR(StockIn!E476=0,StockIn!E476=\"\"),\"\",StockIn!E476)","v":""},{"$f":"IF(OR(StockIn!M476=0,StockIn!M476=\"\"),\"\",StockIn!M476)","v":""}]
[{"$f":"StockIn!A477","v":1475},{"$f":"IF(OR(StockIn!B477=0,StockIn!B477=\"\"),\"\",StockIn!B477)","v":""},{"$f":"IF(OR(StockIn!D477=0,StockIn!D477=\"\"),\"\",StockIn!D477)","v":""},{"$f":"IF(OR(StockIn!G477=0,StockIn!G477=\"\"),\"\",StockIn!G477)","v":""},{"$f":"IF(OR(StockIn!H477=0,StockIn!H477=\"\"),\"\",StockIn!H477)","v":""},{"$f":"IF(OR(StockIn!L477=0,StockIn!L477=\"\"),\"\",StockIn!L477)","v":""},{"$f":"IF(OR(StockIn!E477=0,StockIn!E477=\"\"),\"\",StockIn!E477)","v":""},{"$f":"IF(OR(StockIn!M477=0,StockIn!M477=\"\"),\"\",StockIn!M477)","v":""}]
[{"$f":"StockIn!A478","v":1476},{"$f":"IF(OR(StockIn!B478=0,StockIn!B478=\"\"),\"\",StockIn!B478)","v":""},{"$f":"IF(OR(StockIn!D478=0,StockIn!D478=\"\"),\"\",StockIn!D478)","v":""},{"$f":"IF(OR(StockIn!G478=0,StockIn!G478=\"\"),\"\",StockIn!G478)","v":""},{"$f":"IF(OR(StockIn!H478=0,StockIn!H478=\"\"),\"\",StockIn!H478)","v":""},{"$f":"IF(OR(StockIn!L478=0,StockIn!L478=\"\"),\"\",StockIn!L478)","v":""},{"$f":"IF(OR(StockIn!E478=0,StockIn!E478=\"\"),\"\",StockIn!E478)","v":""},{"$f":"IF(OR(StockIn!M478=0,StockIn!M478=\"\"),\"\",StockIn!M478)","v":""}]
[{"$f":"StockIn!A479","v":1477},{"$f":"IF(OR(StockIn!B479=0,StockIn!B479=\"\"),\"\",StockIn!B479)","v":""},{"$f":"IF(OR(StockIn!D479=0,StockIn!D479=\"\"),\"\",StockIn!D479)","v":""},{"$f":"IF(OR(StockIn!G479=0,StockIn!G479=\"\"),\"\",StockIn!G479)","v":""},{"$f":"IF(OR(StockIn!H479=0,StockIn!H479=\"\"),\"\",StockIn!H479)","v":""},{"$f":"IF(OR(StockIn!L479=0,StockIn!L479=\"\"),\"\",StockIn!L479)","v":""},{"$f":"IF(OR(StockIn!E479=0,StockIn!E479=\"\"),\"\",StockIn!E479)","v":""},{"$f":"IF(OR(StockIn!M479=0,StockIn!M479=\"\"),\"\",StockIn!M479)","v":""}]
[{"$f":"StockIn!A480","v":1478},{"$f":"IF(OR(StockIn!B480=0,StockIn!B480=\"\"),\"\",StockIn!B480)","v":""},{"$f":"IF(OR(StockIn!D480=0,StockIn!D480=\"\"),\"\",StockIn!D480)","v":""},{"$f":"IF(OR(StockIn!G480=0,StockIn!G480=\"\"),\"\",StockIn!G480)","v":""},{"$f":"IF(OR(StockIn!H480=0,StockIn!H480=\"\"),\"\",StockIn!H480)","v":""},{"$f":"IF(OR(StockIn!L480=0,StockIn!L480=\"\"),\"\",StockIn!L480)","v":""},{"$f":"IF(OR(StockIn!E480=0,StockIn!E480=\"\"),\"\",StockIn!E480)","v":""},{"$f":"IF(OR(StockIn!M480=0,StockIn!M480=\"\"),\"\",StockIn!M480)","v":""}]
[{"$f":"StockIn!A481","v":1479},{"$f":"IF(OR(StockIn!B481=0,StockIn!B481=\"\"),\"\",StockIn!B481)","v":""},{"$f":"IF(OR(StockIn!D481=0,StockIn!D481=\"\"),\"\",StockIn!D481)","v":""},{"$f":"IF(OR(StockIn!G481=0,StockIn!G481=\"\"),\"\",StockIn!G481)","v":""},{"$f":"IF(OR(StockIn!H481=0,StockIn!H481=\"\"),\"\",StockIn!H481)","v":""},{"$f":"IF(OR(StockIn!L481=0,StockIn!L481=\"\"),\"\",StockIn!L481)","v":""},{"$f":"IF(OR(StockIn!E481=0,StockIn!E481=\"\"),\"\",StockIn!E481)","v":""},{"$f":"IF(OR(StockIn!M481=0,StockIn!M481=\"\"),\"\",StockIn!M481)","v":""}]
[{"$f":"StockIn!A482","v":1480},{"$f":"IF(OR(StockIn!B482=0,StockIn!B482=\"\"),\"\",StockIn!B482)","v":""},{"$f":"IF(OR(StockIn!D482=0,StockIn!D482=\"\"),\"\",StockIn!D482)","v":""},{"$f":"IF(OR(StockIn!G482=0,StockIn!G482=\"\"),\"\",StockIn!G482)","v":""},{"$f":"IF(OR(StockIn!H482=0,StockIn!H482=\"\"),\"\",StockIn!H482)","v":""},{"$f":"IF(OR(StockIn!L482=0,StockIn!L482=\"\"),\"\",StockIn!L482)","v":""},{"$f":"IF(OR(StockIn!E482=0,StockIn!E482=\"\"),\"\",StockIn!E482)","v":""},{"$f":"IF(OR(StockIn!M482=0,StockIn!M482=\"\"),\"\",StockIn!M482)","v":""}]
[{"$f":"StockIn!A483","v":1481},{"$f":"IF(OR(StockIn!B483=0,StockIn!B483=\"\"),\"\",StockIn!B483)","v":""},{"$f":"IF(OR(StockIn!D483=0,StockIn!D483=\"\"),\"\",StockIn!D483)","v":""},{"$f":"IF(OR(StockIn!G483=0,StockIn!G483=\"\"),\"\",StockIn!G483)","v":""},{"$f":"IF(OR(StockIn!H483=0,StockIn!H483=\"\"),\"\",StockIn!H483)","v":""},{"$f":"IF(OR(StockIn!L483=0,StockIn!L483=\"\"),\"\",StockIn!L483)","v":""},{"$f":"IF(OR(StockIn!E483=0,StockIn!E483=\"\"),\"\",StockIn!E483)","v":""},{"$f":"IF(OR(StockIn!M483=0,StockIn!M483=\"\"),\"\",StockIn!M483)","v":""}]
[{"$f":"StockIn!A484","v":1482},{"$f":"IF(OR(StockIn!B484=0,StockIn!B484=\"\"),\"\",StockIn!B484)","v":""},{"$f":"IF(OR(StockIn!D484=0,StockIn!D484=\"\"),\"\",StockIn!D484)","v":""},{"$f":"IF(OR(StockIn!G484=0,StockIn!G484=\"\"),\"\",StockIn!G484)","v":""},{"$f":"IF(OR(StockIn!H484=0,StockIn!H484=\"\"),\"\",StockIn!H484)","v":""},{"$f":"IF(OR(StockIn!L484=0,StockIn!L484=\"\"),\"\",StockIn!L484)","v":""},{"$f":"IF(OR(StockIn!E484=0,StockIn!E484=\"\"),\"\",StockIn!E484)","v":""},{"$f":"IF(OR(StockIn!M484=0,StockIn!M484=\"\"),\"\",StockIn!M484)","v":""}]
[{"$f":"StockIn!A485","v":1483},{"$f":"IF(OR(StockIn!B485=0,StockIn!B485=\"\"),\"\",StockIn!B485)","v":""},{"$f":"IF(OR(StockIn!D485=0,StockIn!D485=\"\"),\"\",StockIn!D485)","v":""},{"$f":"IF(OR(StockIn!G485=0,StockIn!G485=\"\"),\"\",StockIn!G485)","v":""},{"$f":"IF(OR(StockIn!H485=0,StockIn!H485=\"\"),\"\",StockIn!H485)","v":""},{"$f":"IF(OR(StockIn!L485=0,StockIn!L485=\"\"),\"\",StockIn!L485)","v":""},{"$f":"IF(OR(StockIn!E485=0,StockIn!E485=\"\"),\"\",StockIn!E485)","v":""},{"$f":"IF(OR(StockIn!M485=0,StockIn!M485=\"\"),\"\",StockIn!M485)","v":""}]
[{"$f":"StockIn!A486","v":1484},{"$f":"IF(OR(StockIn!B486=0,StockIn!B486=\"\"),\"\",StockIn!B486)","v":""},{"$f":"IF(OR(StockIn!D486=0,StockIn!D486=\"\"),\"\",StockIn!D486)","v":""},{"$f":"IF(OR(StockIn!G486=0,StockIn!G486=\"\"),\"\",StockIn!G486)","v":""},{"$f":"IF(OR(StockIn!H486=0,StockIn!H486=\"\"),\"\",StockIn!H486)","v":""},{"$f":"IF(OR(StockIn!L486=0,StockIn!L486=\"\"),\"\",StockIn!L486)","v":""},{"$f":"IF(OR(StockIn!E486=0,StockIn!E486=\"\"),\"\",StockIn!E486)","v":""},{"$f":"IF(OR(StockIn!M486=0,StockIn!M486=\"\"),\"\",StockIn!M486)","v":""}]
[{"$f":"StockIn!A487","v":1485},{"$f":"IF(OR(StockIn!B487=0,StockIn!B487=\"\"),\"\",StockIn!B487)","v":""},{"$f":"IF(OR(StockIn!D487=0,StockIn!D487=\"\"),\"\",StockIn!D487)","v":""},{"$f":"IF(OR(StockIn!G487=0,StockIn!G487=\"\"),\"\",StockIn!G487)","v":""},{"$f":"IF(OR(StockIn!H487=0,StockIn!H487=\"\"),\"\",StockIn!H487)","v":""},{"$f":"IF(OR(StockIn!L487=0,StockIn!L487=\"\"),\"\",StockIn!L487)","v":""},{"$f":"IF(OR(StockIn!E487=0,StockIn!E487=\"\"),\"\",StockIn!E487)","v":""},{"$f":"IF(OR(StockIn!M487=0,StockIn!M487=\"\"),\"\",StockIn!M487)","v":""}]
[{"$f":"StockIn!A488","v":1486},{"$f":"IF(OR(StockIn!B488=0,StockIn!B488=\"\"),\"\",StockIn!B488)","v":""},{"$f":"IF(OR(StockIn!D488=0,StockIn!D488=\"\"),\"\",StockIn!D488)","v":""},{"$f":"IF(OR(StockIn!G488=0,StockIn!G488=\"\"),\"\",StockIn!G488)","v":""},{"$f":"IF(OR(StockIn!H488=0,StockIn!H488=\"\"),\"\",StockIn!H488)","v":""},{"$f":"IF(OR(StockIn!L488=0,StockIn!L488=\"\"),\"\",StockIn!L488)","v":""},{"$f":"IF(OR(StockIn!E488=0,StockIn!E488=\"\"),\"\",StockIn!E488)","v":""},{"$f":"IF(OR(StockIn!M488=0,StockIn!M488=\"\"),\"\",StockIn!M488)","v":""}]
[{"$f":"StockIn!A489","v":1487},{"$f":"IF(OR(StockIn!B489=0,StockIn!B489=\"\"),\"\",StockIn!B489)","v":""},{"$f":"IF(OR(StockIn!D489=0,StockIn!D489=\"\"),\"\",StockIn!D489)","v":""},{"$f":"IF(OR(StockIn!G489=0,StockIn!G489=\"\"),\"\",StockIn!G489)","v":""},{"$f":"IF(OR(StockIn!H489=0,StockIn!H489=\"\"),\"\",StockIn!H489)","v":""},{"$f":"IF(OR(StockIn!L489=0,StockIn!L489=\"\"),\"\",StockIn!L489)","v":""},{"$f":"IF(OR(StockIn!E489=0,StockIn!E489=\"\"),\"\",StockIn!E489)","v":""},{"$f":"IF(OR(StockIn!M489=0,StockIn!M489=\"\"),\"\",StockIn!M489)","v":""}]
[{"$f":"StockIn!A490","v":1488},{"$f":"IF(OR(StockIn!B490=0,StockIn!B490=\"\"),\"\",StockIn!B490)","v":""},{"$f":"IF(OR(StockIn!D490=0,StockIn!D490=\"\"),\"\",StockIn!D490)","v":""},{"$f":"IF(OR(StockIn!G490=0,StockIn!G490=\"\"),\"\",StockIn!G490)","v":""},{"$f":"IF(OR(StockIn!H490=0,StockIn!H490=\"\"),\"\",StockIn!H490)","v":""},{"$f":"IF(OR(StockIn!L490=0,StockIn!L490=\"\"),\"\",StockIn!L490)","v":""},{"$f":"IF(OR(StockIn!E490=0,StockIn!E490=\"\"),\"\",StockIn!E490)","v":""},{"$f":"IF(OR(StockIn!M490=0,StockIn!M490=\"\"),\"\",StockIn!M490)","v":""}]
[{"$f":"StockIn!A491","v":1489},{"$f":"IF(OR(StockIn!B491=0,StockIn!B491=\"\"),\"\",StockIn!B491)","v":""},{"$f":"IF(OR(StockIn!D491=0,StockIn!D491=\"\"),\"\",StockIn!D491)","v":""},{"$f":"IF(OR(StockIn!G491=0,StockIn!G491=\"\"),\"\",StockIn!G491)","v":""},{"$f":"IF(OR(StockIn!H491=0,StockIn!H491=\"\"),\"\",StockIn!H491)","v":""},{"$f":"IF(OR(StockIn!L491=0,StockIn!L491=\"\"),\"\",StockIn!L491)","v":""},{"$f":"IF(OR(StockIn!E491=0,StockIn!E491=\"\"),\"\",StockIn!E491)","v":""},{"$f":"IF(OR(StockIn!M491=0,StockIn!M491=\"\"),\"\",StockIn!M491)","v":""}]
[{"$f":"StockIn!A492","v":1490},{"$f":"IF(OR(StockIn!B492=0,StockIn!B492=\"\"),\"\",StockIn!B492)","v":""},{"$f":"IF(OR(StockIn!D492=0,StockIn!D492=\"\"),\"\",StockIn!D492)","v":""},{"$f":"IF(OR(StockIn!G492=0,StockIn!G492=\"\"),\"\",StockIn!G492)","v":""},{"$f":"IF(OR(StockIn!H492=0,StockIn!H492=\"\"),\"\",StockIn!H492)","v":""},{"$f":"IF(OR(StockIn!L492=0,StockIn!L492=\"\"),\"\",StockIn!L492)","v":""},{"$f":"IF(OR(StockIn!E492=0,StockIn!E492=\"\"),\"\",StockIn!E492)","v":""},{"$f":"IF(OR(StockIn!M492=0,StockIn!M492=\"\"),\"\",StockIn!M492)","v":""}]
[{"$f":"StockIn!A493","v":1491},{"$f":"IF(OR(StockIn!B493=0,StockIn!B493=\"\"),\"\",StockIn!B493)","v":""},{"$f":"IF(OR(StockIn!D493=0,StockIn!D493=\"\"),\"\",StockIn!D493)","v":""},{"$f":"IF(OR(StockIn!G493=0,StockIn!G493=\"\"),\"\",StockIn!G493)","v":""},{"$f":"IF(OR(StockIn!H493=0,StockIn!H493=\"\"),\"\",StockIn!H493)","v":""},{"$f":"IF(OR(StockIn!L493=0,StockIn!L493=\"\"),\"\",StockIn!L493)","v":""},{"$f":"IF(OR(StockIn!E493=0,StockIn!E493=\"\"),\"\",StockIn!E493)","v":""},{"$f":"IF(OR(StockIn!M493=0,StockIn!M493=\"\"),\"\",StockIn!M493)","v":""}]
[{"$f":"StockIn!A494","v":1492},{"$f":"IF(OR(StockIn!B494=0,StockIn!B494=\"\"),\"\",StockIn!B494)","v":""},{"$f":"IF(OR(StockIn!D494=0,StockIn!D494=\"\"),\"\",StockIn!D494)","v":""},{"$f":"IF(OR(StockIn!G494=0,StockIn!G494=\"\"),\"\",StockIn!G494)","v":""},{"$f":"IF(OR(StockIn!H494=0,StockIn!H494=\"\"),\"\",StockIn!H494)","v":""},{"$f":"IF(OR(StockIn!L494=0,StockIn!L494=\"\"),\"\",StockIn!L494)","v":""},{"$f":"IF(OR(StockIn!E494=0,StockIn!E494=\"\"),\"\",StockIn!E494)","v":""},{"$f":"IF(OR(StockIn!M494=0,StockIn!M494=\"\"),\"\",StockIn!M494)","v":""}]
[{"$f":"StockIn!A495","v":1493},{"$f":"IF(OR(StockIn!B495=0,StockIn!B495=\"\"),\"\",StockIn!B495)","v":""},{"$f":"IF(OR(StockIn!D495=0,StockIn!D495=\"\"),\"\",StockIn!D495)","v":""},{"$f":"IF(OR(StockIn!G495=0,StockIn!G495=\"\"),\"\",StockIn!G495)","v":""},{"$f":"IF(OR(StockIn!H495=0,StockIn!H495=\"\"),\"\",StockIn!H495)","v":""},{"$f":"IF(OR(StockIn!L495=0,StockIn!L495=\"\"),\"\",StockIn!L495)","v":""},{"$f":"IF(OR(StockIn!E495=0,StockIn!E495=\"\"),\"\",StockIn!E495)","v":""},{"$f":"IF(OR(StockIn!M495=0,StockIn!M495=\"\"),\"\",StockIn!M495)","v":""}]
[{"$f":"StockIn!A496","v":1494},{"$f":"IF(OR(StockIn!B496=0,StockIn!B496=\"\"),\"\",StockIn!B496)","v":""},{"$f":"IF(OR(StockIn!D496=0,StockIn!D496=\"\"),\"\",StockIn!D496)","v":""},{"$f":"IF(OR(StockIn!G496=0,StockIn!G496=\"\"),\"\",StockIn!G496)","v":""},{"$f":"IF(OR(StockIn!H496=0,StockIn!H496=\"\"),\"\",StockIn!H496)","v":""},{"$f":"IF(OR(StockIn!L496=0,StockIn!L496=\"\"),\"\",StockIn!L496)","v":""},{"$f":"IF(OR(StockIn!E496=0,StockIn!E496=\"\"),\"\",StockIn!E496)","v":""},{"$f":"IF(OR(StockIn!M496=0,StockIn!M496=\"\"),\"\",StockIn!M496)","v":""}]
[{"$f":"StockIn!A497","v":1495},{"$f":"IF(OR(StockIn!B497=0,StockIn!B497=\"\"),\"\",StockIn!B497)","v":""},{"$f":"IF(OR(StockIn!D497=0,StockIn!D497=\"\"),\"\",StockIn!D497)","v":""},{"$f":"IF(OR(StockIn!G497=0,StockIn!G497=\"\"),\"\",StockIn!G497)","v":""},{"$f":"IF(OR(StockIn!H497=0,StockIn!H497=\"\"),\"\",StockIn!H497)","v":""},{"$f":"IF(OR(StockIn!L497=0,StockIn!L497=\"\"),\"\",StockIn!L497)","v":""},{"$f":"IF(OR(StockIn!E497=0,StockIn!E497=\"\"),\"\",StockIn!E497)","v":""},{"$f":"IF(OR(StockIn!M497=0,StockIn!M497=\"\"),\"\",StockIn!M497)","v":""}]
[{"$f":"StockIn!A498","v":1496},{"$f":"IF(OR(StockIn!B498=0,StockIn!B498=\"\"),\"\",StockIn!B498)","v":""},{"$f":"IF(OR(StockIn!D498=0,StockIn!D498=\"\"),\"\",StockIn!D498)","v":""},{"$f":"IF(OR(StockIn!G498=0,StockIn!G498=\"\"),\"\",StockIn!G498)","v":""},{"$f":"IF(OR(StockIn!H498=0,StockIn!H498=\"\"),\"\",StockIn!H498)","v":""},{"$f":"IF(OR(StockIn!L498=0,StockIn!L498=\"\"),\"\",StockIn!L498)","v":""},{"$f":"IF(OR(StockIn!E498=0,StockIn!E498=\"\"),\"\",StockIn!E498)","v":""},{"$f":"IF(OR(StockIn!M498=0,StockIn!M498=\"\"),\"\",StockIn!M498)","v":""}]
[{"$f":"StockIn!A499","v":1497},{"$f":"IF(OR(StockIn!B499=0,StockIn!B499=\"\"),\"\",StockIn!B499)","v":""},{"$f":"IF(OR(StockIn!D499=0,StockIn!D499=\"\"),\"\",StockIn!D499)","v":""},{"$f":"IF(OR(StockIn!G499=0,StockIn!G499=\"\"),\"\",StockIn!G499)","v":""},{"$f":"IF(OR(StockIn!H499=0,StockIn!H499=\"\"),\"\",StockIn!H499)","v":""},{"$f":"IF(OR(StockIn!L499=0,StockIn!L499=\"\"),\"\",StockIn!L499)","v":""},{"$f":"IF(OR(StockIn!E499=0,StockIn!E499=\"\"),\"\",StockIn!E499)","v":""},{"$f":"IF(OR(StockIn!M499=0,StockIn!M499=\"\"),\"\",StockIn!M499)","v":""}]
[{"$f":"StockIn!A500","v":1498},{"$f":"IF(OR(StockIn!B500=0,StockIn!B500=\"\"),\"\",StockIn!B500)","v":""},{"$f":"IF(OR(StockIn!D500=0,StockIn!D500=\"\"),\"\",StockIn!D500)","v":""},{"$f":"IF(OR(StockIn!G500=0,StockIn!G500=\"\"),\"\",StockIn!G500)","v":""},{"$f":"IF(OR(StockIn!H500=0,StockIn!H500=\"\"),\"\",StockIn!H500)","v":""},{"$f":"IF(OR(StockIn!L500=0,StockIn!L500=\"\"),\"\",StockIn!L500)","v":""},{"$f":"IF(OR(StockIn!E500=0,StockIn!E500=\"\"),\"\",StockIn!E500)","v":""},{"$f":"IF(OR(StockIn!M500=0,StockIn!M500=\"\"),\"\",StockIn!M500)","v":""}]
[{"$f":"StockIn!A501","v":1499},{"$f":"IF(OR(StockIn!B501=0,StockIn!B501=\"\"),\"\",StockIn!B501)","v":""},{"$f":"IF(OR(StockIn!D501=0,StockIn!D501=\"\"),\"\",StockIn!D501)","v":""},{"$f":"IF(OR(StockIn!G501=0,StockIn!G501=\"\"),\"\",StockIn!G501)","v":""},{"$f":"IF(OR(StockIn!H501=0,StockIn!H501=\"\"),\"\",StockIn!H501)","v":""},{"$f":"IF(OR(StockIn!L501=0,StockIn!L501=\"\"),\"\",StockIn!L501)","v":""},{"$f":"IF(OR(StockIn!E501=0,StockIn!E501=\"\"),\"\",StockIn!E501)","v":""},{"$f":"IF(OR(StockIn!M501=0,StockIn!M501=\"\"),\"\",StockIn!M501)","v":""}]
[{"$f":"StockIn!A502","v":1500},{"$f":"IF(OR(StockIn!B502=0,StockIn!B502=\"\"),\"\",StockIn!B502)","v":""},{"$f":"IF(OR(StockIn!D502=0,StockIn!D502=\"\"),\"\",StockIn!D502)","v":""},{"$f":"IF(OR(StockIn!G502=0,StockIn!G502=\"\"),\"\",StockIn!G502)","v":""},{"$f":"IF(OR(StockIn!H502=0,StockIn!H502=\"\"),\"\",StockIn!H502)","v":""},{"$f":"IF(OR(StockIn!L502=0,StockIn!L502=\"\"),\"\",StockIn!L502)","v":""},{"$f":"IF(OR(StockIn!E502=0,StockIn!E502=\"\"),\"\",StockIn!E502)","v":""},{"$f":"IF(OR(StockIn!M502=0,StockIn!M502=\"\"),\"\",StockIn!M502)","v":""}]
[{"$f":"StockIn!A503","v":1501},{"$f":"IF(OR(StockIn!B503=0,StockIn!B503=\"\"),\"\",StockIn!B503)","v":""},{"$f":"IF(OR(StockIn!D503=0,StockIn!D503=\"\"),\"\",StockIn!D503)","v":""},{"$f":"IF(OR(StockIn!G503=0,StockIn!G503=\"\"),\"\",StockIn!G503)","v":""},{"$f":"IF(OR(StockIn!H503=0,StockIn!H503=\"\"),\"\",StockIn!H503)","v":""},{"$f":"IF(OR(StockIn!L503=0,StockIn!L503=\"\"),\"\",StockIn!L503)","v":""},{"$f":"IF(OR(StockIn!E503=0,StockIn!E503=\"\"),\"\",StockIn!E503)","v":""},{"$f":"IF(OR(StockIn!M503=0,StockIn!M503=\"\"),\"\",StockIn!M503)","v":""}]
[{"$f":"StockIn!A504","v":1502},{"$f":"IF(OR(StockIn!B504=0,StockIn!B504=\"\"),\"\",StockIn!B504)","v":""},{"$f":"IF(OR(StockIn!D504=0,StockIn!D504=\"\"),\"\",StockIn!D504)","v":""},{"$f":"IF(OR(StockIn!G504=0,StockIn!G504=\"\"),\"\",StockIn!G504)","v":""},{"$f":"IF(OR(StockIn!H504=0,StockIn!H504=\"\"),\"\",StockIn!H504)","v":""},{"$f":"IF(OR(StockIn!L504=0,StockIn!L504=\"\"),\"\",StockIn!L504)","v":""},{"$f":"IF(OR(StockIn!E504=0,StockIn!E504=\"\"),\"\",StockIn!E504)","v":""},{"$f":"IF(OR(StockIn!M504=0,StockIn!M504=\"\"),\"\",StockIn!M504)","v":""}]
[{"$f":"StockIn!A505","v":1503},{"$f":"IF(OR(StockIn!B505=0,StockIn!B505=\"\"),\"\",StockIn!B505)","v":""},{"$f":"IF(OR(StockIn!D505=0,StockIn!D505=\"\"),\"\",StockIn!D505)","v":""},{"$f":"IF(OR(StockIn!G505=0,StockIn!G505=\"\"),\"\",StockIn!G505)","v":""},{"$f":"IF(OR(StockIn!H505=0,StockIn!H505=\"\"),\"\",StockIn!H505)","v":""},{"$f":"IF(OR(StockIn!L505=0,StockIn!L505=\"\"),\"\",StockIn!L505)","v":""},{"$f":"IF(OR(StockIn!E505=0,StockIn!E505=\"\"),\"\",StockIn!E505)","v":""},{"$f":"IF(OR(StockIn!M505=0,StockIn!M505=\"\"),\"\",StockIn!M505)","v":""}]
[{"$f":"StockIn!A506","v":1504},{"$f":"IF(OR(StockIn!B506=0,StockIn!B506=\"\"),\"\",StockIn!B506)","v":""},{"$f":"IF(OR(StockIn!D506=0,StockIn!D506=\"\"),\"\",StockIn!D506)","v":""},{"$f":"IF(OR(StockIn!G506=0,StockIn!G506=\"\"),\"\",StockIn!G506)","v":""},{"$f":"IF(OR(StockIn!H506=0,StockIn!H506=\"\"),\"\",StockIn!H506)","v":""},{"$f":"IF(OR(StockIn!L506=0,StockIn!L506=\"\"),\"\",StockIn!L506)","v":""},{"$f":"IF(OR(StockIn!E506=0,StockIn!E506=\"\"),\"\",StockIn!E506)","v":""},{"$f":"IF(OR(StockIn!M506=0,StockIn!M506=\"\"),\"\",StockIn!M506)","v":""}]
[{"$f":"StockIn!A507","v":1505},{"$f":"IF(OR(StockIn!B507=0,StockIn!B507=\"\"),\"\",StockIn!B507)","v":""},{"$f":"IF(OR(StockIn!D507=0,StockIn!D507=\"\"),\"\",StockIn!D507)","v":""},{"$f":"IF(OR(StockIn!G507=0,StockIn!G507=\"\"),\"\",StockIn!G507)","v":""},{"$f":"IF(OR(StockIn!H507=0,StockIn!H507=\"\"),\"\",StockIn!H507)","v":""},{"$f":"IF(OR(StockIn!L507=0,StockIn!L507=\"\"),\"\",StockIn!L507)","v":""},{"$f":"IF(OR(StockIn!E507=0,StockIn!E507=\"\"),\"\",StockIn!E507)","v":""},{"$f":"IF(OR(StockIn!M507=0,StockIn!M507=\"\"),\"\",StockIn!M507)","v":""}]
[{"$f":"StockIn!A508","v":1506},{"$f":"IF(OR(StockIn!B508=0,StockIn!B508=\"\"),\"\",StockIn!B508)","v":""},{"$f":"IF(OR(StockIn!D508=0,StockIn!D508=\"\"),\"\",StockIn!D508)","v":""},{"$f":"IF(OR(StockIn!G508=0,StockIn!G508=\"\"),\"\",StockIn!G508)","v":""},{"$f":"IF(OR(StockIn!H508=0,StockIn!H508=\"\"),\"\",StockIn!H508)","v":""},{"$f":"IF(OR(StockIn!L508=0,StockIn!L508=\"\"),\"\",StockIn!L508)","v":""},{"$f":"IF(OR(StockIn!E508=0,StockIn!E508=\"\"),\"\",StockIn!E508)","v":""},{"$f":"IF(OR(StockIn!M508=0,StockIn!M508=\"\"),\"\",StockIn!M508)","v":""}]
[{"$f":"StockIn!A509","v":1507},{"$f":"IF(OR(StockIn!B509=0,StockIn!B509=\"\"),\"\",StockIn!B509)","v":""},{"$f":"IF(OR(StockIn!D509=0,StockIn!D509=\"\"),\"\",StockIn!D509)","v":""},{"$f":"IF(OR(StockIn!G509=0,StockIn!G509=\"\"),\"\",StockIn!G509)","v":""},{"$f":"IF(OR(StockIn!H509=0,StockIn!H509=\"\"),\"\",StockIn!H509)","v":""},{"$f":"IF(OR(StockIn!L509=0,StockIn!L509=\"\"),\"\",StockIn!L509)","v":""},{"$f":"IF(OR(StockIn!E509=0,StockIn!E509=\"\"),\"\",StockIn!E509)","v":""},{"$f":"IF(OR(StockIn!M509=0,StockIn!M509=\"\"),\"\",StockIn!M509)","v":""}]
[{"$f":"StockIn!A510","v":1508},{"$f":"IF(OR(StockIn!B510=0,StockIn!B510=\"\"),\"\",StockIn!B510)","v":""},{"$f":"IF(OR(StockIn!D510=0,StockIn!D510=\"\"),\"\",StockIn!D510)","v":""},{"$f":"IF(OR(StockIn!G510=0,StockIn!G510=\"\"),\"\",StockIn!G510)","v":""},{"$f":"IF(OR(StockIn!H510=0,StockIn!H510=\"\"),\"\",StockIn!H510)","v":""},{"$f":"IF(OR(StockIn!L510=0,StockIn!L510=\"\"),\"\",StockIn!L510)","v":""},{"$f":"IF(OR(StockIn!E510=0,StockIn!E510=\"\"),\"\",StockIn!E510)","v":""},{"$f":"IF(OR(StockIn!M510=0,StockIn!M510=\"\"),\"\",StockIn!M510)","v":""}]
[{"$f":"StockIn!A511","v":1509},{"$f":"IF(OR(StockIn!B511=0,StockIn!B511=\"\"),\"\",StockIn!B511)","v":""},{"$f":"IF(OR(StockIn!D511=0,StockIn!D511=\"\"),\"\",StockIn!D511)","v":""},{"$f":"IF(OR(StockIn!G511=0,StockIn!G511=\"\"),\"\",StockIn!G511)","v":""},{"$f":"IF(OR(StockIn!H511=0,StockIn!H511=\"\"),\"\",StockIn!H511)","v":""},{"$f":"IF(OR(StockIn!L511=0,StockIn!L511=\"\"),\"\",StockIn!L511)","v":""},{"$f":"IF(OR(StockIn!E511=0,StockIn!E511=\"\"),\"\",StockIn!E511)","v":""},{"$f":"IF(OR(StockIn!M511=0,StockIn!M511=\"\"),\"\",StockIn!M511)","v":""}]
[{"$f":"StockIn!A512","v":1510},{"$f":"IF(OR(StockIn!B512=0,StockIn!B512=\"\"),\"\",StockIn!B512)","v":""},{"$f":"IF(OR(StockIn!D512=0,StockIn!D512=\"\"),\"\",StockIn!D512)","v":""},{"$f":"IF(OR(StockIn!G512=0,StockIn!G512=\"\"),\"\",StockIn!G512)","v":""},{"$f":"IF(OR(StockIn!H512=0,StockIn!H512=\"\"),\"\",StockIn!H512)","v":""},{"$f":"IF(OR(StockIn!L512=0,StockIn!L512=\"\"),\"\",StockIn!L512)","v":""},{"$f":"IF(OR(StockIn!E512=0,StockIn!E512=\"\"),\"\",StockIn!E512)","v":""},{"$f":"IF(OR(StockIn!M512=0,StockIn!M512=\"\"),\"\",StockIn!M512)","v":""}]
[{"$f":"StockIn!A513","v":1511},{"$f":"IF(OR(StockIn!B513=0,StockIn!B513=\"\"),\"\",StockIn!B513)","v":""},{"$f":"IF(OR(StockIn!D513=0,StockIn!D513=\"\"),\"\",StockIn!D513)","v":""},{"$f":"IF(OR(StockIn!G513=0,StockIn!G513=\"\"),\"\",StockIn!G513)","v":""},{"$f":"IF(OR(StockIn!H513=0,StockIn!H513=\"\"),\"\",StockIn!H513)","v":""},{"$f":"IF(OR(StockIn!L513=0,StockIn!L513=\"\"),\"\",StockIn!L513)","v":""},{"$f":"IF(OR(StockIn!E513=0,StockIn!E513=\"\"),\"\",StockIn!E513)","v":""},{"$f":"IF(OR(StockIn!M513=0,StockIn!M513=\"\"),\"\",StockIn!M513)","v":""}]
[{"$f":"StockIn!A514","v":1512},{"$f":"IF(OR(StockIn!B514=0,StockIn!B514=\"\"),\"\",StockIn!B514)","v":""},{"$f":"IF(OR(StockIn!D514=0,StockIn!D514=\"\"),\"\",StockIn!D514)","v":""},{"$f":"IF(OR(StockIn!G514=0,StockIn!G514=\"\"),\"\",StockIn!G514)","v":""},{"$f":"IF(OR(StockIn!H514=0,StockIn!H514=\"\"),\"\",StockIn!H514)","v":""},{"$f":"IF(OR(StockIn!L514=0,StockIn!L514=\"\"),\"\",StockIn!L514)","v":""},{"$f":"IF(OR(StockIn!E514=0,StockIn!E514=\"\"),\"\",StockIn!E514)","v":""},{"$f":"IF(OR(StockIn!M514=0,StockIn!M514=\"\"),\"\",StockIn!M514)","v":""}]
[{"$f":"StockIn!A515","v":1513},{"$f":"IF(OR(StockIn!B515=0,StockIn!B515=\"\"),\"\",StockIn!B515)","v":""},{"$f":"IF(OR(StockIn!D515=0,StockIn!D515=\"\"),\"\",StockIn!D515)","v":""},{"$f":"IF(OR(StockIn!G515=0,StockIn!G515=\"\"),\"\",StockIn!G515)","v":""},{"$f":"IF(OR(StockIn!H515=0,StockIn!H515=\"\"),\"\",StockIn!H515)","v":""},{"$f":"IF(OR(StockIn!L515=0,StockIn!L515=\"\"),\"\",StockIn!L515)","v":""},{"$f":"IF(OR(StockIn!E515=0,StockIn!E515=\"\"),\"\",StockIn!E515)","v":""},{"$f":"IF(OR(StockIn!M515=0,StockIn!M515=\"\"),\"\",StockIn!M515)","v":""}]
[{"$f":"StockIn!A516","v":1514},{"$f":"IF(OR(StockIn!B516=0,StockIn!B516=\"\"),\"\",StockIn!B516)","v":""},{"$f":"IF(OR(StockIn!D516=0,StockIn!D516=\"\"),\"\",StockIn!D516)","v":""},{"$f":"IF(OR(StockIn!G516=0,StockIn!G516=\"\"),\"\",StockIn!G516)","v":""},{"$f":"IF(OR(StockIn!H516=0,StockIn!H516=\"\"),\"\",StockIn!H516)","v":""},{"$f":"IF(OR(StockIn!L516=0,StockIn!L516=\"\"),\"\",StockIn!L516)","v":""},{"$f":"IF(OR(StockIn!E516=0,StockIn!E516=\"\"),\"\",StockIn!E516)","v":""},{"$f":"IF(OR(StockIn!M516=0,StockIn!M516=\"\"),\"\",StockIn!M516)","v":""}]
[{"$f":"StockIn!A517","v":1515},{"$f":"IF(OR(StockIn!B517=0,StockIn!B517=\"\"),\"\",StockIn!B517)","v":""},{"$f":"IF(OR(StockIn!D517=0,StockIn!D517=\"\"),\"\",StockIn!D517)","v":""},{"$f":"IF(OR(StockIn!G517=0,StockIn!G517=\"\"),\"\",StockIn!G517)","v":""},{"$f":"IF(OR(StockIn!H517=0,StockIn!H517=\"\"),\"\",StockIn!H517)","v":""},{"$f":"IF(OR(StockIn!L517=0,StockIn!L517=\"\"),\"\",StockIn!L517)","v":""},{"$f":"IF(OR(StockIn!E517=0,StockIn!E517=\"\"),\"\",StockIn!E517)","v":""},{"$f":"IF(OR(StockIn!M517=0,StockIn!M517=\"\"),\"\",StockIn!M517)","v":""}]
[{"$f":"StockIn!A518","v":1516},{"$f":"IF(OR(StockIn!B518=0,StockIn!B518=\"\"),\"\",StockIn!B518)","v":""},{"$f":"IF(OR(StockIn!D518=0,StockIn!D518=\"\"),\"\",StockIn!D518)","v":""},{"$f":"IF(OR(StockIn!G518=0,StockIn!G518=\"\"),\"\",StockIn!G518)","v":""},{"$f":"IF(OR(StockIn!H518=0,StockIn!H518=\"\"),\"\",StockIn!H518)","v":""},{"$f":"IF(OR(StockIn!L518=0,StockIn!L518=\"\"),\"\",StockIn!L518)","v":""},{"$f":"IF(OR(StockIn!E518=0,StockIn!E518=\"\"),\"\",StockIn!E518)","v":""},{"$f":"IF(OR(StockIn!M518=0,StockIn!M518=\"\"),\"\",StockIn!M518)","v":""}]
[{"$f":"StockIn!A519","v":1517},{"$f":"IF(OR(StockIn!B519=0,StockIn!B519=\"\"),\"\",StockIn!B519)","v":""},{"$f":"IF(OR(StockIn!D519=0,StockIn!D519=\"\"),\"\",StockIn!D519)","v":""},{"$f":"IF(OR(StockIn!G519=0,StockIn!G519=\"\"),\"\",StockIn!G519)","v":""},{"$f":"IF(OR(StockIn!H519=0,StockIn!H519=\"\"),\"\",StockIn!H519)","v":""},{"$f":"IF(OR(StockIn!L519=0,StockIn!L519=\"\"),\"\",StockIn!L519)","v":""},{"$f":"IF(OR(StockIn!E519=0,StockIn!E519=\"\"),\"\",StockIn!E519)","v":""},{"$f":"IF(OR(StockIn!M519=0,StockIn!M519=\"\"),\"\",StockIn!M519)","v":""}]
[{"$f":"StockIn!A520","v":1518},{"$f":"IF(OR(StockIn!B520=0,StockIn!B520=\"\"),\"\",StockIn!B520)","v":""},{"$f":"IF(OR(StockIn!D520=0,StockIn!D520=\"\"),\"\",StockIn!D520)","v":""},{"$f":"IF(OR(StockIn!G520=0,StockIn!G520=\"\"),\"\",StockIn!G520)","v":""},{"$f":"IF(OR(StockIn!H520=0,StockIn!H520=\"\"),\"\",StockIn!H520)","v":""},{"$f":"IF(OR(StockIn!L520=0,StockIn!L520=\"\"),\"\",StockIn!L520)","v":""},{"$f":"IF(OR(StockIn!E520=0,StockIn!E520=\"\"),\"\",StockIn!E520)","v":""},{"$f":"IF(OR(StockIn!M520=0,StockIn!M520=\"\"),\"\",StockIn!M520)","v":""}]
[{"$f":"StockIn!A521","v":1519},{"$f":"IF(OR(StockIn!B521=0,StockIn!B521=\"\"),\"\",StockIn!B521)","v":""},{"$f":"IF(OR(StockIn!D521=0,StockIn!D521=\"\"),\"\",StockIn!D521)","v":""},{"$f":"IF(OR(StockIn!G521=0,StockIn!G521=\"\"),\"\",StockIn!G521)","v":""},{"$f":"IF(OR(StockIn!H521=0,StockIn!H521=\"\"),\"\",StockIn!H521)","v":""},{"$f":"IF(OR(StockIn!L521=0,StockIn!L521=\"\"),\"\",StockIn!L521)","v":""},{"$f":"IF(OR(StockIn!E521=0,StockIn!E521=\"\"),\"\",StockIn!E521)","v":""},{"$f":"IF(OR(StockIn!M521=0,StockIn!M521=\"\"),\"\",StockIn!M521)","v":""}]
[{"$f":"StockIn!A522","v":1520},{"$f":"IF(OR(StockIn!B522=0,StockIn!B522=\"\"),\"\",StockIn!B522)","v":""},{"$f":"IF(OR(StockIn!D522=0,StockIn!D522=\"\"),\"\",StockIn!D522)","v":""},{"$f":"IF(OR(StockIn!G522=0,StockIn!G522=\"\"),\"\",StockIn!G522)","v":""},{"$f":"IF(OR(StockIn!H522=0,StockIn!H522=\"\"),\"\",StockIn!H522)","v":""},{"$f":"IF(OR(StockIn!L522=0,StockIn!L522=\"\"),\"\",StockIn!L522)","v":""},{"$f":"IF(OR(StockIn!E522=0,StockIn!E522=\"\"),\"\",StockIn!E522)","v":""},{"$f":"IF(OR(StockIn!M522=0,StockIn!M522=\"\"),\"\",StockIn!M522)","v":""}]
[{"$f":"StockIn!A523","v":1521},{"$f":"IF(OR(StockIn!B523=0,StockIn!B523=\"\"),\"\",StockIn!B523)","v":""},{"$f":"IF(OR(StockIn!D523=0,StockIn!D523=\"\"),\"\",StockIn!D523)","v":""},{"$f":"IF(OR(StockIn!G523=0,StockIn!G523=\"\"),\"\",StockIn!G523)","v":""},{"$f":"IF(OR(StockIn!H523=0,StockIn!H523=\"\"),\"\",StockIn!H523)","v":""},{"$f":"IF(OR(StockIn!L523=0,StockIn!L523=\"\"),\"\",StockIn!L523)","v":""},{"$f":"IF(OR(StockIn!E523=0,StockIn!E523=\"\"),\"\",StockIn!E523)","v":""},{"$f":"IF(OR(StockIn!M523=0,StockIn!M523=\"\"),\"\",StockIn!M523)","v":""}]
[{"$f":"StockIn!A524","v":1522},{"$f":"IF(OR(StockIn!B524=0,StockIn!B524=\"\"),\"\",StockIn!B524)","v":""},{"$f":"IF(OR(StockIn!D524=0,StockIn!D524=\"\"),\"\",StockIn!D524)","v":""},{"$f":"IF(OR(StockIn!G524=0,StockIn!G524=\"\"),\"\",StockIn!G524)","v":""},{"$f":"IF(OR(StockIn!H524=0,StockIn!H524=\"\"),\"\",StockIn!H524)","v":""},{"$f":"IF(OR(StockIn!L524=0,StockIn!L524=\"\"),\"\",StockIn!L524)","v":""},{"$f":"IF(OR(StockIn!E524=0,StockIn!E524=\"\"),\"\",StockIn!E524)","v":""},{"$f":"IF(OR(StockIn!M524=0,StockIn!M524=\"\"),\"\",StockIn!M524)","v":""}]
[{"$f":"StockIn!A525","v":1523},{"$f":"IF(OR(StockIn!B525=0,StockIn!B525=\"\"),\"\",StockIn!B525)","v":""},{"$f":"IF(OR(StockIn!D525=0,StockIn!D525=\"\"),\"\",StockIn!D525)","v":""},{"$f":"IF(OR(StockIn!G525=0,StockIn!G525=\"\"),\"\",StockIn!G525)","v":""},{"$f":"IF(OR(StockIn!H525=0,StockIn!H525=\"\"),\"\",StockIn!H525)","v":""},{"$f":"IF(OR(StockIn!L525=0,StockIn!L525=\"\"),\"\",StockIn!L525)","v":""},{"$f":"IF(OR(StockIn!E525=0,StockIn!E525=\"\"),\"\",StockIn!E525)","v":""},{"$f":"IF(OR(StockIn!M525=0,StockIn!M525=\"\"),\"\",StockIn!M525)","v":""}]
[{"$f":"StockIn!A526","v":1524},{"$f":"IF(OR(StockIn!B526=0,StockIn!B526=\"\"),\"\",StockIn!B526)","v":""},{"$f":"IF(OR(StockIn!D526=0,StockIn!D526=\"\"),\"\",StockIn!D526)","v":""},{"$f":"IF(OR(StockIn!G526=0,StockIn!G526=\"\"),\"\",StockIn!G526)","v":""},{"$f":"IF(OR(StockIn!H526=0,StockIn!H526=\"\"),\"\",StockIn!H526)","v":""},{"$f":"IF(OR(StockIn!L526=0,StockIn!L526=\"\"),\"\",StockIn!L526)","v":""},{"$f":"IF(OR(StockIn!E526=0,StockIn!E526=\"\"),\"\",StockIn!E526)","v":""},{"$f":"IF(OR(StockIn!M526=0,StockIn!M526=\"\"),\"\",StockIn!M526)","v":""}]
[{"$f":"StockIn!A527","v":1525},{"$f":"IF(OR(StockIn!B527=0,StockIn!B527=\"\"),\"\",StockIn!B527)","v":""},{"$f":"IF(OR(StockIn!D527=0,StockIn!D527=\"\"),\"\",StockIn!D527)","v":""},{"$f":"IF(OR(StockIn!G527=0,StockIn!G527=\"\"),\"\",StockIn!G527)","v":""},{"$f":"IF(OR(StockIn!H527=0,StockIn!H527=\"\"),\"\",StockIn!H527)","v":""},{"$f":"IF(OR(StockIn!L527=0,StockIn!L527=\"\"),\"\",StockIn!L527)","v":""},{"$f":"IF(OR(StockIn!E527=0,StockIn!E527=\"\"),\"\",StockIn!E527)","v":""},{"$f":"IF(OR(StockIn!M527=0,StockIn!M527=\"\"),\"\",StockIn!M527)","v":""}]
[{"$f":"StockIn!A528","v":1526},{"$f":"IF(OR(StockIn!B528=0,StockIn!B528=\"\"),\"\",StockIn!B528)","v":""},{"$f":"IF(OR(StockIn!D528=0,StockIn!D528=\"\"),\"\",StockIn!D528)","v":""},{"$f":"IF(OR(StockIn!G528=0,StockIn!G528=\"\"),\"\",StockIn!G528)","v":""},{"$f":"IF(OR(StockIn!H528=0,StockIn!H528=\"\"),\"\",StockIn!H528)","v":""},{"$f":"IF(OR(StockIn!L528=0,StockIn!L528=\"\"),\"\",StockIn!L528)","v":""},{"$f":"IF(OR(StockIn!E528=0,StockIn!E528=\"\"),\"\",StockIn!E528)","v":""},{"$f":"IF(OR(StockIn!M528=0,StockIn!M528=\"\"),\"\",StockIn!M528)","v":""}]
[{"$f":"StockIn!A529","v":1527},{"$f":"IF(OR(StockIn!B529=0,StockIn!B529=\"\"),\"\",StockIn!B529)","v":""},{"$f":"IF(OR(StockIn!D529=0,StockIn!D529=\"\"),\"\",StockIn!D529)","v":""},{"$f":"IF(OR(StockIn!G529=0,StockIn!G529=\"\"),\"\",StockIn!G529)","v":""},{"$f":"IF(OR(StockIn!H529=0,StockIn!H529=\"\"),\"\",StockIn!H529)","v":""},{"$f":"IF(OR(StockIn!L529=0,StockIn!L529=\"\"),\"\",StockIn!L529)","v":""},{"$f":"IF(OR(StockIn!E529=0,StockIn!E529=\"\"),\"\",StockIn!E529)","v":""},{"$f":"IF(OR(StockIn!M529=0,StockIn!M529=\"\"),\"\",StockIn!M529)","v":""}]
[{"$f":"StockIn!A530","v":1528},{"$f":"IF(OR(StockIn!B530=0,StockIn!B530=\"\"),\"\",StockIn!B530)","v":""},{"$f":"IF(OR(StockIn!D530=0,StockIn!D530=\"\"),\"\",StockIn!D530)","v":""},{"$f":"IF(OR(StockIn!G530=0,StockIn!G530=\"\"),\"\",StockIn!G530)","v":""},{"$f":"IF(OR(StockIn!H530=0,StockIn!H530=\"\"),\"\",StockIn!H530)","v":""},{"$f":"IF(OR(StockIn!L530=0,StockIn!L530=\"\"),\"\",StockIn!L530)","v":""},{"$f":"IF(OR(StockIn!E530=0,StockIn!E530=\"\"),\"\",StockIn!E530)","v":""},{"$f":"IF(OR(StockIn!M530=0,StockIn!M530=\"\"),\"\",StockIn!M530)","v":""}]
[{"$f":"StockIn!A531","v":1529},{"$f":"IF(OR(StockIn!B531=0,StockIn!B531=\"\"),\"\",StockIn!B531)","v":""},{"$f":"IF(OR(StockIn!D531=0,StockIn!D531=\"\"),\"\",StockIn!D531)","v":""},{"$f":"IF(OR(StockIn!G531=0,StockIn!G531=\"\"),\"\",StockIn!G531)","v":""},{"$f":"IF(OR(StockIn!H531=0,StockIn!H531=\"\"),\"\",StockIn!H531)","v":""},{"$f":"IF(OR(StockIn!L531=0,StockIn!L531=\"\"),\"\",StockIn!L531)","v":""},{"$f":"IF(OR(StockIn!E531=0,StockIn!E531=\"\"),\"\",StockIn!E531)","v":""},{"$f":"IF(OR(StockIn!M531=0,StockIn!M531=\"\"),\"\",StockIn!M531)","v":""}]
[{"$f":"StockIn!A532","v":1530},{"$f":"IF(OR(StockIn!B532=0,StockIn!B532=\"\"),\"\",StockIn!B532)","v":""},{"$f":"IF(OR(StockIn!D532=0,StockIn!D532=\"\"),\"\",StockIn!D532)","v":""},{"$f":"IF(OR(StockIn!G532=0,StockIn!G532=\"\"),\"\",StockIn!G532)","v":""},{"$f":"IF(OR(StockIn!H532=0,StockIn!H532=\"\"),\"\",StockIn!H532)","v":""},{"$f":"IF(OR(StockIn!L532=0,StockIn!L532=\"\"),\"\",StockIn!L532)","v":""},{"$f":"IF(OR(StockIn!E532=0,StockIn!E532=\"\"),\"\",StockIn!E532)","v":""},{"$f":"IF(OR(StockIn!M532=0,StockIn!M532=\"\"),\"\",StockIn!M532)","v":""}]
[{"$f":"StockIn!A533","v":1531},{"$f":"IF(OR(StockIn!B533=0,StockIn!B533=\"\"),\"\",StockIn!B533)","v":""},{"$f":"IF(OR(StockIn!D533=0,StockIn!D533=\"\"),\"\",StockIn!D533)","v":""},{"$f":"IF(OR(StockIn!G533=0,StockIn!G533=\"\"),\"\",StockIn!G533)","v":""},{"$f":"IF(OR(StockIn!H533=0,StockIn!H533=\"\"),\"\",StockIn!H533)","v":""},{"$f":"IF(OR(StockIn!L533=0,StockIn!L533=\"\"),\"\",StockIn!L533)","v":""},{"$f":"IF(OR(StockIn!E533=0,StockIn!E533=\"\"),\"\",StockIn!E533)","v":""},{"$f":"IF(OR(StockIn!M533=0,StockIn!M533=\"\"),\"\",StockIn!M533)","v":""}]
[{"$f":"StockIn!A534","v":1532},{"$f":"IF(OR(StockIn!B534=0,StockIn!B534=\"\"),\"\",StockIn!B534)","v":""},{"$f":"IF(OR(StockIn!D534=0,StockIn!D534=\"\"),\"\",StockIn!D534)","v":""},{"$f":"IF(OR(StockIn!G534=0,StockIn!G534=\"\"),\"\",StockIn!G534)","v":""},{"$f":"IF(OR(StockIn!H534=0,StockIn!H534=\"\"),\"\",StockIn!H534)","v":""},{"$f":"IF(OR(StockIn!L534=0,StockIn!L534=\"\"),\"\",StockIn!L534)","v":""},{"$f":"IF(OR(StockIn!E534=0,StockIn!E534=\"\"),\"\",StockIn!E534)","v":""},{"$f":"IF(OR(StockIn!M534=0,StockIn!M534=\"\"),\"\",StockIn!M534)","v":""}]
[{"$f":"StockIn!A535","v":1533},{"$f":"IF(OR(StockIn!B535=0,StockIn!B535=\"\"),\"\",StockIn!B535)","v":""},{"$f":"IF(OR(StockIn!D535=0,StockIn!D535=\"\"),\"\",StockIn!D535)","v":""},{"$f":"IF(OR(StockIn!G535=0,StockIn!G535=\"\"),\"\",StockIn!G535)","v":""},{"$f":"IF(OR(StockIn!H535=0,StockIn!H535=\"\"),\"\",StockIn!H535)","v":""},{"$f":"IF(OR(StockIn!L535=0,StockIn!L535=\"\"),\"\",StockIn!L535)","v":""},{"$f":"IF(OR(StockIn!E535=0,StockIn!E535=\"\"),\"\",StockIn!E535)","v":""},{"$f":"IF(OR(StockIn!M535=0,StockIn!M535=\"\"),\"\",StockIn!M535)","v":""}]
[{"$f":"StockIn!A536","v":1534},{"$f":"IF(OR(StockIn!B536=0,StockIn!B536=\"\"),\"\",StockIn!B536)","v":""},{"$f":"IF(OR(StockIn!D536=0,StockIn!D536=\"\"),\"\",StockIn!D536)","v":""},{"$f":"IF(OR(StockIn!G536=0,StockIn!G536=\"\"),\"\",StockIn!G536)","v":""},{"$f":"IF(OR(StockIn!H536=0,StockIn!H536=\"\"),\"\",StockIn!H536)","v":""},{"$f":"IF(OR(StockIn!L536=0,StockIn!L536=\"\"),\"\",StockIn!L536)","v":""},{"$f":"IF(OR(StockIn!E536=0,StockIn!E536=\"\"),\"\",StockIn!E536)","v":""},{"$f":"IF(OR(StockIn!M536=0,StockIn!M536=\"\"),\"\",StockIn!M536)","v":""}]
[{"$f":"StockIn!A537","v":1535},{"$f":"IF(OR(StockIn!B537=0,StockIn!B537=\"\"),\"\",StockIn!B537)","v":""},{"$f":"IF(OR(StockIn!D537=0,StockIn!D537=\"\"),\"\",StockIn!D537)","v":""},{"$f":"IF(OR(StockIn!G537=0,StockIn!G537=\"\"),\"\",StockIn!G537)","v":""},{"$f":"IF(OR(StockIn!H537=0,StockIn!H537=\"\"),\"\",StockIn!H537)","v":""},{"$f":"IF(OR(StockIn!L537=0,StockIn!L537=\"\"),\"\",StockIn!L537)","v":""},{"$f":"IF(OR(StockIn!E537=0,StockIn!E537=\"\"),\"\",StockIn!E537)","v":""},{"$f":"IF(OR(StockIn!M537=0,StockIn!M537=\"\"),\"\",StockIn!M537)","v":""}]
[{"$f":"StockIn!A538","v":1536},{"$f":"IF(OR(StockIn!B538=0,StockIn!B538=\"\"),\"\",StockIn!B538)","v":""},{"$f":"IF(OR(StockIn!D538=0,StockIn!D538=\"\"),\"\",StockIn!D538)","v":""},{"$f":"IF(OR(StockIn!G538=0,StockIn!G538=\"\"),\"\",StockIn!G538)","v":""},{"$f":"IF(OR(StockIn!H538=0,StockIn!H538=\"\"),\"\",StockIn!H538)","v":""},{"$f":"IF(OR(StockIn!L538=0,StockIn!L538=\"\"),\"\",StockIn!L538)","v":""},{"$f":"IF(OR(StockIn!E538=0,StockIn!E538=\"\"),\"\",StockIn!E538)","v":""},{"$f":"IF(OR(StockIn!M538=0,StockIn!M538=\"\"),\"\",StockIn!M538)","v":""}]
[{"$f":"StockIn!A539","v":1537},{"$f":"IF(OR(StockIn!B539=0,StockIn!B539=\"\"),\"\",StockIn!B539)","v":""},{"$f":"IF(OR(StockIn!D539=0,StockIn!D539=\"\"),\"\",StockIn!D539)","v":""},{"$f":"IF(OR(StockIn!G539=0,StockIn!G539=\"\"),\"\",StockIn!G539)","v":""},{"$f":"IF(OR(StockIn!H539=0,StockIn!H539=\"\"),\"\",StockIn!H539)","v":""},{"$f":"IF(OR(StockIn!L539=0,StockIn!L539=\"\"),\"\",StockIn!L539)","v":""},{"$f":"IF(OR(StockIn!E539=0,StockIn!E539=\"\"),\"\",StockIn!E539)","v":""},{"$f":"IF(OR(StockIn!M539=0,StockIn!M539=\"\"),\"\",StockIn!M539)","v":""}]
[{"$f":"StockIn!A540","v":1538},{"$f":"IF(OR(StockIn!B540=0,StockIn!B540=\"\"),\"\",StockIn!B540)","v":""},{"$f":"IF(OR(StockIn!D540=0,StockIn!D540=\"\"),\"\",StockIn!D540)","v":""},{"$f":"IF(OR(StockIn!G540=0,StockIn!G540=\"\"),\"\",StockIn!G540)","v":""},{"$f":"IF(OR(StockIn!H540=0,StockIn!H540=\"\"),\"\",StockIn!H540)","v":""},{"$f":"IF(OR(StockIn!L540=0,StockIn!L540=\"\"),\"\",StockIn!L540)","v":""},{"$f":"IF(OR(StockIn!E540=0,StockIn!E540=\"\"),\"\",StockIn!E540)","v":""},{"$f":"IF(OR(StockIn!M540=0,StockIn!M540=\"\"),\"\",StockIn!M540)","v":""}]
[{"$f":"StockIn!A541","v":1539},{"$f":"IF(OR(StockIn!B541=0,StockIn!B541=\"\"),\"\",StockIn!B541)","v":""},{"$f":"IF(OR(StockIn!D541=0,StockIn!D541=\"\"),\"\",StockIn!D541)","v":""},{"$f":"IF(OR(StockIn!G541=0,StockIn!G541=\"\"),\"\",StockIn!G541)","v":""},{"$f":"IF(OR(StockIn!H541=0,StockIn!H541=\"\"),\"\",StockIn!H541)","v":""},{"$f":"IF(OR(StockIn!L541=0,StockIn!L541=\"\"),\"\",StockIn!L541)","v":""},{"$f":"IF(OR(StockIn!E541=0,StockIn!E541=\"\"),\"\",StockIn!E541)","v":""},{"$f":"IF(OR(StockIn!M541=0,StockIn!M541=\"\"),\"\",StockIn!M541)","v":""}]
[{"$f":"StockIn!A542","v":1540},{"$f":"IF(OR(StockIn!B542=0,StockIn!B542=\"\"),\"\",StockIn!B542)","v":""},{"$f":"IF(OR(StockIn!D542=0,StockIn!D542=\"\"),\"\",StockIn!D542)","v":""},{"$f":"IF(OR(StockIn!G542=0,StockIn!G542=\"\"),\"\",StockIn!G542)","v":""},{"$f":"IF(OR(StockIn!H542=0,StockIn!H542=\"\"),\"\",StockIn!H542)","v":""},{"$f":"IF(OR(StockIn!L542=0,StockIn!L542=\"\"),\"\",StockIn!L542)","v":""},{"$f":"IF(OR(StockIn!E542=0,StockIn!E542=\"\"),\"\",StockIn!E542)","v":""},{"$f":"IF(OR(StockIn!M542=0,StockIn!M542=\"\"),\"\",StockIn!M542)","v":""}]
[{"$f":"StockIn!A543","v":1541},{"$f":"IF(OR(StockIn!B543=0,StockIn!B543=\"\"),\"\",StockIn!B543)","v":""},{"$f":"IF(OR(StockIn!D543=0,StockIn!D543=\"\"),\"\",StockIn!D543)","v":""},{"$f":"IF(OR(StockIn!G543=0,StockIn!G543=\"\"),\"\",StockIn!G543)","v":""},{"$f":"IF(OR(StockIn!H543=0,StockIn!H543=\"\"),\"\",StockIn!H543)","v":""},{"$f":"IF(OR(StockIn!L543=0,StockIn!L543=\"\"),\"\",StockIn!L543)","v":""},{"$f":"IF(OR(StockIn!E543=0,StockIn!E543=\"\"),\"\",StockIn!E543)","v":""},{"$f":"IF(OR(StockIn!M543=0,StockIn!M543=\"\"),\"\",StockIn!M543)","v":""}]
[{"$f":"StockIn!A544","v":1542},{"$f":"IF(OR(StockIn!B544=0,StockIn!B544=\"\"),\"\",StockIn!B544)","v":""},{"$f":"IF(OR(StockIn!D544=0,StockIn!D544=\"\"),\"\",StockIn!D544)","v":""},{"$f":"IF(OR(StockIn!G544=0,StockIn!G544=\"\"),\"\",StockIn!G544)","v":""},{"$f":"IF(OR(StockIn!H544=0,StockIn!H544=\"\"),\"\",StockIn!H544)","v":""},{"$f":"IF(OR(StockIn!L544=0,StockIn!L544=\"\"),\"\",StockIn!L544)","v":""},{"$f":"IF(OR(StockIn!E544=0,StockIn!E544=\"\"),\"\",StockIn!E544)","v":""},{"$f":"IF(OR(StockIn!M544=0,StockIn!M544=\"\"),\"\",StockIn!M544)","v":""}]
[{"$f":"StockIn!A545","v":1543},{"$f":"IF(OR(StockIn!B545=0,StockIn!B545=\"\"),\"\",StockIn!B545)","v":""},{"$f":"IF(OR(StockIn!D545=0,StockIn!D545=\"\"),\"\",StockIn!D545)","v":""},{"$f":"IF(OR(StockIn!G545=0,StockIn!G545=\"\"),\"\",StockIn!G545)","v":""},{"$f":"IF(OR(StockIn!H545=0,StockIn!H545=\"\"),\"\",StockIn!H545)","v":""},{"$f":"IF(OR(StockIn!L545=0,StockIn!L545=\"\"),\"\",StockIn!L545)","v":""},{"$f":"IF(OR(StockIn!E545=0,StockIn!E545=\"\"),\"\",StockIn!E545)","v":""},{"$f":"IF(OR(StockIn!M545=0,StockIn!M545=\"\"),\"\",StockIn!M545)","v":""}]
[{"$f":"StockIn!A546","v":1544},{"$f":"IF(OR(StockIn!B546=0,StockIn!B546=\"\"),\"\",StockIn!B546)","v":""},{"$f":"IF(OR(StockIn!D546=0,StockIn!D546=\"\"),\"\",StockIn!D546)","v":""},{"$f":"IF(OR(StockIn!G546=0,StockIn!G546=\"\"),\"\",StockIn!G546)","v":""},{"$f":"IF(OR(StockIn!H546=0,StockIn!H546=\"\"),\"\",StockIn!H546)","v":""},{"$f":"IF(OR(StockIn!L546=0,StockIn!L546=\"\"),\"\",StockIn!L546)","v":""},{"$f":"IF(OR(StockIn!E546=0,StockIn!E546=\"\"),\"\",StockIn!E546)","v":""},{"$f":"IF(OR(StockIn!M546=0,StockIn!M546=\"\"),\"\",StockIn!M546)","v":""}]
[{"$f":"StockIn!A547","v":1545},{"$f":"IF(OR(StockIn!B547=0,StockIn!B547=\"\"),\"\",StockIn!B547)","v":""},{"$f":"IF(OR(StockIn!D547=0,StockIn!D547=\"\"),\"\",StockIn!D547)","v":""},{"$f":"IF(OR(StockIn!G547=0,StockIn!G547=\"\"),\"\",StockIn!G547)","v":""},{"$f":"IF(OR(StockIn!H547=0,StockIn!H547=\"\"),\"\",StockIn!H547)","v":""},{"$f":"IF(OR(StockIn!L547=0,StockIn!L547=\"\"),\"\",StockIn!L547)","v":""},{"$f":"IF(OR(StockIn!E547=0,StockIn!E547=\"\"),\"\",StockIn!E547)","v":""},{"$f":"IF(OR(StockIn!M547=0,StockIn!M547=\"\"),\"\",StockIn!M547)","v":""}]
[{"$f":"StockIn!A548","v":1546},{"$f":"IF(OR(StockIn!B548=0,StockIn!B548=\"\"),\"\",StockIn!B548)","v":""},{"$f":"IF(OR(StockIn!D548=0,StockIn!D548=\"\"),\"\",StockIn!D548)","v":""},{"$f":"IF(OR(StockIn!G548=0,StockIn!G548=\"\"),\"\",StockIn!G548)","v":""},{"$f":"IF(OR(StockIn!H548=0,StockIn!H548=\"\"),\"\",StockIn!H548)","v":""},{"$f":"IF(OR(StockIn!L548=0,StockIn!L548=\"\"),\"\",StockIn!L548)","v":""},{"$f":"IF(OR(StockIn!E548=0,StockIn!E548=\"\"),\"\",StockIn!E548)","v":""},{"$f":"IF(OR(StockIn!M548=0,StockIn!M548=\"\"),\"\",StockIn!M548)","v":""}]
[{"$f":"StockIn!A549","v":1547},{"$f":"IF(OR(StockIn!B549=0,StockIn!B549=\"\"),\"\",StockIn!B549)","v":""},{"$f":"IF(OR(StockIn!D549=0,StockIn!D549=\"\"),\"\",StockIn!D549)","v":""},{"$f":"IF(OR(StockIn!G549=0,StockIn!G549=\"\"),\"\",StockIn!G549)","v":""},{"$f":"IF(OR(StockIn!H549=0,StockIn!H549=\"\"),\"\",StockIn!H549)","v":""},{"$f":"IF(OR(StockIn!L549=0,StockIn!L549=\"\"),\"\",StockIn!L549)","v":""},{"$f":"IF(OR(StockIn!E549=0,StockIn!E549=\"\"),\"\",StockIn!E549)","v":""},{"$f":"IF(OR(StockIn!M549=0,StockIn!M549=\"\"),\"\",StockIn!M549)","v":""}]
[{"$f":"StockIn!A550","v":1548},{"$f":"IF(OR(StockIn!B550=0,StockIn!B550=\"\"),\"\",StockIn!B550)","v":""},{"$f":"IF(OR(StockIn!D550=0,StockIn!D550=\"\"),\"\",StockIn!D550)","v":""},{"$f":"IF(OR(StockIn!G550=0,StockIn!G550=\"\"),\"\",StockIn!G550)","v":""},{"$f":"IF(OR(StockIn!H550=0,StockIn!H550=\"\"),\"\",StockIn!H550)","v":""},{"$f":"IF(OR(StockIn!L550=0,StockIn!L550=\"\"),\"\",StockIn!L550)","v":""},{"$f":"IF(OR(StockIn!E550=0,StockIn!E550=\"\"),\"\",StockIn!E550)","v":""},{"$f":"IF(OR(StockIn!M550=0,StockIn!M550=\"\"),\"\",StockIn!M550)","v":""}]
[{"$f":"StockIn!A551","v":1549},{"$f":"IF(OR(StockIn!B551=0,StockIn!B551=\"\"),\"\",StockIn!B551)","v":""},{"$f":"IF(OR(StockIn!D551=0,StockIn!D551=\"\"),\"\",StockIn!D551)","v":""},{"$f":"IF(OR(StockIn!G551=0,StockIn!G551=\"\"),\"\",StockIn!G551)","v":""},{"$f":"IF(OR(StockIn!H551=0,StockIn!H551=\"\"),\"\",StockIn!H551)","v":""},{"$f":"IF(OR(StockIn!L551=0,StockIn!L551=\"\"),\"\",StockIn!L551)","v":""},{"$f":"IF(OR(StockIn!E551=0,StockIn!E551=\"\"),\"\",StockIn!E551)","v":""},{"$f":"IF(OR(StockIn!M551=0,StockIn!M551=\"\"),\"\",StockIn!M551)","v":""}]
[{"$f":"StockIn!A552","v":1550},{"$f":"IF(OR(StockIn!B552=0,StockIn!B552=\"\"),\"\",StockIn!B552)","v":""},{"$f":"IF(OR(StockIn!D552=0,StockIn!D552=\"\"),\"\",StockIn!D552)","v":""},{"$f":"IF(OR(StockIn!G552=0,StockIn!G552=\"\"),\"\",StockIn!G552)","v":""},{"$f":"IF(OR(StockIn!H552=0,StockIn!H552=\"\"),\"\",StockIn!H552)","v":""},{"$f":"IF(OR(StockIn!L552=0,StockIn!L552=\"\"),\"\",StockIn!L552)","v":""},{"$f":"IF(OR(StockIn!E552=0,StockIn!E552=\"\"),\"\",StockIn!E552)","v":""},{"$f":"IF(OR(StockIn!M552=0,StockIn!M552=\"\"),\"\",StockIn!M552)","v":""}]
[{"$f":"StockIn!A553","v":1551},{"$f":"IF(OR(StockIn!B553=0,StockIn!B553=\"\"),\"\",StockIn!B553)","v":""},{"$f":"IF(OR(StockIn!D553=0,StockIn!D553=\"\"),\"\",StockIn!D553)","v":""},{"$f":"IF(OR(StockIn!G553=0,StockIn!G553=\"\"),\"\",StockIn!G553)","v":""},{"$f":"IF(OR(StockIn!H553=0,StockIn!H553=\"\"),\"\",StockIn!H553)","v":""},{"$f":"IF(OR(StockIn!L553=0,StockIn!L553=\"\"),\"\",StockIn!L553)","v":""},{"$f":"IF(OR(StockIn!E553=0,StockIn!E553=\"\"),\"\",StockIn!E553)","v":""},{"$f":"IF(OR(StockIn!M553=0,StockIn!M553=\"\"),\"\",StockIn!M553)","v":""}]
[{"$f":"StockIn!A554","v":1552},{"$f":"IF(OR(StockIn!B554=0,StockIn!B554=\"\"),\"\",StockIn!B554)","v":""},{"$f":"IF(OR(StockIn!D554=0,StockIn!D554=\"\"),\"\",StockIn!D554)","v":""},{"$f":"IF(OR(StockIn!G554=0,StockIn!G554=\"\"),\"\",StockIn!G554)","v":""},{"$f":"IF(OR(StockIn!H554=0,StockIn!H554=\"\"),\"\",StockIn!H554)","v":""},{"$f":"IF(OR(StockIn!L554=0,StockIn!L554=\"\"),\"\",StockIn!L554)","v":""},{"$f":"IF(OR(StockIn!E554=0,StockIn!E554=\"\"),\"\",StockIn!E554)","v":""},{"$f":"IF(OR(StockIn!M554=0,StockIn!M554=\"\"),\"\",StockIn!M554)","v":""}]
[{"$f":"StockIn!A555","v":1553},{"$f":"IF(OR(StockIn!B555=0,StockIn!B555=\"\"),\"\",StockIn!B555)","v":""},{"$f":"IF(OR(StockIn!D555=0,StockIn!D555=\"\"),\"\",StockIn!D555)","v":""},{"$f":"IF(OR(StockIn!G555=0,StockIn!G555=\"\"),\"\",StockIn!G555)","v":""},{"$f":"IF(OR(StockIn!H555=0,StockIn!H555=\"\"),\"\",StockIn!H555)","v":""},{"$f":"IF(OR(StockIn!L555=0,StockIn!L555=\"\"),\"\",StockIn!L555)","v":""},{"$f":"IF(OR(StockIn!E555=0,StockIn!E555=\"\"),\"\",StockIn!E555)","v":""},{"$f":"IF(OR(StockIn!M555=0,StockIn!M555=\"\"),\"\",StockIn!M555)","v":""}]
[{"$f":"StockIn!A556","v":1554},{"$f":"IF(OR(StockIn!B556=0,StockIn!B556=\"\"),\"\",StockIn!B556)","v":""},{"$f":"IF(OR(StockIn!D556=0,StockIn!D556=\"\"),\"\",StockIn!D556)","v":""},{"$f":"IF(OR(StockIn!G556=0,StockIn!G556=\"\"),\"\",StockIn!G556)","v":""},{"$f":"IF(OR(StockIn!H556=0,StockIn!H556=\"\"),\"\",StockIn!H556)","v":""},{"$f":"IF(OR(StockIn!L556=0,StockIn!L556=\"\"),\"\",StockIn!L556)","v":""},{"$f":"IF(OR(StockIn!E556=0,StockIn!E556=\"\"),\"\",StockIn!E556)","v":""},{"$f":"IF(OR(StockIn!M556=0,StockIn!M556=\"\"),\"\",StockIn!M556)","v":""}]
[{"$f":"StockIn!A557","v":1555},{"$f":"IF(OR(StockIn!B557=0,StockIn!B557=\"\"),\"\",StockIn!B557)","v":""},{"$f":"IF(OR(StockIn!D557=0,StockIn!D557=\"\"),\"\",StockIn!D557)","v":""},{"$f":"IF(OR(StockIn!G557=0,StockIn!G557=\"\"),\"\",StockIn!G557)","v":""},{"$f":"IF(OR(StockIn!H557=0,StockIn!H557=\"\"),\"\",StockIn!H557)","v":""},{"$f":"IF(OR(StockIn!L557=0,StockIn!L557=\"\"),\"\",StockIn!L557)","v":""},{"$f":"IF(OR(StockIn!E557=0,StockIn!E557=\"\"),\"\",StockIn!E557)","v":""},{"$f":"IF(OR(StockIn!M557=0,StockIn!M557=\"\"),\"\",StockIn!M557)","v":""}]
[{"$f":"StockIn!A558","v":1556},{"$f":"IF(OR(StockIn!B558=0,StockIn!B558=\"\"),\"\",StockIn!B558)","v":""},{"$f":"IF(OR(StockIn!D558=0,StockIn!D558=\"\"),\"\",StockIn!D558)","v":""},{"$f":"IF(OR(StockIn!G558=0,StockIn!G558=\"\"),\"\",StockIn!G558)","v":""},{"$f":"IF(OR(StockIn!H558=0,StockIn!H558=\"\"),\"\",StockIn!H558)","v":""},{"$f":"IF(OR(StockIn!L558=0,StockIn!L558=\"\"),\"\",StockIn!L558)","v":""},{"$f":"IF(OR(StockIn!E558=0,StockIn!E558=\"\"),\"\",StockIn!E558)","v":""},{"$f":"IF(OR(StockIn!M558=0,StockIn!M558=\"\"),\"\",StockIn!M558)","v":""}]
[{"$f":"StockIn!A559","v":1557},{"$f":"IF(OR(StockIn!B559=0,StockIn!B559=\"\"),\"\",StockIn!B559)","v":""},{"$f":"IF(OR(StockIn!D559=0,StockIn!D559=\"\"),\"\",StockIn!D559)","v":""},{"$f":"IF(OR(StockIn!G559=0,StockIn!G559=\"\"),\"\",StockIn!G559)","v":""},{"$f":"IF(OR(StockIn!H559=0,StockIn!H559=\"\"),\"\",StockIn!H559)","v":""},{"$f":"IF(OR(StockIn!L559=0,StockIn!L559=\"\"),\"\",StockIn!L559)","v":""},{"$f":"IF(OR(StockIn!E559=0,StockIn!E559=\"\"),\"\",StockIn!E559)","v":""},{"$f":"IF(OR(StockIn!M559=0,StockIn!M559=\"\"),\"\",StockIn!M559)","v":""}]
[{"$f":"StockIn!A560","v":1558},{"$f":"IF(OR(StockIn!B560=0,StockIn!B560=\"\"),\"\",StockIn!B560)","v":""},{"$f":"IF(OR(StockIn!D560=0,StockIn!D560=\"\"),\"\",StockIn!D560)","v":""},{"$f":"IF(OR(StockIn!G560=0,StockIn!G560=\"\"),\"\",StockIn!G560)","v":""},{"$f":"IF(OR(StockIn!H560=0,StockIn!H560=\"\"),\"\",StockIn!H560)","v":""},{"$f":"IF(OR(StockIn!L560=0,StockIn!L560=\"\"),\"\",StockIn!L560)","v":""},{"$f":"IF(OR(StockIn!E560=0,StockIn!E560=\"\"),\"\",StockIn!E560)","v":""},{"$f":"IF(OR(StockIn!M560=0,StockIn!M560=\"\"),\"\",StockIn!M560)","v":""}]
[{"$f":"StockIn!A561","v":1559},{"$f":"IF(OR(StockIn!B561=0,StockIn!B561=\"\"),\"\",StockIn!B561)","v":""},{"$f":"IF(OR(StockIn!D561=0,StockIn!D561=\"\"),\"\",StockIn!D561)","v":""},{"$f":"IF(OR(StockIn!G561=0,StockIn!G561=\"\"),\"\",StockIn!G561)","v":""},{"$f":"IF(OR(StockIn!H561=0,StockIn!H561=\"\"),\"\",StockIn!H561)","v":""},{"$f":"IF(OR(StockIn!L561=0,StockIn!L561=\"\"),\"\",StockIn!L561)","v":""},{"$f":"IF(OR(StockIn!E561=0,StockIn!E561=\"\"),\"\",StockIn!E561)","v":""},{"$f":"IF(OR(StockIn!M561=0,StockIn!M561=\"\"),\"\",StockIn!M561)","v":""}]
[{"$f":"StockIn!A562","v":1560},{"$f":"IF(OR(StockIn!B562=0,StockIn!B562=\"\"),\"\",StockIn!B562)","v":""},{"$f":"IF(OR(StockIn!D562=0,StockIn!D562=\"\"),\"\",StockIn!D562)","v":""},{"$f":"IF(OR(StockIn!G562=0,StockIn!G562=\"\"),\"\",StockIn!G562)","v":""},{"$f":"IF(OR(StockIn!H562=0,StockIn!H562=\"\"),\"\",StockIn!H562)","v":""},{"$f":"IF(OR(StockIn!L562=0,StockIn!L562=\"\"),\"\",StockIn!L562)","v":""},{"$f":"IF(OR(StockIn!E562=0,StockIn!E562=\"\"),\"\",StockIn!E562)","v":""},{"$f":"IF(OR(StockIn!M562=0,StockIn!M562=\"\"),\"\",StockIn!M562)","v":""}]
[{"$f":"StockIn!A563","v":1561},{"$f":"IF(OR(StockIn!B563=0,StockIn!B563=\"\"),\"\",StockIn!B563)","v":""},{"$f":"IF(OR(StockIn!D563=0,StockIn!D563=\"\"),\"\",StockIn!D563)","v":""},{"$f":"IF(OR(StockIn!G563=0,StockIn!G563=\"\"),\"\",StockIn!G563)","v":""},{"$f":"IF(OR(StockIn!H563=0,StockIn!H563=\"\"),\"\",StockIn!H563)","v":""},{"$f":"IF(OR(StockIn!L563=0,StockIn!L563=\"\"),\"\",StockIn!L563)","v":""},{"$f":"IF(OR(StockIn!E563=0,StockIn!E563=\"\"),\"\",StockIn!E563)","v":""},{"$f":"IF(OR(StockIn!M563=0,StockIn!M563=\"\"),\"\",StockIn!M563)","v":""}]
[{"$f":"StockIn!A564","v":1562},{"$f":"IF(OR(StockIn!B564=0,StockIn!B564=\"\"),\"\",StockIn!B564)","v":""},{"$f":"IF(OR(StockIn!D564=0,StockIn!D564=\"\"),\"\",StockIn!D564)","v":""},{"$f":"IF(OR(StockIn!G564=0,StockIn!G564=\"\"),\"\",StockIn!G564)","v":""},{"$f":"IF(OR(StockIn!H564=0,StockIn!H564=\"\"),\"\",StockIn!H564)","v":""},{"$f":"IF(OR(StockIn!L564=0,StockIn!L564=\"\"),\"\",StockIn!L564)","v":""},{"$f":"IF(OR(StockIn!E564=0,StockIn!E564=\"\"),\"\",StockIn!E564)","v":""},{"$f":"IF(OR(StockIn!M564=0,StockIn!M564=\"\"),\"\",StockIn!M564)","v":""}]
[{"$f":"StockIn!A565","v":1563},{"$f":"IF(OR(StockIn!B565=0,StockIn!B565=\"\"),\"\",StockIn!B565)","v":""},{"$f":"IF(OR(StockIn!D565=0,StockIn!D565=\"\"),\"\",StockIn!D565)","v":""},{"$f":"IF(OR(StockIn!G565=0,StockIn!G565=\"\"),\"\",StockIn!G565)","v":""},{"$f":"IF(OR(StockIn!H565=0,StockIn!H565=\"\"),\"\",StockIn!H565)","v":""},{"$f":"IF(OR(StockIn!L565=0,StockIn!L565=\"\"),\"\",StockIn!L565)","v":""},{"$f":"IF(OR(StockIn!E565=0,StockIn!E565=\"\"),\"\",StockIn!E565)","v":""},{"$f":"IF(OR(StockIn!M565=0,StockIn!M565=\"\"),\"\",StockIn!M565)","v":""}]
[{"$f":"StockIn!A566","v":1564},{"$f":"IF(OR(StockIn!B566=0,StockIn!B566=\"\"),\"\",StockIn!B566)","v":""},{"$f":"IF(OR(StockIn!D566=0,StockIn!D566=\"\"),\"\",StockIn!D566)","v":""},{"$f":"IF(OR(StockIn!G566=0,StockIn!G566=\"\"),\"\",StockIn!G566)","v":""},{"$f":"IF(OR(StockIn!H566=0,StockIn!H566=\"\"),\"\",StockIn!H566)","v":""},{"$f":"IF(OR(StockIn!L566=0,StockIn!L566=\"\"),\"\",StockIn!L566)","v":""},{"$f":"IF(OR(StockIn!E566=0,StockIn!E566=\"\"),\"\",StockIn!E566)","v":""},{"$f":"IF(OR(StockIn!M566=0,StockIn!M566=\"\"),\"\",StockIn!M566)","v":""}]
[{"$f":"StockIn!A567","v":1565},{"$f":"IF(OR(StockIn!B567=0,StockIn!B567=\"\"),\"\",StockIn!B567)","v":""},{"$f":"IF(OR(StockIn!D567=0,StockIn!D567=\"\"),\"\",StockIn!D567)","v":""},{"$f":"IF(OR(StockIn!G567=0,StockIn!G567=\"\"),\"\",StockIn!G567)","v":""},{"$f":"IF(OR(StockIn!H567=0,StockIn!H567=\"\"),\"\",StockIn!H567)","v":""},{"$f":"IF(OR(StockIn!L567=0,StockIn!L567=\"\"),\"\",StockIn!L567)","v":""},{"$f":"IF(OR(StockIn!E567=0,StockIn!E567=\"\"),\"\",StockIn!E567)","v":""},{"$f":"IF(OR(StockIn!M567=0,StockIn!M567=\"\"),\"\",StockIn!M567)","v":""}]
[{"$f":"StockIn!A568","v":1566},{"$f":"IF(OR(StockIn!B568=0,StockIn!B568=\"\"),\"\",StockIn!B568)","v":""},{"$f":"IF(OR(StockIn!D568=0,StockIn!D568=\"\"),\"\",StockIn!D568)","v":""},{"$f":"IF(OR(StockIn!G568=0,StockIn!G568=\"\"),\"\",StockIn!G568)","v":""},{"$f":"IF(OR(StockIn!H568=0,StockIn!H568=\"\"),\"\",StockIn!H568)","v":""},{"$f":"IF(OR(StockIn!L568=0,StockIn!L568=\"\"),\"\",StockIn!L568)","v":""},{"$f":"IF(OR(StockIn!E568=0,StockIn!E568=\"\"),\"\",StockIn!E568)","v":""},{"$f":"IF(OR(StockIn!M568=0,StockIn!M568=\"\"),\"\",StockIn!M568)","v":""}]
[{"$f":"StockIn!A569","v":1567},{"$f":"IF(OR(StockIn!B569=0,StockIn!B569=\"\"),\"\",StockIn!B569)","v":""},{"$f":"IF(OR(StockIn!D569=0,StockIn!D569=\"\"),\"\",StockIn!D569)","v":""},{"$f":"IF(OR(StockIn!G569=0,StockIn!G569=\"\"),\"\",StockIn!G569)","v":""},{"$f":"IF(OR(StockIn!H569=0,StockIn!H569=\"\"),\"\",StockIn!H569)","v":""},{"$f":"IF(OR(StockIn!L569=0,StockIn!L569=\"\"),\"\",StockIn!L569)","v":""},{"$f":"IF(OR(StockIn!E569=0,StockIn!E569=\"\"),\"\",StockIn!E569)","v":""},{"$f":"IF(OR(StockIn!M569=0,StockIn!M569=\"\"),\"\",StockIn!M569)","v":""}]
[{"$f":"StockIn!A570","v":1568},{"$f":"IF(OR(StockIn!B570=0,StockIn!B570=\"\"),\"\",StockIn!B570)","v":""},{"$f":"IF(OR(StockIn!D570=0,StockIn!D570=\"\"),\"\",StockIn!D570)","v":""},{"$f":"IF(OR(StockIn!G570=0,StockIn!G570=\"\"),\"\",StockIn!G570)","v":""},{"$f":"IF(OR(StockIn!H570=0,StockIn!H570=\"\"),\"\",StockIn!H570)","v":""},{"$f":"IF(OR(StockIn!L570=0,StockIn!L570=\"\"),\"\",StockIn!L570)","v":""},{"$f":"IF(OR(StockIn!E570=0,StockIn!E570=\"\"),\"\",StockIn!E570)","v":""},{"$f":"IF(OR(StockIn!M570=0,StockIn!M570=\"\"),\"\",StockIn!M570)","v":""}]
[{"$f":"StockIn!A571","v":1569},{"$f":"IF(OR(StockIn!B571=0,StockIn!B571=\"\"),\"\",StockIn!B571)","v":""},{"$f":"IF(OR(StockIn!D571=0,StockIn!D571=\"\"),\"\",StockIn!D571)","v":""},{"$f":"IF(OR(StockIn!G571=0,StockIn!G571=\"\"),\"\",StockIn!G571)","v":""},{"$f":"IF(OR(StockIn!H571=0,StockIn!H571=\"\"),\"\",StockIn!H571)","v":""},{"$f":"IF(OR(StockIn!L571=0,StockIn!L571=\"\"),\"\",StockIn!L571)","v":""},{"$f":"IF(OR(StockIn!E571=0,StockIn!E571=\"\"),\"\",StockIn!E571)","v":""},{"$f":"IF(OR(StockIn!M571=0,StockIn!M571=\"\"),\"\",StockIn!M571)","v":""}]
[{"$f":"StockIn!A572","v":1570},{"$f":"IF(OR(StockIn!B572=0,StockIn!B572=\"\"),\"\",StockIn!B572)","v":""},{"$f":"IF(OR(StockIn!D572=0,StockIn!D572=\"\"),\"\",StockIn!D572)","v":""},{"$f":"IF(OR(StockIn!G572=0,StockIn!G572=\"\"),\"\",StockIn!G572)","v":""},{"$f":"IF(OR(StockIn!H572=0,StockIn!H572=\"\"),\"\",StockIn!H572)","v":""},{"$f":"IF(OR(StockIn!L572=0,StockIn!L572=\"\"),\"\",StockIn!L572)","v":""},{"$f":"IF(OR(StockIn!E572=0,StockIn!E572=\"\"),\"\",StockIn!E572)","v":""},{"$f":"IF(OR(StockIn!M572=0,StockIn!M572=\"\"),\"\",StockIn!M572)","v":""}]
[{"$f":"StockIn!A573","v":1571},{"$f":"IF(OR(StockIn!B573=0,StockIn!B573=\"\"),\"\",StockIn!B573)","v":""},{"$f":"IF(OR(StockIn!D573=0,StockIn!D573=\"\"),\"\",StockIn!D573)","v":""},{"$f":"IF(OR(StockIn!G573=0,StockIn!G573=\"\"),\"\",StockIn!G573)","v":""},{"$f":"IF(OR(StockIn!H573=0,StockIn!H573=\"\"),\"\",StockIn!H573)","v":""},{"$f":"IF(OR(StockIn!L573=0,StockIn!L573=\"\"),\"\",StockIn!L573)","v":""},{"$f":"IF(OR(StockIn!E573=0,StockIn!E573=\"\"),\"\",StockIn!E573)","v":""},{"$f":"IF(OR(StockIn!M573=0,StockIn!M573=\"\"),\"\",StockIn!M573)","v":""}]
[{"$f":"StockIn!A574","v":1572},{"$f":"IF(OR(StockIn!B574=0,StockIn!B574=\"\"),\"\",StockIn!B574)","v":""},{"$f":"IF(OR(StockIn!D574=0,StockIn!D574=\"\"),\"\",StockIn!D574)","v":""},{"$f":"IF(OR(StockIn!G574=0,StockIn!G574=\"\"),\"\",StockIn!G574)","v":""},{"$f":"IF(OR(StockIn!H574=0,StockIn!H574=\"\"),\"\",StockIn!H574)","v":""},{"$f":"IF(OR(StockIn!L574=0,StockIn!L574=\"\"),\"\",StockIn!L574)","v":""},{"$f":"IF(OR(StockIn!E574=0,StockIn!E574=\"\"),\"\",StockIn!E574)","v":""},{"$f":"IF(OR(StockIn!M574=0,StockIn!M574=\"\"),\"\",StockIn!M574)","v":""}]
[{"$f":"StockIn!A575","v":1573},{"$f":"IF(OR(StockIn!B575=0,StockIn!B575=\"\"),\"\",StockIn!B575)","v":""},{"$f":"IF(OR(StockIn!D575=0,StockIn!D575=\"\"),\"\",StockIn!D575)","v":""},{"$f":"IF(OR(StockIn!G575=0,StockIn!G575=\"\"),\"\",StockIn!G575)","v":""},{"$f":"IF(OR(StockIn!H575=0,StockIn!H575=\"\"),\"\",StockIn!H575)","v":""},{"$f":"IF(OR(StockIn!L575=0,StockIn!L575=\"\"),\"\",StockIn!L575)","v":""},{"$f":"IF(OR(StockIn!E575=0,StockIn!E575=\"\"),\"\",StockIn!E575)","v":""},{"$f":"IF(OR(StockIn!M575=0,StockIn!M575=\"\"),\"\",StockIn!M575)","v":""}]
[{"$f":"StockIn!A576","v":1574},{"$f":"IF(OR(StockIn!B576=0,StockIn!B576=\"\"),\"\",StockIn!B576)","v":""},{"$f":"IF(OR(StockIn!D576=0,StockIn!D576=\"\"),\"\",StockIn!D576)","v":""},{"$f":"IF(OR(StockIn!G576=0,StockIn!G576=\"\"),\"\",StockIn!G576)","v":""},{"$f":"IF(OR(StockIn!H576=0,StockIn!H576=\"\"),\"\",StockIn!H576)","v":""},{"$f":"IF(OR(StockIn!L576=0,StockIn!L576=\"\"),\"\",StockIn!L576)","v":""},{"$f":"IF(OR(StockIn!E576=0,StockIn!E576=\"\"),\"\",StockIn!E576)","v":""},{"$f":"IF(OR(StockIn!M576=0,StockIn!M576=\"\"),\"\",StockIn!M576)","v":""}]
[{"$f":"StockIn!A577","v":1575},{"$f":"IF(OR(StockIn!B577=0,StockIn!B577=\"\"),\"\",StockIn!B577)","v":""},{"$f":"IF(OR(StockIn!D577=0,StockIn!D577=\"\"),\"\",StockIn!D577)","v":""},{"$f":"IF(OR(StockIn!G577=0,StockIn!G577=\"\"),\"\",StockIn!G577)","v":""},{"$f":"IF(OR(StockIn!H577=0,StockIn!H577=\"\"),\"\",StockIn!H577)","v":""},{"$f":"IF(OR(StockIn!L577=0,StockIn!L577=\"\"),\"\",StockIn!L577)","v":""},{"$f":"IF(OR(StockIn!E577=0,StockIn!E577=\"\"),\"\",StockIn!E577)","v":""},{"$f":"IF(OR(StockIn!M577=0,StockIn!M577=\"\"),\"\",StockIn!M577)","v":""}]
[{"$f":"StockIn!A578","v":1576},{"$f":"IF(OR(StockIn!B578=0,StockIn!B578=\"\"),\"\",StockIn!B578)","v":""},{"$f":"IF(OR(StockIn!D578=0,StockIn!D578=\"\"),\"\",StockIn!D578)","v":""},{"$f":"IF(OR(StockIn!G578=0,StockIn!G578=\"\"),\"\",StockIn!G578)","v":""},{"$f":"IF(OR(StockIn!H578=0,StockIn!H578=\"\"),\"\",StockIn!H578)","v":""},{"$f":"IF(OR(StockIn!L578=0,StockIn!L578=\"\"),\"\",StockIn!L578)","v":""},{"$f":"IF(OR(StockIn!E578=0,StockIn!E578=\"\"),\"\",StockIn!E578)","v":""},{"$f":"IF(OR(StockIn!M578=0,StockIn!M578=\"\"),\"\",StockIn!M578)","v":""}]
[{"$f":"StockIn!A579","v":1577},{"$f":"IF(OR(StockIn!B579=0,StockIn!B579=\"\"),\"\",StockIn!B579)","v":""},{"$f":"IF(OR(StockIn!D579=0,StockIn!D579=\"\"),\"\",StockIn!D579)","v":""},{"$f":"IF(OR(StockIn!G579=0,StockIn!G579=\"\"),\"\",StockIn!G579)","v":""},{"$f":"IF(OR(StockIn!H579=0,StockIn!H579=\"\"),\"\",StockIn!H579)","v":""},{"$f":"IF(OR(StockIn!L579=0,StockIn!L579=\"\"),\"\",StockIn!L579)","v":""},{"$f":"IF(OR(StockIn!E579=0,StockIn!E579=\"\"),\"\",StockIn!E579)","v":""},{"$f":"IF(OR(StockIn!M579=0,StockIn!M579=\"\"),\"\",StockIn!M579)","v":""}]
[{"$f":"StockIn!A580","v":1578},{"$f":"IF(OR(StockIn!B580=0,StockIn!B580=\"\"),\"\",StockIn!B580)","v":""},{"$f":"IF(OR(StockIn!D580=0,StockIn!D580=\"\"),\"\",StockIn!D580)","v":""},{"$f":"IF(OR(StockIn!G580=0,StockIn!G580=\"\"),\"\",StockIn!G580)","v":""},{"$f":"IF(OR(StockIn!H580=0,StockIn!H580=\"\"),\"\",StockIn!H580)","v":""},{"$f":"IF(OR(StockIn!L580=0,StockIn!L580=\"\"),\"\",StockIn!L580)","v":""},{"$f":"IF(OR(StockIn!E580=0,StockIn!E580=\"\"),\"\",StockIn!E580)","v":""},{"$f":"IF(OR(StockIn!M580=0,StockIn!M580=\"\"),\"\",StockIn!M580)","v":""}]
[{"$f":"StockIn!A581","v":1579},{"$f":"IF(OR(StockIn!B581=0,StockIn!B581=\"\"),\"\",StockIn!B581)","v":""},{"$f":"IF(OR(StockIn!D581=0,StockIn!D581=\"\"),\"\",StockIn!D581)","v":""},{"$f":"IF(OR(StockIn!G581=0,StockIn!G581=\"\"),\"\",StockIn!G581)","v":""},{"$f":"IF(OR(StockIn!H581=0,StockIn!H581=\"\"),\"\",StockIn!H581)","v":""},{"$f":"IF(OR(StockIn!L581=0,StockIn!L581=\"\"),\"\",StockIn!L581)","v":""},{"$f":"IF(OR(StockIn!E581=0,StockIn!E581=\"\"),\"\",StockIn!E581)","v":""},{"$f":"IF(OR(StockIn!M581=0,StockIn!M581=\"\"),\"\",StockIn!M581)","v":""}]
[{"$f":"StockIn!A582","v":1580},{"$f":"IF(OR(StockIn!B582=0,StockIn!B582=\"\"),\"\",StockIn!B582)","v":""},{"$f":"IF(OR(StockIn!D582=0,StockIn!D582=\"\"),\"\",StockIn!D582)","v":""},{"$f":"IF(OR(StockIn!G582=0,StockIn!G582=\"\"),\"\",StockIn!G582)","v":""},{"$f":"IF(OR(StockIn!H582=0,StockIn!H582=\"\"),\"\",StockIn!H582)","v":""},{"$f":"IF(OR(StockIn!L582=0,StockIn!L582=\"\"),\"\",StockIn!L582)","v":""},{"$f":"IF(OR(StockIn!E582=0,StockIn!E582=\"\"),\"\",StockIn!E582)","v":""},{"$f":"IF(OR(StockIn!M582=0,StockIn!M582=\"\"),\"\",StockIn!M582)","v":""}]
[{"$f":"StockIn!A583","v":1581},{"$f":"IF(OR(StockIn!B583=0,StockIn!B583=\"\"),\"\",StockIn!B583)","v":""},{"$f":"IF(OR(StockIn!D583=0,StockIn!D583=\"\"),\"\",StockIn!D583)","v":""},{"$f":"IF(OR(StockIn!G583=0,StockIn!G583=\"\"),\"\",StockIn!G583)","v":""},{"$f":"IF(OR(StockIn!H583=0,StockIn!H583=\"\"),\"\",StockIn!H583)","v":""},{"$f":"IF(OR(StockIn!L583=0,StockIn!L583=\"\"),\"\",StockIn!L583)","v":""},{"$f":"IF(OR(StockIn!E583=0,StockIn!E583=\"\"),\"\",StockIn!E583)","v":""},{"$f":"IF(OR(StockIn!M583=0,StockIn!M583=\"\"),\"\",StockIn!M583)","v":""}]
[{"$f":"StockIn!A584","v":1582},{"$f":"IF(OR(StockIn!B584=0,StockIn!B584=\"\"),\"\",StockIn!B584)","v":""},{"$f":"IF(OR(StockIn!D584=0,StockIn!D584=\"\"),\"\",StockIn!D584)","v":""},{"$f":"IF(OR(StockIn!G584=0,StockIn!G584=\"\"),\"\",StockIn!G584)","v":""},{"$f":"IF(OR(StockIn!H584=0,StockIn!H584=\"\"),\"\",StockIn!H584)","v":""},{"$f":"IF(OR(StockIn!L584=0,StockIn!L584=\"\"),\"\",StockIn!L584)","v":""},{"$f":"IF(OR(StockIn!E584=0,StockIn!E584=\"\"),\"\",StockIn!E584)","v":""},{"$f":"IF(OR(StockIn!M584=0,StockIn!M584=\"\"),\"\",StockIn!M584)","v":""}]
[{"$f":"StockIn!A585","v":1583},{"$f":"IF(OR(StockIn!B585=0,StockIn!B585=\"\"),\"\",StockIn!B585)","v":""},{"$f":"IF(OR(StockIn!D585=0,StockIn!D585=\"\"),\"\",StockIn!D585)","v":""},{"$f":"IF(OR(StockIn!G585=0,StockIn!G585=\"\"),\"\",StockIn!G585)","v":""},{"$f":"IF(OR(StockIn!H585=0,StockIn!H585=\"\"),\"\",StockIn!H585)","v":""},{"$f":"IF(OR(StockIn!L585=0,StockIn!L585=\"\"),\"\",StockIn!L585)","v":""},{"$f":"IF(OR(StockIn!E585=0,StockIn!E585=\"\"),\"\",StockIn!E585)","v":""},{"$f":"IF(OR(StockIn!M585=0,StockIn!M585=\"\"),\"\",StockIn!M585)","v":""}]
[{"$f":"StockIn!A586","v":1584},{"$f":"IF(OR(StockIn!B586=0,StockIn!B586=\"\"),\"\",StockIn!B586)","v":""},{"$f":"IF(OR(StockIn!D586=0,StockIn!D586=\"\"),\"\",StockIn!D586)","v":""},{"$f":"IF(OR(StockIn!G586=0,StockIn!G586=\"\"),\"\",StockIn!G586)","v":""},{"$f":"IF(OR(StockIn!H586=0,StockIn!H586=\"\"),\"\",StockIn!H586)","v":""},{"$f":"IF(OR(StockIn!L586=0,StockIn!L586=\"\"),\"\",StockIn!L586)","v":""},{"$f":"IF(OR(StockIn!E586=0,StockIn!E586=\"\"),\"\",StockIn!E586)","v":""},{"$f":"IF(OR(StockIn!M586=0,StockIn!M586=\"\"),\"\",StockIn!M586)","v":""}]
[{"$f":"StockIn!A587","v":1585},{"$f":"IF(OR(StockIn!B587=0,StockIn!B587=\"\"),\"\",StockIn!B587)","v":""},{"$f":"IF(OR(StockIn!D587=0,StockIn!D587=\"\"),\"\",StockIn!D587)","v":""},{"$f":"IF(OR(StockIn!G587=0,StockIn!G587=\"\"),\"\",StockIn!G587)","v":""},{"$f":"IF(OR(StockIn!H587=0,StockIn!H587=\"\"),\"\",StockIn!H587)","v":""},{"$f":"IF(OR(StockIn!L587=0,StockIn!L587=\"\"),\"\",StockIn!L587)","v":""},{"$f":"IF(OR(StockIn!E587=0,StockIn!E587=\"\"),\"\",StockIn!E587)","v":""},{"$f":"IF(OR(StockIn!M587=0,StockIn!M587=\"\"),\"\",StockIn!M587)","v":""}]
[{"$f":"StockIn!A588","v":1586},{"$f":"IF(OR(StockIn!B588=0,StockIn!B588=\"\"),\"\",StockIn!B588)","v":""},{"$f":"IF(OR(StockIn!D588=0,StockIn!D588=\"\"),\"\",StockIn!D588)","v":""},{"$f":"IF(OR(StockIn!G588=0,StockIn!G588=\"\"),\"\",StockIn!G588)","v":""},{"$f":"IF(OR(StockIn!H588=0,StockIn!H588=\"\"),\"\",StockIn!H588)","v":""},{"$f":"IF(OR(StockIn!L588=0,StockIn!L588=\"\"),\"\",StockIn!L588)","v":""},{"$f":"IF(OR(StockIn!E588=0,StockIn!E588=\"\"),\"\",StockIn!E588)","v":""},{"$f":"IF(OR(StockIn!M588=0,StockIn!M588=\"\"),\"\",StockIn!M588)","v":""}]
[{"$f":"StockIn!A589","v":1587},{"$f":"IF(OR(StockIn!B589=0,StockIn!B589=\"\"),\"\",StockIn!B589)","v":""},{"$f":"IF(OR(StockIn!D589=0,StockIn!D589=\"\"),\"\",StockIn!D589)","v":""},{"$f":"IF(OR(StockIn!G589=0,StockIn!G589=\"\"),\"\",StockIn!G589)","v":""},{"$f":"IF(OR(StockIn!H589=0,StockIn!H589=\"\"),\"\",StockIn!H589)","v":""},{"$f":"IF(OR(StockIn!L589=0,StockIn!L589=\"\"),\"\",StockIn!L589)","v":""},{"$f":"IF(OR(StockIn!E589=0,StockIn!E589=\"\"),\"\",StockIn!E589)","v":""},{"$f":"IF(OR(StockIn!M589=0,StockIn!M589=\"\"),\"\",StockIn!M589)","v":""}]
[{"$f":"StockIn!A590","v":1588},{"$f":"IF(OR(StockIn!B590=0,StockIn!B590=\"\"),\"\",StockIn!B590)","v":""},{"$f":"IF(OR(StockIn!D590=0,StockIn!D590=\"\"),\"\",StockIn!D590)","v":""},{"$f":"IF(OR(StockIn!G590=0,StockIn!G590=\"\"),\"\",StockIn!G590)","v":""},{"$f":"IF(OR(StockIn!H590=0,StockIn!H590=\"\"),\"\",StockIn!H590)","v":""},{"$f":"IF(OR(StockIn!L590=0,StockIn!L590=\"\"),\"\",StockIn!L590)","v":""},{"$f":"IF(OR(StockIn!E590=0,StockIn!E590=\"\"),\"\",StockIn!E590)","v":""},{"$f":"IF(OR(StockIn!M590=0,StockIn!M590=\"\"),\"\",StockIn!M590)","v":""}]
[{"$f":"StockIn!A591","v":1589},{"$f":"IF(OR(StockIn!B591=0,StockIn!B591=\"\"),\"\",StockIn!B591)","v":""},{"$f":"IF(OR(StockIn!D591=0,StockIn!D591=\"\"),\"\",StockIn!D591)","v":""},{"$f":"IF(OR(StockIn!G591=0,StockIn!G591=\"\"),\"\",StockIn!G591)","v":""},{"$f":"IF(OR(StockIn!H591=0,StockIn!H591=\"\"),\"\",StockIn!H591)","v":""},{"$f":"IF(OR(StockIn!L591=0,StockIn!L591=\"\"),\"\",StockIn!L591)","v":""},{"$f":"IF(OR(StockIn!E591=0,StockIn!E591=\"\"),\"\",StockIn!E591)","v":""},{"$f":"IF(OR(StockIn!M591=0,StockIn!M591=\"\"),\"\",StockIn!M591)","v":""}]
[{"$f":"StockIn!A592","v":1590},{"$f":"IF(OR(StockIn!B592=0,StockIn!B592=\"\"),\"\",StockIn!B592)","v":""},{"$f":"IF(OR(StockIn!D592=0,StockIn!D592=\"\"),\"\",StockIn!D592)","v":""},{"$f":"IF(OR(StockIn!G592=0,StockIn!G592=\"\"),\"\",StockIn!G592)","v":""},{"$f":"IF(OR(StockIn!H592=0,StockIn!H592=\"\"),\"\",StockIn!H592)","v":""},{"$f":"IF(OR(StockIn!L592=0,StockIn!L592=\"\"),\"\",StockIn!L592)","v":""},{"$f":"IF(OR(StockIn!E592=0,StockIn!E592=\"\"),\"\",StockIn!E592)","v":""},{"$f":"IF(OR(StockIn!M592=0,StockIn!M592=\"\"),\"\",StockIn!M592)","v":""}]
[{"$f":"StockIn!A593","v":1591},{"$f":"IF(OR(StockIn!B593=0,StockIn!B593=\"\"),\"\",StockIn!B593)","v":""},{"$f":"IF(OR(StockIn!D593=0,StockIn!D593=\"\"),\"\",StockIn!D593)","v":""},{"$f":"IF(OR(StockIn!G593=0,StockIn!G593=\"\"),\"\",StockIn!G593)","v":""},{"$f":"IF(OR(StockIn!H593=0,StockIn!H593=\"\"),\"\",StockIn!H593)","v":""},{"$f":"IF(OR(StockIn!L593=0,StockIn!L593=\"\"),\"\",StockIn!L593)","v":""},{"$f":"IF(OR(StockIn!E593=0,StockIn!E593=\"\"),\"\",StockIn!E593)","v":""},{"$f":"IF(OR(StockIn!M593=0,StockIn!M593=\"\"),\"\",StockIn!M593)","v":""}]
[{"$f":"StockIn!A594","v":1592},{"$f":"IF(OR(StockIn!B594=0,StockIn!B594=\"\"),\"\",StockIn!B594)","v":""},{"$f":"IF(OR(StockIn!D594=0,StockIn!D594=\"\"),\"\",StockIn!D594)","v":""},{"$f":"IF(OR(StockIn!G594=0,StockIn!G594=\"\"),\"\",StockIn!G594)","v":""},{"$f":"IF(OR(StockIn!H594=0,StockIn!H594=\"\"),\"\",StockIn!H594)","v":""},{"$f":"IF(OR(StockIn!L594=0,StockIn!L594=\"\"),\"\",StockIn!L594)","v":""},{"$f":"IF(OR(StockIn!E594=0,StockIn!E594=\"\"),\"\",StockIn!E594)","v":""},{"$f":"IF(OR(StockIn!M594=0,StockIn!M594=\"\"),\"\",StockIn!M594)","v":""}]
[{"$f":"StockIn!A595","v":1593},{"$f":"IF(OR(StockIn!B595=0,StockIn!B595=\"\"),\"\",StockIn!B595)","v":""},{"$f":"IF(OR(StockIn!D595=0,StockIn!D595=\"\"),\"\",StockIn!D595)","v":""},{"$f":"IF(OR(StockIn!G595=0,StockIn!G595=\"\"),\"\",StockIn!G595)","v":""},{"$f":"IF(OR(StockIn!H595=0,StockIn!H595=\"\"),\"\",StockIn!H595)","v":""},{"$f":"IF(OR(StockIn!L595=0,StockIn!L595=\"\"),\"\",StockIn!L595)","v":""},{"$f":"IF(OR(StockIn!E595=0,StockIn!E595=\"\"),\"\",StockIn!E595)","v":""},{"$f":"IF(OR(StockIn!M595=0,StockIn!M595=\"\"),\"\",StockIn!M595)","v":""}]
[{"$f":"StockIn!A596","v":1594},{"$f":"IF(OR(StockIn!B596=0,StockIn!B596=\"\"),\"\",StockIn!B596)","v":""},{"$f":"IF(OR(StockIn!D596=0,StockIn!D596=\"\"),\"\",StockIn!D596)","v":""},{"$f":"IF(OR(StockIn!G596=0,StockIn!G596=\"\"),\"\",StockIn!G596)","v":""},{"$f":"IF(OR(StockIn!H596=0,StockIn!H596=\"\"),\"\",StockIn!H596)","v":""},{"$f":"IF(OR(StockIn!L596=0,StockIn!L596=\"\"),\"\",StockIn!L596)","v":""},{"$f":"IF(OR(StockIn!E596=0,StockIn!E596=\"\"),\"\",StockIn!E596)","v":""},{"$f":"IF(OR(StockIn!M596=0,StockIn!M596=\"\"),\"\",StockIn!M596)","v":""}]
[{"$f":"StockIn!A597","v":1595},{"$f":"IF(OR(StockIn!B597=0,StockIn!B597=\"\"),\"\",StockIn!B597)","v":""},{"$f":"IF(OR(StockIn!D597=0,StockIn!D597=\"\"),\"\",StockIn!D597)","v":""},{"$f":"IF(OR(StockIn!G597=0,StockIn!G597=\"\"),\"\",StockIn!G597)","v":""},{"$f":"IF(OR(StockIn!H597=0,StockIn!H597=\"\"),\"\",StockIn!H597)","v":""},{"$f":"IF(OR(StockIn!L597=0,StockIn!L597=\"\"),\"\",StockIn!L597)","v":""},{"$f":"IF(OR(StockIn!E597=0,StockIn!E597=\"\"),\"\",StockIn!E597)","v":""},{"$f":"IF(OR(StockIn!M597=0,StockIn!M597=\"\"),\"\",StockIn!M597)","v":""}]
[{"$f":"StockIn!A598","v":1596},{"$f":"IF(OR(StockIn!B598=0,StockIn!B598=\"\"),\"\",StockIn!B598)","v":""},{"$f":"IF(OR(StockIn!D598=0,StockIn!D598=\"\"),\"\",StockIn!D598)","v":""},{"$f":"IF(OR(StockIn!G598=0,StockIn!G598=\"\"),\"\",StockIn!G598)","v":""},{"$f":"IF(OR(StockIn!H598=0,StockIn!H598=\"\"),\"\",StockIn!H598)","v":""},{"$f":"IF(OR(StockIn!L598=0,StockIn!L598=\"\"),\"\",StockIn!L598)","v":""},{"$f":"IF(OR(StockIn!E598=0,StockIn!E598=\"\"),\"\",StockIn!E598)","v":""},{"$f":"IF(OR(StockIn!M598=0,StockIn!M598=\"\"),\"\",StockIn!M598)","v":""}]
[{"$f":"StockIn!A599","v":1597},{"$f":"IF(OR(StockIn!B599=0,StockIn!B599=\"\"),\"\",StockIn!B599)","v":""},{"$f":"IF(OR(StockIn!D599=0,StockIn!D599=\"\"),\"\",StockIn!D599)","v":""},{"$f":"IF(OR(StockIn!G599=0,StockIn!G599=\"\"),\"\",StockIn!G599)","v":""},{"$f":"IF(OR(StockIn!H599=0,StockIn!H599=\"\"),\"\",StockIn!H599)","v":""},{"$f":"IF(OR(StockIn!L599=0,StockIn!L599=\"\"),\"\",StockIn!L599)","v":""},{"$f":"IF(OR(StockIn!E599=0,StockIn!E599=\"\"),\"\",StockIn!E599)","v":""},{"$f":"IF(OR(StockIn!M599=0,StockIn!M599=\"\"),\"\",StockIn!M599)","v":""}]
[{"$f":"StockIn!A600","v":1598},{"$f":"IF(OR(StockIn!B600=0,StockIn!B600=\"\"),\"\",StockIn!B600)","v":""},{"$f":"IF(OR(StockIn!D600=0,StockIn!D600=\"\"),\"\",StockIn!D600)","v":""},{"$f":"IF(OR(StockIn!G600=0,StockIn!G600=\"\"),\"\",StockIn!G600)","v":""},{"$f":"IF(OR(StockIn!H600=0,StockIn!H600=\"\"),\"\",StockIn!H600)","v":""},{"$f":"IF(OR(StockIn!L600=0,StockIn!L600=\"\"),\"\",StockIn!L600)","v":""},{"$f":"IF(OR(StockIn!E600=0,StockIn!E600=\"\"),\"\",StockIn!E600)","v":""},{"$f":"IF(OR(StockIn!M600=0,StockIn!M600=\"\"),\"\",StockIn!M600)","v":""}]
[{"$f":"StockIn!A601","v":1599},{"$f":"IF(OR(StockIn!B601=0,StockIn!B601=\"\"),\"\",StockIn!B601)","v":""},{"$f":"IF(OR(StockIn!D601=0,StockIn!D601=\"\"),\"\",StockIn!D601)","v":""},{"$f":"IF(OR(StockIn!G601=0,StockIn!G601=\"\"),\"\",StockIn!G601)","v":""},{"$f":"IF(OR(StockIn!H601=0,StockIn!H601=\"\"),\"\",StockIn!H601)","v":""},{"$f":"IF(OR(StockIn!L601=0,StockIn!L601=\"\"),\"\",StockIn!L601)","v":""},{"$f":"IF(OR(StockIn!E601=0,StockIn!E601=\"\"),\"\",StockIn!E601)","v":""},{"$f":"IF(OR(StockIn!M601=0,StockIn!M601=\"\"),\"\",StockIn!M601)","v":""}]
[{"$f":"StockIn!A602","v":1600},{"$f":"IF(OR(StockIn!B602=0,StockIn!B602=\"\"),\"\",StockIn!B602)","v":""},{"$f":"IF(OR(StockIn!D602=0,StockIn!D602=\"\"),\"\",StockIn!D602)","v":""},{"$f":"IF(OR(StockIn!G602=0,StockIn!G602=\"\"),\"\",StockIn!G602)","v":""},{"$f":"IF(OR(StockIn!H602=0,StockIn!H602=\"\"),\"\",StockIn!H602)","v":""},{"$f":"IF(OR(StockIn!L602=0,StockIn!L602=\"\"),\"\",StockIn!L602)","v":""},{"$f":"IF(OR(StockIn!E602=0,StockIn!E602=\"\"),\"\",StockIn!E602)","v":""},{"$f":"IF(OR(StockIn!M602=0,StockIn!M602=\"\"),\"\",StockIn!M602)","v":""}]
[{"$f":"StockIn!A603","v":1601},{"$f":"IF(OR(StockIn!B603=0,StockIn!B603=\"\"),\"\",StockIn!B603)","v":""},{"$f":"IF(OR(StockIn!D603=0,StockIn!D603=\"\"),\"\",StockIn!D603)","v":""},{"$f":"IF(OR(StockIn!G603=0,StockIn!G603=\"\"),\"\",StockIn!G603)","v":""},{"$f":"IF(OR(StockIn!H603=0,StockIn!H603=\"\"),\"\",StockIn!H603)","v":""},{"$f":"IF(OR(StockIn!L603=0,StockIn!L603=\"\"),\"\",StockIn!L603)","v":""},{"$f":"IF(OR(StockIn!E603=0,StockIn!E603=\"\"),\"\",StockIn!E603)","v":""},{"$f":"IF(OR(StockIn!M603=0,StockIn!M603=\"\"),\"\",StockIn!M603)","v":""}]
[{"$f":"StockIn!A604","v":1602},{"$f":"IF(OR(StockIn!B604=0,StockIn!B604=\"\"),\"\",StockIn!B604)","v":""},{"$f":"IF(OR(StockIn!D604=0,StockIn!D604=\"\"),\"\",StockIn!D604)","v":""},{"$f":"IF(OR(StockIn!G604=0,StockIn!G604=\"\"),\"\",StockIn!G604)","v":""},{"$f":"IF(OR(StockIn!H604=0,StockIn!H604=\"\"),\"\",StockIn!H604)","v":""},{"$f":"IF(OR(StockIn!L604=0,StockIn!L604=\"\"),\"\",StockIn!L604)","v":""},{"$f":"IF(OR(StockIn!E604=0,StockIn!E604=\"\"),\"\",StockIn!E604)","v":""},{"$f":"IF(OR(StockIn!M604=0,StockIn!M604=\"\"),\"\",StockIn!M604)","v":""}]
[{"$f":"StockIn!A605","v":1603},{"$f":"IF(OR(StockIn!B605=0,StockIn!B605=\"\"),\"\",StockIn!B605)","v":""},{"$f":"IF(OR(StockIn!D605=0,StockIn!D605=\"\"),\"\",StockIn!D605)","v":""},{"$f":"IF(OR(StockIn!G605=0,StockIn!G605=\"\"),\"\",StockIn!G605)","v":""},{"$f":"IF(OR(StockIn!H605=0,StockIn!H605=\"\"),\"\",StockIn!H605)","v":""},{"$f":"IF(OR(StockIn!L605=0,StockIn!L605=\"\"),\"\",StockIn!L605)","v":""},{"$f":"IF(OR(StockIn!E605=0,StockIn!E605=\"\"),\"\",StockIn!E605)","v":""},{"$f":"IF(OR(StockIn!M605=0,StockIn!M605=\"\"),\"\",StockIn!M605)","v":""}]
[{"$f":"StockIn!A606","v":1604},{"$f":"IF(OR(StockIn!B606=0,StockIn!B606=\"\"),\"\",StockIn!B606)","v":""},{"$f":"IF(OR(StockIn!D606=0,StockIn!D606=\"\"),\"\",StockIn!D606)","v":""},{"$f":"IF(OR(StockIn!G606=0,StockIn!G606=\"\"),\"\",StockIn!G606)","v":""},{"$f":"IF(OR(StockIn!H606=0,StockIn!H606=\"\"),\"\",StockIn!H606)","v":""},{"$f":"IF(OR(StockIn!L606=0,StockIn!L606=\"\"),\"\",StockIn!L606)","v":""},{"$f":"IF(OR(StockIn!E606=0,StockIn!E606=\"\"),\"\",StockIn!E606)","v":""},{"$f":"IF(OR(StockIn!M606=0,StockIn!M606=\"\"),\"\",StockIn!M606)","v":""}]
[{"$f":"StockIn!A607","v":1605},{"$f":"IF(OR(StockIn!B607=0,StockIn!B607=\"\"),\"\",StockIn!B607)","v":""},{"$f":"IF(OR(StockIn!D607=0,StockIn!D607=\"\"),\"\",StockIn!D607)","v":""},{"$f":"IF(OR(StockIn!G607=0,StockIn!G607=\"\"),\"\",StockIn!G607)","v":""},{"$f":"IF(OR(StockIn!H607=0,StockIn!H607=\"\"),\"\",StockIn!H607)","v":""},{"$f":"IF(OR(StockIn!L607=0,StockIn!L607=\"\"),\"\",StockIn!L607)","v":""},{"$f":"IF(OR(StockIn!E607=0,StockIn!E607=\"\"),\"\",StockIn!E607)","v":""},{"$f":"IF(OR(StockIn!M607=0,StockIn!M607=\"\"),\"\",StockIn!M607)","v":""}]
[{"$f":"StockIn!A608","v":1606},{"$f":"IF(OR(StockIn!B608=0,StockIn!B608=\"\"),\"\",StockIn!B608)","v":""},{"$f":"IF(OR(StockIn!D608=0,StockIn!D608=\"\"),\"\",StockIn!D608)","v":""},{"$f":"IF(OR(StockIn!G608=0,StockIn!G608=\"\"),\"\",StockIn!G608)","v":""},{"$f":"IF(OR(StockIn!H608=0,StockIn!H608=\"\"),\"\",StockIn!H608)","v":""},{"$f":"IF(OR(StockIn!L608=0,StockIn!L608=\"\"),\"\",StockIn!L608)","v":""},{"$f":"IF(OR(StockIn!E608=0,StockIn!E608=\"\"),\"\",StockIn!E608)","v":""},{"$f":"IF(OR(StockIn!M608=0,StockIn!M608=\"\"),\"\",StockIn!M608)","v":""}]
[{"$f":"StockIn!A609","v":1607},{"$f":"IF(OR(StockIn!B609=0,StockIn!B609=\"\"),\"\",StockIn!B609)","v":""},{"$f":"IF(OR(StockIn!D609=0,StockIn!D609=\"\"),\"\",StockIn!D609)","v":""},{"$f":"IF(OR(StockIn!G609=0,StockIn!G609=\"\"),\"\",StockIn!G609)","v":""},{"$f":"IF(OR(StockIn!H609=0,StockIn!H609=\"\"),\"\",StockIn!H609)","v":""},{"$f":"IF(OR(StockIn!L609=0,StockIn!L609=\"\"),\"\",StockIn!L609)","v":""},{"$f":"IF(OR(StockIn!E609=0,StockIn!E609=\"\"),\"\",StockIn!E609)","v":""},{"$f":"IF(OR(StockIn!M609=0,StockIn!M609=\"\"),\"\",StockIn!M609)","v":""}]
[{"$f":"StockIn!A610","v":1608},{"$f":"IF(OR(StockIn!B610=0,StockIn!B610=\"\"),\"\",StockIn!B610)","v":""},{"$f":"IF(OR(StockIn!D610=0,StockIn!D610=\"\"),\"\",StockIn!D610)","v":""},{"$f":"IF(OR(StockIn!G610=0,StockIn!G610=\"\"),\"\",StockIn!G610)","v":""},{"$f":"IF(OR(StockIn!H610=0,StockIn!H610=\"\"),\"\",StockIn!H610)","v":""},{"$f":"IF(OR(StockIn!L610=0,StockIn!L610=\"\"),\"\",StockIn!L610)","v":""},{"$f":"IF(OR(StockIn!E610=0,StockIn!E610=\"\"),\"\",StockIn!E610)","v":""},{"$f":"IF(OR(StockIn!M610=0,StockIn!M610=\"\"),\"\",StockIn!M610)","v":""}]
[{"$f":"StockIn!A611","v":1609},{"$f":"IF(OR(StockIn!B611=0,StockIn!B611=\"\"),\"\",StockIn!B611)","v":""},{"$f":"IF(OR(StockIn!D611=0,StockIn!D611=\"\"),\"\",StockIn!D611)","v":""},{"$f":"IF(OR(StockIn!G611=0,StockIn!G611=\"\"),\"\",StockIn!G611)","v":""},{"$f":"IF(OR(StockIn!H611=0,StockIn!H611=\"\"),\"\",StockIn!H611)","v":""},{"$f":"IF(OR(StockIn!L611=0,StockIn!L611=\"\"),\"\",StockIn!L611)","v":""},{"$f":"IF(OR(StockIn!E611=0,StockIn!E611=\"\"),\"\",StockIn!E611)","v":""},{"$f":"IF(OR(StockIn!M611=0,StockIn!M611=\"\"),\"\",StockIn!M611)","v":""}]
[{"$f":"StockIn!A612","v":1610},{"$f":"IF(OR(StockIn!B612=0,StockIn!B612=\"\"),\"\",StockIn!B612)","v":""},{"$f":"IF(OR(StockIn!D612=0,StockIn!D612=\"\"),\"\",StockIn!D612)","v":""},{"$f":"IF(OR(StockIn!G612=0,StockIn!G612=\"\"),\"\",StockIn!G612)","v":""},{"$f":"IF(OR(StockIn!H612=0,StockIn!H612=\"\"),\"\",StockIn!H612)","v":""},{"$f":"IF(OR(StockIn!L612=0,StockIn!L612=\"\"),\"\",StockIn!L612)","v":""},{"$f":"IF(OR(StockIn!E612=0,StockIn!E612=\"\"),\"\",StockIn!E612)","v":""},{"$f":"IF(OR(StockIn!M612=0,StockIn!M612=\"\"),\"\",StockIn!M612)","v":""}]
[{"$f":"StockIn!A613","v":1611},{"$f":"IF(OR(StockIn!B613=0,StockIn!B613=\"\"),\"\",StockIn!B613)","v":""},{"$f":"IF(OR(StockIn!D613=0,StockIn!D613=\"\"),\"\",StockIn!D613)","v":""},{"$f":"IF(OR(StockIn!G613=0,StockIn!G613=\"\"),\"\",StockIn!G613)","v":""},{"$f":"IF(OR(StockIn!H613=0,StockIn!H613=\"\"),\"\",StockIn!H613)","v":""},{"$f":"IF(OR(StockIn!L613=0,StockIn!L613=\"\"),\"\",StockIn!L613)","v":""},{"$f":"IF(OR(StockIn!E613=0,StockIn!E613=\"\"),\"\",StockIn!E613)","v":""},{"$f":"IF(OR(StockIn!M613=0,StockIn!M613=\"\"),\"\",StockIn!M613)","v":""}]
[{"$f":"StockIn!A614","v":1612},{"$f":"IF(OR(StockIn!B614=0,StockIn!B614=\"\"),\"\",StockIn!B614)","v":""},{"$f":"IF(OR(StockIn!D614=0,StockIn!D614=\"\"),\"\",StockIn!D614)","v":""},{"$f":"IF(OR(StockIn!G614=0,StockIn!G614=\"\"),\"\",StockIn!G614)","v":""},{"$f":"IF(OR(StockIn!H614=0,StockIn!H614=\"\"),\"\",StockIn!H614)","v":""},{"$f":"IF(OR(StockIn!L614=0,StockIn!L614=\"\"),\"\",StockIn!L614)","v":""},{"$f":"IF(OR(StockIn!E614=0,StockIn!E614=\"\"),\"\",StockIn!E614)","v":""},{"$f":"IF(OR(StockIn!M614=0,StockIn!M614=\"\"),\"\",StockIn!M614)","v":""}]
[{"$f":"StockIn!A615","v":1613},{"$f":"IF(OR(StockIn!B615=0,StockIn!B615=\"\"),\"\",StockIn!B615)","v":""},{"$f":"IF(OR(StockIn!D615=0,StockIn!D615=\"\"),\"\",StockIn!D615)","v":""},{"$f":"IF(OR(StockIn!G615=0,StockIn!G615=\"\"),\"\",StockIn!G615)","v":""},{"$f":"IF(OR(StockIn!H615=0,StockIn!H615=\"\"),\"\",StockIn!H615)","v":""},{"$f":"IF(OR(StockIn!L615=0,StockIn!L615=\"\"),\"\",StockIn!L615)","v":""},{"$f":"IF(OR(StockIn!E615=0,StockIn!E615=\"\"),\"\",StockIn!E615)","v":""},{"$f":"IF(OR(StockIn!M615=0,StockIn!M615=\"\"),\"\",StockIn!M615)","v":""}]
[{"$f":"StockIn!A616","v":1614},{"$f":"IF(OR(StockIn!B616=0,StockIn!B616=\"\"),\"\",StockIn!B616)","v":""},{"$f":"IF(OR(StockIn!D616=0,StockIn!D616=\"\"),\"\",StockIn!D616)","v":""},{"$f":"IF(OR(StockIn!G616=0,StockIn!G616=\"\"),\"\",StockIn!G616)","v":""},{"$f":"IF(OR(StockIn!H616=0,StockIn!H616=\"\"),\"\",StockIn!H616)","v":""},{"$f":"IF(OR(StockIn!L616=0,StockIn!L616=\"\"),\"\",StockIn!L616)","v":""},{"$f":"IF(OR(StockIn!E616=0,StockIn!E616=\"\"),\"\",StockIn!E616)","v":""},{"$f":"IF(OR(StockIn!M616=0,StockIn!M616=\"\"),\"\",StockIn!M616)","v":""}]
[{"$f":"StockIn!A617","v":1615},{"$f":"IF(OR(StockIn!B617=0,StockIn!B617=\"\"),\"\",StockIn!B617)","v":""},{"$f":"IF(OR(StockIn!D617=0,StockIn!D617=\"\"),\"\",StockIn!D617)","v":""},{"$f":"IF(OR(StockIn!G617=0,StockIn!G617=\"\"),\"\",StockIn!G617)","v":""},{"$f":"IF(OR(StockIn!H617=0,StockIn!H617=\"\"),\"\",StockIn!H617)","v":""},{"$f":"IF(OR(StockIn!L617=0,StockIn!L617=\"\"),\"\",StockIn!L617)","v":""},{"$f":"IF(OR(StockIn!E617=0,StockIn!E617=\"\"),\"\",StockIn!E617)","v":""},{"$f":"IF(OR(StockIn!M617=0,StockIn!M617=\"\"),\"\",StockIn!M617)","v":""}]
[{"$f":"StockIn!A618","v":1616},{"$f":"IF(OR(StockIn!B618=0,StockIn!B618=\"\"),\"\",StockIn!B618)","v":""},{"$f":"IF(OR(StockIn!D618=0,StockIn!D618=\"\"),\"\",StockIn!D618)","v":""},{"$f":"IF(OR(StockIn!G618=0,StockIn!G618=\"\"),\"\",StockIn!G618)","v":""},{"$f":"IF(OR(StockIn!H618=0,StockIn!H618=\"\"),\"\",StockIn!H618)","v":""},{"$f":"IF(OR(StockIn!L618=0,StockIn!L618=\"\"),\"\",StockIn!L618)","v":""},{"$f":"IF(OR(StockIn!E618=0,StockIn!E618=\"\"),\"\",StockIn!E618)","v":""},{"$f":"IF(OR(StockIn!M618=0,StockIn!M618=\"\"),\"\",StockIn!M618)","v":""}]
[{"$f":"StockIn!A619","v":1617},{"$f":"IF(OR(StockIn!B619=0,StockIn!B619=\"\"),\"\",StockIn!B619)","v":""},{"$f":"IF(OR(StockIn!D619=0,StockIn!D619=\"\"),\"\",StockIn!D619)","v":""},{"$f":"IF(OR(StockIn!G619=0,StockIn!G619=\"\"),\"\",StockIn!G619)","v":""},{"$f":"IF(OR(StockIn!H619=0,StockIn!H619=\"\"),\"\",StockIn!H619)","v":""},{"$f":"IF(OR(StockIn!L619=0,StockIn!L619=\"\"),\"\",StockIn!L619)","v":""},{"$f":"IF(OR(StockIn!E619=0,StockIn!E619=\"\"),\"\",StockIn!E619)","v":""},{"$f":"IF(OR(StockIn!M619=0,StockIn!M619=\"\"),\"\",StockIn!M619)","v":""}]
[{"$f":"StockIn!A620","v":1618},{"$f":"IF(OR(StockIn!B620=0,StockIn!B620=\"\"),\"\",StockIn!B620)","v":""},{"$f":"IF(OR(StockIn!D620=0,StockIn!D620=\"\"),\"\",StockIn!D620)","v":""},{"$f":"IF(OR(StockIn!G620=0,StockIn!G620=\"\"),\"\",StockIn!G620)","v":""},{"$f":"IF(OR(StockIn!H620=0,StockIn!H620=\"\"),\"\",StockIn!H620)","v":""},{"$f":"IF(OR(StockIn!L620=0,StockIn!L620=\"\"),\"\",StockIn!L620)","v":""},{"$f":"IF(OR(StockIn!E620=0,StockIn!E620=\"\"),\"\",StockIn!E620)","v":""},{"$f":"IF(OR(StockIn!M620=0,StockIn!M620=\"\"),\"\",StockIn!M620)","v":""}]
[{"$f":"StockIn!A621","v":1619},{"$f":"IF(OR(StockIn!B621=0,StockIn!B621=\"\"),\"\",StockIn!B621)","v":""},{"$f":"IF(OR(StockIn!D621=0,StockIn!D621=\"\"),\"\",StockIn!D621)","v":""},{"$f":"IF(OR(StockIn!G621=0,StockIn!G621=\"\"),\"\",StockIn!G621)","v":""},{"$f":"IF(OR(StockIn!H621=0,StockIn!H621=\"\"),\"\",StockIn!H621)","v":""},{"$f":"IF(OR(StockIn!L621=0,StockIn!L621=\"\"),\"\",StockIn!L621)","v":""},{"$f":"IF(OR(StockIn!E621=0,StockIn!E621=\"\"),\"\",StockIn!E621)","v":""},{"$f":"IF(OR(StockIn!M621=0,StockIn!M621=\"\"),\"\",StockIn!M621)","v":""}]
[{"$f":"StockIn!A622","v":1620},{"$f":"IF(OR(StockIn!B622=0,StockIn!B622=\"\"),\"\",StockIn!B622)","v":""},{"$f":"IF(OR(StockIn!D622=0,StockIn!D622=\"\"),\"\",StockIn!D622)","v":""},{"$f":"IF(OR(StockIn!G622=0,StockIn!G622=\"\"),\"\",StockIn!G622)","v":""},{"$f":"IF(OR(StockIn!H622=0,StockIn!H622=\"\"),\"\",StockIn!H622)","v":""},{"$f":"IF(OR(StockIn!L622=0,StockIn!L622=\"\"),\"\",StockIn!L622)","v":""},{"$f":"IF(OR(StockIn!E622=0,StockIn!E622=\"\"),\"\",StockIn!E622)","v":""},{"$f":"IF(OR(StockIn!M622=0,StockIn!M622=\"\"),\"\",StockIn!M622)","v":""}]
[{"$f":"StockIn!A623","v":1621},{"$f":"IF(OR(StockIn!B623=0,StockIn!B623=\"\"),\"\",StockIn!B623)","v":""},{"$f":"IF(OR(StockIn!D623=0,StockIn!D623=\"\"),\"\",StockIn!D623)","v":""},{"$f":"IF(OR(StockIn!G623=0,StockIn!G623=\"\"),\"\",StockIn!G623)","v":""},{"$f":"IF(OR(StockIn!H623=0,StockIn!H623=\"\"),\"\",StockIn!H623)","v":""},{"$f":"IF(OR(StockIn!L623=0,StockIn!L623=\"\"),\"\",StockIn!L623)","v":""},{"$f":"IF(OR(StockIn!E623=0,StockIn!E623=\"\"),\"\",StockIn!E623)","v":""},{"$f":"IF(OR(StockIn!M623=0,StockIn!M623=\"\"),\"\",StockIn!M623)","v":""}]
[{"$f":"StockIn!A624","v":1622},{"$f":"IF(OR(StockIn!B624=0,StockIn!B624=\"\"),\"\",StockIn!B624)","v":""},{"$f":"IF(OR(StockIn!D624=0,StockIn!D624=\"\"),\"\",StockIn!D624)","v":""},{"$f":"IF(OR(StockIn!G624=0,StockIn!G624=\"\"),\"\",StockIn!G624)","v":""},{"$f":"IF(OR(StockIn!H624=0,StockIn!H624=\"\"),\"\",StockIn!H624)","v":""},{"$f":"IF(OR(StockIn!L624=0,StockIn!L624=\"\"),\"\",StockIn!L624)","v":""},{"$f":"IF(OR(StockIn!E624=0,StockIn!E624=\"\"),\"\",StockIn!E624)","v":""},{"$f":"IF(OR(StockIn!M624=0,StockIn!M624=\"\"),\"\",StockIn!M624)","v":""}]
[{"$f":"StockIn!A625","v":1623},{"$f":"IF(OR(StockIn!B625=0,StockIn!B625=\"\"),\"\",StockIn!B625)","v":""},{"$f":"IF(OR(StockIn!D625=0,StockIn!D625=\"\"),\"\",StockIn!D625)","v":""},{"$f":"IF(OR(StockIn!G625=0,StockIn!G625=\"\"),\"\",StockIn!G625)","v":""},{"$f":"IF(OR(StockIn!H625=0,StockIn!H625=\"\"),\"\",StockIn!H625)","v":""},{"$f":"IF(OR(StockIn!L625=0,StockIn!L625=\"\"),\"\",StockIn!L625)","v":""},{"$f":"IF(OR(StockIn!E625=0,StockIn!E625=\"\"),\"\",StockIn!E625)","v":""},{"$f":"IF(OR(StockIn!M625=0,StockIn!M625=\"\"),\"\",StockIn!M625)","v":""}]
[{"$f":"StockIn!A626","v":1624},{"$f":"IF(OR(StockIn!B626=0,StockIn!B626=\"\"),\"\",StockIn!B626)","v":""},{"$f":"IF(OR(StockIn!D626=0,StockIn!D626=\"\"),\"\",StockIn!D626)","v":""},{"$f":"IF(OR(StockIn!G626=0,StockIn!G626=\"\"),\"\",StockIn!G626)","v":""},{"$f":"IF(OR(StockIn!H626=0,StockIn!H626=\"\"),\"\",StockIn!H626)","v":""},{"$f":"IF(OR(StockIn!L626=0,StockIn!L626=\"\"),\"\",StockIn!L626)","v":""},{"$f":"IF(OR(StockIn!E626=0,StockIn!E626=\"\"),\"\",StockIn!E626)","v":""},{"$f":"IF(OR(StockIn!M626=0,StockIn!M626=\"\"),\"\",StockIn!M626)","v":""}]
[{"$f":"StockIn!A627","v":1625},{"$f":"IF(OR(StockIn!B627=0,StockIn!B627=\"\"),\"\",StockIn!B627)","v":""},{"$f":"IF(OR(StockIn!D627=0,StockIn!D627=\"\"),\"\",StockIn!D627)","v":""},{"$f":"IF(OR(StockIn!G627=0,StockIn!G627=\"\"),\"\",StockIn!G627)","v":""},{"$f":"IF(OR(StockIn!H627=0,StockIn!H627=\"\"),\"\",StockIn!H627)","v":""},{"$f":"IF(OR(StockIn!L627=0,StockIn!L627=\"\"),\"\",StockIn!L627)","v":""},{"$f":"IF(OR(StockIn!E627=0,StockIn!E627=\"\"),\"\",StockIn!E627)","v":""},{"$f":"IF(OR(StockIn!M627=0,StockIn!M627=\"\"),\"\",StockIn!M627)","v":""}]
[{"$f":"StockIn!A628","v":1626},{"$f":"IF(OR(StockIn!B628=0,StockIn!B628=\"\"),\"\",StockIn!B628)","v":""},{"$f":"IF(OR(StockIn!D628=0,StockIn!D628=\"\"),\"\",StockIn!D628)","v":""},{"$f":"IF(OR(StockIn!G628=0,StockIn!G628=\"\"),\"\",StockIn!G628)","v":""},{"$f":"IF(OR(StockIn!H628=0,StockIn!H628=\"\"),\"\",StockIn!H628)","v":""},{"$f":"IF(OR(StockIn!L628=0,StockIn!L628=\"\"),\"\",StockIn!L628)","v":""},{"$f":"IF(OR(StockIn!E628=0,StockIn!E628=\"\"),\"\",StockIn!E628)","v":""},{"$f":"IF(OR(StockIn!M628=0,StockIn!M628=\"\"),\"\",StockIn!M628)","v":""}]
[{"$f":"StockIn!A629","v":1627},{"$f":"IF(OR(StockIn!B629=0,StockIn!B629=\"\"),\"\",StockIn!B629)","v":""},{"$f":"IF(OR(StockIn!D629=0,StockIn!D629=\"\"),\"\",StockIn!D629)","v":""},{"$f":"IF(OR(StockIn!G629=0,StockIn!G629=\"\"),\"\",StockIn!G629)","v":""},{"$f":"IF(OR(StockIn!H629=0,StockIn!H629=\"\"),\"\",StockIn!H629)","v":""},{"$f":"IF(OR(StockIn!L629=0,StockIn!L629=\"\"),\"\",StockIn!L629)","v":""},{"$f":"IF(OR(StockIn!E629=0,StockIn!E629=\"\"),\"\",StockIn!E629)","v":""},{"$f":"IF(OR(StockIn!M629=0,StockIn!M629=\"\"),\"\",StockIn!M629)","v":""}]
[{"$f":"StockIn!A630","v":1628},{"$f":"IF(OR(StockIn!B630=0,StockIn!B630=\"\"),\"\",StockIn!B630)","v":""},{"$f":"IF(OR(StockIn!D630=0,StockIn!D630=\"\"),\"\",StockIn!D630)","v":""},{"$f":"IF(OR(StockIn!G630=0,StockIn!G630=\"\"),\"\",StockIn!G630)","v":""},{"$f":"IF(OR(StockIn!H630=0,StockIn!H630=\"\"),\"\",StockIn!H630)","v":""},{"$f":"IF(OR(StockIn!L630=0,StockIn!L630=\"\"),\"\",StockIn!L630)","v":""},{"$f":"IF(OR(StockIn!E630=0,StockIn!E630=\"\"),\"\",StockIn!E630)","v":""},{"$f":"IF(OR(StockIn!M630=0,StockIn!M630=\"\"),\"\",StockIn!M630)","v":""}]
[{"$f":"StockIn!A631","v":1629},{"$f":"IF(OR(StockIn!B631=0,StockIn!B631=\"\"),\"\",StockIn!B631)","v":""},{"$f":"IF(OR(StockIn!D631=0,StockIn!D631=\"\"),\"\",StockIn!D631)","v":""},{"$f":"IF(OR(StockIn!G631=0,StockIn!G631=\"\"),\"\",StockIn!G631)","v":""},{"$f":"IF(OR(StockIn!H631=0,StockIn!H631=\"\"),\"\",StockIn!H631)","v":""},{"$f":"IF(OR(StockIn!L631=0,StockIn!L631=\"\"),\"\",StockIn!L631)","v":""},{"$f":"IF(OR(StockIn!E631=0,StockIn!E631=\"\"),\"\",StockIn!E631)","v":""},{"$f":"IF(OR(StockIn!M631=0,StockIn!M631=\"\"),\"\",StockIn!M631)","v":""}]
[{"$f":"StockIn!A632","v":1630},{"$f":"IF(OR(StockIn!B632=0,StockIn!B632=\"\"),\"\",StockIn!B632)","v":""},{"$f":"IF(OR(StockIn!D632=0,StockIn!D632=\"\"),\"\",StockIn!D632)","v":""},{"$f":"IF(OR(StockIn!G632=0,StockIn!G632=\"\"),\"\",StockIn!G632)","v":""},{"$f":"IF(OR(StockIn!H632=0,StockIn!H632=\"\"),\"\",StockIn!H632)","v":""},{"$f":"IF(OR(StockIn!L632=0,StockIn!L632=\"\"),\"\",StockIn!L632)","v":""},{"$f":"IF(OR(StockIn!E632=0,StockIn!E632=\"\"),\"\",StockIn!E632)","v":""},{"$f":"IF(OR(StockIn!M632=0,StockIn!M632=\"\"),\"\",StockIn!M632)","v":""}]
[{"$f":"StockIn!A633","v":1631},{"$f":"IF(OR(StockIn!B633=0,StockIn!B633=\"\"),\"\",StockIn!B633)","v":""},{"$f":"IF(OR(StockIn!D633=0,StockIn!D633=\"\"),\"\",StockIn!D633)","v":""},{"$f":"IF(OR(StockIn!G633=0,StockIn!G633=\"\"),\"\",StockIn!G633)","v":""},{"$f":"IF(OR(StockIn!H633=0,StockIn!H633=\"\"),\"\",StockIn!H633)","v":""},{"$f":"IF(OR(StockIn!L633=0,StockIn!L633=\"\"),\"\",StockIn!L633)","v":""},{"$f":"IF(OR(StockIn!E633=0,StockIn!E633=\"\"),\"\",StockIn!E633)","v":""},{"$f":"IF(OR(StockIn!M633=0,StockIn!M633=\"\"),\"\",StockIn!M633)","v":""}]
[{"$f":"StockIn!A634","v":1632},{"$f":"IF(OR(StockIn!B634=0,StockIn!B634=\"\"),\"\",StockIn!B634)","v":""},{"$f":"IF(OR(StockIn!D634=0,StockIn!D634=\"\"),\"\",StockIn!D634)","v":""},{"$f":"IF(OR(StockIn!G634=0,StockIn!G634=\"\"),\"\",StockIn!G634)","v":""},{"$f":"IF(OR(StockIn!H634=0,StockIn!H634=\"\"),\"\",StockIn!H634)","v":""},{"$f":"IF(OR(StockIn!L634=0,StockIn!L634=\"\"),\"\",StockIn!L634)","v":""},{"$f":"IF(OR(StockIn!E634=0,StockIn!E634=\"\"),\"\",StockIn!E634)","v":""},{"$f":"IF(OR(StockIn!M634=0,StockIn!M634=\"\"),\"\",StockIn!M634)","v":""}]
[{"$f":"StockIn!A635","v":1633},{"$f":"IF(OR(StockIn!B635=0,StockIn!B635=\"\"),\"\",StockIn!B635)","v":""},{"$f":"IF(OR(StockIn!D635=0,StockIn!D635=\"\"),\"\",StockIn!D635)","v":""},{"$f":"IF(OR(StockIn!G635=0,StockIn!G635=\"\"),\"\",StockIn!G635)","v":""},{"$f":"IF(OR(StockIn!H635=0,StockIn!H635=\"\"),\"\",StockIn!H635)","v":""},{"$f":"IF(OR(StockIn!L635=0,StockIn!L635=\"\"),\"\",StockIn!L635)","v":""},{"$f":"IF(OR(StockIn!E635=0,StockIn!E635=\"\"),\"\",StockIn!E635)","v":""},{"$f":"IF(OR(StockIn!M635=0,StockIn!M635=\"\"),\"\",StockIn!M635)","v":""}]
[{"$f":"StockIn!A636","v":1634},{"$f":"IF(OR(StockIn!B636=0,StockIn!B636=\"\"),\"\",StockIn!B636)","v":""},{"$f":"IF(OR(StockIn!D636=0,StockIn!D636=\"\"),\"\",StockIn!D636)","v":""},{"$f":"IF(OR(StockIn!G636=0,StockIn!G636=\"\"),\"\",StockIn!G636)","v":""},{"$f":"IF(OR(StockIn!H636=0,StockIn!H636=\"\"),\"\",StockIn!H636)","v":""},{"$f":"IF(OR(StockIn!L636=0,StockIn!L636=\"\"),\"\",StockIn!L636)","v":""},{"$f":"IF(OR(StockIn!E636=0,StockIn!E636=\"\"),\"\",StockIn!E636)","v":""},{"$f":"IF(OR(StockIn!M636=0,StockIn!M636=\"\"),\"\",StockIn!M636)","v":""}]
[{"$f":"StockIn!A637","v":1635},{"$f":"IF(OR(StockIn!B637=0,StockIn!B637=\"\"),\"\",StockIn!B637)","v":""},{"$f":"IF(OR(StockIn!D637=0,StockIn!D637=\"\"),\"\",StockIn!D637)","v":""},{"$f":"IF(OR(StockIn!G637=0,StockIn!G637=\"\"),\"\",StockIn!G637)","v":""},{"$f":"IF(OR(StockIn!H637=0,StockIn!H637=\"\"),\"\",StockIn!H637)","v":""},{"$f":"IF(OR(StockIn!L637=0,StockIn!L637=\"\"),\"\",StockIn!L637)","v":""},{"$f":"IF(OR(StockIn!E637=0,StockIn!E637=\"\"),\"\",StockIn!E637)","v":""},{"$f":"IF(OR(StockIn!M637=0,StockIn!M637=\"\"),\"\",StockIn!M637)","v":""}]
[{"$f":"StockIn!A638","v":1636},{"$f":"IF(OR(StockIn!B638=0,StockIn!B638=\"\"),\"\",StockIn!B638)","v":""},{"$f":"IF(OR(StockIn!D638=0,StockIn!D638=\"\"),\"\",StockIn!D638)","v":""},{"$f":"IF(OR(StockIn!G638=0,StockIn!G638=\"\"),\"\",StockIn!G638)","v":""},{"$f":"IF(OR(StockIn!H638=0,StockIn!H638=\"\"),\"\",StockIn!H638)","v":""},{"$f":"IF(OR(StockIn!L638=0,StockIn!L638=\"\"),\"\",StockIn!L638)","v":""},{"$f":"IF(OR(StockIn!E638=0,StockIn!E638=\"\"),\"\",StockIn!E638)","v":""},{"$f":"IF(OR(StockIn!M638=0,StockIn!M638=\"\"),\"\",StockIn!M638)","v":""}]
[{"$f":"StockIn!A639","v":1637},{"$f":"IF(OR(StockIn!B639=0,StockIn!B639=\"\"),\"\",StockIn!B639)","v":""},{"$f":"IF(OR(StockIn!D639=0,StockIn!D639=\"\"),\"\",StockIn!D639)","v":""},{"$f":"IF(OR(StockIn!G639=0,StockIn!G639=\"\"),\"\",StockIn!G639)","v":""},{"$f":"IF(OR(StockIn!H639=0,StockIn!H639=\"\"),\"\",StockIn!H639)","v":""},{"$f":"IF(OR(StockIn!L639=0,StockIn!L639=\"\"),\"\",StockIn!L639)","v":""},{"$f":"IF(OR(StockIn!E639=0,StockIn!E639=\"\"),\"\",StockIn!E639)","v":""},{"$f":"IF(OR(StockIn!M639=0,StockIn!M639=\"\"),\"\",StockIn!M639)","v":""}]
[{"$f":"StockIn!A640","v":1638},{"$f":"IF(OR(StockIn!B640=0,StockIn!B640=\"\"),\"\",StockIn!B640)","v":""},{"$f":"IF(OR(StockIn!D640=0,StockIn!D640=\"\"),\"\",StockIn!D640)","v":""},{"$f":"IF(OR(StockIn!G640=0,StockIn!G640=\"\"),\"\",StockIn!G640)","v":""},{"$f":"IF(OR(StockIn!H640=0,StockIn!H640=\"\"),\"\",StockIn!H640)","v":""},{"$f":"IF(OR(StockIn!L640=0,StockIn!L640=\"\"),\"\",StockIn!L640)","v":""},{"$f":"IF(OR(StockIn!E640=0,StockIn!E640=\"\"),\"\",StockIn!E640)","v":""},{"$f":"IF(OR(StockIn!M640=0,StockIn!M640=\"\"),\"\",StockIn!M640)","v":""}]
[{"$f":"StockIn!A641","v":1639},{"$f":"IF(OR(StockIn!B641=0,StockIn!B641=\"\"),\"\",StockIn!B641)","v":""},{"$f":"IF(OR(StockIn!D641=0,StockIn!D641=\"\"),\"\",StockIn!D641)","v":""},{"$f":"IF(OR(StockIn!G641=0,StockIn!G641=\"\"),\"\",StockIn!G641)","v":""},{"$f":"IF(OR(StockIn!H641=0,StockIn!H641=\"\"),\"\",StockIn!H641)","v":""},{"$f":"IF(OR(StockIn!L641=0,StockIn!L641=\"\"),\"\",StockIn!L641)","v":""},{"$f":"IF(OR(StockIn!E641=0,StockIn!E641=\"\"),\"\",StockIn!E641)","v":""},{"$f":"IF(OR(StockIn!M641=0,StockIn!M641=\"\"),\"\",StockIn!M641)","v":""}]
[{"$f":"StockIn!A642","v":1640},{"$f":"IF(OR(StockIn!B642=0,StockIn!B642=\"\"),\"\",StockIn!B642)","v":""},{"$f":"IF(OR(StockIn!D642=0,StockIn!D642=\"\"),\"\",StockIn!D642)","v":""},{"$f":"IF(OR(StockIn!G642=0,StockIn!G642=\"\"),\"\",StockIn!G642)","v":""},{"$f":"IF(OR(StockIn!H642=0,StockIn!H642=\"\"),\"\",StockIn!H642)","v":""},{"$f":"IF(OR(StockIn!L642=0,StockIn!L642=\"\"),\"\",StockIn!L642)","v":""},{"$f":"IF(OR(StockIn!E642=0,StockIn!E642=\"\"),\"\",StockIn!E642)","v":""},{"$f":"IF(OR(StockIn!M642=0,StockIn!M642=\"\"),\"\",StockIn!M642)","v":""}]
[{"$f":"StockIn!A643","v":1641},{"$f":"IF(OR(StockIn!B643=0,StockIn!B643=\"\"),\"\",StockIn!B643)","v":""},{"$f":"IF(OR(StockIn!D643=0,StockIn!D643=\"\"),\"\",StockIn!D643)","v":""},{"$f":"IF(OR(StockIn!G643=0,StockIn!G643=\"\"),\"\",StockIn!G643)","v":""},{"$f":"IF(OR(StockIn!H643=0,StockIn!H643=\"\"),\"\",StockIn!H643)","v":""},{"$f":"IF(OR(StockIn!L643=0,StockIn!L643=\"\"),\"\",StockIn!L643)","v":""},{"$f":"IF(OR(StockIn!E643=0,StockIn!E643=\"\"),\"\",StockIn!E643)","v":""},{"$f":"IF(OR(StockIn!M643=0,StockIn!M643=\"\"),\"\",StockIn!M643)","v":""}]
[{"$f":"StockIn!A644","v":1642},{"$f":"IF(OR(StockIn!B644=0,StockIn!B644=\"\"),\"\",StockIn!B644)","v":""},{"$f":"IF(OR(StockIn!D644=0,StockIn!D644=\"\"),\"\",StockIn!D644)","v":""},{"$f":"IF(OR(StockIn!G644=0,StockIn!G644=\"\"),\"\",StockIn!G644)","v":""},{"$f":"IF(OR(StockIn!H644=0,StockIn!H644=\"\"),\"\",StockIn!H644)","v":""},{"$f":"IF(OR(StockIn!L644=0,StockIn!L644=\"\"),\"\",StockIn!L644)","v":""},{"$f":"IF(OR(StockIn!E644=0,StockIn!E644=\"\"),\"\",StockIn!E644)","v":""},{"$f":"IF(OR(StockIn!M644=0,StockIn!M644=\"\"),\"\",StockIn!M644)","v":""}]
[{"$f":"StockIn!A645","v":1643},{"$f":"IF(OR(StockIn!B645=0,StockIn!B645=\"\"),\"\",StockIn!B645)","v":""},{"$f":"IF(OR(StockIn!D645=0,StockIn!D645=\"\"),\"\",StockIn!D645)","v":""},{"$f":"IF(OR(StockIn!G645=0,StockIn!G645=\"\"),\"\",StockIn!G645)","v":""},{"$f":"IF(OR(StockIn!H645=0,StockIn!H645=\"\"),\"\",StockIn!H645)","v":""},{"$f":"IF(OR(StockIn!L645=0,StockIn!L645=\"\"),\"\",StockIn!L645)","v":""},{"$f":"IF(OR(StockIn!E645=0,StockIn!E645=\"\"),\"\",StockIn!E645)","v":""},{"$f":"IF(OR(StockIn!M645=0,StockIn!M645=\"\"),\"\",StockIn!M645)","v":""}]
[{"$f":"StockIn!A646","v":1644},{"$f":"IF(OR(StockIn!B646=0,StockIn!B646=\"\"),\"\",StockIn!B646)","v":""},{"$f":"IF(OR(StockIn!D646=0,StockIn!D646=\"\"),\"\",StockIn!D646)","v":""},{"$f":"IF(OR(StockIn!G646=0,StockIn!G646=\"\"),\"\",StockIn!G646)","v":""},{"$f":"IF(OR(StockIn!H646=0,StockIn!H646=\"\"),\"\",StockIn!H646)","v":""},{"$f":"IF(OR(StockIn!L646=0,StockIn!L646=\"\"),\"\",StockIn!L646)","v":""},{"$f":"IF(OR(StockIn!E646=0,StockIn!E646=\"\"),\"\",StockIn!E646)","v":""},{"$f":"IF(OR(StockIn!M646=0,StockIn!M646=\"\"),\"\",StockIn!M646)","v":""}]
[{"$f":"StockIn!A647","v":1645},{"$f":"IF(OR(StockIn!B647=0,StockIn!B647=\"\"),\"\",StockIn!B647)","v":""},{"$f":"IF(OR(StockIn!D647=0,StockIn!D647=\"\"),\"\",StockIn!D647)","v":""},{"$f":"IF(OR(StockIn!G647=0,StockIn!G647=\"\"),\"\",StockIn!G647)","v":""},{"$f":"IF(OR(StockIn!H647=0,StockIn!H647=\"\"),\"\",StockIn!H647)","v":""},{"$f":"IF(OR(StockIn!L647=0,StockIn!L647=\"\"),\"\",StockIn!L647)","v":""},{"$f":"IF(OR(StockIn!E647=0,StockIn!E647=\"\"),\"\",StockIn!E647)","v":""},{"$f":"IF(OR(StockIn!M647=0,StockIn!M647=\"\"),\"\",StockIn!M647)","v":""}]
[{"$f":"StockIn!A648","v":1646},{"$f":"IF(OR(StockIn!B648=0,StockIn!B648=\"\"),\"\",StockIn!B648)","v":""},{"$f":"IF(OR(StockIn!D648=0,StockIn!D648=\"\"),\"\",StockIn!D648)","v":""},{"$f":"IF(OR(StockIn!G648=0,StockIn!G648=\"\"),\"\",StockIn!G648)","v":""},{"$f":"IF(OR(StockIn!H648=0,StockIn!H648=\"\"),\"\",StockIn!H648)","v":""},{"$f":"IF(OR(StockIn!L648=0,StockIn!L648=\"\"),\"\",StockIn!L648)","v":""},{"$f":"IF(OR(StockIn!E648=0,StockIn!E648=\"\"),\"\",StockIn!E648)","v":""},{"$f":"IF(OR(StockIn!M648=0,StockIn!M648=\"\"),\"\",StockIn!M648)","v":""}]
[{"$f":"StockIn!A649","v":1647},{"$f":"IF(OR(StockIn!B649=0,StockIn!B649=\"\"),\"\",StockIn!B649)","v":""},{"$f":"IF(OR(StockIn!D649=0,StockIn!D649=\"\"),\"\",StockIn!D649)","v":""},{"$f":"IF(OR(StockIn!G649=0,StockIn!G649=\"\"),\"\",StockIn!G649)","v":""},{"$f":"IF(OR(StockIn!H649=0,StockIn!H649=\"\"),\"\",StockIn!H649)","v":""},{"$f":"IF(OR(StockIn!L649=0,StockIn!L649=\"\"),\"\",StockIn!L649)","v":""},{"$f":"IF(OR(StockIn!E649=0,StockIn!E649=\"\"),\"\",StockIn!E649)","v":""},{"$f":"IF(OR(StockIn!M649=0,StockIn!M649=\"\"),\"\",StockIn!M649)","v":""}]
[{"$f":"StockIn!A650","v":1648},{"$f":"IF(OR(StockIn!B650=0,StockIn!B650=\"\"),\"\",StockIn!B650)","v":""},{"$f":"IF(OR(StockIn!D650=0,StockIn!D650=\"\"),\"\",StockIn!D650)","v":""},{"$f":"IF(OR(StockIn!G650=0,StockIn!G650=\"\"),\"\",StockIn!G650)","v":""},{"$f":"IF(OR(StockIn!H650=0,StockIn!H650=\"\"),\"\",StockIn!H650)","v":""},{"$f":"IF(OR(StockIn!L650=0,StockIn!L650=\"\"),\"\",StockIn!L650)","v":""},{"$f":"IF(OR(StockIn!E650=0,StockIn!E650=\"\"),\"\",StockIn!E650)","v":""},{"$f":"IF(OR(StockIn!M650=0,StockIn!M650=\"\"),\"\",StockIn!M650)","v":""}]
[{"$f":"StockIn!A651","v":1649},{"$f":"IF(OR(StockIn!B651=0,StockIn!B651=\"\"),\"\",StockIn!B651)","v":""},{"$f":"IF(OR(StockIn!D651=0,StockIn!D651=\"\"),\"\",StockIn!D651)","v":""},{"$f":"IF(OR(StockIn!G651=0,StockIn!G651=\"\"),\"\",StockIn!G651)","v":""},{"$f":"IF(OR(StockIn!H651=0,StockIn!H651=\"\"),\"\",StockIn!H651)","v":""},{"$f":"IF(OR(StockIn!L651=0,StockIn!L651=\"\"),\"\",StockIn!L651)","v":""},{"$f":"IF(OR(StockIn!E651=0,StockIn!E651=\"\"),\"\",StockIn!E651)","v":""},{"$f":"IF(OR(StockIn!M651=0,StockIn!M651=\"\"),\"\",StockIn!M651)","v":""}]
[{"$f":"StockIn!A652","v":1650},{"$f":"IF(OR(StockIn!B652=0,StockIn!B652=\"\"),\"\",StockIn!B652)","v":""},{"$f":"IF(OR(StockIn!D652=0,StockIn!D652=\"\"),\"\",StockIn!D652)","v":""},{"$f":"IF(OR(StockIn!G652=0,StockIn!G652=\"\"),\"\",StockIn!G652)","v":""},{"$f":"IF(OR(StockIn!H652=0,StockIn!H652=\"\"),\"\",StockIn!H652)","v":""},{"$f":"IF(OR(StockIn!L652=0,StockIn!L652=\"\"),\"\",StockIn!L652)","v":""},{"$f":"IF(OR(StockIn!E652=0,StockIn!E652=\"\"),\"\",StockIn!E652)","v":""},{"$f":"IF(OR(StockIn!M652=0,StockIn!M652=\"\"),\"\",StockIn!M652)","v":""}]
[{"$f":"StockIn!A653","v":1651},{"$f":"IF(OR(StockIn!B653=0,StockIn!B653=\"\"),\"\",StockIn!B653)","v":""},{"$f":"IF(OR(StockIn!D653=0,StockIn!D653=\"\"),\"\",StockIn!D653)","v":""},{"$f":"IF(OR(StockIn!G653=0,StockIn!G653=\"\"),\"\",StockIn!G653)","v":""},{"$f":"IF(OR(StockIn!H653=0,StockIn!H653=\"\"),\"\",StockIn!H653)","v":""},{"$f":"IF(OR(StockIn!L653=0,StockIn!L653=\"\"),\"\",StockIn!L653)","v":""},{"$f":"IF(OR(StockIn!E653=0,StockIn!E653=\"\"),\"\",StockIn!E653)","v":""},{"$f":"IF(OR(StockIn!M653=0,StockIn!M653=\"\"),\"\",StockIn!M653)","v":""}]
[{"$f":"StockIn!A654","v":1652},{"$f":"IF(OR(StockIn!B654=0,StockIn!B654=\"\"),\"\",StockIn!B654)","v":""},{"$f":"IF(OR(StockIn!D654=0,StockIn!D654=\"\"),\"\",StockIn!D654)","v":""},{"$f":"IF(OR(StockIn!G654=0,StockIn!G654=\"\"),\"\",StockIn!G654)","v":""},{"$f":"IF(OR(StockIn!H654=0,StockIn!H654=\"\"),\"\",StockIn!H654)","v":""},{"$f":"IF(OR(StockIn!L654=0,StockIn!L654=\"\"),\"\",StockIn!L654)","v":""},{"$f":"IF(OR(StockIn!E654=0,StockIn!E654=\"\"),\"\",StockIn!E654)","v":""},{"$f":"IF(OR(StockIn!M654=0,StockIn!M654=\"\"),\"\",StockIn!M654)","v":""}]
[{"$f":"StockIn!A655","v":1653},{"$f":"IF(OR(StockIn!B655=0,StockIn!B655=\"\"),\"\",StockIn!B655)","v":""},{"$f":"IF(OR(StockIn!D655=0,StockIn!D655=\"\"),\"\",StockIn!D655)","v":""},{"$f":"IF(OR(StockIn!G655=0,StockIn!G655=\"\"),\"\",StockIn!G655)","v":""},{"$f":"IF(OR(StockIn!H655=0,StockIn!H655=\"\"),\"\",StockIn!H655)","v":""},{"$f":"IF(OR(StockIn!L655=0,StockIn!L655=\"\"),\"\",StockIn!L655)","v":""},{"$f":"IF(OR(StockIn!E655=0,StockIn!E655=\"\"),\"\",StockIn!E655)","v":""},{"$f":"IF(OR(StockIn!M655=0,StockIn!M655=\"\"),\"\",StockIn!M655)","v":""}]
[{"$f":"StockIn!A656","v":1654},{"$f":"IF(OR(StockIn!B656=0,StockIn!B656=\"\"),\"\",StockIn!B656)","v":""},{"$f":"IF(OR(StockIn!D656=0,StockIn!D656=\"\"),\"\",StockIn!D656)","v":""},{"$f":"IF(OR(StockIn!G656=0,StockIn!G656=\"\"),\"\",StockIn!G656)","v":""},{"$f":"IF(OR(StockIn!H656=0,StockIn!H656=\"\"),\"\",StockIn!H656)","v":""},{"$f":"IF(OR(StockIn!L656=0,StockIn!L656=\"\"),\"\",StockIn!L656)","v":""},{"$f":"IF(OR(StockIn!E656=0,StockIn!E656=\"\"),\"\",StockIn!E656)","v":""},{"$f":"IF(OR(StockIn!M656=0,StockIn!M656=\"\"),\"\",StockIn!M656)","v":""}]
[{"$f":"StockIn!A657","v":1655},{"$f":"IF(OR(StockIn!B657=0,StockIn!B657=\"\"),\"\",StockIn!B657)","v":""},{"$f":"IF(OR(StockIn!D657=0,StockIn!D657=\"\"),\"\",StockIn!D657)","v":""},{"$f":"IF(OR(StockIn!G657=0,StockIn!G657=\"\"),\"\",StockIn!G657)","v":""},{"$f":"IF(OR(StockIn!H657=0,StockIn!H657=\"\"),\"\",StockIn!H657)","v":""},{"$f":"IF(OR(StockIn!L657=0,StockIn!L657=\"\"),\"\",StockIn!L657)","v":""},{"$f":"IF(OR(StockIn!E657=0,StockIn!E657=\"\"),\"\",StockIn!E657)","v":""},{"$f":"IF(OR(StockIn!M657=0,StockIn!M657=\"\"),\"\",StockIn!M657)","v":""}]
[{"$f":"StockIn!A658","v":1656},{"$f":"IF(OR(StockIn!B658=0,StockIn!B658=\"\"),\"\",StockIn!B658)","v":""},{"$f":"IF(OR(StockIn!D658=0,StockIn!D658=\"\"),\"\",StockIn!D658)","v":""},{"$f":"IF(OR(StockIn!G658=0,StockIn!G658=\"\"),\"\",StockIn!G658)","v":""},{"$f":"IF(OR(StockIn!H658=0,StockIn!H658=\"\"),\"\",StockIn!H658)","v":""},{"$f":"IF(OR(StockIn!L658=0,StockIn!L658=\"\"),\"\",StockIn!L658)","v":""},{"$f":"IF(OR(StockIn!E658=0,StockIn!E658=\"\"),\"\",StockIn!E658)","v":""},{"$f":"IF(OR(StockIn!M658=0,StockIn!M658=\"\"),\"\",StockIn!M658)","v":""}]
[{"$f":"StockIn!A659","v":1657},{"$f":"IF(OR(StockIn!B659=0,StockIn!B659=\"\"),\"\",StockIn!B659)","v":""},{"$f":"IF(OR(StockIn!D659=0,StockIn!D659=\"\"),\"\",StockIn!D659)","v":""},{"$f":"IF(OR(StockIn!G659=0,StockIn!G659=\"\"),\"\",StockIn!G659)","v":""},{"$f":"IF(OR(StockIn!H659=0,StockIn!H659=\"\"),\"\",StockIn!H659)","v":""},{"$f":"IF(OR(StockIn!L659=0,StockIn!L659=\"\"),\"\",StockIn!L659)","v":""},{"$f":"IF(OR(StockIn!E659=0,StockIn!E659=\"\"),\"\",StockIn!E659)","v":""},{"$f":"IF(OR(StockIn!M659=0,StockIn!M659=\"\"),\"\",StockIn!M659)","v":""}]
[{"$f":"StockIn!A660","v":1658},{"$f":"IF(OR(StockIn!B660=0,StockIn!B660=\"\"),\"\",StockIn!B660)","v":""},{"$f":"IF(OR(StockIn!D660=0,StockIn!D660=\"\"),\"\",StockIn!D660)","v":""},{"$f":"IF(OR(StockIn!G660=0,StockIn!G660=\"\"),\"\",StockIn!G660)","v":""},{"$f":"IF(OR(StockIn!H660=0,StockIn!H660=\"\"),\"\",StockIn!H660)","v":""},{"$f":"IF(OR(StockIn!L660=0,StockIn!L660=\"\"),\"\",StockIn!L660)","v":""},{"$f":"IF(OR(StockIn!E660=0,StockIn!E660=\"\"),\"\",StockIn!E660)","v":""},{"$f":"IF(OR(StockIn!M660=0,StockIn!M660=\"\"),\"\",StockIn!M660)","v":""}]
[{"$f":"StockIn!A661","v":1659},{"$f":"IF(OR(StockIn!B661=0,StockIn!B661=\"\"),\"\",StockIn!B661)","v":""},{"$f":"IF(OR(StockIn!D661=0,StockIn!D661=\"\"),\"\",StockIn!D661)","v":""},{"$f":"IF(OR(StockIn!G661=0,StockIn!G661=\"\"),\"\",StockIn!G661)","v":""},{"$f":"IF(OR(StockIn!H661=0,StockIn!H661=\"\"),\"\",StockIn!H661)","v":""},{"$f":"IF(OR(StockIn!L661=0,StockIn!L661=\"\"),\"\",StockIn!L661)","v":""},{"$f":"IF(OR(StockIn!E661=0,StockIn!E661=\"\"),\"\",StockIn!E661)","v":""},{"$f":"IF(OR(StockIn!M661=0,StockIn!M661=\"\"),\"\",StockIn!M661)","v":""}]
[{"$f":"StockIn!A662","v":1660},{"$f":"IF(OR(StockIn!B662=0,StockIn!B662=\"\"),\"\",StockIn!B662)","v":""},{"$f":"IF(OR(StockIn!D662=0,StockIn!D662=\"\"),\"\",StockIn!D662)","v":""},{"$f":"IF(OR(StockIn!G662=0,StockIn!G662=\"\"),\"\",StockIn!G662)","v":""},{"$f":"IF(OR(StockIn!H662=0,StockIn!H662=\"\"),\"\",StockIn!H662)","v":""},{"$f":"IF(OR(StockIn!L662=0,StockIn!L662=\"\"),\"\",StockIn!L662)","v":""},{"$f":"IF(OR(StockIn!E662=0,StockIn!E662=\"\"),\"\",StockIn!E662)","v":""},{"$f":"IF(OR(StockIn!M662=0,StockIn!M662=\"\"),\"\",StockIn!M662)","v":""}]
[{"$f":"StockIn!A663","v":1661},{"$f":"IF(OR(StockIn!B663=0,StockIn!B663=\"\"),\"\",StockIn!B663)","v":""},{"$f":"IF(OR(StockIn!D663=0,StockIn!D663=\"\"),\"\",StockIn!D663)","v":""},{"$f":"IF(OR(StockIn!G663=0,StockIn!G663=\"\"),\"\",StockIn!G663)","v":""},{"$f":"IF(OR(StockIn!H663=0,StockIn!H663=\"\"),\"\",StockIn!H663)","v":""},{"$f":"IF(OR(StockIn!L663=0,StockIn!L663=\"\"),\"\",StockIn!L663)","v":""},{"$f":"IF(OR(StockIn!E663=0,StockIn!E663=\"\"),\"\",StockIn!E663)","v":""},{"$f":"IF(OR(StockIn!M663=0,StockIn!M663=\"\"),\"\",StockIn!M663)","v":""}]
[{"$f":"StockIn!A664","v":1662},{"$f":"IF(OR(StockIn!B664=0,StockIn!B664=\"\"),\"\",StockIn!B664)","v":""},{"$f":"IF(OR(StockIn!D664=0,StockIn!D664=\"\"),\"\",StockIn!D664)","v":""},{"$f":"IF(OR(StockIn!G664=0,StockIn!G664=\"\"),\"\",StockIn!G664)","v":""},{"$f":"IF(OR(StockIn!H664=0,StockIn!H664=\"\"),\"\",StockIn!H664)","v":""},{"$f":"IF(OR(StockIn!L664=0,StockIn!L664=\"\"),\"\",StockIn!L664)","v":""},{"$f":"IF(OR(StockIn!E664=0,StockIn!E664=\"\"),\"\",StockIn!E664)","v":""},{"$f":"IF(OR(StockIn!M664=0,StockIn!M664=\"\"),\"\",StockIn!M664)","v":""}]
[{"$f":"StockIn!A665","v":1663},{"$f":"IF(OR(StockIn!B665=0,StockIn!B665=\"\"),\"\",StockIn!B665)","v":""},{"$f":"IF(OR(StockIn!D665=0,StockIn!D665=\"\"),\"\",StockIn!D665)","v":""},{"$f":"IF(OR(StockIn!G665=0,StockIn!G665=\"\"),\"\",StockIn!G665)","v":""},{"$f":"IF(OR(StockIn!H665=0,StockIn!H665=\"\"),\"\",StockIn!H665)","v":""},{"$f":"IF(OR(StockIn!L665=0,StockIn!L665=\"\"),\"\",StockIn!L665)","v":""},{"$f":"IF(OR(StockIn!E665=0,StockIn!E665=\"\"),\"\",StockIn!E665)","v":""},{"$f":"IF(OR(StockIn!M665=0,StockIn!M665=\"\"),\"\",StockIn!M665)","v":""}]
[{"$f":"StockIn!A666","v":1664},{"$f":"IF(OR(StockIn!B666=0,StockIn!B666=\"\"),\"\",StockIn!B666)","v":""},{"$f":"IF(OR(StockIn!D666=0,StockIn!D666=\"\"),\"\",StockIn!D666)","v":""},{"$f":"IF(OR(StockIn!G666=0,StockIn!G666=\"\"),\"\",StockIn!G666)","v":""},{"$f":"IF(OR(StockIn!H666=0,StockIn!H666=\"\"),\"\",StockIn!H666)","v":""},{"$f":"IF(OR(StockIn!L666=0,StockIn!L666=\"\"),\"\",StockIn!L666)","v":""},{"$f":"IF(OR(StockIn!E666=0,StockIn!E666=\"\"),\"\",StockIn!E666)","v":""},{"$f":"IF(OR(StockIn!M666=0,StockIn!M666=\"\"),\"\",StockIn!M666)","v":""}]
[{"$f":"StockIn!A667","v":1665},{"$f":"IF(OR(StockIn!B667=0,StockIn!B667=\"\"),\"\",StockIn!B667)","v":""},{"$f":"IF(OR(StockIn!D667=0,StockIn!D667=\"\"),\"\",StockIn!D667)","v":""},{"$f":"IF(OR(StockIn!G667=0,StockIn!G667=\"\"),\"\",StockIn!G667)","v":""},{"$f":"IF(OR(StockIn!H667=0,StockIn!H667=\"\"),\"\",StockIn!H667)","v":""},{"$f":"IF(OR(StockIn!L667=0,StockIn!L667=\"\"),\"\",StockIn!L667)","v":""},{"$f":"IF(OR(StockIn!E667=0,StockIn!E667=\"\"),\"\",StockIn!E667)","v":""},{"$f":"IF(OR(StockIn!M667=0,StockIn!M667=\"\"),\"\",StockIn!M667)","v":""}]
[{"$f":"StockIn!A668","v":1666},{"$f":"IF(OR(StockIn!B668=0,StockIn!B668=\"\"),\"\",StockIn!B668)","v":""},{"$f":"IF(OR(StockIn!D668=0,StockIn!D668=\"\"),\"\",StockIn!D668)","v":""},{"$f":"IF(OR(StockIn!G668=0,StockIn!G668=\"\"),\"\",StockIn!G668)","v":""},{"$f":"IF(OR(StockIn!H668=0,StockIn!H668=\"\"),\"\",StockIn!H668)","v":""},{"$f":"IF(OR(StockIn!L668=0,StockIn!L668=\"\"),\"\",StockIn!L668)","v":""},{"$f":"IF(OR(StockIn!E668=0,StockIn!E668=\"\"),\"\",StockIn!E668)","v":""},{"$f":"IF(OR(StockIn!M668=0,StockIn!M668=\"\"),\"\",StockIn!M668)","v":""}]
[{"$f":"StockIn!A669","v":1667},{"$f":"IF(OR(StockIn!B669=0,StockIn!B669=\"\"),\"\",StockIn!B669)","v":""},{"$f":"IF(OR(StockIn!D669=0,StockIn!D669=\"\"),\"\",StockIn!D669)","v":""},{"$f":"IF(OR(StockIn!G669=0,StockIn!G669=\"\"),\"\",StockIn!G669)","v":""},{"$f":"IF(OR(StockIn!H669=0,StockIn!H669=\"\"),\"\",StockIn!H669)","v":""},{"$f":"IF(OR(StockIn!L669=0,StockIn!L669=\"\"),\"\",StockIn!L669)","v":""},{"$f":"IF(OR(StockIn!E669=0,StockIn!E669=\"\"),\"\",StockIn!E669)","v":""},{"$f":"IF(OR(StockIn!M669=0,StockIn!M669=\"\"),\"\",StockIn!M669)","v":""}]
[{"$f":"StockIn!A670","v":1668},{"$f":"IF(OR(StockIn!B670=0,StockIn!B670=\"\"),\"\",StockIn!B670)","v":""},{"$f":"IF(OR(StockIn!D670=0,StockIn!D670=\"\"),\"\",StockIn!D670)","v":""},{"$f":"IF(OR(StockIn!G670=0,StockIn!G670=\"\"),\"\",StockIn!G670)","v":""},{"$f":"IF(OR(StockIn!H670=0,StockIn!H670=\"\"),\"\",StockIn!H670)","v":""},{"$f":"IF(OR(StockIn!L670=0,StockIn!L670=\"\"),\"\",StockIn!L670)","v":""},{"$f":"IF(OR(StockIn!E670=0,StockIn!E670=\"\"),\"\",StockIn!E670)","v":""},{"$f":"IF(OR(StockIn!M670=0,StockIn!M670=\"\"),\"\",StockIn!M670)","v":""}]
[{"$f":"StockIn!A671","v":1669},{"$f":"IF(OR(StockIn!B671=0,StockIn!B671=\"\"),\"\",StockIn!B671)","v":""},{"$f":"IF(OR(StockIn!D671=0,StockIn!D671=\"\"),\"\",StockIn!D671)","v":""},{"$f":"IF(OR(StockIn!G671=0,StockIn!G671=\"\"),\"\",StockIn!G671)","v":""},{"$f":"IF(OR(StockIn!H671=0,StockIn!H671=\"\"),\"\",StockIn!H671)","v":""},{"$f":"IF(OR(StockIn!L671=0,StockIn!L671=\"\"),\"\",StockIn!L671)","v":""},{"$f":"IF(OR(StockIn!E671=0,StockIn!E671=\"\"),\"\",StockIn!E671)","v":""},{"$f":"IF(OR(StockIn!M671=0,StockIn!M671=\"\"),\"\",StockIn!M671)","v":""}]
[{"$f":"StockIn!A672","v":1670},{"$f":"IF(OR(StockIn!B672=0,StockIn!B672=\"\"),\"\",StockIn!B672)","v":""},{"$f":"IF(OR(StockIn!D672=0,StockIn!D672=\"\"),\"\",StockIn!D672)","v":""},{"$f":"IF(OR(StockIn!G672=0,StockIn!G672=\"\"),\"\",StockIn!G672)","v":""},{"$f":"IF(OR(StockIn!H672=0,StockIn!H672=\"\"),\"\",StockIn!H672)","v":""},{"$f":"IF(OR(StockIn!L672=0,StockIn!L672=\"\"),\"\",StockIn!L672)","v":""},{"$f":"IF(OR(StockIn!E672=0,StockIn!E672=\"\"),\"\",StockIn!E672)","v":""},{"$f":"IF(OR(StockIn!M672=0,StockIn!M672=\"\"),\"\",StockIn!M672)","v":""}]
[{"$f":"StockIn!A673","v":1671},{"$f":"IF(OR(StockIn!B673=0,StockIn!B673=\"\"),\"\",StockIn!B673)","v":""},{"$f":"IF(OR(StockIn!D673=0,StockIn!D673=\"\"),\"\",StockIn!D673)","v":""},{"$f":"IF(OR(StockIn!G673=0,StockIn!G673=\"\"),\"\",StockIn!G673)","v":""},{"$f":"IF(OR(StockIn!H673=0,StockIn!H673=\"\"),\"\",StockIn!H673)","v":""},{"$f":"IF(OR(StockIn!L673=0,StockIn!L673=\"\"),\"\",StockIn!L673)","v":""},{"$f":"IF(OR(StockIn!E673=0,StockIn!E673=\"\"),\"\",StockIn!E673)","v":""},{"$f":"IF(OR(StockIn!M673=0,StockIn!M673=\"\"),\"\",StockIn!M673)","v":""}]
[{"$f":"StockIn!A674","v":1672},{"$f":"IF(OR(StockIn!B674=0,StockIn!B674=\"\"),\"\",StockIn!B674)","v":""},{"$f":"IF(OR(StockIn!D674=0,StockIn!D674=\"\"),\"\",StockIn!D674)","v":""},{"$f":"IF(OR(StockIn!G674=0,StockIn!G674=\"\"),\"\",StockIn!G674)","v":""},{"$f":"IF(OR(StockIn!H674=0,StockIn!H674=\"\"),\"\",StockIn!H674)","v":""},{"$f":"IF(OR(StockIn!L674=0,StockIn!L674=\"\"),\"\",StockIn!L674)","v":""},{"$f":"IF(OR(StockIn!E674=0,StockIn!E674=\"\"),\"\",StockIn!E674)","v":""},{"$f":"IF(OR(StockIn!M674=0,StockIn!M674=\"\"),\"\",StockIn!M674)","v":""}]
[{"$f":"StockIn!A675","v":1673},{"$f":"IF(OR(StockIn!B675=0,StockIn!B675=\"\"),\"\",StockIn!B675)","v":""},{"$f":"IF(OR(StockIn!D675=0,StockIn!D675=\"\"),\"\",StockIn!D675)","v":""},{"$f":"IF(OR(StockIn!G675=0,StockIn!G675=\"\"),\"\",StockIn!G675)","v":""},{"$f":"IF(OR(StockIn!H675=0,StockIn!H675=\"\"),\"\",StockIn!H675)","v":""},{"$f":"IF(OR(StockIn!L675=0,StockIn!L675=\"\"),\"\",StockIn!L675)","v":""},{"$f":"IF(OR(StockIn!E675=0,StockIn!E675=\"\"),\"\",StockIn!E675)","v":""},{"$f":"IF(OR(StockIn!M675=0,StockIn!M675=\"\"),\"\",StockIn!M675)","v":""}]
[{"$f":"StockIn!A676","v":1674},{"$f":"IF(OR(StockIn!B676=0,StockIn!B676=\"\"),\"\",StockIn!B676)","v":""},{"$f":"IF(OR(StockIn!D676=0,StockIn!D676=\"\"),\"\",StockIn!D676)","v":""},{"$f":"IF(OR(StockIn!G676=0,StockIn!G676=\"\"),\"\",StockIn!G676)","v":""},{"$f":"IF(OR(StockIn!H676=0,StockIn!H676=\"\"),\"\",StockIn!H676)","v":""},{"$f":"IF(OR(StockIn!L676=0,StockIn!L676=\"\"),\"\",StockIn!L676)","v":""},{"$f":"IF(OR(StockIn!E676=0,StockIn!E676=\"\"),\"\",StockIn!E676)","v":""},{"$f":"IF(OR(StockIn!M676=0,StockIn!M676=\"\"),\"\",StockIn!M676)","v":""}]
[{"$f":"StockIn!A677","v":1675},{"$f":"IF(OR(StockIn!B677=0,StockIn!B677=\"\"),\"\",StockIn!B677)","v":""},{"$f":"IF(OR(StockIn!D677=0,StockIn!D677=\"\"),\"\",StockIn!D677)","v":""},{"$f":"IF(OR(StockIn!G677=0,StockIn!G677=\"\"),\"\",StockIn!G677)","v":""},{"$f":"IF(OR(StockIn!H677=0,StockIn!H677=\"\"),\"\",StockIn!H677)","v":""},{"$f":"IF(OR(StockIn!L677=0,StockIn!L677=\"\"),\"\",StockIn!L677)","v":""},{"$f":"IF(OR(StockIn!E677=0,StockIn!E677=\"\"),\"\",StockIn!E677)","v":""},{"$f":"IF(OR(StockIn!M677=0,StockIn!M677=\"\"),\"\",StockIn!M677)","v":""}]
[{"$f":"StockIn!A678","v":1676},{"$f":"IF(OR(StockIn!B678=0,StockIn!B678=\"\"),\"\",StockIn!B678)","v":""},{"$f":"IF(OR(StockIn!D678=0,StockIn!D678=\"\"),\"\",StockIn!D678)","v":""},{"$f":"IF(OR(StockIn!G678=0,StockIn!G678=\"\"),\"\",StockIn!G678)","v":""},{"$f":"IF(OR(StockIn!H678=0,StockIn!H678=\"\"),\"\",StockIn!H678)","v":""},{"$f":"IF(OR(StockIn!L678=0,StockIn!L678=\"\"),\"\",StockIn!L678)","v":""},{"$f":"IF(OR(StockIn!E678=0,StockIn!E678=\"\"),\"\",StockIn!E678)","v":""},{"$f":"IF(OR(StockIn!M678=0,StockIn!M678=\"\"),\"\",StockIn!M678)","v":""}]
[{"$f":"StockIn!A679","v":1677},{"$f":"IF(OR(StockIn!B679=0,StockIn!B679=\"\"),\"\",StockIn!B679)","v":""},{"$f":"IF(OR(StockIn!D679=0,StockIn!D679=\"\"),\"\",StockIn!D679)","v":""},{"$f":"IF(OR(StockIn!G679=0,StockIn!G679=\"\"),\"\",StockIn!G679)","v":""},{"$f":"IF(OR(StockIn!H679=0,StockIn!H679=\"\"),\"\",StockIn!H679)","v":""},{"$f":"IF(OR(StockIn!L679=0,StockIn!L679=\"\"),\"\",StockIn!L679)","v":""},{"$f":"IF(OR(StockIn!E679=0,StockIn!E679=\"\"),\"\",StockIn!E679)","v":""},{"$f":"IF(OR(StockIn!M679=0,StockIn!M679=\"\"),\"\",StockIn!M679)","v":""}]
[{"$f":"StockIn!A680","v":1678},{"$f":"IF(OR(StockIn!B680=0,StockIn!B680=\"\"),\"\",StockIn!B680)","v":""},{"$f":"IF(OR(StockIn!D680=0,StockIn!D680=\"\"),\"\",StockIn!D680)","v":""},{"$f":"IF(OR(StockIn!G680=0,StockIn!G680=\"\"),\"\",StockIn!G680)","v":""},{"$f":"IF(OR(StockIn!H680=0,StockIn!H680=\"\"),\"\",StockIn!H680)","v":""},{"$f":"IF(OR(StockIn!L680=0,StockIn!L680=\"\"),\"\",StockIn!L680)","v":""},{"$f":"IF(OR(StockIn!E680=0,StockIn!E680=\"\"),\"\",StockIn!E680)","v":""},{"$f":"IF(OR(StockIn!M680=0,StockIn!M680=\"\"),\"\",StockIn!M680)","v":""}]
[{"$f":"StockIn!A681","v":1679},{"$f":"IF(OR(StockIn!B681=0,StockIn!B681=\"\"),\"\",StockIn!B681)","v":""},{"$f":"IF(OR(StockIn!D681=0,StockIn!D681=\"\"),\"\",StockIn!D681)","v":""},{"$f":"IF(OR(StockIn!G681=0,StockIn!G681=\"\"),\"\",StockIn!G681)","v":""},{"$f":"IF(OR(StockIn!H681=0,StockIn!H681=\"\"),\"\",StockIn!H681)","v":""},{"$f":"IF(OR(StockIn!L681=0,StockIn!L681=\"\"),\"\",StockIn!L681)","v":""},{"$f":"IF(OR(StockIn!E681=0,StockIn!E681=\"\"),\"\",StockIn!E681)","v":""},{"$f":"IF(OR(StockIn!M681=0,StockIn!M681=\"\"),\"\",StockIn!M681)","v":""}]
[{"$f":"StockIn!A682","v":1680},{"$f":"IF(OR(StockIn!B682=0,StockIn!B682=\"\"),\"\",StockIn!B682)","v":""},{"$f":"IF(OR(StockIn!D682=0,StockIn!D682=\"\"),\"\",StockIn!D682)","v":""},{"$f":"IF(OR(StockIn!G682=0,StockIn!G682=\"\"),\"\",StockIn!G682)","v":""},{"$f":"IF(OR(StockIn!H682=0,StockIn!H682=\"\"),\"\",StockIn!H682)","v":""},{"$f":"IF(OR(StockIn!L682=0,StockIn!L682=\"\"),\"\",StockIn!L682)","v":""},{"$f":"IF(OR(StockIn!E682=0,StockIn!E682=\"\"),\"\",StockIn!E682)","v":""},{"$f":"IF(OR(StockIn!M682=0,StockIn!M682=\"\"),\"\",StockIn!M682)","v":""}]
[{"$f":"StockIn!A683","v":1681},{"$f":"IF(OR(StockIn!B683=0,StockIn!B683=\"\"),\"\",StockIn!B683)","v":""},{"$f":"IF(OR(StockIn!D683=0,StockIn!D683=\"\"),\"\",StockIn!D683)","v":""},{"$f":"IF(OR(StockIn!G683=0,StockIn!G683=\"\"),\"\",StockIn!G683)","v":""},{"$f":"IF(OR(StockIn!H683=0,StockIn!H683=\"\"),\"\",StockIn!H683)","v":""},{"$f":"IF(OR(StockIn!L683=0,StockIn!L683=\"\"),\"\",StockIn!L683)","v":""},{"$f":"IF(OR(StockIn!E683=0,StockIn!E683=\"\"),\"\",StockIn!E683)","v":""},{"$f":"IF(OR(StockIn!M683=0,StockIn!M683=\"\"),\"\",StockIn!M683)","v":""}]
[{"$f":"StockIn!A684","v":1682},{"$f":"IF(OR(StockIn!B684=0,StockIn!B684=\"\"),\"\",StockIn!B684)","v":""},{"$f":"IF(OR(StockIn!D684=0,StockIn!D684=\"\"),\"\",StockIn!D684)","v":""},{"$f":"IF(OR(StockIn!G684=0,StockIn!G684=\"\"),\"\",StockIn!G684)","v":""},{"$f":"IF(OR(StockIn!H684=0,StockIn!H684=\"\"),\"\",StockIn!H684)","v":""},{"$f":"IF(OR(StockIn!L684=0,StockIn!L684=\"\"),\"\",StockIn!L684)","v":""},{"$f":"IF(OR(StockIn!E684=0,StockIn!E684=\"\"),\"\",StockIn!E684)","v":""},{"$f":"IF(OR(StockIn!M684=0,StockIn!M684=\"\"),\"\",StockIn!M684)","v":""}]
[{"$f":"StockIn!A685","v":1683},{"$f":"IF(OR(StockIn!B685=0,StockIn!B685=\"\"),\"\",StockIn!B685)","v":""},{"$f":"IF(OR(StockIn!D685=0,StockIn!D685=\"\"),\"\",StockIn!D685)","v":""},{"$f":"IF(OR(StockIn!G685=0,StockIn!G685=\"\"),\"\",StockIn!G685)","v":""},{"$f":"IF(OR(StockIn!H685=0,StockIn!H685=\"\"),\"\",StockIn!H685)","v":""},{"$f":"IF(OR(StockIn!L685=0,StockIn!L685=\"\"),\"\",StockIn!L685)","v":""},{"$f":"IF(OR(StockIn!E685=0,StockIn!E685=\"\"),\"\",StockIn!E685)","v":""},{"$f":"IF(OR(StockIn!M685=0,StockIn!M685=\"\"),\"\",StockIn!M685)","v":""}]
[{"$f":"StockIn!A686","v":1684},{"$f":"IF(OR(StockIn!B686=0,StockIn!B686=\"\"),\"\",StockIn!B686)","v":""},{"$f":"IF(OR(StockIn!D686=0,StockIn!D686=\"\"),\"\",StockIn!D686)","v":""},{"$f":"IF(OR(StockIn!G686=0,StockIn!G686=\"\"),\"\",StockIn!G686)","v":""},{"$f":"IF(OR(StockIn!H686=0,StockIn!H686=\"\"),\"\",StockIn!H686)","v":""},{"$f":"IF(OR(StockIn!L686=0,StockIn!L686=\"\"),\"\",StockIn!L686)","v":""},{"$f":"IF(OR(StockIn!E686=0,StockIn!E686=\"\"),\"\",StockIn!E686)","v":""},{"$f":"IF(OR(StockIn!M686=0,StockIn!M686=\"\"),\"\",StockIn!M686)","v":""}]
[{"$f":"StockIn!A687","v":1685},{"$f":"IF(OR(StockIn!B687=0,StockIn!B687=\"\"),\"\",StockIn!B687)","v":""},{"$f":"IF(OR(StockIn!D687=0,StockIn!D687=\"\"),\"\",StockIn!D687)","v":""},{"$f":"IF(OR(StockIn!G687=0,StockIn!G687=\"\"),\"\",StockIn!G687)","v":""},{"$f":"IF(OR(StockIn!H687=0,StockIn!H687=\"\"),\"\",StockIn!H687)","v":""},{"$f":"IF(OR(StockIn!L687=0,StockIn!L687=\"\"),\"\",StockIn!L687)","v":""},{"$f":"IF(OR(StockIn!E687=0,StockIn!E687=\"\"),\"\",StockIn!E687)","v":""},{"$f":"IF(OR(StockIn!M687=0,StockIn!M687=\"\"),\"\",StockIn!M687)","v":""}]
[{"$f":"StockIn!A688","v":1686},{"$f":"IF(OR(StockIn!B688=0,StockIn!B688=\"\"),\"\",StockIn!B688)","v":""},{"$f":"IF(OR(StockIn!D688=0,StockIn!D688=\"\"),\"\",StockIn!D688)","v":""},{"$f":"IF(OR(StockIn!G688=0,StockIn!G688=\"\"),\"\",StockIn!G688)","v":""},{"$f":"IF(OR(StockIn!H688=0,StockIn!H688=\"\"),\"\",StockIn!H688)","v":""},{"$f":"IF(OR(StockIn!L688=0,StockIn!L688=\"\"),\"\",StockIn!L688)","v":""},{"$f":"IF(OR(StockIn!E688=0,StockIn!E688=\"\"),\"\",StockIn!E688)","v":""},{"$f":"IF(OR(StockIn!M688=0,StockIn!M688=\"\"),\"\",StockIn!M688)","v":""}]
[{"$f":"StockIn!A689","v":1687},{"$f":"IF(OR(StockIn!B689=0,StockIn!B689=\"\"),\"\",StockIn!B689)","v":""},{"$f":"IF(OR(StockIn!D689=0,StockIn!D689=\"\"),\"\",StockIn!D689)","v":""},{"$f":"IF(OR(StockIn!G689=0,StockIn!G689=\"\"),\"\",StockIn!G689)","v":""},{"$f":"IF(OR(StockIn!H689=0,StockIn!H689=\"\"),\"\",StockIn!H689)","v":""},{"$f":"IF(OR(StockIn!L689=0,StockIn!L689=\"\"),\"\",StockIn!L689)","v":""},{"$f":"IF(OR(StockIn!E689=0,StockIn!E689=\"\"),\"\",StockIn!E689)","v":""},{"$f":"IF(OR(StockIn!M689=0,StockIn!M689=\"\"),\"\",StockIn!M689)","v":""}]
[{"$f":"StockIn!A690","v":1688},{"$f":"IF(OR(StockIn!B690=0,StockIn!B690=\"\"),\"\",StockIn!B690)","v":""},{"$f":"IF(OR(StockIn!D690=0,StockIn!D690=\"\"),\"\",StockIn!D690)","v":""},{"$f":"IF(OR(StockIn!G690=0,StockIn!G690=\"\"),\"\",StockIn!G690)","v":""},{"$f":"IF(OR(StockIn!H690=0,StockIn!H690=\"\"),\"\",StockIn!H690)","v":""},{"$f":"IF(OR(StockIn!L690=0,StockIn!L690=\"\"),\"\",StockIn!L690)","v":""},{"$f":"IF(OR(StockIn!E690=0,StockIn!E690=\"\"),\"\",StockIn!E690)","v":""},{"$f":"IF(OR(StockIn!M690=0,StockIn!M690=\"\"),\"\",StockIn!M690)","v":""}]
[{"$f":"StockIn!A691","v":1689},{"$f":"IF(OR(StockIn!B691=0,StockIn!B691=\"\"),\"\",StockIn!B691)","v":""},{"$f":"IF(OR(StockIn!D691=0,StockIn!D691=\"\"),\"\",StockIn!D691)","v":""},{"$f":"IF(OR(StockIn!G691=0,StockIn!G691=\"\"),\"\",StockIn!G691)","v":""},{"$f":"IF(OR(StockIn!H691=0,StockIn!H691=\"\"),\"\",StockIn!H691)","v":""},{"$f":"IF(OR(StockIn!L691=0,StockIn!L691=\"\"),\"\",StockIn!L691)","v":""},{"$f":"IF(OR(StockIn!E691=0,StockIn!E691=\"\"),\"\",StockIn!E691)","v":""},{"$f":"IF(OR(StockIn!M691=0,StockIn!M691=\"\"),\"\",StockIn!M691)","v":""}]
[{"$f":"StockIn!A692","v":1690},{"$f":"IF(OR(StockIn!B692=0,StockIn!B692=\"\"),\"\",StockIn!B692)","v":""},{"$f":"IF(OR(StockIn!D692=0,StockIn!D692=\"\"),\"\",StockIn!D692)","v":""},{"$f":"IF(OR(StockIn!G692=0,StockIn!G692=\"\"),\"\",StockIn!G692)","v":""},{"$f":"IF(OR(StockIn!H692=0,StockIn!H692=\"\"),\"\",StockIn!H692)","v":""},{"$f":"IF(OR(StockIn!L692=0,StockIn!L692=\"\"),\"\",StockIn!L692)","v":""},{"$f":"IF(OR(StockIn!E692=0,StockIn!E692=\"\"),\"\",StockIn!E692)","v":""},{"$f":"IF(OR(StockIn!M692=0,StockIn!M692=\"\"),\"\",StockIn!M692)","v":""}]
[{"$f":"StockIn!A693","v":1691},{"$f":"IF(OR(StockIn!B693=0,StockIn!B693=\"\"),\"\",StockIn!B693)","v":""},{"$f":"IF(OR(StockIn!D693=0,StockIn!D693=\"\"),\"\",StockIn!D693)","v":""},{"$f":"IF(OR(StockIn!G693=0,StockIn!G693=\"\"),\"\",StockIn!G693)","v":""},{"$f":"IF(OR(StockIn!H693=0,StockIn!H693=\"\"),\"\",StockIn!H693)","v":""},{"$f":"IF(OR(StockIn!L693=0,StockIn!L693=\"\"),\"\",StockIn!L693)","v":""},{"$f":"IF(OR(StockIn!E693=0,StockIn!E693=\"\"),\"\",StockIn!E693)","v":""},{"$f":"IF(OR(StockIn!M693=0,StockIn!M693=\"\"),\"\",StockIn!M693)","v":""}]
[{"$f":"StockIn!A694","v":1692},{"$f":"IF(OR(StockIn!B694=0,StockIn!B694=\"\"),\"\",StockIn!B694)","v":""},{"$f":"IF(OR(StockIn!D694=0,StockIn!D694=\"\"),\"\",StockIn!D694)","v":""},{"$f":"IF(OR(StockIn!G694=0,StockIn!G694=\"\"),\"\",StockIn!G694)","v":""},{"$f":"IF(OR(StockIn!H694=0,StockIn!H694=\"\"),\"\",StockIn!H694)","v":""},{"$f":"IF(OR(StockIn!L694=0,StockIn!L694=\"\"),\"\",StockIn!L694)","v":""},{"$f":"IF(OR(StockIn!E694=0,StockIn!E694=\"\"),\"\",StockIn!E694)","v":""},{"$f":"IF(OR(StockIn!M694=0,StockIn!M694=\"\"),\"\",StockIn!M694)","v":""}]
[{"$f":"StockIn!A695","v":1693},{"$f":"IF(OR(StockIn!B695=0,StockIn!B695=\"\"),\"\",StockIn!B695)","v":""},{"$f":"IF(OR(StockIn!D695=0,StockIn!D695=\"\"),\"\",StockIn!D695)","v":""},{"$f":"IF(OR(StockIn!G695=0,StockIn!G695=\"\"),\"\",StockIn!G695)","v":""},{"$f":"IF(OR(StockIn!H695=0,StockIn!H695=\"\"),\"\",StockIn!H695)","v":""},{"$f":"IF(OR(StockIn!L695=0,StockIn!L695=\"\"),\"\",StockIn!L695)","v":""},{"$f":"IF(OR(StockIn!E695=0,StockIn!E695=\"\"),\"\",StockIn!E695)","v":""},{"$f":"IF(OR(StockIn!M695=0,StockIn!M695=\"\"),\"\",StockIn!M695)","v":""}]
[{"$f":"StockIn!A696","v":1694},{"$f":"IF(OR(StockIn!B696=0,StockIn!B696=\"\"),\"\",StockIn!B696)","v":""},{"$f":"IF(OR(StockIn!D696=0,StockIn!D696=\"\"),\"\",StockIn!D696)","v":""},{"$f":"IF(OR(StockIn!G696=0,StockIn!G696=\"\"),\"\",StockIn!G696)","v":""},{"$f":"IF(OR(StockIn!H696=0,StockIn!H696=\"\"),\"\",StockIn!H696)","v":""},{"$f":"IF(OR(StockIn!L696=0,StockIn!L696=\"\"),\"\",StockIn!L696)","v":""},{"$f":"IF(OR(StockIn!E696=0,StockIn!E696=\"\"),\"\",StockIn!E696)","v":""},{"$f":"IF(OR(StockIn!M696=0,StockIn!M696=\"\"),\"\",StockIn!M696)","v":""}]
[{"$f":"StockIn!A697","v":1695},{"$f":"IF(OR(StockIn!B697=0,StockIn!B697=\"\"),\"\",StockIn!B697)","v":""},{"$f":"IF(OR(StockIn!D697=0,StockIn!D697=\"\"),\"\",StockIn!D697)","v":""},{"$f":"IF(OR(StockIn!G697=0,StockIn!G697=\"\"),\"\",StockIn!G697)","v":""},{"$f":"IF(OR(StockIn!H697=0,StockIn!H697=\"\"),\"\",StockIn!H697)","v":""},{"$f":"IF(OR(StockIn!L697=0,StockIn!L697=\"\"),\"\",StockIn!L697)","v":""},{"$f":"IF(OR(StockIn!E697=0,StockIn!E697=\"\"),\"\",StockIn!E697)","v":""},{"$f":"IF(OR(StockIn!M697=0,StockIn!M697=\"\"),\"\",StockIn!M697)","v":""}]
[{"$f":"StockIn!A698","v":1696},{"$f":"IF(OR(StockIn!B698=0,StockIn!B698=\"\"),\"\",StockIn!B698)","v":""},{"$f":"IF(OR(StockIn!D698=0,StockIn!D698=\"\"),\"\",StockIn!D698)","v":""},{"$f":"IF(OR(StockIn!G698=0,StockIn!G698=\"\"),\"\",StockIn!G698)","v":""},{"$f":"IF(OR(StockIn!H698=0,StockIn!H698=\"\"),\"\",StockIn!H698)","v":""},{"$f":"IF(OR(StockIn!L698=0,StockIn!L698=\"\"),\"\",StockIn!L698)","v":""},{"$f":"IF(OR(StockIn!E698=0,StockIn!E698=\"\"),\"\",StockIn!E698)","v":""},{"$f":"IF(OR(StockIn!M698=0,StockIn!M698=\"\"),\"\",StockIn!M698)","v":""}]
[{"$f":"StockIn!A699","v":1697},{"$f":"IF(OR(StockIn!B699=0,StockIn!B699=\"\"),\"\",StockIn!B699)","v":""},{"$f":"IF(OR(StockIn!D699=0,StockIn!D699=\"\"),\"\",StockIn!D699)","v":""},{"$f":"IF(OR(StockIn!G699=0,StockIn!G699=\"\"),\"\",StockIn!G699)","v":""},{"$f":"IF(OR(StockIn!H699=0,StockIn!H699=\"\"),\"\",StockIn!H699)","v":""},{"$f":"IF(OR(StockIn!L699=0,StockIn!L699=\"\"),\"\",StockIn!L699)","v":""},{"$f":"IF(OR(StockIn!E699=0,StockIn!E699=\"\"),\"\",StockIn!E699)","v":""},{"$f":"IF(OR(StockIn!M699=0,StockIn!M699=\"\"),\"\",StockIn!M699)","v":""}]
[{"$f":"StockIn!A700","v":1698},{"$f":"IF(OR(StockIn!B700=0,StockIn!B700=\"\"),\"\",StockIn!B700)","v":""},{"$f":"IF(OR(StockIn!D700=0,StockIn!D700=\"\"),\"\",StockIn!D700)","v":""},{"$f":"IF(OR(StockIn!G700=0,StockIn!G700=\"\"),\"\",StockIn!G700)","v":""},{"$f":"IF(OR(StockIn!H700=0,StockIn!H700=\"\"),\"\",StockIn!H700)","v":""},{"$f":"IF(OR(StockIn!L700=0,StockIn!L700=\"\"),\"\",StockIn!L700)","v":""},{"$f":"IF(OR(StockIn!E700=0,StockIn!E700=\"\"),\"\",StockIn!E700)","v":""},{"$f":"IF(OR(StockIn!M700=0,StockIn!M700=\"\"),\"\",StockIn!M700)","v":""}]
[{"$f":"StockIn!A701","v":1699},{"$f":"IF(OR(StockIn!B701=0,StockIn!B701=\"\"),\"\",StockIn!B701)","v":""},{"$f":"IF(OR(StockIn!D701=0,StockIn!D701=\"\"),\"\",StockIn!D701)","v":""},{"$f":"IF(OR(StockIn!G701=0,StockIn!G701=\"\"),\"\",StockIn!G701)","v":""},{"$f":"IF(OR(StockIn!H701=0,StockIn!H701=\"\"),\"\",StockIn!H701)","v":""},{"$f":"IF(OR(StockIn!L701=0,StockIn!L701=\"\"),\"\",StockIn!L701)","v":""},{"$f":"IF(OR(StockIn!E701=0,StockIn!E701=\"\"),\"\",StockIn!E701)","v":""},{"$f":"IF(OR(StockIn!M701=0,StockIn!M701=\"\"),\"\",StockIn!M701)","v":""}]
[{"$f":"StockIn!A702","v":1700},{"$f":"IF(OR(StockIn!B702=0,StockIn!B702=\"\"),\"\",StockIn!B702)","v":""},{"$f":"IF(OR(StockIn!D702=0,StockIn!D702=\"\"),\"\",StockIn!D702)","v":""},{"$f":"IF(OR(StockIn!G702=0,StockIn!G702=\"\"),\"\",StockIn!G702)","v":""},{"$f":"IF(OR(StockIn!H702=0,StockIn!H702=\"\"),\"\",StockIn!H702)","v":""},{"$f":"IF(OR(StockIn!L702=0,StockIn!L702=\"\"),\"\",StockIn!L702)","v":""},{"$f":"IF(OR(StockIn!E702=0,StockIn!E702=\"\"),\"\",StockIn!E702)","v":""},{"$f":"IF(OR(StockIn!M702=0,StockIn!M702=\"\"),\"\",StockIn!M702)","v":""}]
[{"$f":"StockIn!A703","v":1701},{"$f":"IF(OR(StockIn!B703=0,StockIn!B703=\"\"),\"\",StockIn!B703)","v":""},{"$f":"IF(OR(StockIn!D703=0,StockIn!D703=\"\"),\"\",StockIn!D703)","v":""},{"$f":"IF(OR(StockIn!G703=0,StockIn!G703=\"\"),\"\",StockIn!G703)","v":""},{"$f":"IF(OR(StockIn!H703=0,StockIn!H703=\"\"),\"\",StockIn!H703)","v":""},{"$f":"IF(OR(StockIn!L703=0,StockIn!L703=\"\"),\"\",StockIn!L703)","v":""},{"$f":"IF(OR(StockIn!E703=0,StockIn!E703=\"\"),\"\",StockIn!E703)","v":""},{"$f":"IF(OR(StockIn!M703=0,StockIn!M703=\"\"),\"\",StockIn!M703)","v":""}]
[{"$f":"StockIn!A704","v":1702},{"$f":"IF(OR(StockIn!B704=0,StockIn!B704=\"\"),\"\",StockIn!B704)","v":""},{"$f":"IF(OR(StockIn!D704=0,StockIn!D704=\"\"),\"\",StockIn!D704)","v":""},{"$f":"IF(OR(StockIn!G704=0,StockIn!G704=\"\"),\"\",StockIn!G704)","v":""},{"$f":"IF(OR(StockIn!H704=0,StockIn!H704=\"\"),\"\",StockIn!H704)","v":""},{"$f":"IF(OR(StockIn!L704=0,StockIn!L704=\"\"),\"\",StockIn!L704)","v":""},{"$f":"IF(OR(StockIn!E704=0,StockIn!E704=\"\"),\"\",StockIn!E704)","v":""},{"$f":"IF(OR(StockIn!M704=0,StockIn!M704=\"\"),\"\",StockIn!M704)","v":""}]
[{"$f":"StockIn!A705","v":1703},{"$f":"IF(OR(StockIn!B705=0,StockIn!B705=\"\"),\"\",StockIn!B705)","v":""},{"$f":"IF(OR(StockIn!D705=0,StockIn!D705=\"\"),\"\",StockIn!D705)","v":""},{"$f":"IF(OR(StockIn!G705=0,StockIn!G705=\"\"),\"\",StockIn!G705)","v":""},{"$f":"IF(OR(StockIn!H705=0,StockIn!H705=\"\"),\"\",StockIn!H705)","v":""},{"$f":"IF(OR(StockIn!L705=0,StockIn!L705=\"\"),\"\",StockIn!L705)","v":""},{"$f":"IF(OR(StockIn!E705=0,StockIn!E705=\"\"),\"\",StockIn!E705)","v":""},{"$f":"IF(OR(StockIn!M705=0,StockIn!M705=\"\"),\"\",StockIn!M705)","v":""}]
[{"$f":"StockIn!A706","v":1704},{"$f":"IF(OR(StockIn!B706=0,StockIn!B706=\"\"),\"\",StockIn!B706)","v":""},{"$f":"IF(OR(StockIn!D706=0,StockIn!D706=\"\"),\"\",StockIn!D706)","v":""},{"$f":"IF(OR(StockIn!G706=0,StockIn!G706=\"\"),\"\",StockIn!G706)","v":""},{"$f":"IF(OR(StockIn!H706=0,StockIn!H706=\"\"),\"\",StockIn!H706)","v":""},{"$f":"IF(OR(StockIn!L706=0,StockIn!L706=\"\"),\"\",StockIn!L706)","v":""},{"$f":"IF(OR(StockIn!E706=0,StockIn!E706=\"\"),\"\",StockIn!E706)","v":""},{"$f":"IF(OR(StockIn!M706=0,StockIn!M706=\"\"),\"\",StockIn!M706)","v":""}]
[{"$f":"StockIn!A707","v":1705},{"$f":"IF(OR(StockIn!B707=0,StockIn!B707=\"\"),\"\",StockIn!B707)","v":""},{"$f":"IF(OR(StockIn!D707=0,StockIn!D707=\"\"),\"\",StockIn!D707)","v":""},{"$f":"IF(OR(StockIn!G707=0,StockIn!G707=\"\"),\"\",StockIn!G707)","v":""},{"$f":"IF(OR(StockIn!H707=0,StockIn!H707=\"\"),\"\",StockIn!H707)","v":""},{"$f":"IF(OR(StockIn!L707=0,StockIn!L707=\"\"),\"\",StockIn!L707)","v":""},{"$f":"IF(OR(StockIn!E707=0,StockIn!E707=\"\"),\"\",StockIn!E707)","v":""},{"$f":"IF(OR(StockIn!M707=0,StockIn!M707=\"\"),\"\",StockIn!M707)","v":""}]
[{"$f":"StockIn!A708","v":1706},{"$f":"IF(OR(StockIn!B708=0,StockIn!B708=\"\"),\"\",StockIn!B708)","v":""},{"$f":"IF(OR(StockIn!D708=0,StockIn!D708=\"\"),\"\",StockIn!D708)","v":""},{"$f":"IF(OR(StockIn!G708=0,StockIn!G708=\"\"),\"\",StockIn!G708)","v":""},{"$f":"IF(OR(StockIn!H708=0,StockIn!H708=\"\"),\"\",StockIn!H708)","v":""},{"$f":"IF(OR(StockIn!L708=0,StockIn!L708=\"\"),\"\",StockIn!L708)","v":""},{"$f":"IF(OR(StockIn!E708=0,StockIn!E708=\"\"),\"\",StockIn!E708)","v":""},{"$f":"IF(OR(StockIn!M708=0,StockIn!M708=\"\"),\"\",StockIn!M708)","v":""}]
[{"$f":"StockIn!A709","v":1707},{"$f":"IF(OR(StockIn!B709=0,StockIn!B709=\"\"),\"\",StockIn!B709)","v":""},{"$f":"IF(OR(StockIn!D709=0,StockIn!D709=\"\"),\"\",StockIn!D709)","v":""},{"$f":"IF(OR(StockIn!G709=0,StockIn!G709=\"\"),\"\",StockIn!G709)","v":""},{"$f":"IF(OR(StockIn!H709=0,StockIn!H709=\"\"),\"\",StockIn!H709)","v":""},{"$f":"IF(OR(StockIn!L709=0,StockIn!L709=\"\"),\"\",StockIn!L709)","v":""},{"$f":"IF(OR(StockIn!E709=0,StockIn!E709=\"\"),\"\",StockIn!E709)","v":""},{"$f":"IF(OR(StockIn!M709=0,StockIn!M709=\"\"),\"\",StockIn!M709)","v":""}]
[{"$f":"StockIn!A710","v":1708},{"$f":"IF(OR(StockIn!B710=0,StockIn!B710=\"\"),\"\",StockIn!B710)","v":""},{"$f":"IF(OR(StockIn!D710=0,StockIn!D710=\"\"),\"\",StockIn!D710)","v":""},{"$f":"IF(OR(StockIn!G710=0,StockIn!G710=\"\"),\"\",StockIn!G710)","v":""},{"$f":"IF(OR(StockIn!H710=0,StockIn!H710=\"\"),\"\",StockIn!H710)","v":""},{"$f":"IF(OR(StockIn!L710=0,StockIn!L710=\"\"),\"\",StockIn!L710)","v":""},{"$f":"IF(OR(StockIn!E710=0,StockIn!E710=\"\"),\"\",StockIn!E710)","v":""},{"$f":"IF(OR(StockIn!M710=0,StockIn!M710=\"\"),\"\",StockIn!M710)","v":""}]
[{"$f":"StockIn!A711","v":1709},{"$f":"IF(OR(StockIn!B711=0,StockIn!B711=\"\"),\"\",StockIn!B711)","v":""},{"$f":"IF(OR(StockIn!D711=0,StockIn!D711=\"\"),\"\",StockIn!D711)","v":""},{"$f":"IF(OR(StockIn!G711=0,StockIn!G711=\"\"),\"\",StockIn!G711)","v":""},{"$f":"IF(OR(StockIn!H711=0,StockIn!H711=\"\"),\"\",StockIn!H711)","v":""},{"$f":"IF(OR(StockIn!L711=0,StockIn!L711=\"\"),\"\",StockIn!L711)","v":""},{"$f":"IF(OR(StockIn!E711=0,StockIn!E711=\"\"),\"\",StockIn!E711)","v":""},{"$f":"IF(OR(StockIn!M711=0,StockIn!M711=\"\"),\"\",StockIn!M711)","v":""}]
[{"$f":"StockIn!A712","v":1710},{"$f":"IF(OR(StockIn!B712=0,StockIn!B712=\"\"),\"\",StockIn!B712)","v":""},{"$f":"IF(OR(StockIn!D712=0,StockIn!D712=\"\"),\"\",StockIn!D712)","v":""},{"$f":"IF(OR(StockIn!G712=0,StockIn!G712=\"\"),\"\",StockIn!G712)","v":""},{"$f":"IF(OR(StockIn!H712=0,StockIn!H712=\"\"),\"\",StockIn!H712)","v":""},{"$f":"IF(OR(StockIn!L712=0,StockIn!L712=\"\"),\"\",StockIn!L712)","v":""},{"$f":"IF(OR(StockIn!E712=0,StockIn!E712=\"\"),\"\",StockIn!E712)","v":""},{"$f":"IF(OR(StockIn!M712=0,StockIn!M712=\"\"),\"\",StockIn!M712)","v":""}]
[{"$f":"StockIn!A713","v":1711},{"$f":"IF(OR(StockIn!B713=0,StockIn!B713=\"\"),\"\",StockIn!B713)","v":""},{"$f":"IF(OR(StockIn!D713=0,StockIn!D713=\"\"),\"\",StockIn!D713)","v":""},{"$f":"IF(OR(StockIn!G713=0,StockIn!G713=\"\"),\"\",StockIn!G713)","v":""},{"$f":"IF(OR(StockIn!H713=0,StockIn!H713=\"\"),\"\",StockIn!H713)","v":""},{"$f":"IF(OR(StockIn!L713=0,StockIn!L713=\"\"),\"\",StockIn!L713)","v":""},{"$f":"IF(OR(StockIn!E713=0,StockIn!E713=\"\"),\"\",StockIn!E713)","v":""},{"$f":"IF(OR(StockIn!M713=0,StockIn!M713=\"\"),\"\",StockIn!M713)","v":""}]
[{"$f":"StockIn!A714","v":1712},{"$f":"IF(OR(StockIn!B714=0,StockIn!B714=\"\"),\"\",StockIn!B714)","v":""},{"$f":"IF(OR(StockIn!D714=0,StockIn!D714=\"\"),\"\",StockIn!D714)","v":""},{"$f":"IF(OR(StockIn!G714=0,StockIn!G714=\"\"),\"\",StockIn!G714)","v":""},{"$f":"IF(OR(StockIn!H714=0,StockIn!H714=\"\"),\"\",StockIn!H714)","v":""},{"$f":"IF(OR(StockIn!L714=0,StockIn!L714=\"\"),\"\",StockIn!L714)","v":""},{"$f":"IF(OR(StockIn!E714=0,StockIn!E714=\"\"),\"\",StockIn!E714)","v":""},{"$f":"IF(OR(StockIn!M714=0,StockIn!M714=\"\"),\"\",StockIn!M714)","v":""}]
[{"$f":"StockIn!A715","v":1713},{"$f":"IF(OR(StockIn!B715=0,StockIn!B715=\"\"),\"\",StockIn!B715)","v":""},{"$f":"IF(OR(StockIn!D715=0,StockIn!D715=\"\"),\"\",StockIn!D715)","v":""},{"$f":"IF(OR(StockIn!G715=0,StockIn!G715=\"\"),\"\",StockIn!G715)","v":""},{"$f":"IF(OR(StockIn!H715=0,StockIn!H715=\"\"),\"\",StockIn!H715)","v":""},{"$f":"IF(OR(StockIn!L715=0,StockIn!L715=\"\"),\"\",StockIn!L715)","v":""},{"$f":"IF(OR(StockIn!E715=0,StockIn!E715=\"\"),\"\",StockIn!E715)","v":""},{"$f":"IF(OR(StockIn!M715=0,StockIn!M715=\"\"),\"\",StockIn!M715)","v":""}]
[{"$f":"StockIn!A716","v":1714},{"$f":"IF(OR(StockIn!B716=0,StockIn!B716=\"\"),\"\",StockIn!B716)","v":""},{"$f":"IF(OR(StockIn!D716=0,StockIn!D716=\"\"),\"\",StockIn!D716)","v":""},{"$f":"IF(OR(StockIn!G716=0,StockIn!G716=\"\"),\"\",StockIn!G716)","v":""},{"$f":"IF(OR(StockIn!H716=0,StockIn!H716=\"\"),\"\",StockIn!H716)","v":""},{"$f":"IF(OR(StockIn!L716=0,StockIn!L716=\"\"),\"\",StockIn!L716)","v":""},{"$f":"IF(OR(StockIn!E716=0,StockIn!E716=\"\"),\"\",StockIn!E716)","v":""},{"$f":"IF(OR(StockIn!M716=0,StockIn!M716=\"\"),\"\",StockIn!M716)","v":""}]
[{"$f":"StockIn!A717","v":1715},{"$f":"IF(OR(StockIn!B717=0,StockIn!B717=\"\"),\"\",StockIn!B717)","v":""},{"$f":"IF(OR(StockIn!D717=0,StockIn!D717=\"\"),\"\",StockIn!D717)","v":""},{"$f":"IF(OR(StockIn!G717=0,StockIn!G717=\"\"),\"\",StockIn!G717)","v":""},{"$f":"IF(OR(StockIn!H717=0,StockIn!H717=\"\"),\"\",StockIn!H717)","v":""},{"$f":"IF(OR(StockIn!L717=0,StockIn!L717=\"\"),\"\",StockIn!L717)","v":""},{"$f":"IF(OR(StockIn!E717=0,StockIn!E717=\"\"),\"\",StockIn!E717)","v":""},{"$f":"IF(OR(StockIn!M717=0,StockIn!M717=\"\"),\"\",StockIn!M717)","v":""}]
[{"$f":"StockIn!A718","v":1716},{"$f":"IF(OR(StockIn!B718=0,StockIn!B718=\"\"),\"\",StockIn!B718)","v":""},{"$f":"IF(OR(StockIn!D718=0,StockIn!D718=\"\"),\"\",StockIn!D718)","v":""},{"$f":"IF(OR(StockIn!G718=0,StockIn!G718=\"\"),\"\",StockIn!G718)","v":""},{"$f":"IF(OR(StockIn!H718=0,StockIn!H718=\"\"),\"\",StockIn!H718)","v":""},{"$f":"IF(OR(StockIn!L718=0,StockIn!L718=\"\"),\"\",StockIn!L718)","v":""},{"$f":"IF(OR(StockIn!E718=0,StockIn!E718=\"\"),\"\",StockIn!E718)","v":""},{"$f":"IF(OR(StockIn!M718=0,StockIn!M718=\"\"),\"\",StockIn!M718)","v":""}]
[{"$f":"StockIn!A719","v":1717},{"$f":"IF(OR(StockIn!B719=0,StockIn!B719=\"\"),\"\",StockIn!B719)","v":""},{"$f":"IF(OR(StockIn!D719=0,StockIn!D719=\"\"),\"\",StockIn!D719)","v":""},{"$f":"IF(OR(StockIn!G719=0,StockIn!G719=\"\"),\"\",StockIn!G719)","v":""},{"$f":"IF(OR(StockIn!H719=0,StockIn!H719=\"\"),\"\",StockIn!H719)","v":""},{"$f":"IF(OR(StockIn!L719=0,StockIn!L719=\"\"),\"\",StockIn!L719)","v":""},{"$f":"IF(OR(StockIn!E719=0,StockIn!E719=\"\"),\"\",StockIn!E719)","v":""},{"$f":"IF(OR(StockIn!M719=0,StockIn!M719=\"\"),\"\",StockIn!M719)","v":""}]
[{"$f":"StockIn!A720","v":1718},{"$f":"IF(OR(StockIn!B720=0,StockIn!B720=\"\"),\"\",StockIn!B720)","v":""},{"$f":"IF(OR(StockIn!D720=0,StockIn!D720=\"\"),\"\",StockIn!D720)","v":""},{"$f":"IF(OR(StockIn!G720=0,StockIn!G720=\"\"),\"\",StockIn!G720)","v":""},{"$f":"IF(OR(StockIn!H720=0,StockIn!H720=\"\"),\"\",StockIn!H720)","v":""},{"$f":"IF(OR(StockIn!L720=0,StockIn!L720=\"\"),\"\",StockIn!L720)","v":""},{"$f":"IF(OR(StockIn!E720=0,StockIn!E720=\"\"),\"\",StockIn!E720)","v":""},{"$f":"IF(OR(StockIn!M720=0,StockIn!M720=\"\"),\"\",StockIn!M720)","v":""}]
[{"$f":"StockIn!A721","v":1719},{"$f":"IF(OR(StockIn!B721=0,StockIn!B721=\"\"),\"\",StockIn!B721)","v":""},{"$f":"IF(OR(StockIn!D721=0,StockIn!D721=\"\"),\"\",StockIn!D721)","v":""},{"$f":"IF(OR(StockIn!G721=0,StockIn!G721=\"\"),\"\",StockIn!G721)","v":""},{"$f":"IF(OR(StockIn!H721=0,StockIn!H721=\"\"),\"\",StockIn!H721)","v":""},{"$f":"IF(OR(StockIn!L721=0,StockIn!L721=\"\"),\"\",StockIn!L721)","v":""},{"$f":"IF(OR(StockIn!E721=0,StockIn!E721=\"\"),\"\",StockIn!E721)","v":""},{"$f":"IF(OR(StockIn!M721=0,StockIn!M721=\"\"),\"\",StockIn!M721)","v":""}]
[{"$f":"StockIn!A722","v":1720},{"$f":"IF(OR(StockIn!B722=0,StockIn!B722=\"\"),\"\",StockIn!B722)","v":""},{"$f":"IF(OR(StockIn!D722=0,StockIn!D722=\"\"),\"\",StockIn!D722)","v":""},{"$f":"IF(OR(StockIn!G722=0,StockIn!G722=\"\"),\"\",StockIn!G722)","v":""},{"$f":"IF(OR(StockIn!H722=0,StockIn!H722=\"\"),\"\",StockIn!H722)","v":""},{"$f":"IF(OR(StockIn!L722=0,StockIn!L722=\"\"),\"\",StockIn!L722)","v":""},{"$f":"IF(OR(StockIn!E722=0,StockIn!E722=\"\"),\"\",StockIn!E722)","v":""},{"$f":"IF(OR(StockIn!M722=0,StockIn!M722=\"\"),\"\",StockIn!M722)","v":""}]
[{"$f":"StockIn!A723","v":1721},{"$f":"IF(OR(StockIn!B723=0,StockIn!B723=\"\"),\"\",StockIn!B723)","v":""},{"$f":"IF(OR(StockIn!D723=0,StockIn!D723=\"\"),\"\",StockIn!D723)","v":""},{"$f":"IF(OR(StockIn!G723=0,StockIn!G723=\"\"),\"\",StockIn!G723)","v":""},{"$f":"IF(OR(StockIn!H723=0,StockIn!H723=\"\"),\"\",StockIn!H723)","v":""},{"$f":"IF(OR(StockIn!L723=0,StockIn!L723=\"\"),\"\",StockIn!L723)","v":""},{"$f":"IF(OR(StockIn!E723=0,StockIn!E723=\"\"),\"\",StockIn!E723)","v":""},{"$f":"IF(OR(StockIn!M723=0,StockIn!M723=\"\"),\"\",StockIn!M723)","v":""}]
[{"$f":"StockIn!A724","v":1722},{"$f":"IF(OR(StockIn!B724=0,StockIn!B724=\"\"),\"\",StockIn!B724)","v":""},{"$f":"IF(OR(StockIn!D724=0,StockIn!D724=\"\"),\"\",StockIn!D724)","v":""},{"$f":"IF(OR(StockIn!G724=0,StockIn!G724=\"\"),\"\",StockIn!G724)","v":""},{"$f":"IF(OR(StockIn!H724=0,StockIn!H724=\"\"),\"\",StockIn!H724)","v":""},{"$f":"IF(OR(StockIn!L724=0,StockIn!L724=\"\"),\"\",StockIn!L724)","v":""},{"$f":"IF(OR(StockIn!E724=0,StockIn!E724=\"\"),\"\",StockIn!E724)","v":""},{"$f":"IF(OR(StockIn!M724=0,StockIn!M724=\"\"),\"\",StockIn!M724)","v":""}]
[{"$f":"StockIn!A725","v":1723},{"$f":"IF(OR(StockIn!B725=0,StockIn!B725=\"\"),\"\",StockIn!B725)","v":""},{"$f":"IF(OR(StockIn!D725=0,StockIn!D725=\"\"),\"\",StockIn!D725)","v":""},{"$f":"IF(OR(StockIn!G725=0,StockIn!G725=\"\"),\"\",StockIn!G725)","v":""},{"$f":"IF(OR(StockIn!H725=0,StockIn!H725=\"\"),\"\",StockIn!H725)","v":""},{"$f":"IF(OR(StockIn!L725=0,StockIn!L725=\"\"),\"\",StockIn!L725)","v":""},{"$f":"IF(OR(StockIn!E725=0,StockIn!E725=\"\"),\"\",StockIn!E725)","v":""},{"$f":"IF(OR(StockIn!M725=0,StockIn!M725=\"\"),\"\",StockIn!M725)","v":""}]
[{"$f":"StockIn!A726","v":1724},{"$f":"IF(OR(StockIn!B726=0,StockIn!B726=\"\"),\"\",StockIn!B726)","v":""},{"$f":"IF(OR(StockIn!D726=0,StockIn!D726=\"\"),\"\",StockIn!D726)","v":""},{"$f":"IF(OR(StockIn!G726=0,StockIn!G726=\"\"),\"\",StockIn!G726)","v":""},{"$f":"IF(OR(StockIn!H726=0,StockIn!H726=\"\"),\"\",StockIn!H726)","v":""},{"$f":"IF(OR(StockIn!L726=0,StockIn!L726=\"\"),\"\",StockIn!L726)","v":""},{"$f":"IF(OR(StockIn!E726=0,StockIn!E726=\"\"),\"\",StockIn!E726)","v":""},{"$f":"IF(OR(StockIn!M726=0,StockIn!M726=\"\"),\"\",StockIn!M726)","v":""}]
[{"$f":"StockIn!A727","v":1725},{"$f":"IF(OR(StockIn!B727=0,StockIn!B727=\"\"),\"\",StockIn!B727)","v":""},{"$f":"IF(OR(StockIn!D727=0,StockIn!D727=\"\"),\"\",StockIn!D727)","v":""},{"$f":"IF(OR(StockIn!G727=0,StockIn!G727=\"\"),\"\",StockIn!G727)","v":""},{"$f":"IF(OR(StockIn!H727=0,StockIn!H727=\"\"),\"\",StockIn!H727)","v":""},{"$f":"IF(OR(StockIn!L727=0,StockIn!L727=\"\"),\"\",StockIn!L727)","v":""},{"$f":"IF(OR(StockIn!E727=0,StockIn!E727=\"\"),\"\",StockIn!E727)","v":""},{"$f":"IF(OR(StockIn!M727=0,StockIn!M727=\"\"),\"\",StockIn!M727)","v":""}]
[{"$f":"StockIn!A728","v":1726},{"$f":"IF(OR(StockIn!B728=0,StockIn!B728=\"\"),\"\",StockIn!B728)","v":""},{"$f":"IF(OR(StockIn!D728=0,StockIn!D728=\"\"),\"\",StockIn!D728)","v":""},{"$f":"IF(OR(StockIn!G728=0,StockIn!G728=\"\"),\"\",StockIn!G728)","v":""},{"$f":"IF(OR(StockIn!H728=0,StockIn!H728=\"\"),\"\",StockIn!H728)","v":""},{"$f":"IF(OR(StockIn!L728=0,StockIn!L728=\"\"),\"\",StockIn!L728)","v":""},{"$f":"IF(OR(StockIn!E728=0,StockIn!E728=\"\"),\"\",StockIn!E728)","v":""},{"$f":"IF(OR(StockIn!M728=0,StockIn!M728=\"\"),\"\",StockIn!M728)","v":""}]
[{"$f":"StockIn!A729","v":1727},{"$f":"IF(OR(StockIn!B729=0,StockIn!B729=\"\"),\"\",StockIn!B729)","v":""},{"$f":"IF(OR(StockIn!D729=0,StockIn!D729=\"\"),\"\",StockIn!D729)","v":""},{"$f":"IF(OR(StockIn!G729=0,StockIn!G729=\"\"),\"\",StockIn!G729)","v":""},{"$f":"IF(OR(StockIn!H729=0,StockIn!H729=\"\"),\"\",StockIn!H729)","v":""},{"$f":"IF(OR(StockIn!L729=0,StockIn!L729=\"\"),\"\",StockIn!L729)","v":""},{"$f":"IF(OR(StockIn!E729=0,StockIn!E729=\"\"),\"\",StockIn!E729)","v":""},{"$f":"IF(OR(StockIn!M729=0,StockIn!M729=\"\"),\"\",StockIn!M729)","v":""}]
[{"$f":"StockIn!A730","v":1728},{"$f":"IF(OR(StockIn!B730=0,StockIn!B730=\"\"),\"\",StockIn!B730)","v":""},{"$f":"IF(OR(StockIn!D730=0,StockIn!D730=\"\"),\"\",StockIn!D730)","v":""},{"$f":"IF(OR(StockIn!G730=0,StockIn!G730=\"\"),\"\",StockIn!G730)","v":""},{"$f":"IF(OR(StockIn!H730=0,StockIn!H730=\"\"),\"\",StockIn!H730)","v":""},{"$f":"IF(OR(StockIn!L730=0,StockIn!L730=\"\"),\"\",StockIn!L730)","v":""},{"$f":"IF(OR(StockIn!E730=0,StockIn!E730=\"\"),\"\",StockIn!E730)","v":""},{"$f":"IF(OR(StockIn!M730=0,StockIn!M730=\"\"),\"\",StockIn!M730)","v":""}]
[{"$f":"StockIn!A731","v":1729},{"$f":"IF(OR(StockIn!B731=0,StockIn!B731=\"\"),\"\",StockIn!B731)","v":""},{"$f":"IF(OR(StockIn!D731=0,StockIn!D731=\"\"),\"\",StockIn!D731)","v":""},{"$f":"IF(OR(StockIn!G731=0,StockIn!G731=\"\"),\"\",StockIn!G731)","v":""},{"$f":"IF(OR(StockIn!H731=0,StockIn!H731=\"\"),\"\",StockIn!H731)","v":""},{"$f":"IF(OR(StockIn!L731=0,StockIn!L731=\"\"),\"\",StockIn!L731)","v":""},{"$f":"IF(OR(StockIn!E731=0,StockIn!E731=\"\"),\"\",StockIn!E731)","v":""},{"$f":"IF(OR(StockIn!M731=0,StockIn!M731=\"\"),\"\",StockIn!M731)","v":""}]
[{"$f":"StockIn!A732","v":1730},{"$f":"IF(OR(StockIn!B732=0,StockIn!B732=\"\"),\"\",StockIn!B732)","v":""},{"$f":"IF(OR(StockIn!D732=0,StockIn!D732=\"\"),\"\",StockIn!D732)","v":""},{"$f":"IF(OR(StockIn!G732=0,StockIn!G732=\"\"),\"\",StockIn!G732)","v":""},{"$f":"IF(OR(StockIn!H732=0,StockIn!H732=\"\"),\"\",StockIn!H732)","v":""},{"$f":"IF(OR(StockIn!L732=0,StockIn!L732=\"\"),\"\",StockIn!L732)","v":""},{"$f":"IF(OR(StockIn!E732=0,StockIn!E732=\"\"),\"\",StockIn!E732)","v":""},{"$f":"IF(OR(StockIn!M732=0,StockIn!M732=\"\"),\"\",StockIn!M732)","v":""}]
[{"$f":"StockIn!A733","v":1731},{"$f":"IF(OR(StockIn!B733=0,StockIn!B733=\"\"),\"\",StockIn!B733)","v":""},{"$f":"IF(OR(StockIn!D733=0,StockIn!D733=\"\"),\"\",StockIn!D733)","v":""},{"$f":"IF(OR(StockIn!G733=0,StockIn!G733=\"\"),\"\",StockIn!G733)","v":""},{"$f":"IF(OR(StockIn!H733=0,StockIn!H733=\"\"),\"\",StockIn!H733)","v":""},{"$f":"IF(OR(StockIn!L733=0,StockIn!L733=\"\"),\"\",StockIn!L733)","v":""},{"$f":"IF(OR(StockIn!E733=0,StockIn!E733=\"\"),\"\",StockIn!E733)","v":""},{"$f":"IF(OR(StockIn!M733=0,StockIn!M733=\"\"),\"\",StockIn!M733)","v":""}]
[{"$f":"StockIn!A734","v":1732},{"$f":"IF(OR(StockIn!B734=0,StockIn!B734=\"\"),\"\",StockIn!B734)","v":""},{"$f":"IF(OR(StockIn!D734=0,StockIn!D734=\"\"),\"\",StockIn!D734)","v":""},{"$f":"IF(OR(StockIn!G734=0,StockIn!G734=\"\"),\"\",StockIn!G734)","v":""},{"$f":"IF(OR(StockIn!H734=0,StockIn!H734=\"\"),\"\",StockIn!H734)","v":""},{"$f":"IF(OR(StockIn!L734=0,StockIn!L734=\"\"),\"\",StockIn!L734)","v":""},{"$f":"IF(OR(StockIn!E734=0,StockIn!E734=\"\"),\"\",StockIn!E734)","v":""},{"$f":"IF(OR(StockIn!M734=0,StockIn!M734=\"\"),\"\",StockIn!M734)","v":""}]
[{"$f":"StockIn!A735","v":1733},{"$f":"IF(OR(StockIn!B735=0,StockIn!B735=\"\"),\"\",StockIn!B735)","v":""},{"$f":"IF(OR(StockIn!D735=0,StockIn!D735=\"\"),\"\",StockIn!D735)","v":""},{"$f":"IF(OR(StockIn!G735=0,StockIn!G735=\"\"),\"\",StockIn!G735)","v":""},{"$f":"IF(OR(StockIn!H735=0,StockIn!H735=\"\"),\"\",StockIn!H735)","v":""},{"$f":"IF(OR(StockIn!L735=0,StockIn!L735=\"\"),\"\",StockIn!L735)","v":""},{"$f":"IF(OR(StockIn!E735=0,StockIn!E735=\"\"),\"\",StockIn!E735)","v":""},{"$f":"IF(OR(StockIn!M735=0,StockIn!M735=\"\"),\"\",StockIn!M735)","v":""}]
[{"$f":"StockIn!A736","v":1734},{"$f":"IF(OR(StockIn!B736=0,StockIn!B736=\"\"),\"\",StockIn!B736)","v":""},{"$f":"IF(OR(StockIn!D736=0,StockIn!D736=\"\"),\"\",StockIn!D736)","v":""},{"$f":"IF(OR(StockIn!G736=0,StockIn!G736=\"\"),\"\",StockIn!G736)","v":""},{"$f":"IF(OR(StockIn!H736=0,StockIn!H736=\"\"),\"\",StockIn!H736)","v":""},{"$f":"IF(OR(StockIn!L736=0,StockIn!L736=\"\"),\"\",StockIn!L736)","v":""},{"$f":"IF(OR(StockIn!E736=0,StockIn!E736=\"\"),\"\",StockIn!E736)","v":""},{"$f":"IF(OR(StockIn!M736=0,StockIn!M736=\"\"),\"\",StockIn!M736)","v":""}]
[{"$f":"StockIn!A737","v":1735},{"$f":"IF(OR(StockIn!B737=0,StockIn!B737=\"\"),\"\",StockIn!B737)","v":""},{"$f":"IF(OR(StockIn!D737=0,StockIn!D737=\"\"),\"\",StockIn!D737)","v":""},{"$f":"IF(OR(StockIn!G737=0,StockIn!G737=\"\"),\"\",StockIn!G737)","v":""},{"$f":"IF(OR(StockIn!H737=0,StockIn!H737=\"\"),\"\",StockIn!H737)","v":""},{"$f":"IF(OR(StockIn!L737=0,StockIn!L737=\"\"),\"\",StockIn!L737)","v":""},{"$f":"IF(OR(StockIn!E737=0,StockIn!E737=\"\"),\"\",StockIn!E737)","v":""},{"$f":"IF(OR(StockIn!M737=0,StockIn!M737=\"\"),\"\",StockIn!M737)","v":""}]
[{"$f":"StockIn!A738","v":1736},{"$f":"IF(OR(StockIn!B738=0,StockIn!B738=\"\"),\"\",StockIn!B738)","v":""},{"$f":"IF(OR(StockIn!D738=0,StockIn!D738=\"\"),\"\",StockIn!D738)","v":""},{"$f":"IF(OR(StockIn!G738=0,StockIn!G738=\"\"),\"\",StockIn!G738)","v":""},{"$f":"IF(OR(StockIn!H738=0,StockIn!H738=\"\"),\"\",StockIn!H738)","v":""},{"$f":"IF(OR(StockIn!L738=0,StockIn!L738=\"\"),\"\",StockIn!L738)","v":""},{"$f":"IF(OR(StockIn!E738=0,StockIn!E738=\"\"),\"\",StockIn!E738)","v":""},{"$f":"IF(OR(StockIn!M738=0,StockIn!M738=\"\"),\"\",StockIn!M738)","v":""}]
[{"$f":"StockIn!A739","v":1737},{"$f":"IF(OR(StockIn!B739=0,StockIn!B739=\"\"),\"\",StockIn!B739)","v":""},{"$f":"IF(OR(StockIn!D739=0,StockIn!D739=\"\"),\"\",StockIn!D739)","v":""},{"$f":"IF(OR(StockIn!G739=0,StockIn!G739=\"\"),\"\",StockIn!G739)","v":""},{"$f":"IF(OR(StockIn!H739=0,StockIn!H739=\"\"),\"\",StockIn!H739)","v":""},{"$f":"IF(OR(StockIn!L739=0,StockIn!L739=\"\"),\"\",StockIn!L739)","v":""},{"$f":"IF(OR(StockIn!E739=0,StockIn!E739=\"\"),\"\",StockIn!E739)","v":""},{"$f":"IF(OR(StockIn!M739=0,StockIn!M739=\"\"),\"\",StockIn!M739)","v":""}]
[{"$f":"StockIn!A740","v":1738},{"$f":"IF(OR(StockIn!B740=0,StockIn!B740=\"\"),\"\",StockIn!B740)","v":""},{"$f":"IF(OR(StockIn!D740=0,StockIn!D740=\"\"),\"\",StockIn!D740)","v":""},{"$f":"IF(OR(StockIn!G740=0,StockIn!G740=\"\"),\"\",StockIn!G740)","v":""},{"$f":"IF(OR(StockIn!H740=0,StockIn!H740=\"\"),\"\",StockIn!H740)","v":""},{"$f":"IF(OR(StockIn!L740=0,StockIn!L740=\"\"),\"\",StockIn!L740)","v":""},{"$f":"IF(OR(StockIn!E740=0,StockIn!E740=\"\"),\"\",StockIn!E740)","v":""},{"$f":"IF(OR(StockIn!M740=0,StockIn!M740=\"\"),\"\",StockIn!M740)","v":""}]
[{"$f":"StockIn!A741","v":1739},{"$f":"IF(OR(StockIn!B741=0,StockIn!B741=\"\"),\"\",StockIn!B741)","v":""},{"$f":"IF(OR(StockIn!D741=0,StockIn!D741=\"\"),\"\",StockIn!D741)","v":""},{"$f":"IF(OR(StockIn!G741=0,StockIn!G741=\"\"),\"\",StockIn!G741)","v":""},{"$f":"IF(OR(StockIn!H741=0,StockIn!H741=\"\"),\"\",StockIn!H741)","v":""},{"$f":"IF(OR(StockIn!L741=0,StockIn!L741=\"\"),\"\",StockIn!L741)","v":""},{"$f":"IF(OR(StockIn!E741=0,StockIn!E741=\"\"),\"\",StockIn!E741)","v":""},{"$f":"IF(OR(StockIn!M741=0,StockIn!M741=\"\"),\"\",StockIn!M741)","v":""}]
[{"$f":"StockIn!A742","v":1740},{"$f":"IF(OR(StockIn!B742=0,StockIn!B742=\"\"),\"\",StockIn!B742)","v":""},{"$f":"IF(OR(StockIn!D742=0,StockIn!D742=\"\"),\"\",StockIn!D742)","v":""},{"$f":"IF(OR(StockIn!G742=0,StockIn!G742=\"\"),\"\",StockIn!G742)","v":""},{"$f":"IF(OR(StockIn!H742=0,StockIn!H742=\"\"),\"\",StockIn!H742)","v":""},{"$f":"IF(OR(StockIn!L742=0,StockIn!L742=\"\"),\"\",StockIn!L742)","v":""},{"$f":"IF(OR(StockIn!E742=0,StockIn!E742=\"\"),\"\",StockIn!E742)","v":""},{"$f":"IF(OR(StockIn!M742=0,StockIn!M742=\"\"),\"\",StockIn!M742)","v":""}]
[{"$f":"StockIn!A743","v":1741},{"$f":"IF(OR(StockIn!B743=0,StockIn!B743=\"\"),\"\",StockIn!B743)","v":""},{"$f":"IF(OR(StockIn!D743=0,StockIn!D743=\"\"),\"\",StockIn!D743)","v":""},{"$f":"IF(OR(StockIn!G743=0,StockIn!G743=\"\"),\"\",StockIn!G743)","v":""},{"$f":"IF(OR(StockIn!H743=0,StockIn!H743=\"\"),\"\",StockIn!H743)","v":""},{"$f":"IF(OR(StockIn!L743=0,StockIn!L743=\"\"),\"\",StockIn!L743)","v":""},{"$f":"IF(OR(StockIn!E743=0,StockIn!E743=\"\"),\"\",StockIn!E743)","v":""},{"$f":"IF(OR(StockIn!M743=0,StockIn!M743=\"\"),\"\",StockIn!M743)","v":""}]
[{"$f":"StockIn!A744","v":1742},{"$f":"IF(OR(StockIn!B744=0,StockIn!B744=\"\"),\"\",StockIn!B744)","v":""},{"$f":"IF(OR(StockIn!D744=0,StockIn!D744=\"\"),\"\",StockIn!D744)","v":""},{"$f":"IF(OR(StockIn!G744=0,StockIn!G744=\"\"),\"\",StockIn!G744)","v":""},{"$f":"IF(OR(StockIn!H744=0,StockIn!H744=\"\"),\"\",StockIn!H744)","v":""},{"$f":"IF(OR(StockIn!L744=0,StockIn!L744=\"\"),\"\",StockIn!L744)","v":""},{"$f":"IF(OR(StockIn!E744=0,StockIn!E744=\"\"),\"\",StockIn!E744)","v":""},{"$f":"IF(OR(StockIn!M744=0,StockIn!M744=\"\"),\"\",StockIn!M744)","v":""}]
[{"$f":"StockIn!A745","v":1743},{"$f":"IF(OR(StockIn!B745=0,StockIn!B745=\"\"),\"\",StockIn!B745)","v":""},{"$f":"IF(OR(StockIn!D745=0,StockIn!D745=\"\"),\"\",StockIn!D745)","v":""},{"$f":"IF(OR(StockIn!G745=0,StockIn!G745=\"\"),\"\",StockIn!G745)","v":""},{"$f":"IF(OR(StockIn!H745=0,StockIn!H745=\"\"),\"\",StockIn!H745)","v":""},{"$f":"IF(OR(StockIn!L745=0,StockIn!L745=\"\"),\"\",StockIn!L745)","v":""},{"$f":"IF(OR(StockIn!E745=0,StockIn!E745=\"\"),\"\",StockIn!E745)","v":""},{"$f":"IF(OR(StockIn!M745=0,StockIn!M745=\"\"),\"\",StockIn!M745)","v":""}]
[{"$f":"StockIn!A746","v":1744},{"$f":"IF(OR(StockIn!B746=0,StockIn!B746=\"\"),\"\",StockIn!B746)","v":""},{"$f":"IF(OR(StockIn!D746=0,StockIn!D746=\"\"),\"\",StockIn!D746)","v":""},{"$f":"IF(OR(StockIn!G746=0,StockIn!G746=\"\"),\"\",StockIn!G746)","v":""},{"$f":"IF(OR(StockIn!H746=0,StockIn!H746=\"\"),\"\",StockIn!H746)","v":""},{"$f":"IF(OR(StockIn!L746=0,StockIn!L746=\"\"),\"\",StockIn!L746)","v":""},{"$f":"IF(OR(StockIn!E746=0,StockIn!E746=\"\"),\"\",StockIn!E746)","v":""},{"$f":"IF(OR(StockIn!M746=0,StockIn!M746=\"\"),\"\",StockIn!M746)","v":""}]
[{"$f":"StockIn!A747","v":1745},{"$f":"IF(OR(StockIn!B747=0,StockIn!B747=\"\"),\"\",StockIn!B747)","v":""},{"$f":"IF(OR(StockIn!D747=0,StockIn!D747=\"\"),\"\",StockIn!D747)","v":""},{"$f":"IF(OR(StockIn!G747=0,StockIn!G747=\"\"),\"\",StockIn!G747)","v":""},{"$f":"IF(OR(StockIn!H747=0,StockIn!H747=\"\"),\"\",StockIn!H747)","v":""},{"$f":"IF(OR(StockIn!L747=0,StockIn!L747=\"\"),\"\",StockIn!L747)","v":""},{"$f":"IF(OR(StockIn!E747=0,StockIn!E747=\"\"),\"\",StockIn!E747)","v":""},{"$f":"IF(OR(StockIn!M747=0,StockIn!M747=\"\"),\"\",StockIn!M747)","v":""}]
[{"$f":"StockIn!A748","v":1746},{"$f":"IF(OR(StockIn!B748=0,StockIn!B748=\"\"),\"\",StockIn!B748)","v":""},{"$f":"IF(OR(StockIn!D748=0,StockIn!D748=\"\"),\"\",StockIn!D748)","v":""},{"$f":"IF(OR(StockIn!G748=0,StockIn!G748=\"\"),\"\",StockIn!G748)","v":""},{"$f":"IF(OR(StockIn!H748=0,StockIn!H748=\"\"),\"\",StockIn!H748)","v":""},{"$f":"IF(OR(StockIn!L748=0,StockIn!L748=\"\"),\"\",StockIn!L748)","v":""},{"$f":"IF(OR(StockIn!E748=0,StockIn!E748=\"\"),\"\",StockIn!E748)","v":""},{"$f":"IF(OR(StockIn!M748=0,StockIn!M748=\"\"),\"\",StockIn!M748)","v":""}]
[{"$f":"StockIn!A749","v":1747},{"$f":"IF(OR(StockIn!B749=0,StockIn!B749=\"\"),\"\",StockIn!B749)","v":""},{"$f":"IF(OR(StockIn!D749=0,StockIn!D749=\"\"),\"\",StockIn!D749)","v":""},{"$f":"IF(OR(StockIn!G749=0,StockIn!G749=\"\"),\"\",StockIn!G749)","v":""},{"$f":"IF(OR(StockIn!H749=0,StockIn!H749=\"\"),\"\",StockIn!H749)","v":""},{"$f":"IF(OR(StockIn!L749=0,StockIn!L749=\"\"),\"\",StockIn!L749)","v":""},{"$f":"IF(OR(StockIn!E749=0,StockIn!E749=\"\"),\"\",StockIn!E749)","v":""},{"$f":"IF(OR(StockIn!M749=0,StockIn!M749=\"\"),\"\",StockIn!M749)","v":""}]
[{"$f":"StockIn!A750","v":1748},{"$f":"IF(OR(StockIn!B750=0,StockIn!B750=\"\"),\"\",StockIn!B750)","v":""},{"$f":"IF(OR(StockIn!D750=0,StockIn!D750=\"\"),\"\",StockIn!D750)","v":""},{"$f":"IF(OR(StockIn!G750=0,StockIn!G750=\"\"),\"\",StockIn!G750)","v":""},{"$f":"IF(OR(StockIn!H750=0,StockIn!H750=\"\"),\"\",StockIn!H750)","v":""},{"$f":"IF(OR(StockIn!L750=0,StockIn!L750=\"\"),\"\",StockIn!L750)","v":""},{"$f":"IF(OR(StockIn!E750=0,StockIn!E750=\"\"),\"\",StockIn!E750)","v":""},{"$f":"IF(OR(StockIn!M750=0,StockIn!M750=\"\"),\"\",StockIn!M750)","v":""}]
[{"$f":"StockIn!A751","v":1749},{"$f":"IF(OR(StockIn!B751=0,StockIn!B751=\"\"),\"\",StockIn!B751)","v":""},{"$f":"IF(OR(StockIn!D751=0,StockIn!D751=\"\"),\"\",StockIn!D751)","v":""},{"$f":"IF(OR(StockIn!G751=0,StockIn!G751=\"\"),\"\",StockIn!G751)","v":""},{"$f":"IF(OR(StockIn!H751=0,StockIn!H751=\"\"),\"\",StockIn!H751)","v":""},{"$f":"IF(OR(StockIn!L751=0,StockIn!L751=\"\"),\"\",StockIn!L751)","v":""},{"$f":"IF(OR(StockIn!E751=0,StockIn!E751=\"\"),\"\",StockIn!E751)","v":""},{"$f":"IF(OR(StockIn!M751=0,StockIn!M751=\"\"),\"\",StockIn!M751)","v":""}]
[{"$f":"StockIn!A752","v":1750},{"$f":"IF(OR(StockIn!B752=0,StockIn!B752=\"\"),\"\",StockIn!B752)","v":""},{"$f":"IF(OR(StockIn!D752=0,StockIn!D752=\"\"),\"\",StockIn!D752)","v":""},{"$f":"IF(OR(StockIn!G752=0,StockIn!G752=\"\"),\"\",StockIn!G752)","v":""},{"$f":"IF(OR(StockIn!H752=0,StockIn!H752=\"\"),\"\",StockIn!H752)","v":""},{"$f":"IF(OR(StockIn!L752=0,StockIn!L752=\"\"),\"\",StockIn!L752)","v":""},{"$f":"IF(OR(StockIn!E752=0,StockIn!E752=\"\"),\"\",StockIn!E752)","v":""},{"$f":"IF(OR(StockIn!M752=0,StockIn!M752=\"\"),\"\",StockIn!M752)","v":""}]
[{"$f":"StockIn!A753","v":1751},{"$f":"IF(OR(StockIn!B753=0,StockIn!B753=\"\"),\"\",StockIn!B753)","v":""},{"$f":"IF(OR(StockIn!D753=0,StockIn!D753=\"\"),\"\",StockIn!D753)","v":""},{"$f":"IF(OR(StockIn!G753=0,StockIn!G753=\"\"),\"\",StockIn!G753)","v":""},{"$f":"IF(OR(StockIn!H753=0,StockIn!H753=\"\"),\"\",StockIn!H753)","v":""},{"$f":"IF(OR(StockIn!L753=0,StockIn!L753=\"\"),\"\",StockIn!L753)","v":""},{"$f":"IF(OR(StockIn!E753=0,StockIn!E753=\"\"),\"\",StockIn!E753)","v":""},{"$f":"IF(OR(StockIn!M753=0,StockIn!M753=\"\"),\"\",StockIn!M753)","v":""}]
[{"$f":"StockIn!A754","v":1752},{"$f":"IF(OR(StockIn!B754=0,StockIn!B754=\"\"),\"\",StockIn!B754)","v":""},{"$f":"IF(OR(StockIn!D754=0,StockIn!D754=\"\"),\"\",StockIn!D754)","v":""},{"$f":"IF(OR(StockIn!G754=0,StockIn!G754=\"\"),\"\",StockIn!G754)","v":""},{"$f":"IF(OR(StockIn!H754=0,StockIn!H754=\"\"),\"\",StockIn!H754)","v":""},{"$f":"IF(OR(StockIn!L754=0,StockIn!L754=\"\"),\"\",StockIn!L754)","v":""},{"$f":"IF(OR(StockIn!E754=0,StockIn!E754=\"\"),\"\",StockIn!E754)","v":""},{"$f":"IF(OR(StockIn!M754=0,StockIn!M754=\"\"),\"\",StockIn!M754)","v":""}]
[{"$f":"StockIn!A755","v":1753},{"$f":"IF(OR(StockIn!B755=0,StockIn!B755=\"\"),\"\",StockIn!B755)","v":""},{"$f":"IF(OR(StockIn!D755=0,StockIn!D755=\"\"),\"\",StockIn!D755)","v":""},{"$f":"IF(OR(StockIn!G755=0,StockIn!G755=\"\"),\"\",StockIn!G755)","v":""},{"$f":"IF(OR(StockIn!H755=0,StockIn!H755=\"\"),\"\",StockIn!H755)","v":""},{"$f":"IF(OR(StockIn!L755=0,StockIn!L755=\"\"),\"\",StockIn!L755)","v":""},{"$f":"IF(OR(StockIn!E755=0,StockIn!E755=\"\"),\"\",StockIn!E755)","v":""},{"$f":"IF(OR(StockIn!M755=0,StockIn!M755=\"\"),\"\",StockIn!M755)","v":""}]
[{"$f":"StockIn!A756","v":1754},{"$f":"IF(OR(StockIn!B756=0,StockIn!B756=\"\"),\"\",StockIn!B756)","v":""},{"$f":"IF(OR(StockIn!D756=0,StockIn!D756=\"\"),\"\",StockIn!D756)","v":""},{"$f":"IF(OR(StockIn!G756=0,StockIn!G756=\"\"),\"\",StockIn!G756)","v":""},{"$f":"IF(OR(StockIn!H756=0,StockIn!H756=\"\"),\"\",StockIn!H756)","v":""},{"$f":"IF(OR(StockIn!L756=0,StockIn!L756=\"\"),\"\",StockIn!L756)","v":""},{"$f":"IF(OR(StockIn!E756=0,StockIn!E756=\"\"),\"\",StockIn!E756)","v":""},{"$f":"IF(OR(StockIn!M756=0,StockIn!M756=\"\"),\"\",StockIn!M756)","v":""}]
[{"$f":"StockIn!A757","v":1755},{"$f":"IF(OR(StockIn!B757=0,StockIn!B757=\"\"),\"\",StockIn!B757)","v":""},{"$f":"IF(OR(StockIn!D757=0,StockIn!D757=\"\"),\"\",StockIn!D757)","v":""},{"$f":"IF(OR(StockIn!G757=0,StockIn!G757=\"\"),\"\",StockIn!G757)","v":""},{"$f":"IF(OR(StockIn!H757=0,StockIn!H757=\"\"),\"\",StockIn!H757)","v":""},{"$f":"IF(OR(StockIn!L757=0,StockIn!L757=\"\"),\"\",StockIn!L757)","v":""},{"$f":"IF(OR(StockIn!E757=0,StockIn!E757=\"\"),\"\",StockIn!E757)","v":""},{"$f":"IF(OR(StockIn!M757=0,StockIn!M757=\"\"),\"\",StockIn!M757)","v":""}]
[{"$f":"StockIn!A758","v":1756},{"$f":"IF(OR(StockIn!B758=0,StockIn!B758=\"\"),\"\",StockIn!B758)","v":""},{"$f":"IF(OR(StockIn!D758=0,StockIn!D758=\"\"),\"\",StockIn!D758)","v":""},{"$f":"IF(OR(StockIn!G758=0,StockIn!G758=\"\"),\"\",StockIn!G758)","v":""},{"$f":"IF(OR(StockIn!H758=0,StockIn!H758=\"\"),\"\",StockIn!H758)","v":""},{"$f":"IF(OR(StockIn!L758=0,StockIn!L758=\"\"),\"\",StockIn!L758)","v":""},{"$f":"IF(OR(StockIn!E758=0,StockIn!E758=\"\"),\"\",StockIn!E758)","v":""},{"$f":"IF(OR(StockIn!M758=0,StockIn!M758=\"\"),\"\",StockIn!M758)","v":""}]
[{"$f":"StockIn!A759","v":1757},{"$f":"IF(OR(StockIn!B759=0,StockIn!B759=\"\"),\"\",StockIn!B759)","v":""},{"$f":"IF(OR(StockIn!D759=0,StockIn!D759=\"\"),\"\",StockIn!D759)","v":""},{"$f":"IF(OR(StockIn!G759=0,StockIn!G759=\"\"),\"\",StockIn!G759)","v":""},{"$f":"IF(OR(StockIn!H759=0,StockIn!H759=\"\"),\"\",StockIn!H759)","v":""},{"$f":"IF(OR(StockIn!L759=0,StockIn!L759=\"\"),\"\",StockIn!L759)","v":""},{"$f":"IF(OR(StockIn!E759=0,StockIn!E759=\"\"),\"\",StockIn!E759)","v":""},{"$f":"IF(OR(StockIn!M759=0,StockIn!M759=\"\"),\"\",StockIn!M759)","v":""}]
[{"$f":"StockIn!A760","v":1758},{"$f":"IF(OR(StockIn!B760=0,StockIn!B760=\"\"),\"\",StockIn!B760)","v":""},{"$f":"IF(OR(StockIn!D760=0,StockIn!D760=\"\"),\"\",StockIn!D760)","v":""},{"$f":"IF(OR(StockIn!G760=0,StockIn!G760=\"\"),\"\",StockIn!G760)","v":""},{"$f":"IF(OR(StockIn!H760=0,StockIn!H760=\"\"),\"\",StockIn!H760)","v":""},{"$f":"IF(OR(StockIn!L760=0,StockIn!L760=\"\"),\"\",StockIn!L760)","v":""},{"$f":"IF(OR(StockIn!E760=0,StockIn!E760=\"\"),\"\",StockIn!E760)","v":""},{"$f":"IF(OR(StockIn!M760=0,StockIn!M760=\"\"),\"\",StockIn!M760)","v":""}]
[{"$f":"StockIn!A761","v":1759},{"$f":"IF(OR(StockIn!B761=0,StockIn!B761=\"\"),\"\",StockIn!B761)","v":""},{"$f":"IF(OR(StockIn!D761=0,StockIn!D761=\"\"),\"\",StockIn!D761)","v":""},{"$f":"IF(OR(StockIn!G761=0,StockIn!G761=\"\"),\"\",StockIn!G761)","v":""},{"$f":"IF(OR(StockIn!H761=0,StockIn!H761=\"\"),\"\",StockIn!H761)","v":""},{"$f":"IF(OR(StockIn!L761=0,StockIn!L761=\"\"),\"\",StockIn!L761)","v":""},{"$f":"IF(OR(StockIn!E761=0,StockIn!E761=\"\"),\"\",StockIn!E761)","v":""},{"$f":"IF(OR(StockIn!M761=0,StockIn!M761=\"\"),\"\",StockIn!M761)","v":""}]
[{"$f":"StockIn!A762","v":1760},{"$f":"IF(OR(StockIn!B762=0,StockIn!B762=\"\"),\"\",StockIn!B762)","v":""},{"$f":"IF(OR(StockIn!D762=0,StockIn!D762=\"\"),\"\",StockIn!D762)","v":""},{"$f":"IF(OR(StockIn!G762=0,StockIn!G762=\"\"),\"\",StockIn!G762)","v":""},{"$f":"IF(OR(StockIn!H762=0,StockIn!H762=\"\"),\"\",StockIn!H762)","v":""},{"$f":"IF(OR(StockIn!L762=0,StockIn!L762=\"\"),\"\",StockIn!L762)","v":""},{"$f":"IF(OR(StockIn!E762=0,StockIn!E762=\"\"),\"\",StockIn!E762)","v":""},{"$f":"IF(OR(StockIn!M762=0,StockIn!M762=\"\"),\"\",StockIn!M762)","v":""}]
[{"$f":"StockIn!A763","v":1761},{"$f":"IF(OR(StockIn!B763=0,StockIn!B763=\"\"),\"\",StockIn!B763)","v":""},{"$f":"IF(OR(StockIn!D763=0,StockIn!D763=\"\"),\"\",StockIn!D763)","v":""},{"$f":"IF(OR(StockIn!G763=0,StockIn!G763=\"\"),\"\",StockIn!G763)","v":""},{"$f":"IF(OR(StockIn!H763=0,StockIn!H763=\"\"),\"\",StockIn!H763)","v":""},{"$f":"IF(OR(StockIn!L763=0,StockIn!L763=\"\"),\"\",StockIn!L763)","v":""},{"$f":"IF(OR(StockIn!E763=0,StockIn!E763=\"\"),\"\",StockIn!E763)","v":""},{"$f":"IF(OR(StockIn!M763=0,StockIn!M763=\"\"),\"\",StockIn!M763)","v":""}]
[{"$f":"StockIn!A764","v":1762},{"$f":"IF(OR(StockIn!B764=0,StockIn!B764=\"\"),\"\",StockIn!B764)","v":""},{"$f":"IF(OR(StockIn!D764=0,StockIn!D764=\"\"),\"\",StockIn!D764)","v":""},{"$f":"IF(OR(StockIn!G764=0,StockIn!G764=\"\"),\"\",StockIn!G764)","v":""},{"$f":"IF(OR(StockIn!H764=0,StockIn!H764=\"\"),\"\",StockIn!H764)","v":""},{"$f":"IF(OR(StockIn!L764=0,StockIn!L764=\"\"),\"\",StockIn!L764)","v":""},{"$f":"IF(OR(StockIn!E764=0,StockIn!E764=\"\"),\"\",StockIn!E764)","v":""},{"$f":"IF(OR(StockIn!M764=0,StockIn!M764=\"\"),\"\",StockIn!M764)","v":""}]
[{"$f":"StockIn!A765","v":1763},{"$f":"IF(OR(StockIn!B765=0,StockIn!B765=\"\"),\"\",StockIn!B765)","v":""},{"$f":"IF(OR(StockIn!D765=0,StockIn!D765=\"\"),\"\",StockIn!D765)","v":""},{"$f":"IF(OR(StockIn!G765=0,StockIn!G765=\"\"),\"\",StockIn!G765)","v":""},{"$f":"IF(OR(StockIn!H765=0,StockIn!H765=\"\"),\"\",StockIn!H765)","v":""},{"$f":"IF(OR(StockIn!L765=0,StockIn!L765=\"\"),\"\",StockIn!L765)","v":""},{"$f":"IF(OR(StockIn!E765=0,StockIn!E765=\"\"),\"\",StockIn!E765)","v":""},{"$f":"IF(OR(StockIn!M765=0,StockIn!M765=\"\"),\"\",StockIn!M765)","v":""}]
[{"$f":"StockIn!A766","v":1764},{"$f":"IF(OR(StockIn!B766=0,StockIn!B766=\"\"),\"\",StockIn!B766)","v":""},{"$f":"IF(OR(StockIn!D766=0,StockIn!D766=\"\"),\"\",StockIn!D766)","v":""},{"$f":"IF(OR(StockIn!G766=0,StockIn!G766=\"\"),\"\",StockIn!G766)","v":""},{"$f":"IF(OR(StockIn!H766=0,StockIn!H766=\"\"),\"\",StockIn!H766)","v":""},{"$f":"IF(OR(StockIn!L766=0,StockIn!L766=\"\"),\"\",StockIn!L766)","v":""},{"$f":"IF(OR(StockIn!E766=0,StockIn!E766=\"\"),\"\",StockIn!E766)","v":""},{"$f":"IF(OR(StockIn!M766=0,StockIn!M766=\"\"),\"\",StockIn!M766)","v":""}]
[{"$f":"StockIn!A767","v":1765},{"$f":"IF(OR(StockIn!B767=0,StockIn!B767=\"\"),\"\",StockIn!B767)","v":""},{"$f":"IF(OR(StockIn!D767=0,StockIn!D767=\"\"),\"\",StockIn!D767)","v":""},{"$f":"IF(OR(StockIn!G767=0,StockIn!G767=\"\"),\"\",StockIn!G767)","v":""},{"$f":"IF(OR(StockIn!H767=0,StockIn!H767=\"\"),\"\",StockIn!H767)","v":""},{"$f":"IF(OR(StockIn!L767=0,StockIn!L767=\"\"),\"\",StockIn!L767)","v":""},{"$f":"IF(OR(StockIn!E767=0,StockIn!E767=\"\"),\"\",StockIn!E767)","v":""},{"$f":"IF(OR(StockIn!M767=0,StockIn!M767=\"\"),\"\",StockIn!M767)","v":""}]
[{"$f":"StockIn!A768","v":1766},{"$f":"IF(OR(StockIn!B768=0,StockIn!B768=\"\"),\"\",StockIn!B768)","v":""},{"$f":"IF(OR(StockIn!D768=0,StockIn!D768=\"\"),\"\",StockIn!D768)","v":""},{"$f":"IF(OR(StockIn!G768=0,StockIn!G768=\"\"),\"\",StockIn!G768)","v":""},{"$f":"IF(OR(StockIn!H768=0,StockIn!H768=\"\"),\"\",StockIn!H768)","v":""},{"$f":"IF(OR(StockIn!L768=0,StockIn!L768=\"\"),\"\",StockIn!L768)","v":""},{"$f":"IF(OR(StockIn!E768=0,StockIn!E768=\"\"),\"\",StockIn!E768)","v":""},{"$f":"IF(OR(StockIn!M768=0,StockIn!M768=\"\"),\"\",StockIn!M768)","v":""}]
[{"$f":"StockIn!A769","v":1767},{"$f":"IF(OR(StockIn!B769=0,StockIn!B769=\"\"),\"\",StockIn!B769)","v":""},{"$f":"IF(OR(StockIn!D769=0,StockIn!D769=\"\"),\"\",StockIn!D769)","v":""},{"$f":"IF(OR(StockIn!G769=0,StockIn!G769=\"\"),\"\",StockIn!G769)","v":""},{"$f":"IF(OR(StockIn!H769=0,StockIn!H769=\"\"),\"\",StockIn!H769)","v":""},{"$f":"IF(OR(StockIn!L769=0,StockIn!L769=\"\"),\"\",StockIn!L769)","v":""},{"$f":"IF(OR(StockIn!E769=0,StockIn!E769=\"\"),\"\",StockIn!E769)","v":""},{"$f":"IF(OR(StockIn!M769=0,StockIn!M769=\"\"),\"\",StockIn!M769)","v":""}]
[{"$f":"StockIn!A770","v":1768},{"$f":"IF(OR(StockIn!B770=0,StockIn!B770=\"\"),\"\",StockIn!B770)","v":""},{"$f":"IF(OR(StockIn!D770=0,StockIn!D770=\"\"),\"\",StockIn!D770)","v":""},{"$f":"IF(OR(StockIn!G770=0,StockIn!G770=\"\"),\"\",StockIn!G770)","v":""},{"$f":"IF(OR(StockIn!H770=0,StockIn!H770=\"\"),\"\",StockIn!H770)","v":""},{"$f":"IF(OR(StockIn!L770=0,StockIn!L770=\"\"),\"\",StockIn!L770)","v":""},{"$f":"IF(OR(StockIn!E770=0,StockIn!E770=\"\"),\"\",StockIn!E770)","v":""},{"$f":"IF(OR(StockIn!M770=0,StockIn!M770=\"\"),\"\",StockIn!M770)","v":""}]
[{"$f":"StockIn!A771","v":1769},{"$f":"IF(OR(StockIn!B771=0,StockIn!B771=\"\"),\"\",StockIn!B771)","v":""},{"$f":"IF(OR(StockIn!D771=0,StockIn!D771=\"\"),\"\",StockIn!D771)","v":""},{"$f":"IF(OR(StockIn!G771=0,StockIn!G771=\"\"),\"\",StockIn!G771)","v":""},{"$f":"IF(OR(StockIn!H771=0,StockIn!H771=\"\"),\"\",StockIn!H771)","v":""},{"$f":"IF(OR(StockIn!L771=0,StockIn!L771=\"\"),\"\",StockIn!L771)","v":""},{"$f":"IF(OR(StockIn!E771=0,StockIn!E771=\"\"),\"\",StockIn!E771)","v":""},{"$f":"IF(OR(StockIn!M771=0,StockIn!M771=\"\"),\"\",StockIn!M771)","v":""}]
[{"$f":"StockIn!A772","v":1770},{"$f":"IF(OR(StockIn!B772=0,StockIn!B772=\"\"),\"\",StockIn!B772)","v":""},{"$f":"IF(OR(StockIn!D772=0,StockIn!D772=\"\"),\"\",StockIn!D772)","v":""},{"$f":"IF(OR(StockIn!G772=0,StockIn!G772=\"\"),\"\",StockIn!G772)","v":""},{"$f":"IF(OR(StockIn!H772=0,StockIn!H772=\"\"),\"\",StockIn!H772)","v":""},{"$f":"IF(OR(StockIn!L772=0,StockIn!L772=\"\"),\"\",StockIn!L772)","v":""},{"$f":"IF(OR(StockIn!E772=0,StockIn!E772=\"\"),\"\",StockIn!E772)","v":""},{"$f":"IF(OR(StockIn!M772=0,StockIn!M772=\"\"),\"\",StockIn!M772)","v":""}]
[{"$f":"StockIn!A773","v":1771},{"$f":"IF(OR(StockIn!B773=0,StockIn!B773=\"\"),\"\",StockIn!B773)","v":""},{"$f":"IF(OR(StockIn!D773=0,StockIn!D773=\"\"),\"\",StockIn!D773)","v":""},{"$f":"IF(OR(StockIn!G773=0,StockIn!G773=\"\"),\"\",StockIn!G773)","v":""},{"$f":"IF(OR(StockIn!H773=0,StockIn!H773=\"\"),\"\",StockIn!H773)","v":""},{"$f":"IF(OR(StockIn!L773=0,StockIn!L773=\"\"),\"\",StockIn!L773)","v":""},{"$f":"IF(OR(StockIn!E773=0,StockIn!E773=\"\"),\"\",StockIn!E773)","v":""},{"$f":"IF(OR(StockIn!M773=0,StockIn!M773=\"\"),\"\",StockIn!M773)","v":""}]
[{"$f":"StockIn!A774","v":1772},{"$f":"IF(OR(StockIn!B774=0,StockIn!B774=\"\"),\"\",StockIn!B774)","v":""},{"$f":"IF(OR(StockIn!D774=0,StockIn!D774=\"\"),\"\",StockIn!D774)","v":""},{"$f":"IF(OR(StockIn!G774=0,StockIn!G774=\"\"),\"\",StockIn!G774)","v":""},{"$f":"IF(OR(StockIn!H774=0,StockIn!H774=\"\"),\"\",StockIn!H774)","v":""},{"$f":"IF(OR(StockIn!L774=0,StockIn!L774=\"\"),\"\",StockIn!L774)","v":""},{"$f":"IF(OR(StockIn!E774=0,StockIn!E774=\"\"),\"\",StockIn!E774)","v":""},{"$f":"IF(OR(StockIn!M774=0,StockIn!M774=\"\"),\"\",StockIn!M774)","v":""}]
[{"$f":"StockIn!A775","v":1773},{"$f":"IF(OR(StockIn!B775=0,StockIn!B775=\"\"),\"\",StockIn!B775)","v":""},{"$f":"IF(OR(StockIn!D775=0,StockIn!D775=\"\"),\"\",StockIn!D775)","v":""},{"$f":"IF(OR(StockIn!G775=0,StockIn!G775=\"\"),\"\",StockIn!G775)","v":""},{"$f":"IF(OR(StockIn!H775=0,StockIn!H775=\"\"),\"\",StockIn!H775)","v":""},{"$f":"IF(OR(StockIn!L775=0,StockIn!L775=\"\"),\"\",StockIn!L775)","v":""},{"$f":"IF(OR(StockIn!E775=0,StockIn!E775=\"\"),\"\",StockIn!E775)","v":""},{"$f":"IF(OR(StockIn!M775=0,StockIn!M775=\"\"),\"\",StockIn!M775)","v":""}]
[{"$f":"StockIn!A776","v":1774},{"$f":"IF(OR(StockIn!B776=0,StockIn!B776=\"\"),\"\",StockIn!B776)","v":""},{"$f":"IF(OR(StockIn!D776=0,StockIn!D776=\"\"),\"\",StockIn!D776)","v":""},{"$f":"IF(OR(StockIn!G776=0,StockIn!G776=\"\"),\"\",StockIn!G776)","v":""},{"$f":"IF(OR(StockIn!H776=0,StockIn!H776=\"\"),\"\",StockIn!H776)","v":""},{"$f":"IF(OR(StockIn!L776=0,StockIn!L776=\"\"),\"\",StockIn!L776)","v":""},{"$f":"IF(OR(StockIn!E776=0,StockIn!E776=\"\"),\"\",StockIn!E776)","v":""},{"$f":"IF(OR(StockIn!M776=0,StockIn!M776=\"\"),\"\",StockIn!M776)","v":""}]
[{"$f":"StockIn!A777","v":1775},{"$f":"IF(OR(StockIn!B777=0,StockIn!B777=\"\"),\"\",StockIn!B777)","v":""},{"$f":"IF(OR(StockIn!D777=0,StockIn!D777=\"\"),\"\",StockIn!D777)","v":""},{"$f":"IF(OR(StockIn!G777=0,StockIn!G777=\"\"),\"\",StockIn!G777)","v":""},{"$f":"IF(OR(StockIn!H777=0,StockIn!H777=\"\"),\"\",StockIn!H777)","v":""},{"$f":"IF(OR(StockIn!L777=0,StockIn!L777=\"\"),\"\",StockIn!L777)","v":""},{"$f":"IF(OR(StockIn!E777=0,StockIn!E777=\"\"),\"\",StockIn!E777)","v":""},{"$f":"IF(OR(StockIn!M777=0,StockIn!M777=\"\"),\"\",StockIn!M777)","v":""}]
[{"$f":"StockIn!A778","v":1776},{"$f":"IF(OR(StockIn!B778=0,StockIn!B778=\"\"),\"\",StockIn!B778)","v":""},{"$f":"IF(OR(StockIn!D778=0,StockIn!D778=\"\"),\"\",StockIn!D778)","v":""},{"$f":"IF(OR(StockIn!G778=0,StockIn!G778=\"\"),\"\",StockIn!G778)","v":""},{"$f":"IF(OR(StockIn!H778=0,StockIn!H778=\"\"),\"\",StockIn!H778)","v":""},{"$f":"IF(OR(StockIn!L778=0,StockIn!L778=\"\"),\"\",StockIn!L778)","v":""},{"$f":"IF(OR(StockIn!E778=0,StockIn!E778=\"\"),\"\",StockIn!E778)","v":""},{"$f":"IF(OR(StockIn!M778=0,StockIn!M778=\"\"),\"\",StockIn!M778)","v":""}]
[{"$f":"StockIn!A779","v":1777},{"$f":"IF(OR(StockIn!B779=0,StockIn!B779=\"\"),\"\",StockIn!B779)","v":""},{"$f":"IF(OR(StockIn!D779=0,StockIn!D779=\"\"),\"\",StockIn!D779)","v":""},{"$f":"IF(OR(StockIn!G779=0,StockIn!G779=\"\"),\"\",StockIn!G779)","v":""},{"$f":"IF(OR(StockIn!H779=0,StockIn!H779=\"\"),\"\",StockIn!H779)","v":""},{"$f":"IF(OR(StockIn!L779=0,StockIn!L779=\"\"),\"\",StockIn!L779)","v":""},{"$f":"IF(OR(StockIn!E779=0,StockIn!E779=\"\"),\"\",StockIn!E779)","v":""},{"$f":"IF(OR(StockIn!M779=0,StockIn!M779=\"\"),\"\",StockIn!M779)","v":""}]
[{"$f":"StockIn!A780","v":1778},{"$f":"IF(OR(StockIn!B780=0,StockIn!B780=\"\"),\"\",StockIn!B780)","v":""},{"$f":"IF(OR(StockIn!D780=0,StockIn!D780=\"\"),\"\",StockIn!D780)","v":""},{"$f":"IF(OR(StockIn!G780=0,StockIn!G780=\"\"),\"\",StockIn!G780)","v":""},{"$f":"IF(OR(StockIn!H780=0,StockIn!H780=\"\"),\"\",StockIn!H780)","v":""},{"$f":"IF(OR(StockIn!L780=0,StockIn!L780=\"\"),\"\",StockIn!L780)","v":""},{"$f":"IF(OR(StockIn!E780=0,StockIn!E780=\"\"),\"\",StockIn!E780)","v":""},{"$f":"IF(OR(StockIn!M780=0,StockIn!M780=\"\"),\"\",StockIn!M780)","v":""}]
[{"$f":"StockIn!A781","v":1779},{"$f":"IF(OR(StockIn!B781=0,StockIn!B781=\"\"),\"\",StockIn!B781)","v":""},{"$f":"IF(OR(StockIn!D781=0,StockIn!D781=\"\"),\"\",StockIn!D781)","v":""},{"$f":"IF(OR(StockIn!G781=0,StockIn!G781=\"\"),\"\",StockIn!G781)","v":""},{"$f":"IF(OR(StockIn!H781=0,StockIn!H781=\"\"),\"\",StockIn!H781)","v":""},{"$f":"IF(OR(StockIn!L781=0,StockIn!L781=\"\"),\"\",StockIn!L781)","v":""},{"$f":"IF(OR(StockIn!E781=0,StockIn!E781=\"\"),\"\",StockIn!E781)","v":""},{"$f":"IF(OR(StockIn!M781=0,StockIn!M781=\"\"),\"\",StockIn!M781)","v":""}]
[{"$f":"StockIn!A782","v":1780},{"$f":"IF(OR(StockIn!B782=0,StockIn!B782=\"\"),\"\",StockIn!B782)","v":""},{"$f":"IF(OR(StockIn!D782=0,StockIn!D782=\"\"),\"\",StockIn!D782)","v":""},{"$f":"IF(OR(StockIn!G782=0,StockIn!G782=\"\"),\"\",StockIn!G782)","v":""},{"$f":"IF(OR(StockIn!H782=0,StockIn!H782=\"\"),\"\",StockIn!H782)","v":""},{"$f":"IF(OR(StockIn!L782=0,StockIn!L782=\"\"),\"\",StockIn!L782)","v":""},{"$f":"IF(OR(StockIn!E782=0,StockIn!E782=\"\"),\"\",StockIn!E782)","v":""},{"$f":"IF(OR(StockIn!M782=0,StockIn!M782=\"\"),\"\",StockIn!M782)","v":""}]
[{"$f":"StockIn!A783","v":1781},{"$f":"IF(OR(StockIn!B783=0,StockIn!B783=\"\"),\"\",StockIn!B783)","v":""},{"$f":"IF(OR(StockIn!D783=0,StockIn!D783=\"\"),\"\",StockIn!D783)","v":""},{"$f":"IF(OR(StockIn!G783=0,StockIn!G783=\"\"),\"\",StockIn!G783)","v":""},{"$f":"IF(OR(StockIn!H783=0,StockIn!H783=\"\"),\"\",StockIn!H783)","v":""},{"$f":"IF(OR(StockIn!L783=0,StockIn!L783=\"\"),\"\",StockIn!L783)","v":""},{"$f":"IF(OR(StockIn!E783=0,StockIn!E783=\"\"),\"\",StockIn!E783)","v":""},{"$f":"IF(OR(StockIn!M783=0,StockIn!M783=\"\"),\"\",StockIn!M783)","v":""}]
[{"$f":"StockIn!A784","v":1782},{"$f":"IF(OR(StockIn!B784=0,StockIn!B784=\"\"),\"\",StockIn!B784)","v":""},{"$f":"IF(OR(StockIn!D784=0,StockIn!D784=\"\"),\"\",StockIn!D784)","v":""},{"$f":"IF(OR(StockIn!G784=0,StockIn!G784=\"\"),\"\",StockIn!G784)","v":""},{"$f":"IF(OR(StockIn!H784=0,StockIn!H784=\"\"),\"\",StockIn!H784)","v":""},{"$f":"IF(OR(StockIn!L784=0,StockIn!L784=\"\"),\"\",StockIn!L784)","v":""},{"$f":"IF(OR(StockIn!E784=0,StockIn!E784=\"\"),\"\",StockIn!E784)","v":""},{"$f":"IF(OR(StockIn!M784=0,StockIn!M784=\"\"),\"\",StockIn!M784)","v":""}]
[{"$f":"StockIn!A785","v":1783},{"$f":"IF(OR(StockIn!B785=0,StockIn!B785=\"\"),\"\",StockIn!B785)","v":""},{"$f":"IF(OR(StockIn!D785=0,StockIn!D785=\"\"),\"\",StockIn!D785)","v":""},{"$f":"IF(OR(StockIn!G785=0,StockIn!G785=\"\"),\"\",StockIn!G785)","v":""},{"$f":"IF(OR(StockIn!H785=0,StockIn!H785=\"\"),\"\",StockIn!H785)","v":""},{"$f":"IF(OR(StockIn!L785=0,StockIn!L785=\"\"),\"\",StockIn!L785)","v":""},{"$f":"IF(OR(StockIn!E785=0,StockIn!E785=\"\"),\"\",StockIn!E785)","v":""},{"$f":"IF(OR(StockIn!M785=0,StockIn!M785=\"\"),\"\",StockIn!M785)","v":""}]
[{"$f":"StockIn!A786","v":1784},{"$f":"IF(OR(StockIn!B786=0,StockIn!B786=\"\"),\"\",StockIn!B786)","v":""},{"$f":"IF(OR(StockIn!D786=0,StockIn!D786=\"\"),\"\",StockIn!D786)","v":""},{"$f":"IF(OR(StockIn!G786=0,StockIn!G786=\"\"),\"\",StockIn!G786)","v":""},{"$f":"IF(OR(StockIn!H786=0,StockIn!H786=\"\"),\"\",StockIn!H786)","v":""},{"$f":"IF(OR(StockIn!L786=0,StockIn!L786=\"\"),\"\",StockIn!L786)","v":""},{"$f":"IF(OR(StockIn!E786=0,StockIn!E786=\"\"),\"\",StockIn!E786)","v":""},{"$f":"IF(OR(StockIn!M786=0,StockIn!M786=\"\"),\"\",StockIn!M786)","v":""}]
[{"$f":"StockIn!A787","v":1785},{"$f":"IF(OR(StockIn!B787=0,StockIn!B787=\"\"),\"\",StockIn!B787)","v":""},{"$f":"IF(OR(StockIn!D787=0,StockIn!D787=\"\"),\"\",StockIn!D787)","v":""},{"$f":"IF(OR(StockIn!G787=0,StockIn!G787=\"\"),\"\",StockIn!G787)","v":""},{"$f":"IF(OR(StockIn!H787=0,StockIn!H787=\"\"),\"\",StockIn!H787)","v":""},{"$f":"IF(OR(StockIn!L787=0,StockIn!L787=\"\"),\"\",StockIn!L787)","v":""},{"$f":"IF(OR(StockIn!E787=0,StockIn!E787=\"\"),\"\",StockIn!E787)","v":""},{"$f":"IF(OR(StockIn!M787=0,StockIn!M787=\"\"),\"\",StockIn!M787)","v":""}]
[{"$f":"StockIn!A788","v":1786},{"$f":"IF(OR(StockIn!B788=0,StockIn!B788=\"\"),\"\",StockIn!B788)","v":""},{"$f":"IF(OR(StockIn!D788=0,StockIn!D788=\"\"),\"\",StockIn!D788)","v":""},{"$f":"IF(OR(StockIn!G788=0,StockIn!G788=\"\"),\"\",StockIn!G788)","v":""},{"$f":"IF(OR(StockIn!H788=0,StockIn!H788=\"\"),\"\",StockIn!H788)","v":""},{"$f":"IF(OR(StockIn!L788=0,StockIn!L788=\"\"),\"\",StockIn!L788)","v":""},{"$f":"IF(OR(StockIn!E788=0,StockIn!E788=\"\"),\"\",StockIn!E788)","v":""},{"$f":"IF(OR(StockIn!M788=0,StockIn!M788=\"\"),\"\",StockIn!M788)","v":""}]
[{"$f":"StockIn!A789","v":1787},{"$f":"IF(OR(StockIn!B789=0,StockIn!B789=\"\"),\"\",StockIn!B789)","v":""},{"$f":"IF(OR(StockIn!D789=0,StockIn!D789=\"\"),\"\",StockIn!D789)","v":""},{"$f":"IF(OR(StockIn!G789=0,StockIn!G789=\"\"),\"\",StockIn!G789)","v":""},{"$f":"IF(OR(StockIn!H789=0,StockIn!H789=\"\"),\"\",StockIn!H789)","v":""},{"$f":"IF(OR(StockIn!L789=0,StockIn!L789=\"\"),\"\",StockIn!L789)","v":""},{"$f":"IF(OR(StockIn!E789=0,StockIn!E789=\"\"),\"\",StockIn!E789)","v":""},{"$f":"IF(OR(StockIn!M789=0,StockIn!M789=\"\"),\"\",StockIn!M789)","v":""}]
[{"$f":"StockIn!A790","v":1788},{"$f":"IF(OR(StockIn!B790=0,StockIn!B790=\"\"),\"\",StockIn!B790)","v":""},{"$f":"IF(OR(StockIn!D790=0,StockIn!D790=\"\"),\"\",StockIn!D790)","v":""},{"$f":"IF(OR(StockIn!G790=0,StockIn!G790=\"\"),\"\",StockIn!G790)","v":""},{"$f":"IF(OR(StockIn!H790=0,StockIn!H790=\"\"),\"\",StockIn!H790)","v":""},{"$f":"IF(OR(StockIn!L790=0,StockIn!L790=\"\"),\"\",StockIn!L790)","v":""},{"$f":"IF(OR(StockIn!E790=0,StockIn!E790=\"\"),\"\",StockIn!E790)","v":""},{"$f":"IF(OR(StockIn!M790=0,StockIn!M790=\"\"),\"\",StockIn!M790)","v":""}]
[{"$f":"StockIn!A791","v":1789},{"$f":"IF(OR(StockIn!B791=0,StockIn!B791=\"\"),\"\",StockIn!B791)","v":""},{"$f":"IF(OR(StockIn!D791=0,StockIn!D791=\"\"),\"\",StockIn!D791)","v":""},{"$f":"IF(OR(StockIn!G791=0,StockIn!G791=\"\"),\"\",StockIn!G791)","v":""},{"$f":"IF(OR(StockIn!H791=0,StockIn!H791=\"\"),\"\",StockIn!H791)","v":""},{"$f":"IF(OR(StockIn!L791=0,StockIn!L791=\"\"),\"\",StockIn!L791)","v":""},{"$f":"IF(OR(StockIn!E791=0,StockIn!E791=\"\"),\"\",StockIn!E791)","v":""},{"$f":"IF(OR(StockIn!M791=0,StockIn!M791=\"\"),\"\",StockIn!M791)","v":""}]
[{"$f":"StockIn!A792","v":1790},{"$f":"IF(OR(StockIn!B792=0,StockIn!B792=\"\"),\"\",StockIn!B792)","v":""},{"$f":"IF(OR(StockIn!D792=0,StockIn!D792=\"\"),\"\",StockIn!D792)","v":""},{"$f":"IF(OR(StockIn!G792=0,StockIn!G792=\"\"),\"\",StockIn!G792)","v":""},{"$f":"IF(OR(StockIn!H792=0,StockIn!H792=\"\"),\"\",StockIn!H792)","v":""},{"$f":"IF(OR(StockIn!L792=0,StockIn!L792=\"\"),\"\",StockIn!L792)","v":""},{"$f":"IF(OR(StockIn!E792=0,StockIn!E792=\"\"),\"\",StockIn!E792)","v":""},{"$f":"IF(OR(StockIn!M792=0,StockIn!M792=\"\"),\"\",StockIn!M792)","v":""}]
[{"$f":"StockIn!A793","v":1791},{"$f":"IF(OR(StockIn!B793=0,StockIn!B793=\"\"),\"\",StockIn!B793)","v":""},{"$f":"IF(OR(StockIn!D793=0,StockIn!D793=\"\"),\"\",StockIn!D793)","v":""},{"$f":"IF(OR(StockIn!G793=0,StockIn!G793=\"\"),\"\",StockIn!G793)","v":""},{"$f":"IF(OR(StockIn!H793=0,StockIn!H793=\"\"),\"\",StockIn!H793)","v":""},{"$f":"IF(OR(StockIn!L793=0,StockIn!L793=\"\"),\"\",StockIn!L793)","v":""},{"$f":"IF(OR(StockIn!E793=0,StockIn!E793=\"\"),\"\",StockIn!E793)","v":""},{"$f":"IF(OR(StockIn!M793=0,StockIn!M793=\"\"),\"\",StockIn!M793)","v":""}]
[{"$f":"StockIn!A794","v":1792},{"$f":"IF(OR(StockIn!B794=0,StockIn!B794=\"\"),\"\",StockIn!B794)","v":""},{"$f":"IF(OR(StockIn!D794=0,StockIn!D794=\"\"),\"\",StockIn!D794)","v":""},{"$f":"IF(OR(StockIn!G794=0,StockIn!G794=\"\"),\"\",StockIn!G794)","v":""},{"$f":"IF(OR(StockIn!H794=0,StockIn!H794=\"\"),\"\",StockIn!H794)","v":""},{"$f":"IF(OR(StockIn!L794=0,StockIn!L794=\"\"),\"\",StockIn!L794)","v":""},{"$f":"IF(OR(StockIn!E794=0,StockIn!E794=\"\"),\"\",StockIn!E794)","v":""},{"$f":"IF(OR(StockIn!M794=0,StockIn!M794=\"\"),\"\",StockIn!M794)","v":""}]
[{"$f":"StockIn!A795","v":1793},{"$f":"IF(OR(StockIn!B795=0,StockIn!B795=\"\"),\"\",StockIn!B795)","v":""},{"$f":"IF(OR(StockIn!D795=0,StockIn!D795=\"\"),\"\",StockIn!D795)","v":""},{"$f":"IF(OR(StockIn!G795=0,StockIn!G795=\"\"),\"\",StockIn!G795)","v":""},{"$f":"IF(OR(StockIn!H795=0,StockIn!H795=\"\"),\"\",StockIn!H795)","v":""},{"$f":"IF(OR(StockIn!L795=0,StockIn!L795=\"\"),\"\",StockIn!L795)","v":""},{"$f":"IF(OR(StockIn!E795=0,StockIn!E795=\"\"),\"\",StockIn!E795)","v":""},{"$f":"IF(OR(StockIn!M795=0,StockIn!M795=\"\"),\"\",StockIn!M795)","v":""}]
[{"$f":"StockIn!A796","v":1794},{"$f":"IF(OR(StockIn!B796=0,StockIn!B796=\"\"),\"\",StockIn!B796)","v":""},{"$f":"IF(OR(StockIn!D796=0,StockIn!D796=\"\"),\"\",StockIn!D796)","v":""},{"$f":"IF(OR(StockIn!G796=0,StockIn!G796=\"\"),\"\",StockIn!G796)","v":""},{"$f":"IF(OR(StockIn!H796=0,StockIn!H796=\"\"),\"\",StockIn!H796)","v":""},{"$f":"IF(OR(StockIn!L796=0,StockIn!L796=\"\"),\"\",StockIn!L796)","v":""},{"$f":"IF(OR(StockIn!E796=0,StockIn!E796=\"\"),\"\",StockIn!E796)","v":""},{"$f":"IF(OR(StockIn!M796=0,StockIn!M796=\"\"),\"\",StockIn!M796)","v":""}]
[{"$f":"StockIn!A797","v":1795},{"$f":"IF(OR(StockIn!B797=0,StockIn!B797=\"\"),\"\",StockIn!B797)","v":""},{"$f":"IF(OR(StockIn!D797=0,StockIn!D797=\"\"),\"\",StockIn!D797)","v":""},{"$f":"IF(OR(StockIn!G797=0,StockIn!G797=\"\"),\"\",StockIn!G797)","v":""},{"$f":"IF(OR(StockIn!H797=0,StockIn!H797=\"\"),\"\",StockIn!H797)","v":""},{"$f":"IF(OR(StockIn!L797=0,StockIn!L797=\"\"),\"\",StockIn!L797)","v":""},{"$f":"IF(OR(StockIn!E797=0,StockIn!E797=\"\"),\"\",StockIn!E797)","v":""},{"$f":"IF(OR(StockIn!M797=0,StockIn!M797=\"\"),\"\",StockIn!M797)","v":""}]
[{"$f":"StockIn!A798","v":1796},{"$f":"IF(OR(StockIn!B798=0,StockIn!B798=\"\"),\"\",StockIn!B798)","v":""},{"$f":"IF(OR(StockIn!D798=0,StockIn!D798=\"\"),\"\",StockIn!D798)","v":""},{"$f":"IF(OR(StockIn!G798=0,StockIn!G798=\"\"),\"\",StockIn!G798)","v":""},{"$f":"IF(OR(StockIn!H798=0,StockIn!H798=\"\"),\"\",StockIn!H798)","v":""},{"$f":"IF(OR(StockIn!L798=0,StockIn!L798=\"\"),\"\",StockIn!L798)","v":""},{"$f":"IF(OR(StockIn!E798=0,StockIn!E798=\"\"),\"\",StockIn!E798)","v":""},{"$f":"IF(OR(StockIn!M798=0,StockIn!M798=\"\"),\"\",StockIn!M798)","v":""}]
[{"$f":"StockIn!A799","v":1797},{"$f":"IF(OR(StockIn!B799=0,StockIn!B799=\"\"),\"\",StockIn!B799)","v":""},{"$f":"IF(OR(StockIn!D799=0,StockIn!D799=\"\"),\"\",StockIn!D799)","v":""},{"$f":"IF(OR(StockIn!G799=0,StockIn!G799=\"\"),\"\",StockIn!G799)","v":""},{"$f":"IF(OR(StockIn!H799=0,StockIn!H799=\"\"),\"\",StockIn!H799)","v":""},{"$f":"IF(OR(StockIn!L799=0,StockIn!L799=\"\"),\"\",StockIn!L799)","v":""},{"$f":"IF(OR(StockIn!E799=0,StockIn!E799=\"\"),\"\",StockIn!E799)","v":""},{"$f":"IF(OR(StockIn!M799=0,StockIn!M799=\"\"),\"\",StockIn!M799)","v":""}]
[{"$f":"StockIn!A800","v":1798},{"$f":"IF(OR(StockIn!B800=0,StockIn!B800=\"\"),\"\",StockIn!B800)","v":""},{"$f":"IF(OR(StockIn!D800=0,StockIn!D800=\"\"),\"\",StockIn!D800)","v":""},{"$f":"IF(OR(StockIn!G800=0,StockIn!G800=\"\"),\"\",StockIn!G800)","v":""},{"$f":"IF(OR(StockIn!H800=0,StockIn!H800=\"\"),\"\",StockIn!H800)","v":""},{"$f":"IF(OR(StockIn!L800=0,StockIn!L800=\"\"),\"\",StockIn!L800)","v":""},{"$f":"IF(OR(StockIn!E800=0,StockIn!E800=\"\"),\"\",StockIn!E800)","v":""},{"$f":"IF(OR(StockIn!M800=0,StockIn!M800=\"\"),\"\",StockIn!M800)","v":""}]
[{"$f":"StockIn!A801","v":1799},{"$f":"IF(OR(StockIn!B801=0,StockIn!B801=\"\"),\"\",StockIn!B801)","v":""},{"$f":"IF(OR(StockIn!D801=0,StockIn!D801=\"\"),\"\",StockIn!D801)","v":""},{"$f":"IF(OR(StockIn!G801=0,StockIn!G801=\"\"),\"\",StockIn!G801)","v":""},{"$f":"IF(OR(StockIn!H801=0,StockIn!H801=\"\"),\"\",StockIn!H801)","v":""},{"$f":"IF(OR(StockIn!L801=0,StockIn!L801=\"\"),\"\",StockIn!L801)","v":""},{"$f":"IF(OR(StockIn!E801=0,StockIn!E801=\"\"),\"\",StockIn!E801)","v":""},{"$f":"IF(OR(StockIn!M801=0,StockIn!M801=\"\"),\"\",StockIn!M801)","v":""}]
[{"$f":"StockIn!A802","v":1800},{"$f":"IF(OR(StockIn!B802=0,StockIn!B802=\"\"),\"\",StockIn!B802)","v":""},{"$f":"IF(OR(StockIn!D802=0,StockIn!D802=\"\"),\"\",StockIn!D802)","v":""},{"$f":"IF(OR(StockIn!G802=0,StockIn!G802=\"\"),\"\",StockIn!G802)","v":""},{"$f":"IF(OR(StockIn!H802=0,StockIn!H802=\"\"),\"\",StockIn!H802)","v":""},{"$f":"IF(OR(StockIn!L802=0,StockIn!L802=\"\"),\"\",StockIn!L802)","v":""},{"$f":"IF(OR(StockIn!E802=0,StockIn!E802=\"\"),\"\",StockIn!E802)","v":""},{"$f":"IF(OR(StockIn!M802=0,StockIn!M802=\"\"),\"\",StockIn!M802)","v":""}]
[{"$f":"StockIn!A803","v":1801},{"$f":"IF(OR(StockIn!B803=0,StockIn!B803=\"\"),\"\",StockIn!B803)","v":""},{"$f":"IF(OR(StockIn!D803=0,StockIn!D803=\"\"),\"\",StockIn!D803)","v":""},{"$f":"IF(OR(StockIn!G803=0,StockIn!G803=\"\"),\"\",StockIn!G803)","v":""},{"$f":"IF(OR(StockIn!H803=0,StockIn!H803=\"\"),\"\",StockIn!H803)","v":""},{"$f":"IF(OR(StockIn!L803=0,StockIn!L803=\"\"),\"\",StockIn!L803)","v":""},{"$f":"IF(OR(StockIn!E803=0,StockIn!E803=\"\"),\"\",StockIn!E803)","v":""},{"$f":"IF(OR(StockIn!M803=0,StockIn!M803=\"\"),\"\",StockIn!M803)","v":""}]
[{"$f":"StockIn!A804","v":1802},{"$f":"IF(OR(StockIn!B804=0,StockIn!B804=\"\"),\"\",StockIn!B804)","v":""},{"$f":"IF(OR(StockIn!D804=0,StockIn!D804=\"\"),\"\",StockIn!D804)","v":""},{"$f":"IF(OR(StockIn!G804=0,StockIn!G804=\"\"),\"\",StockIn!G804)","v":""},{"$f":"IF(OR(StockIn!H804=0,StockIn!H804=\"\"),\"\",StockIn!H804)","v":""},{"$f":"IF(OR(StockIn!L804=0,StockIn!L804=\"\"),\"\",StockIn!L804)","v":""},{"$f":"IF(OR(StockIn!E804=0,StockIn!E804=\"\"),\"\",StockIn!E804)","v":""},{"$f":"IF(OR(StockIn!M804=0,StockIn!M804=\"\"),\"\",StockIn!M804)","v":""}]
[{"$f":"StockIn!A805","v":1803},{"$f":"IF(OR(StockIn!B805=0,StockIn!B805=\"\"),\"\",StockIn!B805)","v":""},{"$f":"IF(OR(StockIn!D805=0,StockIn!D805=\"\"),\"\",StockIn!D805)","v":""},{"$f":"IF(OR(StockIn!G805=0,StockIn!G805=\"\"),\"\",StockIn!G805)","v":""},{"$f":"IF(OR(StockIn!H805=0,StockIn!H805=\"\"),\"\",StockIn!H805)","v":""},{"$f":"IF(OR(StockIn!L805=0,StockIn!L805=\"\"),\"\",StockIn!L805)","v":""},{"$f":"IF(OR(StockIn!E805=0,StockIn!E805=\"\"),\"\",StockIn!E805)","v":""},{"$f":"IF(OR(StockIn!M805=0,StockIn!M805=\"\"),\"\",StockIn!M805)","v":""}]
[{"$f":"StockIn!A806","v":1804},{"$f":"IF(OR(StockIn!B806=0,StockIn!B806=\"\"),\"\",StockIn!B806)","v":""},{"$f":"IF(OR(StockIn!D806=0,StockIn!D806=\"\"),\"\",StockIn!D806)","v":""},{"$f":"IF(OR(StockIn!G806=0,StockIn!G806=\"\"),\"\",StockIn!G806)","v":""},{"$f":"IF(OR(StockIn!H806=0,StockIn!H806=\"\"),\"\",StockIn!H806)","v":""},{"$f":"IF(OR(StockIn!L806=0,StockIn!L806=\"\"),\"\",StockIn!L806)","v":""},{"$f":"IF(OR(StockIn!E806=0,StockIn!E806=\"\"),\"\",StockIn!E806)","v":""},{"$f":"IF(OR(StockIn!M806=0,StockIn!M806=\"\"),\"\",StockIn!M806)","v":""}]
[{"$f":"StockIn!A807","v":1805},{"$f":"IF(OR(StockIn!B807=0,StockIn!B807=\"\"),\"\",StockIn!B807)","v":""},{"$f":"IF(OR(StockIn!D807=0,StockIn!D807=\"\"),\"\",StockIn!D807)","v":""},{"$f":"IF(OR(StockIn!G807=0,StockIn!G807=\"\"),\"\",StockIn!G807)","v":""},{"$f":"IF(OR(StockIn!H807=0,StockIn!H807=\"\"),\"\",StockIn!H807)","v":""},{"$f":"IF(OR(StockIn!L807=0,StockIn!L807=\"\"),\"\",StockIn!L807)","v":""},{"$f":"IF(OR(StockIn!E807=0,StockIn!E807=\"\"),\"\",StockIn!E807)","v":""},{"$f":"IF(OR(StockIn!M807=0,StockIn!M807=\"\"),\"\",StockIn!M807)","v":""}]
[{"$f":"StockIn!A808","v":1806},{"$f":"IF(OR(StockIn!B808=0,StockIn!B808=\"\"),\"\",StockIn!B808)","v":""},{"$f":"IF(OR(StockIn!D808=0,StockIn!D808=\"\"),\"\",StockIn!D808)","v":""},{"$f":"IF(OR(StockIn!G808=0,StockIn!G808=\"\"),\"\",StockIn!G808)","v":""},{"$f":"IF(OR(StockIn!H808=0,StockIn!H808=\"\"),\"\",StockIn!H808)","v":""},{"$f":"IF(OR(StockIn!L808=0,StockIn!L808=\"\"),\"\",StockIn!L808)","v":""},{"$f":"IF(OR(StockIn!E808=0,StockIn!E808=\"\"),\"\",StockIn!E808)","v":""},{"$f":"IF(OR(StockIn!M808=0,StockIn!M808=\"\"),\"\",StockIn!M808)","v":""}]
[{"$f":"StockIn!A809","v":1807},{"$f":"IF(OR(StockIn!B809=0,StockIn!B809=\"\"),\"\",StockIn!B809)","v":""},{"$f":"IF(OR(StockIn!D809=0,StockIn!D809=\"\"),\"\",StockIn!D809)","v":""},{"$f":"IF(OR(StockIn!G809=0,StockIn!G809=\"\"),\"\",StockIn!G809)","v":""},{"$f":"IF(OR(StockIn!H809=0,StockIn!H809=\"\"),\"\",StockIn!H809)","v":""},{"$f":"IF(OR(StockIn!L809=0,StockIn!L809=\"\"),\"\",StockIn!L809)","v":""},{"$f":"IF(OR(StockIn!E809=0,StockIn!E809=\"\"),\"\",StockIn!E809)","v":""},{"$f":"IF(OR(StockIn!M809=0,StockIn!M809=\"\"),\"\",StockIn!M809)","v":""}]
[{"$f":"StockIn!A810","v":1808},{"$f":"IF(OR(StockIn!B810=0,StockIn!B810=\"\"),\"\",StockIn!B810)","v":""},{"$f":"IF(OR(StockIn!D810=0,StockIn!D810=\"\"),\"\",StockIn!D810)","v":""},{"$f":"IF(OR(StockIn!G810=0,StockIn!G810=\"\"),\"\",StockIn!G810)","v":""},{"$f":"IF(OR(StockIn!H810=0,StockIn!H810=\"\"),\"\",StockIn!H810)","v":""},{"$f":"IF(OR(StockIn!L810=0,StockIn!L810=\"\"),\"\",StockIn!L810)","v":""},{"$f":"IF(OR(StockIn!E810=0,StockIn!E810=\"\"),\"\",StockIn!E810)","v":""},{"$f":"IF(OR(StockIn!M810=0,StockIn!M810=\"\"),\"\",StockIn!M810)","v":""}]
[{"$f":"StockIn!A811","v":1809},{"$f":"IF(OR(StockIn!B811=0,StockIn!B811=\"\"),\"\",StockIn!B811)","v":""},{"$f":"IF(OR(StockIn!D811=0,StockIn!D811=\"\"),\"\",StockIn!D811)","v":""},{"$f":"IF(OR(StockIn!G811=0,StockIn!G811=\"\"),\"\",StockIn!G811)","v":""},{"$f":"IF(OR(StockIn!H811=0,StockIn!H811=\"\"),\"\",StockIn!H811)","v":""},{"$f":"IF(OR(StockIn!L811=0,StockIn!L811=\"\"),\"\",StockIn!L811)","v":""},{"$f":"IF(OR(StockIn!E811=0,StockIn!E811=\"\"),\"\",StockIn!E811)","v":""},{"$f":"IF(OR(StockIn!M811=0,StockIn!M811=\"\"),\"\",StockIn!M811)","v":""}]
[{"$f":"StockIn!A812","v":1810},{"$f":"IF(OR(StockIn!B812=0,StockIn!B812=\"\"),\"\",StockIn!B812)","v":""},{"$f":"IF(OR(StockIn!D812=0,StockIn!D812=\"\"),\"\",StockIn!D812)","v":""},{"$f":"IF(OR(StockIn!G812=0,StockIn!G812=\"\"),\"\",StockIn!G812)","v":""},{"$f":"IF(OR(StockIn!H812=0,StockIn!H812=\"\"),\"\",StockIn!H812)","v":""},{"$f":"IF(OR(StockIn!L812=0,StockIn!L812=\"\"),\"\",StockIn!L812)","v":""},{"$f":"IF(OR(StockIn!E812=0,StockIn!E812=\"\"),\"\",StockIn!E812)","v":""},{"$f":"IF(OR(StockIn!M812=0,StockIn!M812=\"\"),\"\",StockIn!M812)","v":""}]
[{"$f":"StockIn!A813","v":1811},{"$f":"IF(OR(StockIn!B813=0,StockIn!B813=\"\"),\"\",StockIn!B813)","v":""},{"$f":"IF(OR(StockIn!D813=0,StockIn!D813=\"\"),\"\",StockIn!D813)","v":""},{"$f":"IF(OR(StockIn!G813=0,StockIn!G813=\"\"),\"\",StockIn!G813)","v":""},{"$f":"IF(OR(StockIn!H813=0,StockIn!H813=\"\"),\"\",StockIn!H813)","v":""},{"$f":"IF(OR(StockIn!L813=0,StockIn!L813=\"\"),\"\",StockIn!L813)","v":""},{"$f":"IF(OR(StockIn!E813=0,StockIn!E813=\"\"),\"\",StockIn!E813)","v":""},{"$f":"IF(OR(StockIn!M813=0,StockIn!M813=\"\"),\"\",StockIn!M813)","v":""}]
[{"$f":"StockIn!A814","v":1812},{"$f":"IF(OR(StockIn!B814=0,StockIn!B814=\"\"),\"\",StockIn!B814)","v":""},{"$f":"IF(OR(StockIn!D814=0,StockIn!D814=\"\"),\"\",StockIn!D814)","v":""},{"$f":"IF(OR(StockIn!G814=0,StockIn!G814=\"\"),\"\",StockIn!G814)","v":""},{"$f":"IF(OR(StockIn!H814=0,StockIn!H814=\"\"),\"\",StockIn!H814)","v":""},{"$f":"IF(OR(StockIn!L814=0,StockIn!L814=\"\"),\"\",StockIn!L814)","v":""},{"$f":"IF(OR(StockIn!E814=0,StockIn!E814=\"\"),\"\",StockIn!E814)","v":""},{"$f":"IF(OR(StockIn!M814=0,StockIn!M814=\"\"),\"\",StockIn!M814)","v":""}]
[{"$f":"StockIn!A815","v":1813},{"$f":"IF(OR(StockIn!B815=0,StockIn!B815=\"\"),\"\",StockIn!B815)","v":""},{"$f":"IF(OR(StockIn!D815=0,StockIn!D815=\"\"),\"\",StockIn!D815)","v":""},{"$f":"IF(OR(StockIn!G815=0,StockIn!G815=\"\"),\"\",StockIn!G815)","v":""},{"$f":"IF(OR(StockIn!H815=0,StockIn!H815=\"\"),\"\",StockIn!H815)","v":""},{"$f":"IF(OR(StockIn!L815=0,StockIn!L815=\"\"),\"\",StockIn!L815)","v":""},{"$f":"IF(OR(StockIn!E815=0,StockIn!E815=\"\"),\"\",StockIn!E815)","v":""},{"$f":"IF(OR(StockIn!M815=0,StockIn!M815=\"\"),\"\",StockIn!M815)","v":""}]
[{"$f":"StockIn!A816","v":1814},{"$f":"IF(OR(StockIn!B816=0,StockIn!B816=\"\"),\"\",StockIn!B816)","v":""},{"$f":"IF(OR(StockIn!D816=0,StockIn!D816=\"\"),\"\",StockIn!D816)","v":""},{"$f":"IF(OR(StockIn!G816=0,StockIn!G816=\"\"),\"\",StockIn!G816)","v":""},{"$f":"IF(OR(StockIn!H816=0,StockIn!H816=\"\"),\"\",StockIn!H816)","v":""},{"$f":"IF(OR(StockIn!L816=0,StockIn!L816=\"\"),\"\",StockIn!L816)","v":""},{"$f":"IF(OR(StockIn!E816=0,StockIn!E816=\"\"),\"\",StockIn!E816)","v":""},{"$f":"IF(OR(StockIn!M816=0,StockIn!M816=\"\"),\"\",StockIn!M816)","v":""}]
[{"$f":"StockIn!A817","v":1815},{"$f":"IF(OR(StockIn!B817=0,StockIn!B817=\"\"),\"\",StockIn!B817)","v":""},{"$f":"IF(OR(StockIn!D817=0,StockIn!D817=\"\"),\"\",StockIn!D817)","v":""},{"$f":"IF(OR(StockIn!G817=0,StockIn!G817=\"\"),\"\",StockIn!G817)","v":""},{"$f":"IF(OR(StockIn!H817=0,StockIn!H817=\"\"),\"\",StockIn!H817)","v":""},{"$f":"IF(OR(StockIn!L817=0,StockIn!L817=\"\"),\"\",StockIn!L817)","v":""},{"$f":"IF(OR(StockIn!E817=0,StockIn!E817=\"\"),\"\",StockIn!E817)","v":""},{"$f":"IF(OR(StockIn!M817=0,StockIn!M817=\"\"),\"\",StockIn!M817)","v":""}]
[{"$f":"StockIn!A818","v":1816},{"$f":"IF(OR(StockIn!B818=0,StockIn!B818=\"\"),\"\",StockIn!B818)","v":""},{"$f":"IF(OR(StockIn!D818=0,StockIn!D818=\"\"),\"\",StockIn!D818)","v":""},{"$f":"IF(OR(StockIn!G818=0,StockIn!G818=\"\"),\"\",StockIn!G818)","v":""},{"$f":"IF(OR(StockIn!H818=0,StockIn!H818=\"\"),\"\",StockIn!H818)","v":""},{"$f":"IF(OR(StockIn!L818=0,StockIn!L818=\"\"),\"\",StockIn!L818)","v":""},{"$f":"IF(OR(StockIn!E818=0,StockIn!E818=\"\"),\"\",StockIn!E818)","v":""},{"$f":"IF(OR(StockIn!M818=0,StockIn!M818=\"\"),\"\",StockIn!M818)","v":""}]
[{"$f":"StockIn!A819","v":1817},{"$f":"IF(OR(StockIn!B819=0,StockIn!B819=\"\"),\"\",StockIn!B819)","v":""},{"$f":"IF(OR(StockIn!D819=0,StockIn!D819=\"\"),\"\",StockIn!D819)","v":""},{"$f":"IF(OR(StockIn!G819=0,StockIn!G819=\"\"),\"\",StockIn!G819)","v":""},{"$f":"IF(OR(StockIn!H819=0,StockIn!H819=\"\"),\"\",StockIn!H819)","v":""},{"$f":"IF(OR(StockIn!L819=0,StockIn!L819=\"\"),\"\",StockIn!L819)","v":""},{"$f":"IF(OR(StockIn!E819=0,StockIn!E819=\"\"),\"\",StockIn!E819)","v":""},{"$f":"IF(OR(StockIn!M819=0,StockIn!M819=\"\"),\"\",StockIn!M819)","v":""}]
[{"$f":"StockIn!A820","v":1818},{"$f":"IF(OR(StockIn!B820=0,StockIn!B820=\"\"),\"\",StockIn!B820)","v":""},{"$f":"IF(OR(StockIn!D820=0,StockIn!D820=\"\"),\"\",StockIn!D820)","v":""},{"$f":"IF(OR(StockIn!G820=0,StockIn!G820=\"\"),\"\",StockIn!G820)","v":""},{"$f":"IF(OR(StockIn!H820=0,StockIn!H820=\"\"),\"\",StockIn!H820)","v":""},{"$f":"IF(OR(StockIn!L820=0,StockIn!L820=\"\"),\"\",StockIn!L820)","v":""},{"$f":"IF(OR(StockIn!E820=0,StockIn!E820=\"\"),\"\",StockIn!E820)","v":""},{"$f":"IF(OR(StockIn!M820=0,StockIn!M820=\"\"),\"\",StockIn!M820)","v":""}]
[{"$f":"StockIn!A821","v":1819},{"$f":"IF(OR(StockIn!B821=0,StockIn!B821=\"\"),\"\",StockIn!B821)","v":""},{"$f":"IF(OR(StockIn!D821=0,StockIn!D821=\"\"),\"\",StockIn!D821)","v":""},{"$f":"IF(OR(StockIn!G821=0,StockIn!G821=\"\"),\"\",StockIn!G821)","v":""},{"$f":"IF(OR(StockIn!H821=0,StockIn!H821=\"\"),\"\",StockIn!H821)","v":""},{"$f":"IF(OR(StockIn!L821=0,StockIn!L821=\"\"),\"\",StockIn!L821)","v":""},{"$f":"IF(OR(StockIn!E821=0,StockIn!E821=\"\"),\"\",StockIn!E821)","v":""},{"$f":"IF(OR(StockIn!M821=0,StockIn!M821=\"\"),\"\",StockIn!M821)","v":""}]
[{"$f":"StockIn!A822","v":1820},{"$f":"IF(OR(StockIn!B822=0,StockIn!B822=\"\"),\"\",StockIn!B822)","v":""},{"$f":"IF(OR(StockIn!D822=0,StockIn!D822=\"\"),\"\",StockIn!D822)","v":""},{"$f":"IF(OR(StockIn!G822=0,StockIn!G822=\"\"),\"\",StockIn!G822)","v":""},{"$f":"IF(OR(StockIn!H822=0,StockIn!H822=\"\"),\"\",StockIn!H822)","v":""},{"$f":"IF(OR(StockIn!L822=0,StockIn!L822=\"\"),\"\",StockIn!L822)","v":""},{"$f":"IF(OR(StockIn!E822=0,StockIn!E822=\"\"),\"\",StockIn!E822)","v":""},{"$f":"IF(OR(StockIn!M822=0,StockIn!M822=\"\"),\"\",StockIn!M822)","v":""}]
[{"$f":"StockIn!A823","v":1821},{"$f":"IF(OR(StockIn!B823=0,StockIn!B823=\"\"),\"\",StockIn!B823)","v":""},{"$f":"IF(OR(StockIn!D823=0,StockIn!D823=\"\"),\"\",StockIn!D823)","v":""},{"$f":"IF(OR(StockIn!G823=0,StockIn!G823=\"\"),\"\",StockIn!G823)","v":""},{"$f":"IF(OR(StockIn!H823=0,StockIn!H823=\"\"),\"\",StockIn!H823)","v":""},{"$f":"IF(OR(StockIn!L823=0,StockIn!L823=\"\"),\"\",StockIn!L823)","v":""},{"$f":"IF(OR(StockIn!E823=0,StockIn!E823=\"\"),\"\",StockIn!E823)","v":""},{"$f":"IF(OR(StockIn!M823=0,StockIn!M823=\"\"),\"\",StockIn!M823)","v":""}]
[{"$f":"StockIn!A824","v":1822},{"$f":"IF(OR(StockIn!B824=0,StockIn!B824=\"\"),\"\",StockIn!B824)","v":""},{"$f":"IF(OR(StockIn!D824=0,StockIn!D824=\"\"),\"\",StockIn!D824)","v":""},{"$f":"IF(OR(StockIn!G824=0,StockIn!G824=\"\"),\"\",StockIn!G824)","v":""},{"$f":"IF(OR(StockIn!H824=0,StockIn!H824=\"\"),\"\",StockIn!H824)","v":""},{"$f":"IF(OR(StockIn!L824=0,StockIn!L824=\"\"),\"\",StockIn!L824)","v":""},{"$f":"IF(OR(StockIn!E824=0,StockIn!E824=\"\"),\"\",StockIn!E824)","v":""},{"$f":"IF(OR(StockIn!M824=0,StockIn!M824=\"\"),\"\",StockIn!M824)","v":""}]
[{"$f":"StockIn!A825","v":1823},{"$f":"IF(OR(StockIn!B825=0,StockIn!B825=\"\"),\"\",StockIn!B825)","v":""},{"$f":"IF(OR(StockIn!D825=0,StockIn!D825=\"\"),\"\",StockIn!D825)","v":""},{"$f":"IF(OR(StockIn!G825=0,StockIn!G825=\"\"),\"\",StockIn!G825)","v":""},{"$f":"IF(OR(StockIn!H825=0,StockIn!H825=\"\"),\"\",StockIn!H825)","v":""},{"$f":"IF(OR(StockIn!L825=0,StockIn!L825=\"\"),\"\",StockIn!L825)","v":""},{"$f":"IF(OR(StockIn!E825=0,StockIn!E825=\"\"),\"\",StockIn!E825)","v":""},{"$f":"IF(OR(StockIn!M825=0,StockIn!M825=\"\"),\"\",StockIn!M825)","v":""}]
[{"$f":"StockIn!A826","v":1824},{"$f":"IF(OR(StockIn!B826=0,StockIn!B826=\"\"),\"\",StockIn!B826)","v":""},{"$f":"IF(OR(StockIn!D826=0,StockIn!D826=\"\"),\"\",StockIn!D826)","v":""},{"$f":"IF(OR(StockIn!G826=0,StockIn!G826=\"\"),\"\",StockIn!G826)","v":""},{"$f":"IF(OR(StockIn!H826=0,StockIn!H826=\"\"),\"\",StockIn!H826)","v":""},{"$f":"IF(OR(StockIn!L826=0,StockIn!L826=\"\"),\"\",StockIn!L826)","v":""},{"$f":"IF(OR(StockIn!E826=0,StockIn!E826=\"\"),\"\",StockIn!E826)","v":""},{"$f":"IF(OR(StockIn!M826=0,StockIn!M826=\"\"),\"\",StockIn!M826)","v":""}]
[{"$f":"StockIn!A827","v":1825},{"$f":"IF(OR(StockIn!B827=0,StockIn!B827=\"\"),\"\",StockIn!B827)","v":""},{"$f":"IF(OR(StockIn!D827=0,StockIn!D827=\"\"),\"\",StockIn!D827)","v":""},{"$f":"IF(OR(StockIn!G827=0,StockIn!G827=\"\"),\"\",StockIn!G827)","v":""},{"$f":"IF(OR(StockIn!H827=0,StockIn!H827=\"\"),\"\",StockIn!H827)","v":""},{"$f":"IF(OR(StockIn!L827=0,StockIn!L827=\"\"),\"\",StockIn!L827)","v":""},{"$f":"IF(OR(StockIn!E827=0,StockIn!E827=\"\"),\"\",StockIn!E827)","v":""},{"$f":"IF(OR(StockIn!M827=0,StockIn!M827=\"\"),\"\",StockIn!M827)","v":""}]
[{"$f":"StockIn!A828","v":1826},{"$f":"IF(OR(StockIn!B828=0,StockIn!B828=\"\"),\"\",StockIn!B828)","v":""},{"$f":"IF(OR(StockIn!D828=0,StockIn!D828=\"\"),\"\",StockIn!D828)","v":""},{"$f":"IF(OR(StockIn!G828=0,StockIn!G828=\"\"),\"\",StockIn!G828)","v":""},{"$f":"IF(OR(StockIn!H828=0,StockIn!H828=\"\"),\"\",StockIn!H828)","v":""},{"$f":"IF(OR(StockIn!L828=0,StockIn!L828=\"\"),\"\",StockIn!L828)","v":""},{"$f":"IF(OR(StockIn!E828=0,StockIn!E828=\"\"),\"\",StockIn!E828)","v":""},{"$f":"IF(OR(StockIn!M828=0,StockIn!M828=\"\"),\"\",StockIn!M828)","v":""}]
[{"$f":"StockIn!A829","v":1827},{"$f":"IF(OR(StockIn!B829=0,StockIn!B829=\"\"),\"\",StockIn!B829)","v":""},{"$f":"IF(OR(StockIn!D829=0,StockIn!D829=\"\"),\"\",StockIn!D829)","v":""},{"$f":"IF(OR(StockIn!G829=0,StockIn!G829=\"\"),\"\",StockIn!G829)","v":""},{"$f":"IF(OR(StockIn!H829=0,StockIn!H829=\"\"),\"\",StockIn!H829)","v":""},{"$f":"IF(OR(StockIn!L829=0,StockIn!L829=\"\"),\"\",StockIn!L829)","v":""},{"$f":"IF(OR(StockIn!E829=0,StockIn!E829=\"\"),\"\",StockIn!E829)","v":""},{"$f":"IF(OR(StockIn!M829=0,StockIn!M829=\"\"),\"\",StockIn!M829)","v":""}]
[{"$f":"StockIn!A830","v":1828},{"$f":"IF(OR(StockIn!B830=0,StockIn!B830=\"\"),\"\",StockIn!B830)","v":""},{"$f":"IF(OR(StockIn!D830=0,StockIn!D830=\"\"),\"\",StockIn!D830)","v":""},{"$f":"IF(OR(StockIn!G830=0,StockIn!G830=\"\"),\"\",StockIn!G830)","v":""},{"$f":"IF(OR(StockIn!H830=0,StockIn!H830=\"\"),\"\",StockIn!H830)","v":""},{"$f":"IF(OR(StockIn!L830=0,StockIn!L830=\"\"),\"\",StockIn!L830)","v":""},{"$f":"IF(OR(StockIn!E830=0,StockIn!E830=\"\"),\"\",StockIn!E830)","v":""},{"$f":"IF(OR(StockIn!M830=0,StockIn!M830=\"\"),\"\",StockIn!M830)","v":""}]
[{"$f":"StockIn!A831","v":1829},{"$f":"IF(OR(StockIn!B831=0,StockIn!B831=\"\"),\"\",StockIn!B831)","v":""},{"$f":"IF(OR(StockIn!D831=0,StockIn!D831=\"\"),\"\",StockIn!D831)","v":""},{"$f":"IF(OR(StockIn!G831=0,StockIn!G831=\"\"),\"\",StockIn!G831)","v":""},{"$f":"IF(OR(StockIn!H831=0,StockIn!H831=\"\"),\"\",StockIn!H831)","v":""},{"$f":"IF(OR(StockIn!L831=0,StockIn!L831=\"\"),\"\",StockIn!L831)","v":""},{"$f":"IF(OR(StockIn!E831=0,StockIn!E831=\"\"),\"\",StockIn!E831)","v":""},{"$f":"IF(OR(StockIn!M831=0,StockIn!M831=\"\"),\"\",StockIn!M831)","v":""}]
[{"$f":"StockIn!A832","v":1830},{"$f":"IF(OR(StockIn!B832=0,StockIn!B832=\"\"),\"\",StockIn!B832)","v":""},{"$f":"IF(OR(StockIn!D832=0,StockIn!D832=\"\"),\"\",StockIn!D832)","v":""},{"$f":"IF(OR(StockIn!G832=0,StockIn!G832=\"\"),\"\",StockIn!G832)","v":""},{"$f":"IF(OR(StockIn!H832=0,StockIn!H832=\"\"),\"\",StockIn!H832)","v":""},{"$f":"IF(OR(StockIn!L832=0,StockIn!L832=\"\"),\"\",StockIn!L832)","v":""},{"$f":"IF(OR(StockIn!E832=0,StockIn!E832=\"\"),\"\",StockIn!E832)","v":""},{"$f":"IF(OR(StockIn!M832=0,StockIn!M832=\"\"),\"\",StockIn!M832)","v":""}]
[{"$f":"StockIn!A833","v":1831},{"$f":"IF(OR(StockIn!B833=0,StockIn!B833=\"\"),\"\",StockIn!B833)","v":""},{"$f":"IF(OR(StockIn!D833=0,StockIn!D833=\"\"),\"\",StockIn!D833)","v":""},{"$f":"IF(OR(StockIn!G833=0,StockIn!G833=\"\"),\"\",StockIn!G833)","v":""},{"$f":"IF(OR(StockIn!H833=0,StockIn!H833=\"\"),\"\",StockIn!H833)","v":""},{"$f":"IF(OR(StockIn!L833=0,StockIn!L833=\"\"),\"\",StockIn!L833)","v":""},{"$f":"IF(OR(StockIn!E833=0,StockIn!E833=\"\"),\"\",StockIn!E833)","v":""},{"$f":"IF(OR(StockIn!M833=0,StockIn!M833=\"\"),\"\",StockIn!M833)","v":""}]
[{"$f":"StockIn!A834","v":1832},{"$f":"IF(OR(StockIn!B834=0,StockIn!B834=\"\"),\"\",StockIn!B834)","v":""},{"$f":"IF(OR(StockIn!D834=0,StockIn!D834=\"\"),\"\",StockIn!D834)","v":""},{"$f":"IF(OR(StockIn!G834=0,StockIn!G834=\"\"),\"\",StockIn!G834)","v":""},{"$f":"IF(OR(StockIn!H834=0,StockIn!H834=\"\"),\"\",StockIn!H834)","v":""},{"$f":"IF(OR(StockIn!L834=0,StockIn!L834=\"\"),\"\",StockIn!L834)","v":""},{"$f":"IF(OR(StockIn!E834=0,StockIn!E834=\"\"),\"\",StockIn!E834)","v":""},{"$f":"IF(OR(StockIn!M834=0,StockIn!M834=\"\"),\"\",StockIn!M834)","v":""}]
[{"$f":"StockIn!A835","v":1833},{"$f":"IF(OR(StockIn!B835=0,StockIn!B835=\"\"),\"\",StockIn!B835)","v":""},{"$f":"IF(OR(StockIn!D835=0,StockIn!D835=\"\"),\"\",StockIn!D835)","v":""},{"$f":"IF(OR(StockIn!G835=0,StockIn!G835=\"\"),\"\",StockIn!G835)","v":""},{"$f":"IF(OR(StockIn!H835=0,StockIn!H835=\"\"),\"\",StockIn!H835)","v":""},{"$f":"IF(OR(StockIn!L835=0,StockIn!L835=\"\"),\"\",StockIn!L835)","v":""},{"$f":"IF(OR(StockIn!E835=0,StockIn!E835=\"\"),\"\",StockIn!E835)","v":""},{"$f":"IF(OR(StockIn!M835=0,StockIn!M835=\"\"),\"\",StockIn!M835)","v":""}]
[{"$f":"StockIn!A836","v":1834},{"$f":"IF(OR(StockIn!B836=0,StockIn!B836=\"\"),\"\",StockIn!B836)","v":""},{"$f":"IF(OR(StockIn!D836=0,StockIn!D836=\"\"),\"\",StockIn!D836)","v":""},{"$f":"IF(OR(StockIn!G836=0,StockIn!G836=\"\"),\"\",StockIn!G836)","v":""},{"$f":"IF(OR(StockIn!H836=0,StockIn!H836=\"\"),\"\",StockIn!H836)","v":""},{"$f":"IF(OR(StockIn!L836=0,StockIn!L836=\"\"),\"\",StockIn!L836)","v":""},{"$f":"IF(OR(StockIn!E836=0,StockIn!E836=\"\"),\"\",StockIn!E836)","v":""},{"$f":"IF(OR(StockIn!M836=0,StockIn!M836=\"\"),\"\",StockIn!M836)","v":""}]
[{"$f":"StockIn!A837","v":1835},{"$f":"IF(OR(StockIn!B837=0,StockIn!B837=\"\"),\"\",StockIn!B837)","v":""},{"$f":"IF(OR(StockIn!D837=0,StockIn!D837=\"\"),\"\",StockIn!D837)","v":""},{"$f":"IF(OR(StockIn!G837=0,StockIn!G837=\"\"),\"\",StockIn!G837)","v":""},{"$f":"IF(OR(StockIn!H837=0,StockIn!H837=\"\"),\"\",StockIn!H837)","v":""},{"$f":"IF(OR(StockIn!L837=0,StockIn!L837=\"\"),\"\",StockIn!L837)","v":""},{"$f":"IF(OR(StockIn!E837=0,StockIn!E837=\"\"),\"\",StockIn!E837)","v":""},{"$f":"IF(OR(StockIn!M837=0,StockIn!M837=\"\"),\"\",StockIn!M837)","v":""}]
[{"$f":"StockIn!A838","v":1836},{"$f":"IF(OR(StockIn!B838=0,StockIn!B838=\"\"),\"\",StockIn!B838)","v":""},{"$f":"IF(OR(StockIn!D838=0,StockIn!D838=\"\"),\"\",StockIn!D838)","v":""},{"$f":"IF(OR(StockIn!G838=0,StockIn!G838=\"\"),\"\",StockIn!G838)","v":""},{"$f":"IF(OR(StockIn!H838=0,StockIn!H838=\"\"),\"\",StockIn!H838)","v":""},{"$f":"IF(OR(StockIn!L838=0,StockIn!L838=\"\"),\"\",StockIn!L838)","v":""},{"$f":"IF(OR(StockIn!E838=0,StockIn!E838=\"\"),\"\",StockIn!E838)","v":""},{"$f":"IF(OR(StockIn!M838=0,StockIn!M838=\"\"),\"\",StockIn!M838)","v":""}]
[{"$f":"StockIn!A839","v":1837},{"$f":"IF(OR(StockIn!B839=0,StockIn!B839=\"\"),\"\",StockIn!B839)","v":""},{"$f":"IF(OR(StockIn!D839=0,StockIn!D839=\"\"),\"\",StockIn!D839)","v":""},{"$f":"IF(OR(StockIn!G839=0,StockIn!G839=\"\"),\"\",StockIn!G839)","v":""},{"$f":"IF(OR(StockIn!H839=0,StockIn!H839=\"\"),\"\",StockIn!H839)","v":""},{"$f":"IF(OR(StockIn!L839=0,StockIn!L839=\"\"),\"\",StockIn!L839)","v":""},{"$f":"IF(OR(StockIn!E839=0,StockIn!E839=\"\"),\"\",StockIn!E839)","v":""},{"$f":"IF(OR(StockIn!M839=0,StockIn!M839=\"\"),\"\",StockIn!M839)","v":""}]
[{"$f":"StockIn!A840","v":1838},{"$f":"IF(OR(StockIn!B840=0,StockIn!B840=\"\"),\"\",StockIn!B840)","v":""},{"$f":"IF(OR(StockIn!D840=0,StockIn!D840=\"\"),\"\",StockIn!D840)","v":""},{"$f":"IF(OR(StockIn!G840=0,StockIn!G840=\"\"),\"\",StockIn!G840)","v":""},{"$f":"IF(OR(StockIn!H840=0,StockIn!H840=\"\"),\"\",StockIn!H840)","v":""},{"$f":"IF(OR(StockIn!L840=0,StockIn!L840=\"\"),\"\",StockIn!L840)","v":""},{"$f":"IF(OR(StockIn!E840=0,StockIn!E840=\"\"),\"\",StockIn!E840)","v":""},{"$f":"IF(OR(StockIn!M840=0,StockIn!M840=\"\"),\"\",StockIn!M840)","v":""}]
[{"$f":"StockIn!A841","v":1839},{"$f":"IF(OR(StockIn!B841=0,StockIn!B841=\"\"),\"\",StockIn!B841)","v":""},{"$f":"IF(OR(StockIn!D841=0,StockIn!D841=\"\"),\"\",StockIn!D841)","v":""},{"$f":"IF(OR(StockIn!G841=0,StockIn!G841=\"\"),\"\",StockIn!G841)","v":""},{"$f":"IF(OR(StockIn!H841=0,StockIn!H841=\"\"),\"\",StockIn!H841)","v":""},{"$f":"IF(OR(StockIn!L841=0,StockIn!L841=\"\"),\"\",StockIn!L841)","v":""},{"$f":"IF(OR(StockIn!E841=0,StockIn!E841=\"\"),\"\",StockIn!E841)","v":""},{"$f":"IF(OR(StockIn!M841=0,StockIn!M841=\"\"),\"\",StockIn!M841)","v":""}]
[{"$f":"StockIn!A842","v":1840},{"$f":"IF(OR(StockIn!B842=0,StockIn!B842=\"\"),\"\",StockIn!B842)","v":""},{"$f":"IF(OR(StockIn!D842=0,StockIn!D842=\"\"),\"\",StockIn!D842)","v":""},{"$f":"IF(OR(StockIn!G842=0,StockIn!G842=\"\"),\"\",StockIn!G842)","v":""},{"$f":"IF(OR(StockIn!H842=0,StockIn!H842=\"\"),\"\",StockIn!H842)","v":""},{"$f":"IF(OR(StockIn!L842=0,StockIn!L842=\"\"),\"\",StockIn!L842)","v":""},{"$f":"IF(OR(StockIn!E842=0,StockIn!E842=\"\"),\"\",StockIn!E842)","v":""},{"$f":"IF(OR(StockIn!M842=0,StockIn!M842=\"\"),\"\",StockIn!M842)","v":""}]
[{"$f":"StockIn!A843","v":1841},{"$f":"IF(OR(StockIn!B843=0,StockIn!B843=\"\"),\"\",StockIn!B843)","v":""},{"$f":"IF(OR(StockIn!D843=0,StockIn!D843=\"\"),\"\",StockIn!D843)","v":""},{"$f":"IF(OR(StockIn!G843=0,StockIn!G843=\"\"),\"\",StockIn!G843)","v":""},{"$f":"IF(OR(StockIn!H843=0,StockIn!H843=\"\"),\"\",StockIn!H843)","v":""},{"$f":"IF(OR(StockIn!L843=0,StockIn!L843=\"\"),\"\",StockIn!L843)","v":""},{"$f":"IF(OR(StockIn!E843=0,StockIn!E843=\"\"),\"\",StockIn!E843)","v":""},{"$f":"IF(OR(StockIn!M843=0,StockIn!M843=\"\"),\"\",StockIn!M843)","v":""}]
[{"$f":"StockIn!A844","v":1842},{"$f":"IF(OR(StockIn!B844=0,StockIn!B844=\"\"),\"\",StockIn!B844)","v":""},{"$f":"IF(OR(StockIn!D844=0,StockIn!D844=\"\"),\"\",StockIn!D844)","v":""},{"$f":"IF(OR(StockIn!G844=0,StockIn!G844=\"\"),\"\",StockIn!G844)","v":""},{"$f":"IF(OR(StockIn!H844=0,StockIn!H844=\"\"),\"\",StockIn!H844)","v":""},{"$f":"IF(OR(StockIn!L844=0,StockIn!L844=\"\"),\"\",StockIn!L844)","v":""},{"$f":"IF(OR(StockIn!E844=0,StockIn!E844=\"\"),\"\",StockIn!E844)","v":""},{"$f":"IF(OR(StockIn!M844=0,StockIn!M844=\"\"),\"\",StockIn!M844)","v":""}]
[{"$f":"StockIn!A845","v":1843},{"$f":"IF(OR(StockIn!B845=0,StockIn!B845=\"\"),\"\",StockIn!B845)","v":""},{"$f":"IF(OR(StockIn!D845=0,StockIn!D845=\"\"),\"\",StockIn!D845)","v":""},{"$f":"IF(OR(StockIn!G845=0,StockIn!G845=\"\"),\"\",StockIn!G845)","v":""},{"$f":"IF(OR(StockIn!H845=0,StockIn!H845=\"\"),\"\",StockIn!H845)","v":""},{"$f":"IF(OR(StockIn!L845=0,StockIn!L845=\"\"),\"\",StockIn!L845)","v":""},{"$f":"IF(OR(StockIn!E845=0,StockIn!E845=\"\"),\"\",StockIn!E845)","v":""},{"$f":"IF(OR(StockIn!M845=0,StockIn!M845=\"\"),\"\",StockIn!M845)","v":""}]
[{"$f":"StockIn!A846","v":1844},{"$f":"IF(OR(StockIn!B846=0,StockIn!B846=\"\"),\"\",StockIn!B846)","v":""},{"$f":"IF(OR(StockIn!D846=0,StockIn!D846=\"\"),\"\",StockIn!D846)","v":""},{"$f":"IF(OR(StockIn!G846=0,StockIn!G846=\"\"),\"\",StockIn!G846)","v":""},{"$f":"IF(OR(StockIn!H846=0,StockIn!H846=\"\"),\"\",StockIn!H846)","v":""},{"$f":"IF(OR(StockIn!L846=0,StockIn!L846=\"\"),\"\",StockIn!L846)","v":""},{"$f":"IF(OR(StockIn!E846=0,StockIn!E846=\"\"),\"\",StockIn!E846)","v":""},{"$f":"IF(OR(StockIn!M846=0,StockIn!M846=\"\"),\"\",StockIn!M846)","v":""}]
[{"$f":"StockIn!A847","v":1845},{"$f":"IF(OR(StockIn!B847=0,StockIn!B847=\"\"),\"\",StockIn!B847)","v":""},{"$f":"IF(OR(StockIn!D847=0,StockIn!D847=\"\"),\"\",StockIn!D847)","v":""},{"$f":"IF(OR(StockIn!G847=0,StockIn!G847=\"\"),\"\",StockIn!G847)","v":""},{"$f":"IF(OR(StockIn!H847=0,StockIn!H847=\"\"),\"\",StockIn!H847)","v":""},{"$f":"IF(OR(StockIn!L847=0,StockIn!L847=\"\"),\"\",StockIn!L847)","v":""},{"$f":"IF(OR(StockIn!E847=0,StockIn!E847=\"\"),\"\",StockIn!E847)","v":""},{"$f":"IF(OR(StockIn!M847=0,StockIn!M847=\"\"),\"\",StockIn!M847)","v":""}]
[{"$f":"StockIn!A848","v":1846},{"$f":"IF(OR(StockIn!B848=0,StockIn!B848=\"\"),\"\",StockIn!B848)","v":""},{"$f":"IF(OR(StockIn!D848=0,StockIn!D848=\"\"),\"\",StockIn!D848)","v":""},{"$f":"IF(OR(StockIn!G848=0,StockIn!G848=\"\"),\"\",StockIn!G848)","v":""},{"$f":"IF(OR(StockIn!H848=0,StockIn!H848=\"\"),\"\",StockIn!H848)","v":""},{"$f":"IF(OR(StockIn!L848=0,StockIn!L848=\"\"),\"\",StockIn!L848)","v":""},{"$f":"IF(OR(StockIn!E848=0,StockIn!E848=\"\"),\"\",StockIn!E848)","v":""},{"$f":"IF(OR(StockIn!M848=0,StockIn!M848=\"\"),\"\",StockIn!M848)","v":""}]
[{"$f":"StockIn!A849","v":1847},{"$f":"IF(OR(StockIn!B849=0,StockIn!B849=\"\"),\"\",StockIn!B849)","v":""},{"$f":"IF(OR(StockIn!D849=0,StockIn!D849=\"\"),\"\",StockIn!D849)","v":""},{"$f":"IF(OR(StockIn!G849=0,StockIn!G849=\"\"),\"\",StockIn!G849)","v":""},{"$f":"IF(OR(StockIn!H849=0,StockIn!H849=\"\"),\"\",StockIn!H849)","v":""},{"$f":"IF(OR(StockIn!L849=0,StockIn!L849=\"\"),\"\",StockIn!L849)","v":""},{"$f":"IF(OR(StockIn!E849=0,StockIn!E849=\"\"),\"\",StockIn!E849)","v":""},{"$f":"IF(OR(StockIn!M849=0,StockIn!M849=\"\"),\"\",StockIn!M849)","v":""}]
[{"$f":"StockIn!A850","v":1848},{"$f":"IF(OR(StockIn!B850=0,StockIn!B850=\"\"),\"\",StockIn!B850)","v":""},{"$f":"IF(OR(StockIn!D850=0,StockIn!D850=\"\"),\"\",StockIn!D850)","v":""},{"$f":"IF(OR(StockIn!G850=0,StockIn!G850=\"\"),\"\",StockIn!G850)","v":""},{"$f":"IF(OR(StockIn!H850=0,StockIn!H850=\"\"),\"\",StockIn!H850)","v":""},{"$f":"IF(OR(StockIn!L850=0,StockIn!L850=\"\"),\"\",StockIn!L850)","v":""},{"$f":"IF(OR(StockIn!E850=0,StockIn!E850=\"\"),\"\",StockIn!E850)","v":""},{"$f":"IF(OR(StockIn!M850=0,StockIn!M850=\"\"),\"\",StockIn!M850)","v":""}]
[{"$f":"StockIn!A851","v":1849},{"$f":"IF(OR(StockIn!B851=0,StockIn!B851=\"\"),\"\",StockIn!B851)","v":""},{"$f":"IF(OR(StockIn!D851=0,StockIn!D851=\"\"),\"\",StockIn!D851)","v":""},{"$f":"IF(OR(StockIn!G851=0,StockIn!G851=\"\"),\"\",StockIn!G851)","v":""},{"$f":"IF(OR(StockIn!H851=0,StockIn!H851=\"\"),\"\",StockIn!H851)","v":""},{"$f":"IF(OR(StockIn!L851=0,StockIn!L851=\"\"),\"\",StockIn!L851)","v":""},{"$f":"IF(OR(StockIn!E851=0,StockIn!E851=\"\"),\"\",StockIn!E851)","v":""},{"$f":"IF(OR(StockIn!M851=0,StockIn!M851=\"\"),\"\",StockIn!M851)","v":""}]
[{"$f":"StockIn!A852","v":1850},{"$f":"IF(OR(StockIn!B852=0,StockIn!B852=\"\"),\"\",StockIn!B852)","v":""},{"$f":"IF(OR(StockIn!D852=0,StockIn!D852=\"\"),\"\",StockIn!D852)","v":""},{"$f":"IF(OR(StockIn!G852=0,StockIn!G852=\"\"),\"\",StockIn!G852)","v":""},{"$f":"IF(OR(StockIn!H852=0,StockIn!H852=\"\"),\"\",StockIn!H852)","v":""},{"$f":"IF(OR(StockIn!L852=0,StockIn!L852=\"\"),\"\",StockIn!L852)","v":""},{"$f":"IF(OR(StockIn!E852=0,StockIn!E852=\"\"),\"\",StockIn!E852)","v":""},{"$f":"IF(OR(StockIn!M852=0,StockIn!M852=\"\"),\"\",StockIn!M852)","v":""}]
[{"$f":"StockIn!A853","v":1851},{"$f":"IF(OR(StockIn!B853=0,StockIn!B853=\"\"),\"\",StockIn!B853)","v":""},{"$f":"IF(OR(StockIn!D853=0,StockIn!D853=\"\"),\"\",StockIn!D853)","v":""},{"$f":"IF(OR(StockIn!G853=0,StockIn!G853=\"\"),\"\",StockIn!G853)","v":""},{"$f":"IF(OR(StockIn!H853=0,StockIn!H853=\"\"),\"\",StockIn!H853)","v":""},{"$f":"IF(OR(StockIn!L853=0,StockIn!L853=\"\"),\"\",StockIn!L853)","v":""},{"$f":"IF(OR(StockIn!E853=0,StockIn!E853=\"\"),\"\",StockIn!E853)","v":""},{"$f":"IF(OR(StockIn!M853=0,StockIn!M853=\"\"),\"\",StockIn!M853)","v":""}]
[{"$f":"StockIn!A854","v":1852},{"$f":"IF(OR(StockIn!B854=0,StockIn!B854=\"\"),\"\",StockIn!B854)","v":""},{"$f":"IF(OR(StockIn!D854=0,StockIn!D854=\"\"),\"\",StockIn!D854)","v":""},{"$f":"IF(OR(StockIn!G854=0,StockIn!G854=\"\"),\"\",StockIn!G854)","v":""},{"$f":"IF(OR(StockIn!H854=0,StockIn!H854=\"\"),\"\",StockIn!H854)","v":""},{"$f":"IF(OR(StockIn!L854=0,StockIn!L854=\"\"),\"\",StockIn!L854)","v":""},{"$f":"IF(OR(StockIn!E854=0,StockIn!E854=\"\"),\"\",StockIn!E854)","v":""},{"$f":"IF(OR(StockIn!M854=0,StockIn!M854=\"\"),\"\",StockIn!M854)","v":""}]
[{"$f":"StockIn!A855","v":1853},{"$f":"IF(OR(StockIn!B855=0,StockIn!B855=\"\"),\"\",StockIn!B855)","v":""},{"$f":"IF(OR(StockIn!D855=0,StockIn!D855=\"\"),\"\",StockIn!D855)","v":""},{"$f":"IF(OR(StockIn!G855=0,StockIn!G855=\"\"),\"\",StockIn!G855)","v":""},{"$f":"IF(OR(StockIn!H855=0,StockIn!H855=\"\"),\"\",StockIn!H855)","v":""},{"$f":"IF(OR(StockIn!L855=0,StockIn!L855=\"\"),\"\",StockIn!L855)","v":""},{"$f":"IF(OR(StockIn!E855=0,StockIn!E855=\"\"),\"\",StockIn!E855)","v":""},{"$f":"IF(OR(StockIn!M855=0,StockIn!M855=\"\"),\"\",StockIn!M855)","v":""}]
[{"$f":"StockIn!A856","v":1854},{"$f":"IF(OR(StockIn!B856=0,StockIn!B856=\"\"),\"\",StockIn!B856)","v":""},{"$f":"IF(OR(StockIn!D856=0,StockIn!D856=\"\"),\"\",StockIn!D856)","v":""},{"$f":"IF(OR(StockIn!G856=0,StockIn!G856=\"\"),\"\",StockIn!G856)","v":""},{"$f":"IF(OR(StockIn!H856=0,StockIn!H856=\"\"),\"\",StockIn!H856)","v":""},{"$f":"IF(OR(StockIn!L856=0,StockIn!L856=\"\"),\"\",StockIn!L856)","v":""},{"$f":"IF(OR(StockIn!E856=0,StockIn!E856=\"\"),\"\",StockIn!E856)","v":""},{"$f":"IF(OR(StockIn!M856=0,StockIn!M856=\"\"),\"\",StockIn!M856)","v":""}]
[{"$f":"StockIn!A857","v":1855},{"$f":"IF(OR(StockIn!B857=0,StockIn!B857=\"\"),\"\",StockIn!B857)","v":""},{"$f":"IF(OR(StockIn!D857=0,StockIn!D857=\"\"),\"\",StockIn!D857)","v":""},{"$f":"IF(OR(StockIn!G857=0,StockIn!G857=\"\"),\"\",StockIn!G857)","v":""},{"$f":"IF(OR(StockIn!H857=0,StockIn!H857=\"\"),\"\",StockIn!H857)","v":""},{"$f":"IF(OR(StockIn!L857=0,StockIn!L857=\"\"),\"\",StockIn!L857)","v":""},{"$f":"IF(OR(StockIn!E857=0,StockIn!E857=\"\"),\"\",StockIn!E857)","v":""},{"$f":"IF(OR(StockIn!M857=0,StockIn!M857=\"\"),\"\",StockIn!M857)","v":""}]
[{"$f":"StockIn!A858","v":1856},{"$f":"IF(OR(StockIn!B858=0,StockIn!B858=\"\"),\"\",StockIn!B858)","v":""},{"$f":"IF(OR(StockIn!D858=0,StockIn!D858=\"\"),\"\",StockIn!D858)","v":""},{"$f":"IF(OR(StockIn!G858=0,StockIn!G858=\"\"),\"\",StockIn!G858)","v":""},{"$f":"IF(OR(StockIn!H858=0,StockIn!H858=\"\"),\"\",StockIn!H858)","v":""},{"$f":"IF(OR(StockIn!L858=0,StockIn!L858=\"\"),\"\",StockIn!L858)","v":""},{"$f":"IF(OR(StockIn!E858=0,StockIn!E858=\"\"),\"\",StockIn!E858)","v":""},{"$f":"IF(OR(StockIn!M858=0,StockIn!M858=\"\"),\"\",StockIn!M858)","v":""}]
[{"$f":"StockIn!A859","v":1857},{"$f":"IF(OR(StockIn!B859=0,StockIn!B859=\"\"),\"\",StockIn!B859)","v":""},{"$f":"IF(OR(StockIn!D859=0,StockIn!D859=\"\"),\"\",StockIn!D859)","v":""},{"$f":"IF(OR(StockIn!G859=0,StockIn!G859=\"\"),\"\",StockIn!G859)","v":""},{"$f":"IF(OR(StockIn!H859=0,StockIn!H859=\"\"),\"\",StockIn!H859)","v":""},{"$f":"IF(OR(StockIn!L859=0,StockIn!L859=\"\"),\"\",StockIn!L859)","v":""},{"$f":"IF(OR(StockIn!E859=0,StockIn!E859=\"\"),\"\",StockIn!E859)","v":""},{"$f":"IF(OR(StockIn!M859=0,StockIn!M859=\"\"),\"\",StockIn!M859)","v":""}]
[{"$f":"StockIn!A860","v":1858},{"$f":"IF(OR(StockIn!B860=0,StockIn!B860=\"\"),\"\",StockIn!B860)","v":""},{"$f":"IF(OR(StockIn!D860=0,StockIn!D860=\"\"),\"\",StockIn!D860)","v":""},{"$f":"IF(OR(StockIn!G860=0,StockIn!G860=\"\"),\"\",StockIn!G860)","v":""},{"$f":"IF(OR(StockIn!H860=0,StockIn!H860=\"\"),\"\",StockIn!H860)","v":""},{"$f":"IF(OR(StockIn!L860=0,StockIn!L860=\"\"),\"\",StockIn!L860)","v":""},{"$f":"IF(OR(StockIn!E860=0,StockIn!E860=\"\"),\"\",StockIn!E860)","v":""},{"$f":"IF(OR(StockIn!M860=0,StockIn!M860=\"\"),\"\",StockIn!M860)","v":""}]
[{"$f":"StockIn!A861","v":1859},{"$f":"IF(OR(StockIn!B861=0,StockIn!B861=\"\"),\"\",StockIn!B861)","v":""},{"$f":"IF(OR(StockIn!D861=0,StockIn!D861=\"\"),\"\",StockIn!D861)","v":""},{"$f":"IF(OR(StockIn!G861=0,StockIn!G861=\"\"),\"\",StockIn!G861)","v":""},{"$f":"IF(OR(StockIn!H861=0,StockIn!H861=\"\"),\"\",StockIn!H861)","v":""},{"$f":"IF(OR(StockIn!L861=0,StockIn!L861=\"\"),\"\",StockIn!L861)","v":""},{"$f":"IF(OR(StockIn!E861=0,StockIn!E861=\"\"),\"\",StockIn!E861)","v":""},{"$f":"IF(OR(StockIn!M861=0,StockIn!M861=\"\"),\"\",StockIn!M861)","v":""}]
[{"$f":"StockIn!A862","v":1860},{"$f":"IF(OR(StockIn!B862=0,StockIn!B862=\"\"),\"\",StockIn!B862)","v":""},{"$f":"IF(OR(StockIn!D862=0,StockIn!D862=\"\"),\"\",StockIn!D862)","v":""},{"$f":"IF(OR(StockIn!G862=0,StockIn!G862=\"\"),\"\",StockIn!G862)","v":""},{"$f":"IF(OR(StockIn!H862=0,StockIn!H862=\"\"),\"\",StockIn!H862)","v":""},{"$f":"IF(OR(StockIn!L862=0,StockIn!L862=\"\"),\"\",StockIn!L862)","v":""},{"$f":"IF(OR(StockIn!E862=0,StockIn!E862=\"\"),\"\",StockIn!E862)","v":""},{"$f":"IF(OR(StockIn!M862=0,StockIn!M862=\"\"),\"\",StockIn!M862)","v":""}]
[{"$f":"StockIn!A863","v":1861},{"$f":"IF(OR(StockIn!B863=0,StockIn!B863=\"\"),\"\",StockIn!B863)","v":""},{"$f":"IF(OR(StockIn!D863=0,StockIn!D863=\"\"),\"\",StockIn!D863)","v":""},{"$f":"IF(OR(StockIn!G863=0,StockIn!G863=\"\"),\"\",StockIn!G863)","v":""},{"$f":"IF(OR(StockIn!H863=0,StockIn!H863=\"\"),\"\",StockIn!H863)","v":""},{"$f":"IF(OR(StockIn!L863=0,StockIn!L863=\"\"),\"\",StockIn!L863)","v":""},{"$f":"IF(OR(StockIn!E863=0,StockIn!E863=\"\"),\"\",StockIn!E863)","v":""},{"$f":"IF(OR(StockIn!M863=0,StockIn!M863=\"\"),\"\",StockIn!M863)","v":""}]
[{"$f":"StockIn!A864","v":1862},{"$f":"IF(OR(StockIn!B864=0,StockIn!B864=\"\"),\"\",StockIn!B864)","v":""},{"$f":"IF(OR(StockIn!D864=0,StockIn!D864=\"\"),\"\",StockIn!D864)","v":""},{"$f":"IF(OR(StockIn!G864=0,StockIn!G864=\"\"),\"\",StockIn!G864)","v":""},{"$f":"IF(OR(StockIn!H864=0,StockIn!H864=\"\"),\"\",StockIn!H864)","v":""},{"$f":"IF(OR(StockIn!L864=0,StockIn!L864=\"\"),\"\",StockIn!L864)","v":""},{"$f":"IF(OR(StockIn!E864=0,StockIn!E864=\"\"),\"\",StockIn!E864)","v":""},{"$f":"IF(OR(StockIn!M864=0,StockIn!M864=\"\"),\"\",StockIn!M864)","v":""}]
[{"$f":"StockIn!A865","v":1863},{"$f":"IF(OR(StockIn!B865=0,StockIn!B865=\"\"),\"\",StockIn!B865)","v":""},{"$f":"IF(OR(StockIn!D865=0,StockIn!D865=\"\"),\"\",StockIn!D865)","v":""},{"$f":"IF(OR(StockIn!G865=0,StockIn!G865=\"\"),\"\",StockIn!G865)","v":""},{"$f":"IF(OR(StockIn!H865=0,StockIn!H865=\"\"),\"\",StockIn!H865)","v":""},{"$f":"IF(OR(StockIn!L865=0,StockIn!L865=\"\"),\"\",StockIn!L865)","v":""},{"$f":"IF(OR(StockIn!E865=0,StockIn!E865=\"\"),\"\",StockIn!E865)","v":""},{"$f":"IF(OR(StockIn!M865=0,StockIn!M865=\"\"),\"\",StockIn!M865)","v":""}]
[{"$f":"StockIn!A866","v":1864},{"$f":"IF(OR(StockIn!B866=0,StockIn!B866=\"\"),\"\",StockIn!B866)","v":""},{"$f":"IF(OR(StockIn!D866=0,StockIn!D866=\"\"),\"\",StockIn!D866)","v":""},{"$f":"IF(OR(StockIn!G866=0,StockIn!G866=\"\"),\"\",StockIn!G866)","v":""},{"$f":"IF(OR(StockIn!H866=0,StockIn!H866=\"\"),\"\",StockIn!H866)","v":""},{"$f":"IF(OR(StockIn!L866=0,StockIn!L866=\"\"),\"\",StockIn!L866)","v":""},{"$f":"IF(OR(StockIn!E866=0,StockIn!E866=\"\"),\"\",StockIn!E866)","v":""},{"$f":"IF(OR(StockIn!M866=0,StockIn!M866=\"\"),\"\",StockIn!M866)","v":""}]
[{"$f":"StockIn!A867","v":1865},{"$f":"IF(OR(StockIn!B867=0,StockIn!B867=\"\"),\"\",StockIn!B867)","v":""},{"$f":"IF(OR(StockIn!D867=0,StockIn!D867=\"\"),\"\",StockIn!D867)","v":""},{"$f":"IF(OR(StockIn!G867=0,StockIn!G867=\"\"),\"\",StockIn!G867)","v":""},{"$f":"IF(OR(StockIn!H867=0,StockIn!H867=\"\"),\"\",StockIn!H867)","v":""},{"$f":"IF(OR(StockIn!L867=0,StockIn!L867=\"\"),\"\",StockIn!L867)","v":""},{"$f":"IF(OR(StockIn!E867=0,StockIn!E867=\"\"),\"\",StockIn!E867)","v":""},{"$f":"IF(OR(StockIn!M867=0,StockIn!M867=\"\"),\"\",StockIn!M867)","v":""}]
[{"$f":"StockIn!A868","v":1866},{"$f":"IF(OR(StockIn!B868=0,StockIn!B868=\"\"),\"\",StockIn!B868)","v":""},{"$f":"IF(OR(StockIn!D868=0,StockIn!D868=\"\"),\"\",StockIn!D868)","v":""},{"$f":"IF(OR(StockIn!G868=0,StockIn!G868=\"\"),\"\",StockIn!G868)","v":""},{"$f":"IF(OR(StockIn!H868=0,StockIn!H868=\"\"),\"\",StockIn!H868)","v":""},{"$f":"IF(OR(StockIn!L868=0,StockIn!L868=\"\"),\"\",StockIn!L868)","v":""},{"$f":"IF(OR(StockIn!E868=0,StockIn!E868=\"\"),\"\",StockIn!E868)","v":""},{"$f":"IF(OR(StockIn!M868=0,StockIn!M868=\"\"),\"\",StockIn!M868)","v":""}]
[{"$f":"StockIn!A869","v":1867},{"$f":"IF(OR(StockIn!B869=0,StockIn!B869=\"\"),\"\",StockIn!B869)","v":""},{"$f":"IF(OR(StockIn!D869=0,StockIn!D869=\"\"),\"\",StockIn!D869)","v":""},{"$f":"IF(OR(StockIn!G869=0,StockIn!G869=\"\"),\"\",StockIn!G869)","v":""},{"$f":"IF(OR(StockIn!H869=0,StockIn!H869=\"\"),\"\",StockIn!H869)","v":""},{"$f":"IF(OR(StockIn!L869=0,StockIn!L869=\"\"),\"\",StockIn!L869)","v":""},{"$f":"IF(OR(StockIn!E869=0,StockIn!E869=\"\"),\"\",StockIn!E869)","v":""},{"$f":"IF(OR(StockIn!M869=0,StockIn!M869=\"\"),\"\",StockIn!M869)","v":""}]
[{"$f":"StockIn!A870","v":1868},{"$f":"IF(OR(StockIn!B870=0,StockIn!B870=\"\"),\"\",StockIn!B870)","v":""},{"$f":"IF(OR(StockIn!D870=0,StockIn!D870=\"\"),\"\",StockIn!D870)","v":""},{"$f":"IF(OR(StockIn!G870=0,StockIn!G870=\"\"),\"\",StockIn!G870)","v":""},{"$f":"IF(OR(StockIn!H870=0,StockIn!H870=\"\"),\"\",StockIn!H870)","v":""},{"$f":"IF(OR(StockIn!L870=0,StockIn!L870=\"\"),\"\",StockIn!L870)","v":""},{"$f":"IF(OR(StockIn!E870=0,StockIn!E870=\"\"),\"\",StockIn!E870)","v":""},{"$f":"IF(OR(StockIn!M870=0,StockIn!M870=\"\"),\"\",StockIn!M870)","v":""}]
[{"$f":"StockIn!A871","v":1869},{"$f":"IF(OR(StockIn!B871=0,StockIn!B871=\"\"),\"\",StockIn!B871)","v":""},{"$f":"IF(OR(StockIn!D871=0,StockIn!D871=\"\"),\"\",StockIn!D871)","v":""},{"$f":"IF(OR(StockIn!G871=0,StockIn!G871=\"\"),\"\",StockIn!G871)","v":""},{"$f":"IF(OR(StockIn!H871=0,StockIn!H871=\"\"),\"\",StockIn!H871)","v":""},{"$f":"IF(OR(StockIn!L871=0,StockIn!L871=\"\"),\"\",StockIn!L871)","v":""},{"$f":"IF(OR(StockIn!E871=0,StockIn!E871=\"\"),\"\",StockIn!E871)","v":""},{"$f":"IF(OR(StockIn!M871=0,StockIn!M871=\"\"),\"\",StockIn!M871)","v":""}]
[{"$f":"StockIn!A872","v":1870},{"$f":"IF(OR(StockIn!B872=0,StockIn!B872=\"\"),\"\",StockIn!B872)","v":""},{"$f":"IF(OR(StockIn!D872=0,StockIn!D872=\"\"),\"\",StockIn!D872)","v":""},{"$f":"IF(OR(StockIn!G872=0,StockIn!G872=\"\"),\"\",StockIn!G872)","v":""},{"$f":"IF(OR(StockIn!H872=0,StockIn!H872=\"\"),\"\",StockIn!H872)","v":""},{"$f":"IF(OR(StockIn!L872=0,StockIn!L872=\"\"),\"\",StockIn!L872)","v":""},{"$f":"IF(OR(StockIn!E872=0,StockIn!E872=\"\"),\"\",StockIn!E872)","v":""},{"$f":"IF(OR(StockIn!M872=0,StockIn!M872=\"\"),\"\",StockIn!M872)","v":""}]
[{"$f":"StockIn!A873","v":1871},{"$f":"IF(OR(StockIn!B873=0,StockIn!B873=\"\"),\"\",StockIn!B873)","v":""},{"$f":"IF(OR(StockIn!D873=0,StockIn!D873=\"\"),\"\",StockIn!D873)","v":""},{"$f":"IF(OR(StockIn!G873=0,StockIn!G873=\"\"),\"\",StockIn!G873)","v":""},{"$f":"IF(OR(StockIn!H873=0,StockIn!H873=\"\"),\"\",StockIn!H873)","v":""},{"$f":"IF(OR(StockIn!L873=0,StockIn!L873=\"\"),\"\",StockIn!L873)","v":""},{"$f":"IF(OR(StockIn!E873=0,StockIn!E873=\"\"),\"\",StockIn!E873)","v":""},{"$f":"IF(OR(StockIn!M873=0,StockIn!M873=\"\"),\"\",StockIn!M873)","v":""}]
[{"$f":"StockIn!A874","v":1872},{"$f":"IF(OR(StockIn!B874=0,StockIn!B874=\"\"),\"\",StockIn!B874)","v":""},{"$f":"IF(OR(StockIn!D874=0,StockIn!D874=\"\"),\"\",StockIn!D874)","v":""},{"$f":"IF(OR(StockIn!G874=0,StockIn!G874=\"\"),\"\",StockIn!G874)","v":""},{"$f":"IF(OR(StockIn!H874=0,StockIn!H874=\"\"),\"\",StockIn!H874)","v":""},{"$f":"IF(OR(StockIn!L874=0,StockIn!L874=\"\"),\"\",StockIn!L874)","v":""},{"$f":"IF(OR(StockIn!E874=0,StockIn!E874=\"\"),\"\",StockIn!E874)","v":""},{"$f":"IF(OR(StockIn!M874=0,StockIn!M874=\"\"),\"\",StockIn!M874)","v":""}]
[{"$f":"StockIn!A875","v":1873},{"$f":"IF(OR(StockIn!B875=0,StockIn!B875=\"\"),\"\",StockIn!B875)","v":""},{"$f":"IF(OR(StockIn!D875=0,StockIn!D875=\"\"),\"\",StockIn!D875)","v":""},{"$f":"IF(OR(StockIn!G875=0,StockIn!G875=\"\"),\"\",StockIn!G875)","v":""},{"$f":"IF(OR(StockIn!H875=0,StockIn!H875=\"\"),\"\",StockIn!H875)","v":""},{"$f":"IF(OR(StockIn!L875=0,StockIn!L875=\"\"),\"\",StockIn!L875)","v":""},{"$f":"IF(OR(StockIn!E875=0,StockIn!E875=\"\"),\"\",StockIn!E875)","v":""},{"$f":"IF(OR(StockIn!M875=0,StockIn!M875=\"\"),\"\",StockIn!M875)","v":""}]
[{"$f":"StockIn!A876","v":1874},{"$f":"IF(OR(StockIn!B876=0,StockIn!B876=\"\"),\"\",StockIn!B876)","v":""},{"$f":"IF(OR(StockIn!D876=0,StockIn!D876=\"\"),\"\",StockIn!D876)","v":""},{"$f":"IF(OR(StockIn!G876=0,StockIn!G876=\"\"),\"\",StockIn!G876)","v":""},{"$f":"IF(OR(StockIn!H876=0,StockIn!H876=\"\"),\"\",StockIn!H876)","v":""},{"$f":"IF(OR(StockIn!L876=0,StockIn!L876=\"\"),\"\",StockIn!L876)","v":""},{"$f":"IF(OR(StockIn!E876=0,StockIn!E876=\"\"),\"\",StockIn!E876)","v":""},{"$f":"IF(OR(StockIn!M876=0,StockIn!M876=\"\"),\"\",StockIn!M876)","v":""}]
[{"$f":"StockIn!A877","v":1875},{"$f":"IF(OR(StockIn!B877=0,StockIn!B877=\"\"),\"\",StockIn!B877)","v":""},{"$f":"IF(OR(StockIn!D877=0,StockIn!D877=\"\"),\"\",StockIn!D877)","v":""},{"$f":"IF(OR(StockIn!G877=0,StockIn!G877=\"\"),\"\",StockIn!G877)","v":""},{"$f":"IF(OR(StockIn!H877=0,StockIn!H877=\"\"),\"\",StockIn!H877)","v":""},{"$f":"IF(OR(StockIn!L877=0,StockIn!L877=\"\"),\"\",StockIn!L877)","v":""},{"$f":"IF(OR(StockIn!E877=0,StockIn!E877=\"\"),\"\",StockIn!E877)","v":""},{"$f":"IF(OR(StockIn!M877=0,StockIn!M877=\"\"),\"\",StockIn!M877)","v":""}]
[{"$f":"StockIn!A878","v":1876},{"$f":"IF(OR(StockIn!B878=0,StockIn!B878=\"\"),\"\",StockIn!B878)","v":""},{"$f":"IF(OR(StockIn!D878=0,StockIn!D878=\"\"),\"\",StockIn!D878)","v":""},{"$f":"IF(OR(StockIn!G878=0,StockIn!G878=\"\"),\"\",StockIn!G878)","v":""},{"$f":"IF(OR(StockIn!H878=0,StockIn!H878=\"\"),\"\",StockIn!H878)","v":""},{"$f":"IF(OR(StockIn!L878=0,StockIn!L878=\"\"),\"\",StockIn!L878)","v":""},{"$f":"IF(OR(StockIn!E878=0,StockIn!E878=\"\"),\"\",StockIn!E878)","v":""},{"$f":"IF(OR(StockIn!M878=0,StockIn!M878=\"\"),\"\",StockIn!M878)","v":""}]
[{"$f":"StockIn!A879","v":1877},{"$f":"IF(OR(StockIn!B879=0,StockIn!B879=\"\"),\"\",StockIn!B879)","v":""},{"$f":"IF(OR(StockIn!D879=0,StockIn!D879=\"\"),\"\",StockIn!D879)","v":""},{"$f":"IF(OR(StockIn!G879=0,StockIn!G879=\"\"),\"\",StockIn!G879)","v":""},{"$f":"IF(OR(StockIn!H879=0,StockIn!H879=\"\"),\"\",StockIn!H879)","v":""},{"$f":"IF(OR(StockIn!L879=0,StockIn!L879=\"\"),\"\",StockIn!L879)","v":""},{"$f":"IF(OR(StockIn!E879=0,StockIn!E879=\"\"),\"\",StockIn!E879)","v":""},{"$f":"IF(OR(StockIn!M879=0,StockIn!M879=\"\"),\"\",StockIn!M879)","v":""}]
[{"$f":"StockIn!A880","v":1878},{"$f":"IF(OR(StockIn!B880=0,StockIn!B880=\"\"),\"\",StockIn!B880)","v":""},{"$f":"IF(OR(StockIn!D880=0,StockIn!D880=\"\"),\"\",StockIn!D880)","v":""},{"$f":"IF(OR(StockIn!G880=0,StockIn!G880=\"\"),\"\",StockIn!G880)","v":""},{"$f":"IF(OR(StockIn!H880=0,StockIn!H880=\"\"),\"\",StockIn!H880)","v":""},{"$f":"IF(OR(StockIn!L880=0,StockIn!L880=\"\"),\"\",StockIn!L880)","v":""},{"$f":"IF(OR(StockIn!E880=0,StockIn!E880=\"\"),\"\",StockIn!E880)","v":""},{"$f":"IF(OR(StockIn!M880=0,StockIn!M880=\"\"),\"\",StockIn!M880)","v":""}]
[{"$f":"StockIn!A881","v":1879},{"$f":"IF(OR(StockIn!B881=0,StockIn!B881=\"\"),\"\",StockIn!B881)","v":""},{"$f":"IF(OR(StockIn!D881=0,StockIn!D881=\"\"),\"\",StockIn!D881)","v":""},{"$f":"IF(OR(StockIn!G881=0,StockIn!G881=\"\"),\"\",StockIn!G881)","v":""},{"$f":"IF(OR(StockIn!H881=0,StockIn!H881=\"\"),\"\",StockIn!H881)","v":""},{"$f":"IF(OR(StockIn!L881=0,StockIn!L881=\"\"),\"\",StockIn!L881)","v":""},{"$f":"IF(OR(StockIn!E881=0,StockIn!E881=\"\"),\"\",StockIn!E881)","v":""},{"$f":"IF(OR(StockIn!M881=0,StockIn!M881=\"\"),\"\",StockIn!M881)","v":""}]
[{"$f":"StockIn!A882","v":1880},{"$f":"IF(OR(StockIn!B882=0,StockIn!B882=\"\"),\"\",StockIn!B882)","v":""},{"$f":"IF(OR(StockIn!D882=0,StockIn!D882=\"\"),\"\",StockIn!D882)","v":""},{"$f":"IF(OR(StockIn!G882=0,StockIn!G882=\"\"),\"\",StockIn!G882)","v":""},{"$f":"IF(OR(StockIn!H882=0,StockIn!H882=\"\"),\"\",StockIn!H882)","v":""},{"$f":"IF(OR(StockIn!L882=0,StockIn!L882=\"\"),\"\",StockIn!L882)","v":""},{"$f":"IF(OR(StockIn!E882=0,StockIn!E882=\"\"),\"\",StockIn!E882)","v":""},{"$f":"IF(OR(StockIn!M882=0,StockIn!M882=\"\"),\"\",StockIn!M882)","v":""}]
[{"$f":"StockIn!A883","v":1881},{"$f":"IF(OR(StockIn!B883=0,StockIn!B883=\"\"),\"\",StockIn!B883)","v":""},{"$f":"IF(OR(StockIn!D883=0,StockIn!D883=\"\"),\"\",StockIn!D883)","v":""},{"$f":"IF(OR(StockIn!G883=0,StockIn!G883=\"\"),\"\",StockIn!G883)","v":""},{"$f":"IF(OR(StockIn!H883=0,StockIn!H883=\"\"),\"\",StockIn!H883)","v":""},{"$f":"IF(OR(StockIn!L883=0,StockIn!L883=\"\"),\"\",StockIn!L883)","v":""},{"$f":"IF(OR(StockIn!E883=0,StockIn!E883=\"\"),\"\",StockIn!E883)","v":""},{"$f":"IF(OR(StockIn!M883=0,StockIn!M883=\"\"),\"\",StockIn!M883)","v":""}]
[{"$f":"StockIn!A884","v":1882},{"$f":"IF(OR(StockIn!B884=0,StockIn!B884=\"\"),\"\",StockIn!B884)","v":""},{"$f":"IF(OR(StockIn!D884=0,StockIn!D884=\"\"),\"\",StockIn!D884)","v":""},{"$f":"IF(OR(StockIn!G884=0,StockIn!G884=\"\"),\"\",StockIn!G884)","v":""},{"$f":"IF(OR(StockIn!H884=0,StockIn!H884=\"\"),\"\",StockIn!H884)","v":""},{"$f":"IF(OR(StockIn!L884=0,StockIn!L884=\"\"),\"\",StockIn!L884)","v":""},{"$f":"IF(OR(StockIn!E884=0,StockIn!E884=\"\"),\"\",StockIn!E884)","v":""},{"$f":"IF(OR(StockIn!M884=0,StockIn!M884=\"\"),\"\",StockIn!M884)","v":""}]
[{"$f":"StockIn!A885","v":1883},{"$f":"IF(OR(StockIn!B885=0,StockIn!B885=\"\"),\"\",StockIn!B885)","v":""},{"$f":"IF(OR(StockIn!D885=0,StockIn!D885=\"\"),\"\",StockIn!D885)","v":""},{"$f":"IF(OR(StockIn!G885=0,StockIn!G885=\"\"),\"\",StockIn!G885)","v":""},{"$f":"IF(OR(StockIn!H885=0,StockIn!H885=\"\"),\"\",StockIn!H885)","v":""},{"$f":"IF(OR(StockIn!L885=0,StockIn!L885=\"\"),\"\",StockIn!L885)","v":""},{"$f":"IF(OR(StockIn!E885=0,StockIn!E885=\"\"),\"\",StockIn!E885)","v":""},{"$f":"IF(OR(StockIn!M885=0,StockIn!M885=\"\"),\"\",StockIn!M885)","v":""}]
[{"$f":"StockIn!A886","v":1884},{"$f":"IF(OR(StockIn!B886=0,StockIn!B886=\"\"),\"\",StockIn!B886)","v":""},{"$f":"IF(OR(StockIn!D886=0,StockIn!D886=\"\"),\"\",StockIn!D886)","v":""},{"$f":"IF(OR(StockIn!G886=0,StockIn!G886=\"\"),\"\",StockIn!G886)","v":""},{"$f":"IF(OR(StockIn!H886=0,StockIn!H886=\"\"),\"\",StockIn!H886)","v":""},{"$f":"IF(OR(StockIn!L886=0,StockIn!L886=\"\"),\"\",StockIn!L886)","v":""},{"$f":"IF(OR(StockIn!E886=0,StockIn!E886=\"\"),\"\",StockIn!E886)","v":""},{"$f":"IF(OR(StockIn!M886=0,StockIn!M886=\"\"),\"\",StockIn!M886)","v":""}]
[{"$f":"StockIn!A887","v":1885},{"$f":"IF(OR(StockIn!B887=0,StockIn!B887=\"\"),\"\",StockIn!B887)","v":""},{"$f":"IF(OR(StockIn!D887=0,StockIn!D887=\"\"),\"\",StockIn!D887)","v":""},{"$f":"IF(OR(StockIn!G887=0,StockIn!G887=\"\"),\"\",StockIn!G887)","v":""},{"$f":"IF(OR(StockIn!H887=0,StockIn!H887=\"\"),\"\",StockIn!H887)","v":""},{"$f":"IF(OR(StockIn!L887=0,StockIn!L887=\"\"),\"\",StockIn!L887)","v":""},{"$f":"IF(OR(StockIn!E887=0,StockIn!E887=\"\"),\"\",StockIn!E887)","v":""},{"$f":"IF(OR(StockIn!M887=0,StockIn!M887=\"\"),\"\",StockIn!M887)","v":""}]
[{"$f":"StockIn!A888","v":1886},{"$f":"IF(OR(StockIn!B888=0,StockIn!B888=\"\"),\"\",StockIn!B888)","v":""},{"$f":"IF(OR(StockIn!D888=0,StockIn!D888=\"\"),\"\",StockIn!D888)","v":""},{"$f":"IF(OR(StockIn!G888=0,StockIn!G888=\"\"),\"\",StockIn!G888)","v":""},{"$f":"IF(OR(StockIn!H888=0,StockIn!H888=\"\"),\"\",StockIn!H888)","v":""},{"$f":"IF(OR(StockIn!L888=0,StockIn!L888=\"\"),\"\",StockIn!L888)","v":""},{"$f":"IF(OR(StockIn!E888=0,StockIn!E888=\"\"),\"\",StockIn!E888)","v":""},{"$f":"IF(OR(StockIn!M888=0,StockIn!M888=\"\"),\"\",StockIn!M888)","v":""}]
[{"$f":"StockIn!A889","v":1887},{"$f":"IF(OR(StockIn!B889=0,StockIn!B889=\"\"),\"\",StockIn!B889)","v":""},{"$f":"IF(OR(StockIn!D889=0,StockIn!D889=\"\"),\"\",StockIn!D889)","v":""},{"$f":"IF(OR(StockIn!G889=0,StockIn!G889=\"\"),\"\",StockIn!G889)","v":""},{"$f":"IF(OR(StockIn!H889=0,StockIn!H889=\"\"),\"\",StockIn!H889)","v":""},{"$f":"IF(OR(StockIn!L889=0,StockIn!L889=\"\"),\"\",StockIn!L889)","v":""},{"$f":"IF(OR(StockIn!E889=0,StockIn!E889=\"\"),\"\",StockIn!E889)","v":""},{"$f":"IF(OR(StockIn!M889=0,StockIn!M889=\"\"),\"\",StockIn!M889)","v":""}]
[{"$f":"StockIn!A890","v":1888},{"$f":"IF(OR(StockIn!B890=0,StockIn!B890=\"\"),\"\",StockIn!B890)","v":""},{"$f":"IF(OR(StockIn!D890=0,StockIn!D890=\"\"),\"\",StockIn!D890)","v":""},{"$f":"IF(OR(StockIn!G890=0,StockIn!G890=\"\"),\"\",StockIn!G890)","v":""},{"$f":"IF(OR(StockIn!H890=0,StockIn!H890=\"\"),\"\",StockIn!H890)","v":""},{"$f":"IF(OR(StockIn!L890=0,StockIn!L890=\"\"),\"\",StockIn!L890)","v":""},{"$f":"IF(OR(StockIn!E890=0,StockIn!E890=\"\"),\"\",StockIn!E890)","v":""},{"$f":"IF(OR(StockIn!M890=0,StockIn!M890=\"\"),\"\",StockIn!M890)","v":""}]
[{"$f":"StockIn!A891","v":1889},{"$f":"IF(OR(StockIn!B891=0,StockIn!B891=\"\"),\"\",StockIn!B891)","v":""},{"$f":"IF(OR(StockIn!D891=0,StockIn!D891=\"\"),\"\",StockIn!D891)","v":""},{"$f":"IF(OR(StockIn!G891=0,StockIn!G891=\"\"),\"\",StockIn!G891)","v":""},{"$f":"IF(OR(StockIn!H891=0,StockIn!H891=\"\"),\"\",StockIn!H891)","v":""},{"$f":"IF(OR(StockIn!L891=0,StockIn!L891=\"\"),\"\",StockIn!L891)","v":""},{"$f":"IF(OR(StockIn!E891=0,StockIn!E891=\"\"),\"\",StockIn!E891)","v":""},{"$f":"IF(OR(StockIn!M891=0,StockIn!M891=\"\"),\"\",StockIn!M891)","v":""}]
[{"$f":"StockIn!A892","v":1890},{"$f":"IF(OR(StockIn!B892=0,StockIn!B892=\"\"),\"\",StockIn!B892)","v":""},{"$f":"IF(OR(StockIn!D892=0,StockIn!D892=\"\"),\"\",StockIn!D892)","v":""},{"$f":"IF(OR(StockIn!G892=0,StockIn!G892=\"\"),\"\",StockIn!G892)","v":""},{"$f":"IF(OR(StockIn!H892=0,StockIn!H892=\"\"),\"\",StockIn!H892)","v":""},{"$f":"IF(OR(StockIn!L892=0,StockIn!L892=\"\"),\"\",StockIn!L892)","v":""},{"$f":"IF(OR(StockIn!E892=0,StockIn!E892=\"\"),\"\",StockIn!E892)","v":""},{"$f":"IF(OR(StockIn!M892=0,StockIn!M892=\"\"),\"\",StockIn!M892)","v":""}]
[{"$f":"StockIn!A893","v":1891},{"$f":"IF(OR(StockIn!B893=0,StockIn!B893=\"\"),\"\",StockIn!B893)","v":""},{"$f":"IF(OR(StockIn!D893=0,StockIn!D893=\"\"),\"\",StockIn!D893)","v":""},{"$f":"IF(OR(StockIn!G893=0,StockIn!G893=\"\"),\"\",StockIn!G893)","v":""},{"$f":"IF(OR(StockIn!H893=0,StockIn!H893=\"\"),\"\",StockIn!H893)","v":""},{"$f":"IF(OR(StockIn!L893=0,StockIn!L893=\"\"),\"\",StockIn!L893)","v":""},{"$f":"IF(OR(StockIn!E893=0,StockIn!E893=\"\"),\"\",StockIn!E893)","v":""},{"$f":"IF(OR(StockIn!M893=0,StockIn!M893=\"\"),\"\",StockIn!M893)","v":""}]
[{"$f":"StockIn!A894","v":1892},{"$f":"IF(OR(StockIn!B894=0,StockIn!B894=\"\"),\"\",StockIn!B894)","v":""},{"$f":"IF(OR(StockIn!D894=0,StockIn!D894=\"\"),\"\",StockIn!D894)","v":""},{"$f":"IF(OR(StockIn!G894=0,StockIn!G894=\"\"),\"\",StockIn!G894)","v":""},{"$f":"IF(OR(StockIn!H894=0,StockIn!H894=\"\"),\"\",StockIn!H894)","v":""},{"$f":"IF(OR(StockIn!L894=0,StockIn!L894=\"\"),\"\",StockIn!L894)","v":""},{"$f":"IF(OR(StockIn!E894=0,StockIn!E894=\"\"),\"\",StockIn!E894)","v":""},{"$f":"IF(OR(StockIn!M894=0,StockIn!M894=\"\"),\"\",StockIn!M894)","v":""}]
[{"$f":"StockIn!A895","v":1893},{"$f":"IF(OR(StockIn!B895=0,StockIn!B895=\"\"),\"\",StockIn!B895)","v":""},{"$f":"IF(OR(StockIn!D895=0,StockIn!D895=\"\"),\"\",StockIn!D895)","v":""},{"$f":"IF(OR(StockIn!G895=0,StockIn!G895=\"\"),\"\",StockIn!G895)","v":""},{"$f":"IF(OR(StockIn!H895=0,StockIn!H895=\"\"),\"\",StockIn!H895)","v":""},{"$f":"IF(OR(StockIn!L895=0,StockIn!L895=\"\"),\"\",StockIn!L895)","v":""},{"$f":"IF(OR(StockIn!E895=0,StockIn!E895=\"\"),\"\",StockIn!E895)","v":""},{"$f":"IF(OR(StockIn!M895=0,StockIn!M895=\"\"),\"\",StockIn!M895)","v":""}]
[{"$f":"StockIn!A896","v":1894},{"$f":"IF(OR(StockIn!B896=0,StockIn!B896=\"\"),\"\",StockIn!B896)","v":""},{"$f":"IF(OR(StockIn!D896=0,StockIn!D896=\"\"),\"\",StockIn!D896)","v":""},{"$f":"IF(OR(StockIn!G896=0,StockIn!G896=\"\"),\"\",StockIn!G896)","v":""},{"$f":"IF(OR(StockIn!H896=0,StockIn!H896=\"\"),\"\",StockIn!H896)","v":""},{"$f":"IF(OR(StockIn!L896=0,StockIn!L896=\"\"),\"\",StockIn!L896)","v":""},{"$f":"IF(OR(StockIn!E896=0,StockIn!E896=\"\"),\"\",StockIn!E896)","v":""},{"$f":"IF(OR(StockIn!M896=0,StockIn!M896=\"\"),\"\",StockIn!M896)","v":""}]
[{"$f":"StockIn!A897","v":1895},{"$f":"IF(OR(StockIn!B897=0,StockIn!B897=\"\"),\"\",StockIn!B897)","v":""},{"$f":"IF(OR(StockIn!D897=0,StockIn!D897=\"\"),\"\",StockIn!D897)","v":""},{"$f":"IF(OR(StockIn!G897=0,StockIn!G897=\"\"),\"\",StockIn!G897)","v":""},{"$f":"IF(OR(StockIn!H897=0,StockIn!H897=\"\"),\"\",StockIn!H897)","v":""},{"$f":"IF(OR(StockIn!L897=0,StockIn!L897=\"\"),\"\",StockIn!L897)","v":""},{"$f":"IF(OR(StockIn!E897=0,StockIn!E897=\"\"),\"\",StockIn!E897)","v":""},{"$f":"IF(OR(StockIn!M897=0,StockIn!M897=\"\"),\"\",StockIn!M897)","v":""}]
[{"$f":"StockIn!A898","v":1896},{"$f":"IF(OR(StockIn!B898=0,StockIn!B898=\"\"),\"\",StockIn!B898)","v":""},{"$f":"IF(OR(StockIn!D898=0,StockIn!D898=\"\"),\"\",StockIn!D898)","v":""},{"$f":"IF(OR(StockIn!G898=0,StockIn!G898=\"\"),\"\",StockIn!G898)","v":""},{"$f":"IF(OR(StockIn!H898=0,StockIn!H898=\"\"),\"\",StockIn!H898)","v":""},{"$f":"IF(OR(StockIn!L898=0,StockIn!L898=\"\"),\"\",StockIn!L898)","v":""},{"$f":"IF(OR(StockIn!E898=0,StockIn!E898=\"\"),\"\",StockIn!E898)","v":""},{"$f":"IF(OR(StockIn!M898=0,StockIn!M898=\"\"),\"\",StockIn!M898)","v":""}]
[{"$f":"StockIn!A899","v":1897},{"$f":"IF(OR(StockIn!B899=0,StockIn!B899=\"\"),\"\",StockIn!B899)","v":""},{"$f":"IF(OR(StockIn!D899=0,StockIn!D899=\"\"),\"\",StockIn!D899)","v":""},{"$f":"IF(OR(StockIn!G899=0,StockIn!G899=\"\"),\"\",StockIn!G899)","v":""},{"$f":"IF(OR(StockIn!H899=0,StockIn!H899=\"\"),\"\",StockIn!H899)","v":""},{"$f":"IF(OR(StockIn!L899=0,StockIn!L899=\"\"),\"\",StockIn!L899)","v":""},{"$f":"IF(OR(StockIn!E899=0,StockIn!E899=\"\"),\"\",StockIn!E899)","v":""},{"$f":"IF(OR(StockIn!M899=0,StockIn!M899=\"\"),\"\",StockIn!M899)","v":""}]
[{"$f":"StockIn!A900","v":1898},{"$f":"IF(OR(StockIn!B900=0,StockIn!B900=\"\"),\"\",StockIn!B900)","v":""},{"$f":"IF(OR(StockIn!D900=0,StockIn!D900=\"\"),\"\",StockIn!D900)","v":""},{"$f":"IF(OR(StockIn!G900=0,StockIn!G900=\"\"),\"\",StockIn!G900)","v":""},{"$f":"IF(OR(StockIn!H900=0,StockIn!H900=\"\"),\"\",StockIn!H900)","v":""},{"$f":"IF(OR(StockIn!L900=0,StockIn!L900=\"\"),\"\",StockIn!L900)","v":""},{"$f":"IF(OR(StockIn!E900=0,StockIn!E900=\"\"),\"\",StockIn!E900)","v":""},{"$f":"IF(OR(StockIn!M900=0,StockIn!M900=\"\"),\"\",StockIn!M900)","v":""}]
[{"$f":"StockIn!A901","v":1899},{"$f":"IF(OR(StockIn!B901=0,StockIn!B901=\"\"),\"\",StockIn!B901)","v":""},{"$f":"IF(OR(StockIn!D901=0,StockIn!D901=\"\"),\"\",StockIn!D901)","v":""},{"$f":"IF(OR(StockIn!G901=0,StockIn!G901=\"\"),\"\",StockIn!G901)","v":""},{"$f":"IF(OR(StockIn!H901=0,StockIn!H901=\"\"),\"\",StockIn!H901)","v":""},{"$f":"IF(OR(StockIn!L901=0,StockIn!L901=\"\"),\"\",StockIn!L901)","v":""},{"$f":"IF(OR(StockIn!E901=0,StockIn!E901=\"\"),\"\",StockIn!E901)","v":""},{"$f":"IF(OR(StockIn!M901=0,StockIn!M901=\"\"),\"\",StockIn!M901)","v":""}]
[{"$f":"StockIn!A902","v":1900},{"$f":"IF(OR(StockIn!B902=0,StockIn!B902=\"\"),\"\",StockIn!B902)","v":""},{"$f":"IF(OR(StockIn!D902=0,StockIn!D902=\"\"),\"\",StockIn!D902)","v":""},{"$f":"IF(OR(StockIn!G902=0,StockIn!G902=\"\"),\"\",StockIn!G902)","v":""},{"$f":"IF(OR(StockIn!H902=0,StockIn!H902=\"\"),\"\",StockIn!H902)","v":""},{"$f":"IF(OR(StockIn!L902=0,StockIn!L902=\"\"),\"\",StockIn!L902)","v":""},{"$f":"IF(OR(StockIn!E902=0,StockIn!E902=\"\"),\"\",StockIn!E902)","v":""},{"$f":"IF(OR(StockIn!M902=0,StockIn!M902=\"\"),\"\",StockIn!M902)","v":""}]
[{"$f":"StockIn!A903","v":1901},{"$f":"IF(OR(StockIn!B903=0,StockIn!B903=\"\"),\"\",StockIn!B903)","v":""},{"$f":"IF(OR(StockIn!D903=0,StockIn!D903=\"\"),\"\",StockIn!D903)","v":""},{"$f":"IF(OR(StockIn!G903=0,StockIn!G903=\"\"),\"\",StockIn!G903)","v":""},{"$f":"IF(OR(StockIn!H903=0,StockIn!H903=\"\"),\"\",StockIn!H903)","v":""},{"$f":"IF(OR(StockIn!L903=0,StockIn!L903=\"\"),\"\",StockIn!L903)","v":""},{"$f":"IF(OR(StockIn!E903=0,StockIn!E903=\"\"),\"\",StockIn!E903)","v":""},{"$f":"IF(OR(StockIn!M903=0,StockIn!M903=\"\"),\"\",StockIn!M903)","v":""}]
[{"$f":"StockIn!A904","v":1902},{"$f":"IF(OR(StockIn!B904=0,StockIn!B904=\"\"),\"\",StockIn!B904)","v":""},{"$f":"IF(OR(StockIn!D904=0,StockIn!D904=\"\"),\"\",StockIn!D904)","v":""},{"$f":"IF(OR(StockIn!G904=0,StockIn!G904=\"\"),\"\",StockIn!G904)","v":""},{"$f":"IF(OR(StockIn!H904=0,StockIn!H904=\"\"),\"\",StockIn!H904)","v":""},{"$f":"IF(OR(StockIn!L904=0,StockIn!L904=\"\"),\"\",StockIn!L904)","v":""},{"$f":"IF(OR(StockIn!E904=0,StockIn!E904=\"\"),\"\",StockIn!E904)","v":""},{"$f":"IF(OR(StockIn!M904=0,StockIn!M904=\"\"),\"\",StockIn!M904)","v":""}]
[{"$f":"StockIn!A905","v":1903},{"$f":"IF(OR(StockIn!B905=0,StockIn!B905=\"\"),\"\",StockIn!B905)","v":""},{"$f":"IF(OR(StockIn!D905=0,StockIn!D905=\"\"),\"\",StockIn!D905)","v":""},{"$f":"IF(OR(StockIn!G905=0,StockIn!G905=\"\"),\"\",StockIn!G905)","v":""},{"$f":"IF(OR(StockIn!H905=0,StockIn!H905=\"\"),\"\",StockIn!H905)","v":""},{"$f":"IF(OR(StockIn!L905=0,StockIn!L905=\"\"),\"\",StockIn!L905)","v":""},{"$f":"IF(OR(StockIn!E905=0,StockIn!E905=\"\"),\"\",StockIn!E905)","v":""},{"$f":"IF(OR(StockIn!M905=0,StockIn!M905=\"\"),\"\",StockIn!M905)","v":""}]
[{"$f":"StockIn!A906","v":1904},{"$f":"IF(OR(StockIn!B906=0,StockIn!B906=\"\"),\"\",StockIn!B906)","v":""},{"$f":"IF(OR(StockIn!D906=0,StockIn!D906=\"\"),\"\",StockIn!D906)","v":""},{"$f":"IF(OR(StockIn!G906=0,StockIn!G906=\"\"),\"\",StockIn!G906)","v":""},{"$f":"IF(OR(StockIn!H906=0,StockIn!H906=\"\"),\"\",StockIn!H906)","v":""},{"$f":"IF(OR(StockIn!L906=0,StockIn!L906=\"\"),\"\",StockIn!L906)","v":""},{"$f":"IF(OR(StockIn!E906=0,StockIn!E906=\"\"),\"\",StockIn!E906)","v":""},{"$f":"IF(OR(StockIn!M906=0,StockIn!M906=\"\"),\"\",StockIn!M906)","v":""}]
[{"$f":"StockIn!A907","v":1905},{"$f":"IF(OR(StockIn!B907=0,StockIn!B907=\"\"),\"\",StockIn!B907)","v":""},{"$f":"IF(OR(StockIn!D907=0,StockIn!D907=\"\"),\"\",StockIn!D907)","v":""},{"$f":"IF(OR(StockIn!G907=0,StockIn!G907=\"\"),\"\",StockIn!G907)","v":""},{"$f":"IF(OR(StockIn!H907=0,StockIn!H907=\"\"),\"\",StockIn!H907)","v":""},{"$f":"IF(OR(StockIn!L907=0,StockIn!L907=\"\"),\"\",StockIn!L907)","v":""},{"$f":"IF(OR(StockIn!E907=0,StockIn!E907=\"\"),\"\",StockIn!E907)","v":""},{"$f":"IF(OR(StockIn!M907=0,StockIn!M907=\"\"),\"\",StockIn!M907)","v":""}]
[{"$f":"StockIn!A908","v":1906},{"$f":"IF(OR(StockIn!B908=0,StockIn!B908=\"\"),\"\",StockIn!B908)","v":""},{"$f":"IF(OR(StockIn!D908=0,StockIn!D908=\"\"),\"\",StockIn!D908)","v":""},{"$f":"IF(OR(StockIn!G908=0,StockIn!G908=\"\"),\"\",StockIn!G908)","v":""},{"$f":"IF(OR(StockIn!H908=0,StockIn!H908=\"\"),\"\",StockIn!H908)","v":""},{"$f":"IF(OR(StockIn!L908=0,StockIn!L908=\"\"),\"\",StockIn!L908)","v":""},{"$f":"IF(OR(StockIn!E908=0,StockIn!E908=\"\"),\"\",StockIn!E908)","v":""},{"$f":"IF(OR(StockIn!M908=0,StockIn!M908=\"\"),\"\",StockIn!M908)","v":""}]
[{"$f":"StockIn!A909","v":1907},{"$f":"IF(OR(StockIn!B909=0,StockIn!B909=\"\"),\"\",StockIn!B909)","v":""},{"$f":"IF(OR(StockIn!D909=0,StockIn!D909=\"\"),\"\",StockIn!D909)","v":""},{"$f":"IF(OR(StockIn!G909=0,StockIn!G909=\"\"),\"\",StockIn!G909)","v":""},{"$f":"IF(OR(StockIn!H909=0,StockIn!H909=\"\"),\"\",StockIn!H909)","v":""},{"$f":"IF(OR(StockIn!L909=0,StockIn!L909=\"\"),\"\",StockIn!L909)","v":""},{"$f":"IF(OR(StockIn!E909=0,StockIn!E909=\"\"),\"\",StockIn!E909)","v":""},{"$f":"IF(OR(StockIn!M909=0,StockIn!M909=\"\"),\"\",StockIn!M909)","v":""}]
[{"$f":"StockIn!A910","v":1908},{"$f":"IF(OR(StockIn!B910=0,StockIn!B910=\"\"),\"\",StockIn!B910)","v":""},{"$f":"IF(OR(StockIn!D910=0,StockIn!D910=\"\"),\"\",StockIn!D910)","v":""},{"$f":"IF(OR(StockIn!G910=0,StockIn!G910=\"\"),\"\",StockIn!G910)","v":""},{"$f":"IF(OR(StockIn!H910=0,StockIn!H910=\"\"),\"\",StockIn!H910)","v":""},{"$f":"IF(OR(StockIn!L910=0,StockIn!L910=\"\"),\"\",StockIn!L910)","v":""},{"$f":"IF(OR(StockIn!E910=0,StockIn!E910=\"\"),\"\",StockIn!E910)","v":""},{"$f":"IF(OR(StockIn!M910=0,StockIn!M910=\"\"),\"\",StockIn!M910)","v":""}]
[{"$f":"StockIn!A911","v":1909},{"$f":"IF(OR(StockIn!B911=0,StockIn!B911=\"\"),\"\",StockIn!B911)","v":""},{"$f":"IF(OR(StockIn!D911=0,StockIn!D911=\"\"),\"\",StockIn!D911)","v":""},{"$f":"IF(OR(StockIn!G911=0,StockIn!G911=\"\"),\"\",StockIn!G911)","v":""},{"$f":"IF(OR(StockIn!H911=0,StockIn!H911=\"\"),\"\",StockIn!H911)","v":""},{"$f":"IF(OR(StockIn!L911=0,StockIn!L911=\"\"),\"\",StockIn!L911)","v":""},{"$f":"IF(OR(StockIn!E911=0,StockIn!E911=\"\"),\"\",StockIn!E911)","v":""},{"$f":"IF(OR(StockIn!M911=0,StockIn!M911=\"\"),\"\",StockIn!M911)","v":""}]
[{"$f":"StockIn!A912","v":1910},{"$f":"IF(OR(StockIn!B912=0,StockIn!B912=\"\"),\"\",StockIn!B912)","v":""},{"$f":"IF(OR(StockIn!D912=0,StockIn!D912=\"\"),\"\",StockIn!D912)","v":""},{"$f":"IF(OR(StockIn!G912=0,StockIn!G912=\"\"),\"\",StockIn!G912)","v":""},{"$f":"IF(OR(StockIn!H912=0,StockIn!H912=\"\"),\"\",StockIn!H912)","v":""},{"$f":"IF(OR(StockIn!L912=0,StockIn!L912=\"\"),\"\",StockIn!L912)","v":""},{"$f":"IF(OR(StockIn!E912=0,StockIn!E912=\"\"),\"\",StockIn!E912)","v":""},{"$f":"IF(OR(StockIn!M912=0,StockIn!M912=\"\"),\"\",StockIn!M912)","v":""}]
[{"$f":"StockIn!A913","v":1911},{"$f":"IF(OR(StockIn!B913=0,StockIn!B913=\"\"),\"\",StockIn!B913)","v":""},{"$f":"IF(OR(StockIn!D913=0,StockIn!D913=\"\"),\"\",StockIn!D913)","v":""},{"$f":"IF(OR(StockIn!G913=0,StockIn!G913=\"\"),\"\",StockIn!G913)","v":""},{"$f":"IF(OR(StockIn!H913=0,StockIn!H913=\"\"),\"\",StockIn!H913)","v":""},{"$f":"IF(OR(StockIn!L913=0,StockIn!L913=\"\"),\"\",StockIn!L913)","v":""},{"$f":"IF(OR(StockIn!E913=0,StockIn!E913=\"\"),\"\",StockIn!E913)","v":""},{"$f":"IF(OR(StockIn!M913=0,StockIn!M913=\"\"),\"\",StockIn!M913)","v":""}]
[{"$f":"StockIn!A914","v":1912},{"$f":"IF(OR(StockIn!B914=0,StockIn!B914=\"\"),\"\",StockIn!B914)","v":""},{"$f":"IF(OR(StockIn!D914=0,StockIn!D914=\"\"),\"\",StockIn!D914)","v":""},{"$f":"IF(OR(StockIn!G914=0,StockIn!G914=\"\"),\"\",StockIn!G914)","v":""},{"$f":"IF(OR(StockIn!H914=0,StockIn!H914=\"\"),\"\",StockIn!H914)","v":""},{"$f":"IF(OR(StockIn!L914=0,StockIn!L914=\"\"),\"\",StockIn!L914)","v":""},{"$f":"IF(OR(StockIn!E914=0,StockIn!E914=\"\"),\"\",StockIn!E914)","v":""},{"$f":"IF(OR(StockIn!M914=0,StockIn!M914=\"\"),\"\",StockIn!M914)","v":""}]
[{"$f":"StockIn!A915","v":1913},{"$f":"IF(OR(StockIn!B915=0,StockIn!B915=\"\"),\"\",StockIn!B915)","v":""},{"$f":"IF(OR(StockIn!D915=0,StockIn!D915=\"\"),\"\",StockIn!D915)","v":""},{"$f":"IF(OR(StockIn!G915=0,StockIn!G915=\"\"),\"\",StockIn!G915)","v":""},{"$f":"IF(OR(StockIn!H915=0,StockIn!H915=\"\"),\"\",StockIn!H915)","v":""},{"$f":"IF(OR(StockIn!L915=0,StockIn!L915=\"\"),\"\",StockIn!L915)","v":""},{"$f":"IF(OR(StockIn!E915=0,StockIn!E915=\"\"),\"\",StockIn!E915)","v":""},{"$f":"IF(OR(StockIn!M915=0,StockIn!M915=\"\"),\"\",StockIn!M915)","v":""}]
[{"$f":"StockIn!A916","v":1914},{"$f":"IF(OR(StockIn!B916=0,StockIn!B916=\"\"),\"\",StockIn!B916)","v":""},{"$f":"IF(OR(StockIn!D916=0,StockIn!D916=\"\"),\"\",StockIn!D916)","v":""},{"$f":"IF(OR(StockIn!G916=0,StockIn!G916=\"\"),\"\",StockIn!G916)","v":""},{"$f":"IF(OR(StockIn!H916=0,StockIn!H916=\"\"),\"\",StockIn!H916)","v":""},{"$f":"IF(OR(StockIn!L916=0,StockIn!L916=\"\"),\"\",StockIn!L916)","v":""},{"$f":"IF(OR(StockIn!E916=0,StockIn!E916=\"\"),\"\",StockIn!E916)","v":""},{"$f":"IF(OR(StockIn!M916=0,StockIn!M916=\"\"),\"\",StockIn!M916)","v":""}]
[{"$f":"StockIn!A917","v":1915},{"$f":"IF(OR(StockIn!B917=0,StockIn!B917=\"\"),\"\",StockIn!B917)","v":""},{"$f":"IF(OR(StockIn!D917=0,StockIn!D917=\"\"),\"\",StockIn!D917)","v":""},{"$f":"IF(OR(StockIn!G917=0,StockIn!G917=\"\"),\"\",StockIn!G917)","v":""},{"$f":"IF(OR(StockIn!H917=0,StockIn!H917=\"\"),\"\",StockIn!H917)","v":""},{"$f":"IF(OR(StockIn!L917=0,StockIn!L917=\"\"),\"\",StockIn!L917)","v":""},{"$f":"IF(OR(StockIn!E917=0,StockIn!E917=\"\"),\"\",StockIn!E917)","v":""},{"$f":"IF(OR(StockIn!M917=0,StockIn!M917=\"\"),\"\",StockIn!M917)","v":""}]
[{"$f":"StockIn!A918","v":1916},{"$f":"IF(OR(StockIn!B918=0,StockIn!B918=\"\"),\"\",StockIn!B918)","v":""},{"$f":"IF(OR(StockIn!D918=0,StockIn!D918=\"\"),\"\",StockIn!D918)","v":""},{"$f":"IF(OR(StockIn!G918=0,StockIn!G918=\"\"),\"\",StockIn!G918)","v":""},{"$f":"IF(OR(StockIn!H918=0,StockIn!H918=\"\"),\"\",StockIn!H918)","v":""},{"$f":"IF(OR(StockIn!L918=0,StockIn!L918=\"\"),\"\",StockIn!L918)","v":""},{"$f":"IF(OR(StockIn!E918=0,StockIn!E918=\"\"),\"\",StockIn!E918)","v":""},{"$f":"IF(OR(StockIn!M918=0,StockIn!M918=\"\"),\"\",StockIn!M918)","v":""}]
[{"$f":"StockIn!A919","v":1917},{"$f":"IF(OR(StockIn!B919=0,StockIn!B919=\"\"),\"\",StockIn!B919)","v":""},{"$f":"IF(OR(StockIn!D919=0,StockIn!D919=\"\"),\"\",StockIn!D919)","v":""},{"$f":"IF(OR(StockIn!G919=0,StockIn!G919=\"\"),\"\",StockIn!G919)","v":""},{"$f":"IF(OR(StockIn!H919=0,StockIn!H919=\"\"),\"\",StockIn!H919)","v":""},{"$f":"IF(OR(StockIn!L919=0,StockIn!L919=\"\"),\"\",StockIn!L919)","v":""},{"$f":"IF(OR(StockIn!E919=0,StockIn!E919=\"\"),\"\",StockIn!E919)","v":""},{"$f":"IF(OR(StockIn!M919=0,StockIn!M919=\"\"),\"\",StockIn!M919)","v":""}]
[{"$f":"StockIn!A920","v":1918},{"$f":"IF(OR(StockIn!B920=0,StockIn!B920=\"\"),\"\",StockIn!B920)","v":""},{"$f":"IF(OR(StockIn!D920=0,StockIn!D920=\"\"),\"\",StockIn!D920)","v":""},{"$f":"IF(OR(StockIn!G920=0,StockIn!G920=\"\"),\"\",StockIn!G920)","v":""},{"$f":"IF(OR(StockIn!H920=0,StockIn!H920=\"\"),\"\",StockIn!H920)","v":""},{"$f":"IF(OR(StockIn!L920=0,StockIn!L920=\"\"),\"\",StockIn!L920)","v":""},{"$f":"IF(OR(StockIn!E920=0,StockIn!E920=\"\"),\"\",StockIn!E920)","v":""},{"$f":"IF(OR(StockIn!M920=0,StockIn!M920=\"\"),\"\",StockIn!M920)","v":""}]
[{"$f":"StockIn!A921","v":1919},{"$f":"IF(OR(StockIn!B921=0,StockIn!B921=\"\"),\"\",StockIn!B921)","v":""},{"$f":"IF(OR(StockIn!D921=0,StockIn!D921=\"\"),\"\",StockIn!D921)","v":""},{"$f":"IF(OR(StockIn!G921=0,StockIn!G921=\"\"),\"\",StockIn!G921)","v":""},{"$f":"IF(OR(StockIn!H921=0,StockIn!H921=\"\"),\"\",StockIn!H921)","v":""},{"$f":"IF(OR(StockIn!L921=0,StockIn!L921=\"\"),\"\",StockIn!L921)","v":""},{"$f":"IF(OR(StockIn!E921=0,StockIn!E921=\"\"),\"\",StockIn!E921)","v":""},{"$f":"IF(OR(StockIn!M921=0,StockIn!M921=\"\"),\"\",StockIn!M921)","v":""}]
[{"$f":"StockIn!A922","v":1920},{"$f":"IF(OR(StockIn!B922=0,StockIn!B922=\"\"),\"\",StockIn!B922)","v":""},{"$f":"IF(OR(StockIn!D922=0,StockIn!D922=\"\"),\"\",StockIn!D922)","v":""},{"$f":"IF(OR(StockIn!G922=0,StockIn!G922=\"\"),\"\",StockIn!G922)","v":""},{"$f":"IF(OR(StockIn!H922=0,StockIn!H922=\"\"),\"\",StockIn!H922)","v":""},{"$f":"IF(OR(StockIn!L922=0,StockIn!L922=\"\"),\"\",StockIn!L922)","v":""},{"$f":"IF(OR(StockIn!E922=0,StockIn!E922=\"\"),\"\",StockIn!E922)","v":""},{"$f":"IF(OR(StockIn!M922=0,StockIn!M922=\"\"),\"\",StockIn!M922)","v":""}]
[{"$f":"StockIn!A923","v":1921},{"$f":"IF(OR(StockIn!B923=0,StockIn!B923=\"\"),\"\",StockIn!B923)","v":""},{"$f":"IF(OR(StockIn!D923=0,StockIn!D923=\"\"),\"\",StockIn!D923)","v":""},{"$f":"IF(OR(StockIn!G923=0,StockIn!G923=\"\"),\"\",StockIn!G923)","v":""},{"$f":"IF(OR(StockIn!H923=0,StockIn!H923=\"\"),\"\",StockIn!H923)","v":""},{"$f":"IF(OR(StockIn!L923=0,StockIn!L923=\"\"),\"\",StockIn!L923)","v":""},{"$f":"IF(OR(StockIn!E923=0,StockIn!E923=\"\"),\"\",StockIn!E923)","v":""},{"$f":"IF(OR(StockIn!M923=0,StockIn!M923=\"\"),\"\",StockIn!M923)","v":""}]
[{"$f":"StockIn!A924","v":1922},{"$f":"IF(OR(StockIn!B924=0,StockIn!B924=\"\"),\"\",StockIn!B924)","v":""},{"$f":"IF(OR(StockIn!D924=0,StockIn!D924=\"\"),\"\",StockIn!D924)","v":""},{"$f":"IF(OR(StockIn!G924=0,StockIn!G924=\"\"),\"\",StockIn!G924)","v":""},{"$f":"IF(OR(StockIn!H924=0,StockIn!H924=\"\"),\"\",StockIn!H924)","v":""},{"$f":"IF(OR(StockIn!L924=0,StockIn!L924=\"\"),\"\",StockIn!L924)","v":""},{"$f":"IF(OR(StockIn!E924=0,StockIn!E924=\"\"),\"\",StockIn!E924)","v":""},{"$f":"IF(OR(StockIn!M924=0,StockIn!M924=\"\"),\"\",StockIn!M924)","v":""}]
[{"$f":"StockIn!A925","v":1923},{"$f":"IF(OR(StockIn!B925=0,StockIn!B925=\"\"),\"\",StockIn!B925)","v":""},{"$f":"IF(OR(StockIn!D925=0,StockIn!D925=\"\"),\"\",StockIn!D925)","v":""},{"$f":"IF(OR(StockIn!G925=0,StockIn!G925=\"\"),\"\",StockIn!G925)","v":""},{"$f":"IF(OR(StockIn!H925=0,StockIn!H925=\"\"),\"\",StockIn!H925)","v":""},{"$f":"IF(OR(StockIn!L925=0,StockIn!L925=\"\"),\"\",StockIn!L925)","v":""},{"$f":"IF(OR(StockIn!E925=0,StockIn!E925=\"\"),\"\",StockIn!E925)","v":""},{"$f":"IF(OR(StockIn!M925=0,StockIn!M925=\"\"),\"\",StockIn!M925)","v":""}]
[{"$f":"StockIn!A926","v":1924},{"$f":"IF(OR(StockIn!B926=0,StockIn!B926=\"\"),\"\",StockIn!B926)","v":""},{"$f":"IF(OR(StockIn!D926=0,StockIn!D926=\"\"),\"\",StockIn!D926)","v":""},{"$f":"IF(OR(StockIn!G926=0,StockIn!G926=\"\"),\"\",StockIn!G926)","v":""},{"$f":"IF(OR(StockIn!H926=0,StockIn!H926=\"\"),\"\",StockIn!H926)","v":""},{"$f":"IF(OR(StockIn!L926=0,StockIn!L926=\"\"),\"\",StockIn!L926)","v":""},{"$f":"IF(OR(StockIn!E926=0,StockIn!E926=\"\"),\"\",StockIn!E926)","v":""},{"$f":"IF(OR(StockIn!M926=0,StockIn!M926=\"\"),\"\",StockIn!M926)","v":""}]
[{"$f":"StockIn!A927","v":1925},{"$f":"IF(OR(StockIn!B927=0,StockIn!B927=\"\"),\"\",StockIn!B927)","v":""},{"$f":"IF(OR(StockIn!D927=0,StockIn!D927=\"\"),\"\",StockIn!D927)","v":""},{"$f":"IF(OR(StockIn!G927=0,StockIn!G927=\"\"),\"\",StockIn!G927)","v":""},{"$f":"IF(OR(StockIn!H927=0,StockIn!H927=\"\"),\"\",StockIn!H927)","v":""},{"$f":"IF(OR(StockIn!L927=0,StockIn!L927=\"\"),\"\",StockIn!L927)","v":""},{"$f":"IF(OR(StockIn!E927=0,StockIn!E927=\"\"),\"\",StockIn!E927)","v":""},{"$f":"IF(OR(StockIn!M927=0,StockIn!M927=\"\"),\"\",StockIn!M927)","v":""}]
[{"$f":"StockIn!A928","v":1926},{"$f":"IF(OR(StockIn!B928=0,StockIn!B928=\"\"),\"\",StockIn!B928)","v":""},{"$f":"IF(OR(StockIn!D928=0,StockIn!D928=\"\"),\"\",StockIn!D928)","v":""},{"$f":"IF(OR(StockIn!G928=0,StockIn!G928=\"\"),\"\",StockIn!G928)","v":""},{"$f":"IF(OR(StockIn!H928=0,StockIn!H928=\"\"),\"\",StockIn!H928)","v":""},{"$f":"IF(OR(StockIn!L928=0,StockIn!L928=\"\"),\"\",StockIn!L928)","v":""},{"$f":"IF(OR(StockIn!E928=0,StockIn!E928=\"\"),\"\",StockIn!E928)","v":""},{"$f":"IF(OR(StockIn!M928=0,StockIn!M928=\"\"),\"\",StockIn!M928)","v":""}]
[{"$f":"StockIn!A929","v":1927},{"$f":"IF(OR(StockIn!B929=0,StockIn!B929=\"\"),\"\",StockIn!B929)","v":""},{"$f":"IF(OR(StockIn!D929=0,StockIn!D929=\"\"),\"\",StockIn!D929)","v":""},{"$f":"IF(OR(StockIn!G929=0,StockIn!G929=\"\"),\"\",StockIn!G929)","v":""},{"$f":"IF(OR(StockIn!H929=0,StockIn!H929=\"\"),\"\",StockIn!H929)","v":""},{"$f":"IF(OR(StockIn!L929=0,StockIn!L929=\"\"),\"\",StockIn!L929)","v":""},{"$f":"IF(OR(StockIn!E929=0,StockIn!E929=\"\"),\"\",StockIn!E929)","v":""},{"$f":"IF(OR(StockIn!M929=0,StockIn!M929=\"\"),\"\",StockIn!M929)","v":""}]
[{"$f":"StockIn!A930","v":1928},{"$f":"IF(OR(StockIn!B930=0,StockIn!B930=\"\"),\"\",StockIn!B930)","v":""},{"$f":"IF(OR(StockIn!D930=0,StockIn!D930=\"\"),\"\",StockIn!D930)","v":""},{"$f":"IF(OR(StockIn!G930=0,StockIn!G930=\"\"),\"\",StockIn!G930)","v":""},{"$f":"IF(OR(StockIn!H930=0,StockIn!H930=\"\"),\"\",StockIn!H930)","v":""},{"$f":"IF(OR(StockIn!L930=0,StockIn!L930=\"\"),\"\",StockIn!L930)","v":""},{"$f":"IF(OR(StockIn!E930=0,StockIn!E930=\"\"),\"\",StockIn!E930)","v":""},{"$f":"IF(OR(StockIn!M930=0,StockIn!M930=\"\"),\"\",StockIn!M930)","v":""}]
[{"$f":"StockIn!A931","v":1929},{"$f":"IF(OR(StockIn!B931=0,StockIn!B931=\"\"),\"\",StockIn!B931)","v":""},{"$f":"IF(OR(StockIn!D931=0,StockIn!D931=\"\"),\"\",StockIn!D931)","v":""},{"$f":"IF(OR(StockIn!G931=0,StockIn!G931=\"\"),\"\",StockIn!G931)","v":""},{"$f":"IF(OR(StockIn!H931=0,StockIn!H931=\"\"),\"\",StockIn!H931)","v":""},{"$f":"IF(OR(StockIn!L931=0,StockIn!L931=\"\"),\"\",StockIn!L931)","v":""},{"$f":"IF(OR(StockIn!E931=0,StockIn!E931=\"\"),\"\",StockIn!E931)","v":""},{"$f":"IF(OR(StockIn!M931=0,StockIn!M931=\"\"),\"\",StockIn!M931)","v":""}]
[{"$f":"StockIn!A932","v":1930},{"$f":"IF(OR(StockIn!B932=0,StockIn!B932=\"\"),\"\",StockIn!B932)","v":""},{"$f":"IF(OR(StockIn!D932=0,StockIn!D932=\"\"),\"\",StockIn!D932)","v":""},{"$f":"IF(OR(StockIn!G932=0,StockIn!G932=\"\"),\"\",StockIn!G932)","v":""},{"$f":"IF(OR(StockIn!H932=0,StockIn!H932=\"\"),\"\",StockIn!H932)","v":""},{"$f":"IF(OR(StockIn!L932=0,StockIn!L932=\"\"),\"\",StockIn!L932)","v":""},{"$f":"IF(OR(StockIn!E932=0,StockIn!E932=\"\"),\"\",StockIn!E932)","v":""},{"$f":"IF(OR(StockIn!M932=0,StockIn!M932=\"\"),\"\",StockIn!M932)","v":""}]
[{"$f":"StockIn!A933","v":1931},{"$f":"IF(OR(StockIn!B933=0,StockIn!B933=\"\"),\"\",StockIn!B933)","v":""},{"$f":"IF(OR(StockIn!D933=0,StockIn!D933=\"\"),\"\",StockIn!D933)","v":""},{"$f":"IF(OR(StockIn!G933=0,StockIn!G933=\"\"),\"\",StockIn!G933)","v":""},{"$f":"IF(OR(StockIn!H933=0,StockIn!H933=\"\"),\"\",StockIn!H933)","v":""},{"$f":"IF(OR(StockIn!L933=0,StockIn!L933=\"\"),\"\",StockIn!L933)","v":""},{"$f":"IF(OR(StockIn!E933=0,StockIn!E933=\"\"),\"\",StockIn!E933)","v":""},{"$f":"IF(OR(StockIn!M933=0,StockIn!M933=\"\"),\"\",StockIn!M933)","v":""}]
[{"$f":"StockIn!A934","v":1932},{"$f":"IF(OR(StockIn!B934=0,StockIn!B934=\"\"),\"\",StockIn!B934)","v":""},{"$f":"IF(OR(StockIn!D934=0,StockIn!D934=\"\"),\"\",StockIn!D934)","v":""},{"$f":"IF(OR(StockIn!G934=0,StockIn!G934=\"\"),\"\",StockIn!G934)","v":""},{"$f":"IF(OR(StockIn!H934=0,StockIn!H934=\"\"),\"\",StockIn!H934)","v":""},{"$f":"IF(OR(StockIn!L934=0,StockIn!L934=\"\"),\"\",StockIn!L934)","v":""},{"$f":"IF(OR(StockIn!E934=0,StockIn!E934=\"\"),\"\",StockIn!E934)","v":""},{"$f":"IF(OR(StockIn!M934=0,StockIn!M934=\"\"),\"\",StockIn!M934)","v":""}]
[{"$f":"StockIn!A935","v":1933},{"$f":"IF(OR(StockIn!B935=0,StockIn!B935=\"\"),\"\",StockIn!B935)","v":""},{"$f":"IF(OR(StockIn!D935=0,StockIn!D935=\"\"),\"\",StockIn!D935)","v":""},{"$f":"IF(OR(StockIn!G935=0,StockIn!G935=\"\"),\"\",StockIn!G935)","v":""},{"$f":"IF(OR(StockIn!H935=0,StockIn!H935=\"\"),\"\",StockIn!H935)","v":""},{"$f":"IF(OR(StockIn!L935=0,StockIn!L935=\"\"),\"\",StockIn!L935)","v":""},{"$f":"IF(OR(StockIn!E935=0,StockIn!E935=\"\"),\"\",StockIn!E935)","v":""},{"$f":"IF(OR(StockIn!M935=0,StockIn!M935=\"\"),\"\",StockIn!M935)","v":""}]
[{"$f":"StockIn!A936","v":1934},{"$f":"IF(OR(StockIn!B936=0,StockIn!B936=\"\"),\"\",StockIn!B936)","v":""},{"$f":"IF(OR(StockIn!D936=0,StockIn!D936=\"\"),\"\",StockIn!D936)","v":""},{"$f":"IF(OR(StockIn!G936=0,StockIn!G936=\"\"),\"\",StockIn!G936)","v":""},{"$f":"IF(OR(StockIn!H936=0,StockIn!H936=\"\"),\"\",StockIn!H936)","v":""},{"$f":"IF(OR(StockIn!L936=0,StockIn!L936=\"\"),\"\",StockIn!L936)","v":""},{"$f":"IF(OR(StockIn!E936=0,StockIn!E936=\"\"),\"\",StockIn!E936)","v":""},{"$f":"IF(OR(StockIn!M936=0,StockIn!M936=\"\"),\"\",StockIn!M936)","v":""}]
[{"$f":"StockIn!A937","v":1935},{"$f":"IF(OR(StockIn!B937=0,StockIn!B937=\"\"),\"\",StockIn!B937)","v":""},{"$f":"IF(OR(StockIn!D937=0,StockIn!D937=\"\"),\"\",StockIn!D937)","v":""},{"$f":"IF(OR(StockIn!G937=0,StockIn!G937=\"\"),\"\",StockIn!G937)","v":""},{"$f":"IF(OR(StockIn!H937=0,StockIn!H937=\"\"),\"\",StockIn!H937)","v":""},{"$f":"IF(OR(StockIn!L937=0,StockIn!L937=\"\"),\"\",StockIn!L937)","v":""},{"$f":"IF(OR(StockIn!E937=0,StockIn!E937=\"\"),\"\",StockIn!E937)","v":""},{"$f":"IF(OR(StockIn!M937=0,StockIn!M937=\"\"),\"\",StockIn!M937)","v":""}]
[{"$f":"StockIn!A938","v":1936},{"$f":"IF(OR(StockIn!B938=0,StockIn!B938=\"\"),\"\",StockIn!B938)","v":""},{"$f":"IF(OR(StockIn!D938=0,StockIn!D938=\"\"),\"\",StockIn!D938)","v":""},{"$f":"IF(OR(StockIn!G938=0,StockIn!G938=\"\"),\"\",StockIn!G938)","v":""},{"$f":"IF(OR(StockIn!H938=0,StockIn!H938=\"\"),\"\",StockIn!H938)","v":""},{"$f":"IF(OR(StockIn!L938=0,StockIn!L938=\"\"),\"\",StockIn!L938)","v":""},{"$f":"IF(OR(StockIn!E938=0,StockIn!E938=\"\"),\"\",StockIn!E938)","v":""},{"$f":"IF(OR(StockIn!M938=0,StockIn!M938=\"\"),\"\",StockIn!M938)","v":""}]
[{"$f":"StockIn!A939","v":1937},{"$f":"IF(OR(StockIn!B939=0,StockIn!B939=\"\"),\"\",StockIn!B939)","v":""},{"$f":"IF(OR(StockIn!D939=0,StockIn!D939=\"\"),\"\",StockIn!D939)","v":""},{"$f":"IF(OR(StockIn!G939=0,StockIn!G939=\"\"),\"\",StockIn!G939)","v":""},{"$f":"IF(OR(StockIn!H939=0,StockIn!H939=\"\"),\"\",StockIn!H939)","v":""},{"$f":"IF(OR(StockIn!L939=0,StockIn!L939=\"\"),\"\",StockIn!L939)","v":""},{"$f":"IF(OR(StockIn!E939=0,StockIn!E939=\"\"),\"\",StockIn!E939)","v":""},{"$f":"IF(OR(StockIn!M939=0,StockIn!M939=\"\"),\"\",StockIn!M939)","v":""}]
[{"$f":"StockIn!A940","v":1938},{"$f":"IF(OR(StockIn!B940=0,StockIn!B940=\"\"),\"\",StockIn!B940)","v":""},{"$f":"IF(OR(StockIn!D940=0,StockIn!D940=\"\"),\"\",StockIn!D940)","v":""},{"$f":"IF(OR(StockIn!G940=0,StockIn!G940=\"\"),\"\",StockIn!G940)","v":""},{"$f":"IF(OR(StockIn!H940=0,StockIn!H940=\"\"),\"\",StockIn!H940)","v":""},{"$f":"IF(OR(StockIn!L940=0,StockIn!L940=\"\"),\"\",StockIn!L940)","v":""},{"$f":"IF(OR(StockIn!E940=0,StockIn!E940=\"\"),\"\",StockIn!E940)","v":""},{"$f":"IF(OR(StockIn!M940=0,StockIn!M940=\"\"),\"\",StockIn!M940)","v":""}]
[{"$f":"StockIn!A941","v":1939},{"$f":"IF(OR(StockIn!B941=0,StockIn!B941=\"\"),\"\",StockIn!B941)","v":""},{"$f":"IF(OR(StockIn!D941=0,StockIn!D941=\"\"),\"\",StockIn!D941)","v":""},{"$f":"IF(OR(StockIn!G941=0,StockIn!G941=\"\"),\"\",StockIn!G941)","v":""},{"$f":"IF(OR(StockIn!H941=0,StockIn!H941=\"\"),\"\",StockIn!H941)","v":""},{"$f":"IF(OR(StockIn!L941=0,StockIn!L941=\"\"),\"\",StockIn!L941)","v":""},{"$f":"IF(OR(StockIn!E941=0,StockIn!E941=\"\"),\"\",StockIn!E941)","v":""},{"$f":"IF(OR(StockIn!M941=0,StockIn!M941=\"\"),\"\",StockIn!M941)","v":""}]
[{"$f":"StockIn!A942","v":1940},{"$f":"IF(OR(StockIn!B942=0,StockIn!B942=\"\"),\"\",StockIn!B942)","v":""},{"$f":"IF(OR(StockIn!D942=0,StockIn!D942=\"\"),\"\",StockIn!D942)","v":""},{"$f":"IF(OR(StockIn!G942=0,StockIn!G942=\"\"),\"\",StockIn!G942)","v":""},{"$f":"IF(OR(StockIn!H942=0,StockIn!H942=\"\"),\"\",StockIn!H942)","v":""},{"$f":"IF(OR(StockIn!L942=0,StockIn!L942=\"\"),\"\",StockIn!L942)","v":""},{"$f":"IF(OR(StockIn!E942=0,StockIn!E942=\"\"),\"\",StockIn!E942)","v":""},{"$f":"IF(OR(StockIn!M942=0,StockIn!M942=\"\"),\"\",StockIn!M942)","v":""}]
[{"$f":"StockIn!A943","v":1941},{"$f":"IF(OR(StockIn!B943=0,StockIn!B943=\"\"),\"\",StockIn!B943)","v":""},{"$f":"IF(OR(StockIn!D943=0,StockIn!D943=\"\"),\"\",StockIn!D943)","v":""},{"$f":"IF(OR(StockIn!G943=0,StockIn!G943=\"\"),\"\",StockIn!G943)","v":""},{"$f":"IF(OR(StockIn!H943=0,StockIn!H943=\"\"),\"\",StockIn!H943)","v":""},{"$f":"IF(OR(StockIn!L943=0,StockIn!L943=\"\"),\"\",StockIn!L943)","v":""},{"$f":"IF(OR(StockIn!E943=0,StockIn!E943=\"\"),\"\",StockIn!E943)","v":""},{"$f":"IF(OR(StockIn!M943=0,StockIn!M943=\"\"),\"\",StockIn!M943)","v":""}]
[{"$f":"StockIn!A944","v":1942},{"$f":"IF(OR(StockIn!B944=0,StockIn!B944=\"\"),\"\",StockIn!B944)","v":""},{"$f":"IF(OR(StockIn!D944=0,StockIn!D944=\"\"),\"\",StockIn!D944)","v":""},{"$f":"IF(OR(StockIn!G944=0,StockIn!G944=\"\"),\"\",StockIn!G944)","v":""},{"$f":"IF(OR(StockIn!H944=0,StockIn!H944=\"\"),\"\",StockIn!H944)","v":""},{"$f":"IF(OR(StockIn!L944=0,StockIn!L944=\"\"),\"\",StockIn!L944)","v":""},{"$f":"IF(OR(StockIn!E944=0,StockIn!E944=\"\"),\"\",StockIn!E944)","v":""},{"$f":"IF(OR(StockIn!M944=0,StockIn!M944=\"\"),\"\",StockIn!M944)","v":""}]
[{"$f":"StockIn!A945","v":1943},{"$f":"IF(OR(StockIn!B945=0,StockIn!B945=\"\"),\"\",StockIn!B945)","v":""},{"$f":"IF(OR(StockIn!D945=0,StockIn!D945=\"\"),\"\",StockIn!D945)","v":""},{"$f":"IF(OR(StockIn!G945=0,StockIn!G945=\"\"),\"\",StockIn!G945)","v":""},{"$f":"IF(OR(StockIn!H945=0,StockIn!H945=\"\"),\"\",StockIn!H945)","v":""},{"$f":"IF(OR(StockIn!L945=0,StockIn!L945=\"\"),\"\",StockIn!L945)","v":""},{"$f":"IF(OR(StockIn!E945=0,StockIn!E945=\"\"),\"\",StockIn!E945)","v":""},{"$f":"IF(OR(StockIn!M945=0,StockIn!M945=\"\"),\"\",StockIn!M945)","v":""}]
[{"$f":"StockIn!A946","v":1944},{"$f":"IF(OR(StockIn!B946=0,StockIn!B946=\"\"),\"\",StockIn!B946)","v":""},{"$f":"IF(OR(StockIn!D946=0,StockIn!D946=\"\"),\"\",StockIn!D946)","v":""},{"$f":"IF(OR(StockIn!G946=0,StockIn!G946=\"\"),\"\",StockIn!G946)","v":""},{"$f":"IF(OR(StockIn!H946=0,StockIn!H946=\"\"),\"\",StockIn!H946)","v":""},{"$f":"IF(OR(StockIn!L946=0,StockIn!L946=\"\"),\"\",StockIn!L946)","v":""},{"$f":"IF(OR(StockIn!E946=0,StockIn!E946=\"\"),\"\",StockIn!E946)","v":""},{"$f":"IF(OR(StockIn!M946=0,StockIn!M946=\"\"),\"\",StockIn!M946)","v":""}]
[{"$f":"StockIn!A947","v":1945},{"$f":"IF(OR(StockIn!B947=0,StockIn!B947=\"\"),\"\",StockIn!B947)","v":""},{"$f":"IF(OR(StockIn!D947=0,StockIn!D947=\"\"),\"\",StockIn!D947)","v":""},{"$f":"IF(OR(StockIn!G947=0,StockIn!G947=\"\"),\"\",StockIn!G947)","v":""},{"$f":"IF(OR(StockIn!H947=0,StockIn!H947=\"\"),\"\",StockIn!H947)","v":""},{"$f":"IF(OR(StockIn!L947=0,StockIn!L947=\"\"),\"\",StockIn!L947)","v":""},{"$f":"IF(OR(StockIn!E947=0,StockIn!E947=\"\"),\"\",StockIn!E947)","v":""},{"$f":"IF(OR(StockIn!M947=0,StockIn!M947=\"\"),\"\",StockIn!M947)","v":""}]
[{"$f":"StockIn!A948","v":1946},{"$f":"IF(OR(StockIn!B948=0,StockIn!B948=\"\"),\"\",StockIn!B948)","v":""},{"$f":"IF(OR(StockIn!D948=0,StockIn!D948=\"\"),\"\",StockIn!D948)","v":""},{"$f":"IF(OR(StockIn!G948=0,StockIn!G948=\"\"),\"\",StockIn!G948)","v":""},{"$f":"IF(OR(StockIn!H948=0,StockIn!H948=\"\"),\"\",StockIn!H948)","v":""},{"$f":"IF(OR(StockIn!L948=0,StockIn!L948=\"\"),\"\",StockIn!L948)","v":""},{"$f":"IF(OR(StockIn!E948=0,StockIn!E948=\"\"),\"\",StockIn!E948)","v":""},{"$f":"IF(OR(StockIn!M948=0,StockIn!M948=\"\"),\"\",StockIn!M948)","v":""}]
[{"$f":"StockIn!A949","v":1947},{"$f":"IF(OR(StockIn!B949=0,StockIn!B949=\"\"),\"\",StockIn!B949)","v":""},{"$f":"IF(OR(StockIn!D949=0,StockIn!D949=\"\"),\"\",StockIn!D949)","v":""},{"$f":"IF(OR(StockIn!G949=0,StockIn!G949=\"\"),\"\",StockIn!G949)","v":""},{"$f":"IF(OR(StockIn!H949=0,StockIn!H949=\"\"),\"\",StockIn!H949)","v":""},{"$f":"IF(OR(StockIn!L949=0,StockIn!L949=\"\"),\"\",StockIn!L949)","v":""},{"$f":"IF(OR(StockIn!E949=0,StockIn!E949=\"\"),\"\",StockIn!E949)","v":""},{"$f":"IF(OR(StockIn!M949=0,StockIn!M949=\"\"),\"\",StockIn!M949)","v":""}]
[{"$f":"StockIn!A950","v":1948},{"$f":"IF(OR(StockIn!B950=0,StockIn!B950=\"\"),\"\",StockIn!B950)","v":""},{"$f":"IF(OR(StockIn!D950=0,StockIn!D950=\"\"),\"\",StockIn!D950)","v":""},{"$f":"IF(OR(StockIn!G950=0,StockIn!G950=\"\"),\"\",StockIn!G950)","v":""},{"$f":"IF(OR(StockIn!H950=0,StockIn!H950=\"\"),\"\",StockIn!H950)","v":""},{"$f":"IF(OR(StockIn!L950=0,StockIn!L950=\"\"),\"\",StockIn!L950)","v":""},{"$f":"IF(OR(StockIn!E950=0,StockIn!E950=\"\"),\"\",StockIn!E950)","v":""},{"$f":"IF(OR(StockIn!M950=0,StockIn!M950=\"\"),\"\",StockIn!M950)","v":""}]
[{"$f":"StockIn!A951","v":1949},{"$f":"IF(OR(StockIn!B951=0,StockIn!B951=\"\"),\"\",StockIn!B951)","v":""},{"$f":"IF(OR(StockIn!D951=0,StockIn!D951=\"\"),\"\",StockIn!D951)","v":""},{"$f":"IF(OR(StockIn!G951=0,StockIn!G951=\"\"),\"\",StockIn!G951)","v":""},{"$f":"IF(OR(StockIn!H951=0,StockIn!H951=\"\"),\"\",StockIn!H951)","v":""},{"$f":"IF(OR(StockIn!L951=0,StockIn!L951=\"\"),\"\",StockIn!L951)","v":""},{"$f":"IF(OR(StockIn!E951=0,StockIn!E951=\"\"),\"\",StockIn!E951)","v":""},{"$f":"IF(OR(StockIn!M951=0,StockIn!M951=\"\"),\"\",StockIn!M951)","v":""}]
[{"$f":"StockIn!A952","v":1950},{"$f":"IF(OR(StockIn!B952=0,StockIn!B952=\"\"),\"\",StockIn!B952)","v":""},{"$f":"IF(OR(StockIn!D952=0,StockIn!D952=\"\"),\"\",StockIn!D952)","v":""},{"$f":"IF(OR(StockIn!G952=0,StockIn!G952=\"\"),\"\",StockIn!G952)","v":""},{"$f":"IF(OR(StockIn!H952=0,StockIn!H952=\"\"),\"\",StockIn!H952)","v":""},{"$f":"IF(OR(StockIn!L952=0,StockIn!L952=\"\"),\"\",StockIn!L952)","v":""},{"$f":"IF(OR(StockIn!E952=0,StockIn!E952=\"\"),\"\",StockIn!E952)","v":""},{"$f":"IF(OR(StockIn!M952=0,StockIn!M952=\"\"),\"\",StockIn!M952)","v":""}]
[{"$f":"StockIn!A953","v":1951},{"$f":"IF(OR(StockIn!B953=0,StockIn!B953=\"\"),\"\",StockIn!B953)","v":""},{"$f":"IF(OR(StockIn!D953=0,StockIn!D953=\"\"),\"\",StockIn!D953)","v":""},{"$f":"IF(OR(StockIn!G953=0,StockIn!G953=\"\"),\"\",StockIn!G953)","v":""},{"$f":"IF(OR(StockIn!H953=0,StockIn!H953=\"\"),\"\",StockIn!H953)","v":""},{"$f":"IF(OR(StockIn!L953=0,StockIn!L953=\"\"),\"\",StockIn!L953)","v":""},{"$f":"IF(OR(StockIn!E953=0,StockIn!E953=\"\"),\"\",StockIn!E953)","v":""},{"$f":"IF(OR(StockIn!M953=0,StockIn!M953=\"\"),\"\",StockIn!M953)","v":""}]
[{"$f":"StockIn!A954","v":1952},{"$f":"IF(OR(StockIn!B954=0,StockIn!B954=\"\"),\"\",StockIn!B954)","v":""},{"$f":"IF(OR(StockIn!D954=0,StockIn!D954=\"\"),\"\",StockIn!D954)","v":""},{"$f":"IF(OR(StockIn!G954=0,StockIn!G954=\"\"),\"\",StockIn!G954)","v":""},{"$f":"IF(OR(StockIn!H954=0,StockIn!H954=\"\"),\"\",StockIn!H954)","v":""},{"$f":"IF(OR(StockIn!L954=0,StockIn!L954=\"\"),\"\",StockIn!L954)","v":""},{"$f":"IF(OR(StockIn!E954=0,StockIn!E954=\"\"),\"\",StockIn!E954)","v":""},{"$f":"IF(OR(StockIn!M954=0,StockIn!M954=\"\"),\"\",StockIn!M954)","v":""}]
[{"$f":"StockIn!A955","v":1953},{"$f":"IF(OR(StockIn!B955=0,StockIn!B955=\"\"),\"\",StockIn!B955)","v":""},{"$f":"IF(OR(StockIn!D955=0,StockIn!D955=\"\"),\"\",StockIn!D955)","v":""},{"$f":"IF(OR(StockIn!G955=0,StockIn!G955=\"\"),\"\",StockIn!G955)","v":""},{"$f":"IF(OR(StockIn!H955=0,StockIn!H955=\"\"),\"\",StockIn!H955)","v":""},{"$f":"IF(OR(StockIn!L955=0,StockIn!L955=\"\"),\"\",StockIn!L955)","v":""},{"$f":"IF(OR(StockIn!E955=0,StockIn!E955=\"\"),\"\",StockIn!E955)","v":""},{"$f":"IF(OR(StockIn!M955=0,StockIn!M955=\"\"),\"\",StockIn!M955)","v":""}]
[{"$f":"StockIn!A956","v":1954},{"$f":"IF(OR(StockIn!B956=0,StockIn!B956=\"\"),\"\",StockIn!B956)","v":""},{"$f":"IF(OR(StockIn!D956=0,StockIn!D956=\"\"),\"\",StockIn!D956)","v":""},{"$f":"IF(OR(StockIn!G956=0,StockIn!G956=\"\"),\"\",StockIn!G956)","v":""},{"$f":"IF(OR(StockIn!H956=0,StockIn!H956=\"\"),\"\",StockIn!H956)","v":""},{"$f":"IF(OR(StockIn!L956=0,StockIn!L956=\"\"),\"\",StockIn!L956)","v":""},{"$f":"IF(OR(StockIn!E956=0,StockIn!E956=\"\"),\"\",StockIn!E956)","v":""},{"$f":"IF(OR(StockIn!M956=0,StockIn!M956=\"\"),\"\",StockIn!M956)","v":""}]
[{"$f":"StockIn!A957","v":1955},{"$f":"IF(OR(StockIn!B957=0,StockIn!B957=\"\"),\"\",StockIn!B957)","v":""},{"$f":"IF(OR(StockIn!D957=0,StockIn!D957=\"\"),\"\",StockIn!D957)","v":""},{"$f":"IF(OR(StockIn!G957=0,StockIn!G957=\"\"),\"\",StockIn!G957)","v":""},{"$f":"IF(OR(StockIn!H957=0,StockIn!H957=\"\"),\"\",StockIn!H957)","v":""},{"$f":"IF(OR(StockIn!L957=0,StockIn!L957=\"\"),\"\",StockIn!L957)","v":""},{"$f":"IF(OR(StockIn!E957=0,StockIn!E957=\"\"),\"\",StockIn!E957)","v":""},{"$f":"IF(OR(StockIn!M957=0,StockIn!M957=\"\"),\"\",StockIn!M957)","v":""}]
[{"$f":"StockIn!A958","v":1956},{"$f":"IF(OR(StockIn!B958=0,StockIn!B958=\"\"),\"\",StockIn!B958)","v":""},{"$f":"IF(OR(StockIn!D958=0,StockIn!D958=\"\"),\"\",StockIn!D958)","v":""},{"$f":"IF(OR(StockIn!G958=0,StockIn!G958=\"\"),\"\",StockIn!G958)","v":""},{"$f":"IF(OR(StockIn!H958=0,StockIn!H958=\"\"),\"\",StockIn!H958)","v":""},{"$f":"IF(OR(StockIn!L958=0,StockIn!L958=\"\"),\"\",StockIn!L958)","v":""},{"$f":"IF(OR(StockIn!E958=0,StockIn!E958=\"\"),\"\",StockIn!E958)","v":""},{"$f":"IF(OR(StockIn!M958=0,StockIn!M958=\"\"),\"\",StockIn!M958)","v":""}]
[{"$f":"StockIn!A959","v":1957},{"$f":"IF(OR(StockIn!B959=0,StockIn!B959=\"\"),\"\",StockIn!B959)","v":""},{"$f":"IF(OR(StockIn!D959=0,StockIn!D959=\"\"),\"\",StockIn!D959)","v":""},{"$f":"IF(OR(StockIn!G959=0,StockIn!G959=\"\"),\"\",StockIn!G959)","v":""},{"$f":"IF(OR(StockIn!H959=0,StockIn!H959=\"\"),\"\",StockIn!H959)","v":""},{"$f":"IF(OR(StockIn!L959=0,StockIn!L959=\"\"),\"\",StockIn!L959)","v":""},{"$f":"IF(OR(StockIn!E959=0,StockIn!E959=\"\"),\"\",StockIn!E959)","v":""},{"$f":"IF(OR(StockIn!M959=0,StockIn!M959=\"\"),\"\",StockIn!M959)","v":""}]
[{"$f":"StockIn!A960","v":1958},{"$f":"IF(OR(StockIn!B960=0,StockIn!B960=\"\"),\"\",StockIn!B960)","v":""},{"$f":"IF(OR(StockIn!D960=0,StockIn!D960=\"\"),\"\",StockIn!D960)","v":""},{"$f":"IF(OR(StockIn!G960=0,StockIn!G960=\"\"),\"\",StockIn!G960)","v":""},{"$f":"IF(OR(StockIn!H960=0,StockIn!H960=\"\"),\"\",StockIn!H960)","v":""},{"$f":"IF(OR(StockIn!L960=0,StockIn!L960=\"\"),\"\",StockIn!L960)","v":""},{"$f":"IF(OR(StockIn!E960=0,StockIn!E960=\"\"),\"\",StockIn!E960)","v":""},{"$f":"IF(OR(StockIn!M960=0,StockIn!M960=\"\"),\"\",StockIn!M960)","v":""}]
[{"$f":"StockIn!A961","v":1959},{"$f":"IF(OR(StockIn!B961=0,StockIn!B961=\"\"),\"\",StockIn!B961)","v":""},{"$f":"IF(OR(StockIn!D961=0,StockIn!D961=\"\"),\"\",StockIn!D961)","v":""},{"$f":"IF(OR(StockIn!G961=0,StockIn!G961=\"\"),\"\",StockIn!G961)","v":""},{"$f":"IF(OR(StockIn!H961=0,StockIn!H961=\"\"),\"\",StockIn!H961)","v":""},{"$f":"IF(OR(StockIn!L961=0,StockIn!L961=\"\"),\"\",StockIn!L961)","v":""},{"$f":"IF(OR(StockIn!E961=0,StockIn!E961=\"\"),\"\",StockIn!E961)","v":""},{"$f":"IF(OR(StockIn!M961=0,StockIn!M961=\"\"),\"\",StockIn!M961)","v":""}]
[{"$f":"StockIn!A962","v":1960},{"$f":"IF(OR(StockIn!B962=0,StockIn!B962=\"\"),\"\",StockIn!B962)","v":""},{"$f":"IF(OR(StockIn!D962=0,StockIn!D962=\"\"),\"\",StockIn!D962)","v":""},{"$f":"IF(OR(StockIn!G962=0,StockIn!G962=\"\"),\"\",StockIn!G962)","v":""},{"$f":"IF(OR(StockIn!H962=0,StockIn!H962=\"\"),\"\",StockIn!H962)","v":""},{"$f":"IF(OR(StockIn!L962=0,StockIn!L962=\"\"),\"\",StockIn!L962)","v":""},{"$f":"IF(OR(StockIn!E962=0,StockIn!E962=\"\"),\"\",StockIn!E962)","v":""},{"$f":"IF(OR(StockIn!M962=0,StockIn!M962=\"\"),\"\",StockIn!M962)","v":""}]
[{"$f":"StockIn!A963","v":1961},{"$f":"IF(OR(StockIn!B963=0,StockIn!B963=\"\"),\"\",StockIn!B963)","v":""},{"$f":"IF(OR(StockIn!D963=0,StockIn!D963=\"\"),\"\",StockIn!D963)","v":""},{"$f":"IF(OR(StockIn!G963=0,StockIn!G963=\"\"),\"\",StockIn!G963)","v":""},{"$f":"IF(OR(StockIn!H963=0,StockIn!H963=\"\"),\"\",StockIn!H963)","v":""},{"$f":"IF(OR(StockIn!L963=0,StockIn!L963=\"\"),\"\",StockIn!L963)","v":""},{"$f":"IF(OR(StockIn!E963=0,StockIn!E963=\"\"),\"\",StockIn!E963)","v":""},{"$f":"IF(OR(StockIn!M963=0,StockIn!M963=\"\"),\"\",StockIn!M963)","v":""}]
[{"$f":"StockIn!A964","v":1962},{"$f":"IF(OR(StockIn!B964=0,StockIn!B964=\"\"),\"\",StockIn!B964)","v":""},{"$f":"IF(OR(StockIn!D964=0,StockIn!D964=\"\"),\"\",StockIn!D964)","v":""},{"$f":"IF(OR(StockIn!G964=0,StockIn!G964=\"\"),\"\",StockIn!G964)","v":""},{"$f":"IF(OR(StockIn!H964=0,StockIn!H964=\"\"),\"\",StockIn!H964)","v":""},{"$f":"IF(OR(StockIn!L964=0,StockIn!L964=\"\"),\"\",StockIn!L964)","v":""},{"$f":"IF(OR(StockIn!E964=0,StockIn!E964=\"\"),\"\",StockIn!E964)","v":""},{"$f":"IF(OR(StockIn!M964=0,StockIn!M964=\"\"),\"\",StockIn!M964)","v":""}]
[{"$f":"StockIn!A965","v":1963},{"$f":"IF(OR(StockIn!B965=0,StockIn!B965=\"\"),\"\",StockIn!B965)","v":""},{"$f":"IF(OR(StockIn!D965=0,StockIn!D965=\"\"),\"\",StockIn!D965)","v":""},{"$f":"IF(OR(StockIn!G965=0,StockIn!G965=\"\"),\"\",StockIn!G965)","v":""},{"$f":"IF(OR(StockIn!H965=0,StockIn!H965=\"\"),\"\",StockIn!H965)","v":""},{"$f":"IF(OR(StockIn!L965=0,StockIn!L965=\"\"),\"\",StockIn!L965)","v":""},{"$f":"IF(OR(StockIn!E965=0,StockIn!E965=\"\"),\"\",StockIn!E965)","v":""},{"$f":"IF(OR(StockIn!M965=0,StockIn!M965=\"\"),\"\",StockIn!M965)","v":""}]
[{"$f":"StockIn!A966","v":1964},{"$f":"IF(OR(StockIn!B966=0,StockIn!B966=\"\"),\"\",StockIn!B966)","v":""},{"$f":"IF(OR(StockIn!D966=0,StockIn!D966=\"\"),\"\",StockIn!D966)","v":""},{"$f":"IF(OR(StockIn!G966=0,StockIn!G966=\"\"),\"\",StockIn!G966)","v":""},{"$f":"IF(OR(StockIn!H966=0,StockIn!H966=\"\"),\"\",StockIn!H966)","v":""},{"$f":"IF(OR(StockIn!L966=0,StockIn!L966=\"\"),\"\",StockIn!L966)","v":""},{"$f":"IF(OR(StockIn!E966=0,StockIn!E966=\"\"),\"\",StockIn!E966)","v":""},{"$f":"IF(OR(StockIn!M966=0,StockIn!M966=\"\"),\"\",StockIn!M966)","v":""}]
[{"$f":"StockIn!A967","v":1965},{"$f":"IF(OR(StockIn!B967=0,StockIn!B967=\"\"),\"\",StockIn!B967)","v":""},{"$f":"IF(OR(StockIn!D967=0,StockIn!D967=\"\"),\"\",StockIn!D967)","v":""},{"$f":"IF(OR(StockIn!G967=0,StockIn!G967=\"\"),\"\",StockIn!G967)","v":""},{"$f":"IF(OR(StockIn!H967=0,StockIn!H967=\"\"),\"\",StockIn!H967)","v":""},{"$f":"IF(OR(StockIn!L967=0,StockIn!L967=\"\"),\"\",StockIn!L967)","v":""},{"$f":"IF(OR(StockIn!E967=0,StockIn!E967=\"\"),\"\",StockIn!E967)","v":""},{"$f":"IF(OR(StockIn!M967=0,StockIn!M967=\"\"),\"\",StockIn!M967)","v":""}]
[{"$f":"StockIn!A968","v":1966},{"$f":"IF(OR(StockIn!B968=0,StockIn!B968=\"\"),\"\",StockIn!B968)","v":""},{"$f":"IF(OR(StockIn!D968=0,StockIn!D968=\"\"),\"\",StockIn!D968)","v":""},{"$f":"IF(OR(StockIn!G968=0,StockIn!G968=\"\"),\"\",StockIn!G968)","v":""},{"$f":"IF(OR(StockIn!H968=0,StockIn!H968=\"\"),\"\",StockIn!H968)","v":""},{"$f":"IF(OR(StockIn!L968=0,StockIn!L968=\"\"),\"\",StockIn!L968)","v":""},{"$f":"IF(OR(StockIn!E968=0,StockIn!E968=\"\"),\"\",StockIn!E968)","v":""},{"$f":"IF(OR(StockIn!M968=0,StockIn!M968=\"\"),\"\",StockIn!M968)","v":""}]
[{"$f":"StockIn!A969","v":1967},{"$f":"IF(OR(StockIn!B969=0,StockIn!B969=\"\"),\"\",StockIn!B969)","v":""},{"$f":"IF(OR(StockIn!D969=0,StockIn!D969=\"\"),\"\",StockIn!D969)","v":""},{"$f":"IF(OR(StockIn!G969=0,StockIn!G969=\"\"),\"\",StockIn!G969)","v":""},{"$f":"IF(OR(StockIn!H969=0,StockIn!H969=\"\"),\"\",StockIn!H969)","v":""},{"$f":"IF(OR(StockIn!L969=0,StockIn!L969=\"\"),\"\",StockIn!L969)","v":""},{"$f":"IF(OR(StockIn!E969=0,StockIn!E969=\"\"),\"\",StockIn!E969)","v":""},{"$f":"IF(OR(StockIn!M969=0,StockIn!M969=\"\"),\"\",StockIn!M969)","v":""}]
[{"$f":"StockIn!A970","v":1968},{"$f":"IF(OR(StockIn!B970=0,StockIn!B970=\"\"),\"\",StockIn!B970)","v":""},{"$f":"IF(OR(StockIn!D970=0,StockIn!D970=\"\"),\"\",StockIn!D970)","v":""},{"$f":"IF(OR(StockIn!G970=0,StockIn!G970=\"\"),\"\",StockIn!G970)","v":""},{"$f":"IF(OR(StockIn!H970=0,StockIn!H970=\"\"),\"\",StockIn!H970)","v":""},{"$f":"IF(OR(StockIn!L970=0,StockIn!L970=\"\"),\"\",StockIn!L970)","v":""},{"$f":"IF(OR(StockIn!E970=0,StockIn!E970=\"\"),\"\",StockIn!E970)","v":""},{"$f":"IF(OR(StockIn!M970=0,StockIn!M970=\"\"),\"\",StockIn!M970)","v":""}]
[{"$f":"StockIn!A971","v":1969},{"$f":"IF(OR(StockIn!B971=0,StockIn!B971=\"\"),\"\",StockIn!B971)","v":""},{"$f":"IF(OR(StockIn!D971=0,StockIn!D971=\"\"),\"\",StockIn!D971)","v":""},{"$f":"IF(OR(StockIn!G971=0,StockIn!G971=\"\"),\"\",StockIn!G971)","v":""},{"$f":"IF(OR(StockIn!H971=0,StockIn!H971=\"\"),\"\",StockIn!H971)","v":""},{"$f":"IF(OR(StockIn!L971=0,StockIn!L971=\"\"),\"\",StockIn!L971)","v":""},{"$f":"IF(OR(StockIn!E971=0,StockIn!E971=\"\"),\"\",StockIn!E971)","v":""},{"$f":"IF(OR(StockIn!M971=0,StockIn!M971=\"\"),\"\",StockIn!M971)","v":""}]
[{"$f":"StockIn!A972","v":1970},{"$f":"IF(OR(StockIn!B972=0,StockIn!B972=\"\"),\"\",StockIn!B972)","v":""},{"$f":"IF(OR(StockIn!D972=0,StockIn!D972=\"\"),\"\",StockIn!D972)","v":""},{"$f":"IF(OR(StockIn!G972=0,StockIn!G972=\"\"),\"\",StockIn!G972)","v":""},{"$f":"IF(OR(StockIn!H972=0,StockIn!H972=\"\"),\"\",StockIn!H972)","v":""},{"$f":"IF(OR(StockIn!L972=0,StockIn!L972=\"\"),\"\",StockIn!L972)","v":""},{"$f":"IF(OR(StockIn!E972=0,StockIn!E972=\"\"),\"\",StockIn!E972)","v":""},{"$f":"IF(OR(StockIn!M972=0,StockIn!M972=\"\"),\"\",StockIn!M972)","v":""}]
[{"$f":"StockIn!A973","v":1971},{"$f":"IF(OR(StockIn!B973=0,StockIn!B973=\"\"),\"\",StockIn!B973)","v":""},{"$f":"IF(OR(StockIn!D973=0,StockIn!D973=\"\"),\"\",StockIn!D973)","v":""},{"$f":"IF(OR(StockIn!G973=0,StockIn!G973=\"\"),\"\",StockIn!G973)","v":""},{"$f":"IF(OR(StockIn!H973=0,StockIn!H973=\"\"),\"\",StockIn!H973)","v":""},{"$f":"IF(OR(StockIn!L973=0,StockIn!L973=\"\"),\"\",StockIn!L973)","v":""},{"$f":"IF(OR(StockIn!E973=0,StockIn!E973=\"\"),\"\",StockIn!E973)","v":""},{"$f":"IF(OR(StockIn!M973=0,StockIn!M973=\"\"),\"\",StockIn!M973)","v":""}]
[{"$f":"StockIn!A974","v":1972},{"$f":"IF(OR(StockIn!B974=0,StockIn!B974=\"\"),\"\",StockIn!B974)","v":""},{"$f":"IF(OR(StockIn!D974=0,StockIn!D974=\"\"),\"\",StockIn!D974)","v":""},{"$f":"IF(OR(StockIn!G974=0,StockIn!G974=\"\"),\"\",StockIn!G974)","v":""},{"$f":"IF(OR(StockIn!H974=0,StockIn!H974=\"\"),\"\",StockIn!H974)","v":""},{"$f":"IF(OR(StockIn!L974=0,StockIn!L974=\"\"),\"\",StockIn!L974)","v":""},{"$f":"IF(OR(StockIn!E974=0,StockIn!E974=\"\"),\"\",StockIn!E974)","v":""},{"$f":"IF(OR(StockIn!M974=0,StockIn!M974=\"\"),\"\",StockIn!M974)","v":""}]
[{"$f":"StockIn!A975","v":1973},{"$f":"IF(OR(StockIn!B975=0,StockIn!B975=\"\"),\"\",StockIn!B975)","v":""},{"$f":"IF(OR(StockIn!D975=0,StockIn!D975=\"\"),\"\",StockIn!D975)","v":""},{"$f":"IF(OR(StockIn!G975=0,StockIn!G975=\"\"),\"\",StockIn!G975)","v":""},{"$f":"IF(OR(StockIn!H975=0,StockIn!H975=\"\"),\"\",StockIn!H975)","v":""},{"$f":"IF(OR(StockIn!L975=0,StockIn!L975=\"\"),\"\",StockIn!L975)","v":""},{"$f":"IF(OR(StockIn!E975=0,StockIn!E975=\"\"),\"\",StockIn!E975)","v":""},{"$f":"IF(OR(StockIn!M975=0,StockIn!M975=\"\"),\"\",StockIn!M975)","v":""}]
[{"$f":"StockIn!A976","v":1974},{"$f":"IF(OR(StockIn!B976=0,StockIn!B976=\"\"),\"\",StockIn!B976)","v":""},{"$f":"IF(OR(StockIn!D976=0,StockIn!D976=\"\"),\"\",StockIn!D976)","v":""},{"$f":"IF(OR(StockIn!G976=0,StockIn!G976=\"\"),\"\",StockIn!G976)","v":""},{"$f":"IF(OR(StockIn!H976=0,StockIn!H976=\"\"),\"\",StockIn!H976)","v":""},{"$f":"IF(OR(StockIn!L976=0,StockIn!L976=\"\"),\"\",StockIn!L976)","v":""},{"$f":"IF(OR(StockIn!E976=0,StockIn!E976=\"\"),\"\",StockIn!E976)","v":""},{"$f":"IF(OR(StockIn!M976=0,StockIn!M976=\"\"),\"\",StockIn!M976)","v":""}]
[{"$f":"StockIn!A977","v":1975},{"$f":"IF(OR(StockIn!B977=0,StockIn!B977=\"\"),\"\",StockIn!B977)","v":""},{"$f":"IF(OR(StockIn!D977=0,StockIn!D977=\"\"),\"\",StockIn!D977)","v":""},{"$f":"IF(OR(StockIn!G977=0,StockIn!G977=\"\"),\"\",StockIn!G977)","v":""},{"$f":"IF(OR(StockIn!H977=0,StockIn!H977=\"\"),\"\",StockIn!H977)","v":""},{"$f":"IF(OR(StockIn!L977=0,StockIn!L977=\"\"),\"\",StockIn!L977)","v":""},{"$f":"IF(OR(StockIn!E977=0,StockIn!E977=\"\"),\"\",StockIn!E977)","v":""},{"$f":"IF(OR(StockIn!M977=0,StockIn!M977=\"\"),\"\",StockIn!M977)","v":""}]
[{"$f":"StockIn!A978","v":1976},{"$f":"IF(OR(StockIn!B978=0,StockIn!B978=\"\"),\"\",StockIn!B978)","v":""},{"$f":"IF(OR(StockIn!D978=0,StockIn!D978=\"\"),\"\",StockIn!D978)","v":""},{"$f":"IF(OR(StockIn!G978=0,StockIn!G978=\"\"),\"\",StockIn!G978)","v":""},{"$f":"IF(OR(StockIn!H978=0,StockIn!H978=\"\"),\"\",StockIn!H978)","v":""},{"$f":"IF(OR(StockIn!L978=0,StockIn!L978=\"\"),\"\",StockIn!L978)","v":""},{"$f":"IF(OR(StockIn!E978=0,StockIn!E978=\"\"),\"\",StockIn!E978)","v":""},{"$f":"IF(OR(StockIn!M978=0,StockIn!M978=\"\"),\"\",StockIn!M978)","v":""}]
[{"$f":"StockIn!A979","v":1977},{"$f":"IF(OR(StockIn!B979=0,StockIn!B979=\"\"),\"\",StockIn!B979)","v":""},{"$f":"IF(OR(StockIn!D979=0,StockIn!D979=\"\"),\"\",StockIn!D979)","v":""},{"$f":"IF(OR(StockIn!G979=0,StockIn!G979=\"\"),\"\",StockIn!G979)","v":""},{"$f":"IF(OR(StockIn!H979=0,StockIn!H979=\"\"),\"\",StockIn!H979)","v":""},{"$f":"IF(OR(StockIn!L979=0,StockIn!L979=\"\"),\"\",StockIn!L979)","v":""},{"$f":"IF(OR(StockIn!E979=0,StockIn!E979=\"\"),\"\",StockIn!E979)","v":""},{"$f":"IF(OR(StockIn!M979=0,StockIn!M979=\"\"),\"\",StockIn!M979)","v":""}]
[{"$f":"StockIn!A980","v":1978},{"$f":"IF(OR(StockIn!B980=0,StockIn!B980=\"\"),\"\",StockIn!B980)","v":""},{"$f":"IF(OR(StockIn!D980=0,StockIn!D980=\"\"),\"\",StockIn!D980)","v":""},{"$f":"IF(OR(StockIn!G980=0,StockIn!G980=\"\"),\"\",StockIn!G980)","v":""},{"$f":"IF(OR(StockIn!H980=0,StockIn!H980=\"\"),\"\",StockIn!H980)","v":""},{"$f":"IF(OR(StockIn!L980=0,StockIn!L980=\"\"),\"\",StockIn!L980)","v":""},{"$f":"IF(OR(StockIn!E980=0,StockIn!E980=\"\"),\"\",StockIn!E980)","v":""},{"$f":"IF(OR(StockIn!M980=0,StockIn!M980=\"\"),\"\",StockIn!M980)","v":""}]
[{"$f":"StockIn!A981","v":1979},{"$f":"IF(OR(StockIn!B981=0,StockIn!B981=\"\"),\"\",StockIn!B981)","v":""},{"$f":"IF(OR(StockIn!D981=0,StockIn!D981=\"\"),\"\",StockIn!D981)","v":""},{"$f":"IF(OR(StockIn!G981=0,StockIn!G981=\"\"),\"\",StockIn!G981)","v":""},{"$f":"IF(OR(StockIn!H981=0,StockIn!H981=\"\"),\"\",StockIn!H981)","v":""},{"$f":"IF(OR(StockIn!L981=0,StockIn!L981=\"\"),\"\",StockIn!L981)","v":""},{"$f":"IF(OR(StockIn!E981=0,StockIn!E981=\"\"),\"\",StockIn!E981)","v":""},{"$f":"IF(OR(StockIn!M981=0,StockIn!M981=\"\"),\"\",StockIn!M981)","v":""}]
[{"$f":"StockIn!A982","v":1980},{"$f":"IF(OR(StockIn!B982=0,StockIn!B982=\"\"),\"\",StockIn!B982)","v":""},{"$f":"IF(OR(StockIn!D982=0,StockIn!D982=\"\"),\"\",StockIn!D982)","v":""},{"$f":"IF(OR(StockIn!G982=0,StockIn!G982=\"\"),\"\",StockIn!G982)","v":""},{"$f":"IF(OR(StockIn!H982=0,StockIn!H982=\"\"),\"\",StockIn!H982)","v":""},{"$f":"IF(OR(StockIn!L982=0,StockIn!L982=\"\"),\"\",StockIn!L982)","v":""},{"$f":"IF(OR(StockIn!E982=0,StockIn!E982=\"\"),\"\",StockIn!E982)","v":""},{"$f":"IF(OR(StockIn!M982=0,StockIn!M982=\"\"),\"\",StockIn!M982)","v":""}]
[{"$f":"StockIn!A983","v":1981},{"$f":"IF(OR(StockIn!B983=0,StockIn!B983=\"\"),\"\",StockIn!B983)","v":""},{"$f":"IF(OR(StockIn!D983=0,StockIn!D983=\"\"),\"\",StockIn!D983)","v":""},{"$f":"IF(OR(StockIn!G983=0,StockIn!G983=\"\"),\"\",StockIn!G983)","v":""},{"$f":"IF(OR(StockIn!H983=0,StockIn!H983=\"\"),\"\",StockIn!H983)","v":""},{"$f":"IF(OR(StockIn!L983=0,StockIn!L983=\"\"),\"\",StockIn!L983)","v":""},{"$f":"IF(OR(StockIn!E983=0,StockIn!E983=\"\"),\"\",StockIn!E983)","v":""},{"$f":"IF(OR(StockIn!M983=0,StockIn!M983=\"\"),\"\",StockIn!M983)","v":""}]
[{"$f":"StockIn!A984","v":1982},{"$f":"IF(OR(StockIn!B984=0,StockIn!B984=\"\"),\"\",StockIn!B984)","v":""},{"$f":"IF(OR(StockIn!D984=0,StockIn!D984=\"\"),\"\",StockIn!D984)","v":""},{"$f":"IF(OR(StockIn!G984=0,StockIn!G984=\"\"),\"\",StockIn!G984)","v":""},{"$f":"IF(OR(StockIn!H984=0,StockIn!H984=\"\"),\"\",StockIn!H984)","v":""},{"$f":"IF(OR(StockIn!L984=0,StockIn!L984=\"\"),\"\",StockIn!L984)","v":""},{"$f":"IF(OR(StockIn!E984=0,StockIn!E984=\"\"),\"\",StockIn!E984)","v":""},{"$f":"IF(OR(StockIn!M984=0,StockIn!M984=\"\"),\"\",StockIn!M984)","v":""}]
[{"$f":"StockIn!A985","v":1983},{"$f":"IF(OR(StockIn!B985=0,StockIn!B985=\"\"),\"\",StockIn!B985)","v":""},{"$f":"IF(OR(StockIn!D985=0,StockIn!D985=\"\"),\"\",StockIn!D985)","v":""},{"$f":"IF(OR(StockIn!G985=0,StockIn!G985=\"\"),\"\",StockIn!G985)","v":""},{"$f":"IF(OR(StockIn!H985=0,StockIn!H985=\"\"),\"\",StockIn!H985)","v":""},{"$f":"IF(OR(StockIn!L985=0,StockIn!L985=\"\"),\"\",StockIn!L985)","v":""},{"$f":"IF(OR(StockIn!E985=0,StockIn!E985=\"\"),\"\",StockIn!E985)","v":""},{"$f":"IF(OR(StockIn!M985=0,StockIn!M985=\"\"),\"\",StockIn!M985)","v":""}]
[{"$f":"StockIn!A986","v":1984},{"$f":"IF(OR(StockIn!B986=0,StockIn!B986=\"\"),\"\",StockIn!B986)","v":""},{"$f":"IF(OR(StockIn!D986=0,StockIn!D986=\"\"),\"\",StockIn!D986)","v":""},{"$f":"IF(OR(StockIn!G986=0,StockIn!G986=\"\"),\"\",StockIn!G986)","v":""},{"$f":"IF(OR(StockIn!H986=0,StockIn!H986=\"\"),\"\",StockIn!H986)","v":""},{"$f":"IF(OR(StockIn!L986=0,StockIn!L986=\"\"),\"\",StockIn!L986)","v":""},{"$f":"IF(OR(StockIn!E986=0,StockIn!E986=\"\"),\"\",StockIn!E986)","v":""},{"$f":"IF(OR(StockIn!M986=0,StockIn!M986=\"\"),\"\",StockIn!M986)","v":""}]
[{"$f":"StockIn!A987","v":1985},{"$f":"IF(OR(StockIn!B987=0,StockIn!B987=\"\"),\"\",StockIn!B987)","v":""},{"$f":"IF(OR(StockIn!D987=0,StockIn!D987=\"\"),\"\",StockIn!D987)","v":""},{"$f":"IF(OR(StockIn!G987=0,StockIn!G987=\"\"),\"\",StockIn!G987)","v":""},{"$f":"IF(OR(StockIn!H987=0,StockIn!H987=\"\"),\"\",StockIn!H987)","v":""},{"$f":"IF(OR(StockIn!L987=0,StockIn!L987=\"\"),\"\",StockIn!L987)","v":""},{"$f":"IF(OR(StockIn!E987=0,StockIn!E987=\"\"),\"\",StockIn!E987)","v":""},{"$f":"IF(OR(StockIn!M987=0,StockIn!M987=\"\"),\"\",StockIn!M987)","v":""}]
[{"$f":"StockIn!A988","v":1986},{"$f":"IF(OR(StockIn!B988=0,StockIn!B988=\"\"),\"\",StockIn!B988)","v":""},{"$f":"IF(OR(StockIn!D988=0,StockIn!D988=\"\"),\"\",StockIn!D988)","v":""},{"$f":"IF(OR(StockIn!G988=0,StockIn!G988=\"\"),\"\",StockIn!G988)","v":""},{"$f":"IF(OR(StockIn!H988=0,StockIn!H988=\"\"),\"\",StockIn!H988)","v":""},{"$f":"IF(OR(StockIn!L988=0,StockIn!L988=\"\"),\"\",StockIn!L988)","v":""},{"$f":"IF(OR(StockIn!E988=0,StockIn!E988=\"\"),\"\",StockIn!E988)","v":""},{"$f":"IF(OR(StockIn!M988=0,StockIn!M988=\"\"),\"\",StockIn!M988)","v":""}]
[{"$f":"StockIn!A989","v":1987},{"$f":"IF(OR(StockIn!B989=0,StockIn!B989=\"\"),\"\",StockIn!B989)","v":""},{"$f":"IF(OR(StockIn!D989=0,StockIn!D989=\"\"),\"\",StockIn!D989)","v":""},{"$f":"IF(OR(StockIn!G989=0,StockIn!G989=\"\"),\"\",StockIn!G989)","v":""},{"$f":"IF(OR(StockIn!H989=0,StockIn!H989=\"\"),\"\",StockIn!H989)","v":""},{"$f":"IF(OR(StockIn!L989=0,StockIn!L989=\"\"),\"\",StockIn!L989)","v":""},{"$f":"IF(OR(StockIn!E989=0,StockIn!E989=\"\"),\"\",StockIn!E989)","v":""},{"$f":"IF(OR(StockIn!M989=0,StockIn!M989=\"\"),\"\",StockIn!M989)","v":""}]
[{"$f":"StockIn!A990","v":1988},{"$f":"IF(OR(StockIn!B990=0,StockIn!B990=\"\"),\"\",StockIn!B990)","v":""},{"$f":"IF(OR(StockIn!D990=0,StockIn!D990=\"\"),\"\",StockIn!D990)","v":""},{"$f":"IF(OR(StockIn!G990=0,StockIn!G990=\"\"),\"\",StockIn!G990)","v":""},{"$f":"IF(OR(StockIn!H990=0,StockIn!H990=\"\"),\"\",StockIn!H990)","v":""},{"$f":"IF(OR(StockIn!L990=0,StockIn!L990=\"\"),\"\",StockIn!L990)","v":""},{"$f":"IF(OR(StockIn!E990=0,StockIn!E990=\"\"),\"\",StockIn!E990)","v":""},{"$f":"IF(OR(StockIn!M990=0,StockIn!M990=\"\"),\"\",StockIn!M990)","v":""}]
[{"$f":"StockIn!A991","v":1989},{"$f":"IF(OR(StockIn!B991=0,StockIn!B991=\"\"),\"\",StockIn!B991)","v":""},{"$f":"IF(OR(StockIn!D991=0,StockIn!D991=\"\"),\"\",StockIn!D991)","v":""},{"$f":"IF(OR(StockIn!G991=0,StockIn!G991=\"\"),\"\",StockIn!G991)","v":""},{"$f":"IF(OR(StockIn!H991=0,StockIn!H991=\"\"),\"\",StockIn!H991)","v":""},{"$f":"IF(OR(StockIn!L991=0,StockIn!L991=\"\"),\"\",StockIn!L991)","v":""},{"$f":"IF(OR(StockIn!E991=0,StockIn!E991=\"\"),\"\",StockIn!E991)","v":""},{"$f":"IF(OR(StockIn!M991=0,StockIn!M991=\"\"),\"\",StockIn!M991)","v":""}]
[{"$f":"StockIn!A992","v":1990},{"$f":"IF(OR(StockIn!B992=0,StockIn!B992=\"\"),\"\",StockIn!B992)","v":""},{"$f":"IF(OR(StockIn!D992=0,StockIn!D992=\"\"),\"\",StockIn!D992)","v":""},{"$f":"IF(OR(StockIn!G992=0,StockIn!G992=\"\"),\"\",StockIn!G992)","v":""},{"$f":"IF(OR(StockIn!H992=0,StockIn!H992=\"\"),\"\",StockIn!H992)","v":""},{"$f":"IF(OR(StockIn!L992=0,StockIn!L992=\"\"),\"\",StockIn!L992)","v":""},{"$f":"IF(OR(StockIn!E992=0,StockIn!E992=\"\"),\"\",StockIn!E992)","v":""},{"$f":"IF(OR(StockIn!M992=0,StockIn!M992=\"\"),\"\",StockIn!M992)","v":""}]
[{"$f":"StockIn!A993","v":1991},{"$f":"IF(OR(StockIn!B993=0,StockIn!B993=\"\"),\"\",StockIn!B993)","v":""},{"$f":"IF(OR(StockIn!D993=0,StockIn!D993=\"\"),\"\",StockIn!D993)","v":""},{"$f":"IF(OR(StockIn!G993=0,StockIn!G993=\"\"),\"\",StockIn!G993)","v":""},{"$f":"IF(OR(StockIn!H993=0,StockIn!H993=\"\"),\"\",StockIn!H993)","v":""},{"$f":"IF(OR(StockIn!L993=0,StockIn!L993=\"\"),\"\",StockIn!L993)","v":""},{"$f":"IF(OR(StockIn!E993=0,StockIn!E993=\"\"),\"\",StockIn!E993)","v":""},{"$f":"IF(OR(StockIn!M993=0,StockIn!M993=\"\"),\"\",StockIn!M993)","v":""}]
[{"$f":"StockIn!A994","v":1992},{"$f":"IF(OR(StockIn!B994=0,StockIn!B994=\"\"),\"\",StockIn!B994)","v":""},{"$f":"IF(OR(StockIn!D994=0,StockIn!D994=\"\"),\"\",StockIn!D994)","v":""},{"$f":"IF(OR(StockIn!G994=0,StockIn!G994=\"\"),\"\",StockIn!G994)","v":""},{"$f":"IF(OR(StockIn!H994=0,StockIn!H994=\"\"),\"\",StockIn!H994)","v":""},{"$f":"IF(OR(StockIn!L994=0,StockIn!L994=\"\"),\"\",StockIn!L994)","v":""},{"$f":"IF(OR(StockIn!E994=0,StockIn!E994=\"\"),\"\",StockIn!E994)","v":""},{"$f":"IF(OR(StockIn!M994=0,StockIn!M994=\"\"),\"\",StockIn!M994)","v":""}]
[{"$f":"StockIn!A995","v":1993},{"$f":"IF(OR(StockIn!B995=0,StockIn!B995=\"\"),\"\",StockIn!B995)","v":""},{"$f":"IF(OR(StockIn!D995=0,StockIn!D995=\"\"),\"\",StockIn!D995)","v":""},{"$f":"IF(OR(StockIn!G995=0,StockIn!G995=\"\"),\"\",StockIn!G995)","v":""},{"$f":"IF(OR(StockIn!H995=0,StockIn!H995=\"\"),\"\",StockIn!H995)","v":""},{"$f":"IF(OR(StockIn!L995=0,StockIn!L995=\"\"),\"\",StockIn!L995)","v":""},{"$f":"IF(OR(StockIn!E995=0,StockIn!E995=\"\"),\"\",StockIn!E995)","v":""},{"$f":"IF(OR(StockIn!M995=0,StockIn!M995=\"\"),\"\",StockIn!M995)","v":""}]
[{"$f":"StockIn!A996","v":1994},{"$f":"IF(OR(StockIn!B996=0,StockIn!B996=\"\"),\"\",StockIn!B996)","v":""},{"$f":"IF(OR(StockIn!D996=0,StockIn!D996=\"\"),\"\",StockIn!D996)","v":""},{"$f":"IF(OR(StockIn!G996=0,StockIn!G996=\"\"),\"\",StockIn!G996)","v":""},{"$f":"IF(OR(StockIn!H996=0,StockIn!H996=\"\"),\"\",StockIn!H996)","v":""},{"$f":"IF(OR(StockIn!L996=0,StockIn!L996=\"\"),\"\",StockIn!L996)","v":""},{"$f":"IF(OR(StockIn!E996=0,StockIn!E996=\"\"),\"\",StockIn!E996)","v":""},{"$f":"IF(OR(StockIn!M996=0,StockIn!M996=\"\"),\"\",StockIn!M996)","v":""}]
[{"$f":"StockIn!A997","v":1995},{"$f":"IF(OR(StockIn!B997=0,StockIn!B997=\"\"),\"\",StockIn!B997)","v":""},{"$f":"IF(OR(StockIn!D997=0,StockIn!D997=\"\"),\"\",StockIn!D997)","v":""},{"$f":"IF(OR(StockIn!G997=0,StockIn!G997=\"\"),\"\",StockIn!G997)","v":""},{"$f":"IF(OR(StockIn!H997=0,StockIn!H997=\"\"),\"\",StockIn!H997)","v":""},{"$f":"IF(OR(StockIn!L997=0,StockIn!L997=\"\"),\"\",StockIn!L997)","v":""},{"$f":"IF(OR(StockIn!E997=0,StockIn!E997=\"\"),\"\",StockIn!E997)","v":""},{"$f":"IF(OR(StockIn!M997=0,StockIn!M997=\"\"),\"\",StockIn!M997)","v":""}]
[{"$f":"StockIn!A998","v":1996},{"$f":"IF(OR(StockIn!B998=0,StockIn!B998=\"\"),\"\",StockIn!B998)","v":""},{"$f":"IF(OR(StockIn!D998=0,StockIn!D998=\"\"),\"\",StockIn!D998)","v":""},{"$f":"IF(OR(StockIn!G998=0,StockIn!G998=\"\"),\"\",StockIn!G998)","v":""},{"$f":"IF(OR(StockIn!H998=0,StockIn!H998=\"\"),\"\",StockIn!H998)","v":""},{"$f":"IF(OR(StockIn!L998=0,StockIn!L998=\"\"),\"\",StockIn!L998)","v":""},{"$f":"IF(OR(StockIn!E998=0,StockIn!E998=\"\"),\"\",StockIn!E998)","v":""},{"$f":"IF(OR(StockIn!M998=0,StockIn!M998=\"\"),\"\",StockIn!M998)","v":""}]
[{"$f":"StockIn!A999","v":1997},{"$f":"IF(OR(StockIn!B999=0,StockIn!B999=\"\"),\"\",StockIn!B999)","v":""},{"$f":"IF(OR(StockIn!D999=0,StockIn!D999=\"\"),\"\",StockIn!D999)","v":""},{"$f":"IF(OR(StockIn!G999=0,StockIn!G999=\"\"),\"\",StockIn!G999)","v":""},{"$f":"IF(OR(StockIn!H999=0,StockIn!H999=\"\"),\"\",StockIn!H999)","v":""},{"$f":"IF(OR(StockIn!L999=0,StockIn!L999=\"\"),\"\",StockIn!L999)","v":""},{"$f":"IF(OR(StockIn!E999=0,StockIn!E999=\"\"),\"\",StockIn!E999)","v":""},{"$f":"IF(OR(StockIn!M999=0,StockIn!M999=\"\"),\"\",StockIn!M999)","v":""}]
[{"$f":"StockIn!A1000","v":1998},{"$f":"IF(OR(StockIn!B1000=0,StockIn!B1000=\"\"),\"\",StockIn!B1000)","v":""},{"$f":"IF(OR(StockIn!D1000=0,StockIn!D1000=\"\"),\"\",StockIn!D1000)","v":""},{"$f":"IF(OR(StockIn!G1000=0,StockIn!G1000=\"\"),\"\",StockIn!G1000)","v":""},{"$f":"IF(OR(StockIn!H1000=0,StockIn!H1000=\"\"),\"\",StockIn!H1000)","v":""},{"$f":"IF(OR(StockIn!L1000=0,StockIn!L1000=\"\"),\"\",StockIn!L1000)","v":""},{"$f":"IF(OR(StockIn!E1000=0,StockIn!E1000=\"\"),\"\",StockIn!E1000)","v":""},{"$f":"IF(OR(StockIn!M1000=0,StockIn!M1000=\"\"),\"\",StockIn!M1000)","v":""}]
[{"$f":"StockIn!A1001","v":1999},{"$f":"IF(OR(StockIn!B1001=0,StockIn!B1001=\"\"),\"\",StockIn!B1001)","v":""},{"$f":"IF(OR(StockIn!D1001=0,StockIn!D1001=\"\"),\"\",StockIn!D1001)","v":""},{"$f":"IF(OR(StockIn!G1001=0,StockIn!G1001=\"\"),\"\",StockIn!G1001)","v":""},{"$f":"IF(OR(StockIn!H1001=0,StockIn!H1001=\"\"),\"\",StockIn!H1001)","v":""},{"$f":"IF(OR(StockIn!L1001=0,StockIn!L1001=\"\"),\"\",StockIn!L1001)","v":""},{"$f":"IF(OR(StockIn!E1001=0,StockIn!E1001=\"\"),\"\",StockIn!E1001)","v":""},{"$f":"IF(OR(StockIn!M1001=0,StockIn!M1001=\"\"),\"\",StockIn!M1001)","v":""}]
[{"$f":"StockIn!A1002","v":2000},{"$f":"IF(OR(StockIn!B1002=0,StockIn!B1002=\"\"),\"\",StockIn!B1002)","v":""},{"$f":"IF(OR(StockIn!D1002=0,StockIn!D1002=\"\"),\"\",StockIn!D1002)","v":""},{"$f":"IF(OR(StockIn!G1002=0,StockIn!G1002=\"\"),\"\",StockIn!G1002)","v":""},{"$f":"IF(OR(StockIn!H1002=0,StockIn!H1002=\"\"),\"\",StockIn!H1002)","v":""},{"$f":"IF(OR(StockIn!L1002=0,StockIn!L1002=\"\"),\"\",StockIn!L1002)","v":""},{"$f":"IF(OR(StockIn!E1002=0,StockIn!E1002=\"\"),\"\",StockIn!E1002)","v":""},{"$f":"IF(OR(StockIn!M1002=0,StockIn!M1002=\"\"),\"\",StockIn!M1002)","v":""}]
["XXXXXXX","XXXXXXX","XXXXXXX","XXXXXXX","XXXXXXX","XXXXXXX","XXXXXXX","XXXXXXX"]

{"sheet":"AddSales","index":2,"n_rows":36,"n_cols":13,"rows_kept":36,"cut":false,"hidden":false,"merged":[[0,0,0,2],[13,1,13,6]]}
["DATE",null,null,{"$f":"TODAY()","v":"2021-05-18"},200,"Trial",null,"Enter License Number"]
["S_Code","Retail Quantity","Total Cost","Medicine Description (Max 10)","Balance Quantity","RETAIL RATE M.R.P.","TV = 47352576","TP = 10166272","Pack"]
[null,null,{"$f":"IFERROR(B3*F3,\"\")","v":0},{"$f":"IFERROR(VLOOKUP(A3,StockIn!$A$3:$B$1002,2,FALSE),\"\")","v":""},{"$f":"IFERROR(VLOOKUP(A3,StockIn!$A$3:$L$1002,12,FALSE),0)","v":0},{"$f":"IFERROR(VLOOKUP(A3,StockIn!$A$3:$L$1002,11,FALSE),0)","v":0},null,null,{"$f":"IFERROR(VLOOKUP(A3,StockIn!$A$3:$L$1002,7,FALSE),\"\")","v":""}]
[null,null,0,{"$f":"IFERROR(VLOOKUP(A4,StockIn!$A$3:$B$1002,2,FALSE),\"\")","v":""},{"$f":"IFERROR(VLOOKUP(A4,StockIn!$A$3:$L$1002,12,FALSE),0)","v":0},{"$f":"IFERROR(VLOOKUP(A4,StockIn!$A$3:$L$1002,11,FALSE),0)","v":0},null,null,{"$f":"IFERROR(VLOOKUP(A4,StockIn!$A$3:$L$1002,7,FALSE),\"\")","v":""}]
[null,null,0,{"$f":"IFERROR(VLOOKUP(A5,StockIn!$A$3:$B$1002,2,FALSE),\"\")","v":""},{"$f":"IFERROR(VLOOKUP(A5,StockIn!$A$3:$L$1002,12,FALSE),0)","v":0},{"$f":"IFERROR(VLOOKUP(A5,StockIn!$A$3:$L$1002,11,FALSE),0)","v":0},null,null,{"$f":"IFERROR(VLOOKUP(A5,StockIn!$A$3:$L$1002,7,FALSE),\"\")","v":""}]
[null,null,0,{"$f":"IFERROR(VLOOKUP(A6,StockIn!$A$3:$B$1002,2,FALSE),\"\")","v":""},{"$f":"IFERROR(VLOOKUP(A6,StockIn!$A$3:$L$1002,12,FALSE),0)","v":0},{"$f":"IFERROR(VLOOKUP(A6,StockIn!$A$3:$L$1002,11,FALSE),0)","v":0},null,null,{"$f":"IFERROR(VLOOKUP(A6,StockIn!$A$3:$L$1002,7,FALSE),\"\")","v":""}]
[null,null,0,{"$f":"IFERROR(VLOOKUP(A7,StockIn!$A$3:$B$1002,2,FALSE),\"\")","v":""},{"$f":"IFERROR(VLOOKUP(A7,StockIn!$A$3:$L$1002,12,FALSE),0)","v":0},{"$f":"IFERROR(VLOOKUP(A7,StockIn!$A$3:$L$1002,11,FALSE),0)","v":0},null,null,{"$f":"IFERROR(VLOOKUP(A7,StockIn!$A$3:$L$1002,7,FALSE),\"\")","v":""}]
[null,null,0,{"$f":"IFERROR(VLOOKUP(A8,StockIn!$A$3:$B$1002,2,FALSE),\"\")","v":""},{"$f":"IFERROR(VLOOKUP(A8,StockIn!$A$3:$L$1002,12,FALSE),0)","v":0},{"$f":"IFERROR(VLOOKUP(A8,StockIn!$A$3:$L$1002,11,FALSE),0)","v":0},null,null,{"$f":"IFERROR(VLOOKUP(A8,StockIn!$A$3:$L$1002,7,FALSE),\"\")","v":""}]
[null,null,0,{"$f":"IFERROR(VLOOKUP(A9,StockIn!$A$3:$B$1002,2,FALSE),\"\")","v":""},{"$f":"IFERROR(VLOOKUP(A9,StockIn!$A$3:$L$1002,12,FALSE),0)","v":0},{"$f":"IFERROR(VLOOKUP(A9,StockIn!$A$3:$L$1002,11,FALSE),0)","v":0},null,null,{"$f":"IFERROR(VLOOKUP(A9,StockIn!$A$3:$L$1002,7,FALSE),\"\")","v":""}]
[null,null,0,{"$f":"IFERROR(VLOOKUP(A10,StockIn!$A$3:$B$1002,2,FALSE),\"\")","v":""},{"$f":"IFERROR(VLOOKUP(A10,StockIn!$A$3:$L$1002,12,FALSE),0)","v":0},{"$f":"IFERROR(VLOOKUP(A10,StockIn!$A$3:$L$1002,11,FALSE),0)","v":0},null,null,{"$f":"IFERROR(VLOOKUP(A10,StockIn!$A$3:$L$1002,7,FALSE),\"\")","v":""}]
[null,null,0,{"$f":"IFERROR(VLOOKUP(A11,StockIn!$A$3:$B$1002,2,FALSE),\"\")","v":""},{"$f":"IFERROR(VLOOKUP(A11,StockIn!$A$3:$L$1002,12,FALSE),0)","v":0},{"$f":"IFERROR(VLOOKUP(A11,StockIn!$A$3:$L$1002,11,FALSE),0)","v":0},null,null,{"$f":"IFERROR(VLOOKUP(A11,StockIn!$A$3:$L$1002,7,FALSE),\"\")","v":""}]
[null,null,0,{"$f":"IFERROR(VLOOKUP(A12,StockIn!$A$3:$B$1002,2,FALSE),\"\")","v":""},{"$f":"IFERROR(VLOOKUP(A12,StockIn!$A$3:$L$1002,12,FALSE),0)","v":0},{"$f":"IFERROR(VLOOKUP(A12,StockIn!$A$3:$L$1002,11,FALSE),0)","v":0},null,null,{"$f":"IFERROR(VLOOKUP(A12,StockIn!$A$3:$L$1002,7,FALSE),\"\")","v":""}]
[null,null,{"$f":"SUM(C3:C12)","v":0},null,2,null,"Release: 25th April 2021","Version: 5.00"]
[null,"Download FREE this macro based Retail Medical Store Inventory Software from our website-->     \n",null,null,null,null,null,"DOWNLOAD FREE"]
[]
[]
[]
[]
[]
[]
[]
[]
[]
[]
[]
[]
[]
[]
[]
[]
[]
[]
[]
[null,null,null,null,null,null,null,null,null,null,null,null,"10122670-ZEN-27734885"]
[null,null,null,null,null,null,null,null,null,null,null,null,{"$f":"COUNTA(B3:B12)","v":0}]
[null,null,null,null,null,null,null,null,null,null,null,null,200]

{"sheet":"CreateBill","index":3,"n_rows":24,"n_cols":11,"rows_kept":24,"cut":false,"hidden":false,"merged":[[1,3,1,5],[2,1,3,2],[4,1,4,2],[23,3,23,4],[20,5,20,6],[22,5,22,6],[7,1,8,1],[7,2,8,2],[22,1,22,2],[19,2,19,4]]}
[null,null,null,null,null,null,null,null,null,null,{"$f":"VLOOKUP(8003,A:A,1,FALSE)","v":{"$error":"#N/A"}}]
[null,"",null,"RETAIL INVOICE/ CASH MEMO",null,null,"Mobile: 731 971 0142"]
[null,"GYNICA PHARMA",null,null,null,null,"Web: gynicahospital.in"]
[null,null,null,null,null,"Actual paid",0]
[null,"Lane-14, Shamshernagar, Wasseypur, Dhanbad",null,null,null,"Date: ",{"$f":"TODAY()","v":"2021-05-18"}]
[null,null,null,null,null,"Patient's Name:","Sale"]
[null,"Doctor: ","Dr. Zeenat Parveen MD",null,null,"Patient' Mobile No.:"]
[null,"Qnty.","D E S C R I P T I O N","Mfg's","Batch","Expiry","Amount in"]
[null,null,null," Name"," No."," Date","Rupees"]
[{"$f":"AddSales!A3","v":0},{"$f":"IF(AddSales!A3>0,AddSales!B3,\"\")","v":""},{"$f":"IFERROR(VLOOKUP(A10,StockIn!$A$3:$B$1002,2,FALSE),\"\")","v":""},{"$f":"IFERROR(VLOOKUP(A10,StockIn!$A$3:$N$1002,3,FALSE),\"\")","v":""},{"$f":"IFERROR(VLOOKUP(A10,StockIn!$A$3:$N$1002,4,FALSE),\"\")","v":""},{"$f":"IFERROR(VLOOKUP(A10,StockIn!$A$3:$N$1002,5,FALSE),\"\")","v":""},{"$f":"AddSales!C3","v":0}]
[{"$f":"AddSales!A4","v":0},{"$f":"IF(AddSales!A4>0,AddSales!B4,\"\")","v":""},{"$f":"IFERROR(VLOOKUP(A11,StockIn!$A$3:$B$1002,2,FALSE),\"\")","v":""},{"$f":"IFERROR(VLOOKUP(A11,StockIn!$A$3:$N$1002,3,FALSE),\"\")","v":""},{"$f":"IFERROR(VLOOKUP(A11,StockIn!$A$3:$N$1002,4,FALSE),\"\")","v":""},{"$f":"IFERROR(VLOOKUP(A11,StockIn!$A$3:$N$1002,5,FALSE),\"\")","v":""},{"$f":"AddSales!C4","v":0}]
[{"$f":"AddSales!A5","v":0},{"$f":"IF(AddSales!A5>0,AddSales!B5,\"\")","v":""},{"$f":"IFERROR(VLOOKUP(A12,StockIn!$A$3:$B$1002,2,FALSE),\"\")","v":""},{"$f":"IFERROR(VLOOKUP(A12,StockIn!$A$3:$N$1002,3,FALSE),\"\")","v":""},{"$f":"IFERROR(VLOOKUP(A12,StockIn!$A$3:$N$1002,4,FALSE),\"\")","v":""},{"$f":"IFERROR(VLOOKUP(A12,StockIn!$A$3:$N$1002,5,FALSE),\"\")","v":""},{"$f":"AddSales!C5","v":0}]
[{"$f":"AddSales!A6","v":0},{"$f":"IF(AddSales!A6>0,AddSales!B6,\"\")","v":""},{"$f":"IFERROR(VLOOKUP(A13,StockIn!$A$3:$B$1002,2,FALSE),\"\")","v":""},{"$f":"IFERROR(VLOOKUP(A13,StockIn!$A$3:$N$1002,3,FALSE),\"\")","v":""},{"$f":"IFERROR(VLOOKUP(A13,StockIn!$A$3:$N$1002,4,FALSE),\"\")","v":""},{"$f":"IFERROR(VLOOKUP(A13,StockIn!$A$3:$N$1002,5,FALSE),\"\")","v":""},{"$f":"AddSales!C6","v":0}]
[{"$f":"AddSales!A7","v":0},{"$f":"IF(AddSales!A7>0,AddSales!B7,\"\")","v":""},{"$f":"IFERROR(VLOOKUP(A14,StockIn!$A$3:$B$1002,2,FALSE),\"\")","v":""},{"$f":"IFERROR(VLOOKUP(A14,StockIn!$A$3:$N$1002,3,FALSE),\"\")","v":""},{"$f":"IFERROR(VLOOKUP(A14,StockIn!$A$3:$N$1002,4,FALSE),\"\")","v":""},{"$f":"IFERROR(VLOOKUP(A14,StockIn!$A$3:$N$1002,5,FALSE),\"\")","v":""},{"$f":"AddSales!C7","v":0}]
[{"$f":"AddSales!A8","v":0},{"$f":"IF(AddSales!A8>0,AddSales!B8,\"\")","v":""},{"$f":"IFERROR(VLOOKUP(A15,StockIn!$A$3:$B$1002,2,FALSE),\"\")","v":""},{"$f":"IFERROR(VLOOKUP(A15,StockIn!$A$3:$N$1002,3,FALSE),\"\")","v":""},{"$f":"IFERROR(VLOOKUP(A15,StockIn!$A$3:$N$1002,4,FALSE),\"\")","v":""},{"$f":"IFERROR(VLOOKUP(A15,StockIn!$A$3:$N$1002,5,FALSE),\"\")","v":""},{"$f":"AddSales!C8","v":0}]
[{"$f":"AddSales!A9","v":0},{"$f":"IF(AddSales!A9>0,AddSales!B9,\"\")","v":""},{"$f":"IFERROR(VLOOKUP(A16,StockIn!$A$3:$B$1002,2,FALSE),\"\")","v":""},{"$f":"IFERROR(VLOOKUP(A16,StockIn!$A$3:$N$1002,3,FALSE),\"\")","v":""},{"$f":"IFERROR(VLOOKUP(A16,StockIn!$A$3:$N$1002,4,FALSE),\"\")","v":""},{"$f":"IFERROR(VLOOKUP(A16,StockIn!$A$3:$N$1002,5,FALSE),\"\")","v":""},{"$f":"AddSales!C9","v":0}]
[{"$f":"AddSales!A10","v":0},{"$f":"IF(AddSales!A10>0,AddSales!B10,\"\")","v":""},{"$f":"IFERROR(VLOOKUP(A17,StockIn!$A$3:$B$1002,2,FALSE),\"\")","v":""},{"$f":"IFERROR(VLOOKUP(A17,StockIn!$A$3:$N$1002,3,FALSE),\"\")","v":""},{"$f":"IFERROR(VLOOKUP(A17,StockIn!$A$3:$N$1002,4,FALSE),\"\")","v":""},{"$f":"IFERROR(VLOOKUP(A17,StockIn!$A$3:$N$1002,5,FALSE),\"\")","v":""},{"$f":"AddSales!C10","v":0}]
[{"$f":"AddSales!A11","v":0},{"$f":"IF(AddSales!A11>0,AddSales!B11,\"\")","v":""},{"$f":"IFERROR(VLOOKUP(A18,StockIn!$A$3:$B$1002,2,FALSE),\"\")","v":""},{"$f":"IFERROR(VLOOKUP(A18,StockIn!$A$3:$N$1002,3,FALSE),\"\")","v":""},{"$f":"IFERROR(VLOOKUP(A18,StockIn!$A$3:$N$1002,4,FALSE),\"\")","v":""},{"$f":"IFERROR(VLOOKUP(A18,StockIn!$A$3:$N$1002,5,FALSE),\"\")","v":""},{"$f":"AddSales!C11","v":0}]
[{"$f":"AddSales!A12","v":0},{"$f":"IF(AddSales!A12>0,AddSales!B12,\"\")","v":""},{"$f":"IFERROR(VLOOKUP(A19,StockIn!$A$3:$B$1002,2,FALSE),\"\")","v":""},{"$f":"IFERROR(VLOOKUP(A19,StockIn!$A$3:$N$1002,3,FALSE),\"\")","v":""},{"$f":"IFERROR(VLOOKUP(A19,StockIn!$A$3:$N$1002,4,FALSE),\"\")","v":""},{"$f":"IFERROR(VLOOKUP(A19,StockIn!$A$3:$N$1002,5,FALSE),\"\")","v":""},{"$f":"AddSales!C12","v":0}]
[null,null,null,null,null,"G. TOTAL",{"$f":"SUM(G10:G19)","v":0}]
[null,null,null,null,null,"Payment received in full"]
[null,"Cut strips will not be taken back"]
[null,"E & O E",null,null,null,"For  GYNICA PHARMA"]
[null,{"$f":"TODAY()","v":"2021-05-18"},null,"Paytm Accepted"]

{"sheet":"Balance","index":4,"n_rows":1004,"n_cols":11,"rows_kept":1004,"cut":false,"hidden":false,"merged":[[0,7,0,9]]}
[null,"CUMULATIVE SALE AS ON",null,null,null,null,{"$f":"TODAY()","v":"2021-05-18"},"DOWNLOAD Retail MEDICAL STORE INVENTORY",null,null,{"$f":"StockIn!G1","v":0}]
[null,null,null,null,null,null,null,"Qnty Purchased","Qnty. Sold","Qnty. Balance",{"$f":"VLOOKUP(1002,A:A,1,FALSE)","v":1002}]
["G_Code","Medicine Description","Total Quantity","Current Sale","Previous Sale","Total Sale","Current Balance",{"$f":"SUM(C4:C1003)","v":0},{"$f":"SUM(F4:F1003)","v":0},{"$f":"H3-I3","v":0},{"$f":"IFERROR(MATCH(0,A:A,0),0)","v":0}]
[{"$f":"StockIn!A3","v":1001},{"$f":"VLOOKUP(A4,StockIn!$A$3:$B$1003,2,FALSE)","v":0},{"$f":"VLOOKUP(A4,StockIn!$A$3:$I$1003,9,FALSE)","v":0},null,0,{"$f":"D4+E4","v":0},{"$f":"VLOOKUP(A4,$A$4:$L$1003,3,FALSE)-VLOOKUP(A4,$A$4:$L$1003,6,FALSE)","v":0}]
[{"$f":"StockIn!A4","v":1002},{"$f":"VLOOKUP(A5,StockIn!$A$3:$B$1003,2,FALSE)","v":0},{"$f":"VLOOKUP(A5,StockIn!$A$3:$I$1003,9,FALSE)","v":0},null,0,{"$f":"D5+E5","v":0},{"$f":"VLOOKUP(A5,$A$4:$L$1003,3,FALSE)-VLOOKUP(A5,$A$4:$L$1003,6,FALSE)","v":0}]
[{"$f":"StockIn!A5","v":1003},{"$f":"VLOOKUP(A6,StockIn!$A$3:$B$1003,2,FALSE)","v":0},{"$f":"VLOOKUP(A6,StockIn!$A$3:$I$1003,9,FALSE)","v":0},null,0,0,0]
[{"$f":"StockIn!A6","v":1004},{"$f":"VLOOKUP(A7,StockIn!$A$3:$B$1003,2,FALSE)","v":0},{"$f":"VLOOKUP(A7,StockIn!$A$3:$I$1003,9,FALSE)","v":0},null,0,0,0]
[{"$f":"StockIn!A7","v":1005},{"$f":"VLOOKUP(A8,StockIn!$A$3:$B$1003,2,FALSE)","v":0},{"$f":"VLOOKUP(A8,StockIn!$A$3:$I$1003,9,FALSE)","v":0},null,0,0,0]
[{"$f":"StockIn!A8","v":1006},{"$f":"VLOOKUP(A9,StockIn!$A$3:$B$1003,2,FALSE)","v":0},{"$f":"VLOOKUP(A9,StockIn!$A$3:$I$1003,9,FALSE)","v":0},null,0,0,0]
[{"$f":"StockIn!A9","v":1007},{"$f":"VLOOKUP(A10,StockIn!$A$3:$B$1003,2,FALSE)","v":0},{"$f":"VLOOKUP(A10,StockIn!$A$3:$I$1003,9,FALSE)","v":0},null,0,0,0]
[{"$f":"StockIn!A10","v":1008},{"$f":"VLOOKUP(A11,StockIn!$A$3:$B$1003,2,FALSE)","v":0},{"$f":"VLOOKUP(A11,StockIn!$A$3:$I$1003,9,FALSE)","v":0},null,0,0,0]
[{"$f":"StockIn!A11","v":1009},{"$f":"VLOOKUP(A12,StockIn!$A$3:$B$1003,2,FALSE)","v":0},{"$f":"VLOOKUP(A12,StockIn!$A$3:$I$1003,9,FALSE)","v":0},null,0,0,0]
[{"$f":"StockIn!A12","v":1010},{"$f":"VLOOKUP(A13,StockIn!$A$3:$B$1003,2,FALSE)","v":0},{"$f":"VLOOKUP(A13,StockIn!$A$3:$I$1003,9,FALSE)","v":0},null,0,0,0]
[{"$f":"StockIn!A13","v":1011},{"$f":"VLOOKUP(A14,StockIn!$A$3:$B$1003,2,FALSE)","v":0},{"$f":"VLOOKUP(A14,StockIn!$A$3:$I$1003,9,FALSE)","v":0},null,0,0,0]
[{"$f":"StockIn!A14","v":1012},{"$f":"VLOOKUP(A15,StockIn!$A$3:$B$1003,2,FALSE)","v":0},{"$f":"VLOOKUP(A15,StockIn!$A$3:$I$1003,9,FALSE)","v":0},null,0,0,0]
[{"$f":"StockIn!A15","v":1013},{"$f":"VLOOKUP(A16,StockIn!$A$3:$B$1003,2,FALSE)","v":0},{"$f":"VLOOKUP(A16,StockIn!$A$3:$I$1003,9,FALSE)","v":0},null,0,0,0]
[{"$f":"StockIn!A16","v":1014},{"$f":"VLOOKUP(A17,StockIn!$A$3:$B$1003,2,FALSE)","v":0},{"$f":"VLOOKUP(A17,StockIn!$A$3:$I$1003,9,FALSE)","v":0},null,0,0,0]
[{"$f":"StockIn!A17","v":1015},{"$f":"VLOOKUP(A18,StockIn!$A$3:$B$1003,2,FALSE)","v":0},{"$f":"VLOOKUP(A18,StockIn!$A$3:$I$1003,9,FALSE)","v":0},null,0,0,0]
[{"$f":"StockIn!A18","v":1016},{"$f":"VLOOKUP(A19,StockIn!$A$3:$B$1003,2,FALSE)","v":0},{"$f":"VLOOKUP(A19,StockIn!$A$3:$I$1003,9,FALSE)","v":0},null,0,0,0]
[{"$f":"StockIn!A19","v":1017},{"$f":"VLOOKUP(A20,StockIn!$A$3:$B$1003,2,FALSE)","v":0},{"$f":"VLOOKUP(A20,StockIn!$A$3:$I$1003,9,FALSE)","v":0},null,0,0,0]
[{"$f":"StockIn!A20","v":1018},{"$f":"VLOOKUP(A21,StockIn!$A$3:$B$1003,2,FALSE)","v":0},{"$f":"VLOOKUP(A21,StockIn!$A$3:$I$1003,9,FALSE)","v":0},null,0,0,0]
[{"$f":"StockIn!A21","v":1019},{"$f":"VLOOKUP(A22,StockIn!$A$3:$B$1003,2,FALSE)","v":0},{"$f":"VLOOKUP(A22,StockIn!$A$3:$I$1003,9,FALSE)","v":0},null,0,0,0]
[{"$f":"StockIn!A22","v":1020},{"$f":"VLOOKUP(A23,StockIn!$A$3:$B$1003,2,FALSE)","v":0},{"$f":"VLOOKUP(A23,StockIn!$A$3:$I$1003,9,FALSE)","v":0},null,0,0,0]
[{"$f":"StockIn!A23","v":1021},{"$f":"VLOOKUP(A24,StockIn!$A$3:$B$1003,2,FALSE)","v":0},{"$f":"VLOOKUP(A24,StockIn!$A$3:$I$1003,9,FALSE)","v":0},null,0,0,0]
[{"$f":"StockIn!A24","v":1022},{"$f":"VLOOKUP(A25,StockIn!$A$3:$B$1003,2,FALSE)","v":0},{"$f":"VLOOKUP(A25,StockIn!$A$3:$I$1003,9,FALSE)","v":0},null,0,0,0]
[{"$f":"StockIn!A25","v":1023},{"$f":"VLOOKUP(A26,StockIn!$A$3:$B$1003,2,FALSE)","v":0},{"$f":"VLOOKUP(A26,StockIn!$A$3:$I$1003,9,FALSE)","v":0},null,0,0,0]
[{"$f":"StockIn!A26","v":1024},{"$f":"VLOOKUP(A27,StockIn!$A$3:$B$1003,2,FALSE)","v":0},{"$f":"VLOOKUP(A27,StockIn!$A$3:$I$1003,9,FALSE)","v":0},null,0,0,0]
[{"$f":"StockIn!A27","v":1025},{"$f":"VLOOKUP(A28,StockIn!$A$3:$B$1003,2,FALSE)","v":0},{"$f":"VLOOKUP(A28,StockIn!$A$3:$I$1003,9,FALSE)","v":0},null,0,0,0]
[{"$f":"StockIn!A28","v":1026},{"$f":"VLOOKUP(A29,StockIn!$A$3:$B$1003,2,FALSE)","v":0},{"$f":"VLOOKUP(A29,StockIn!$A$3:$I$1003,9,FALSE)","v":0},null,0,0,0]
[{"$f":"StockIn!A29","v":1027},{"$f":"VLOOKUP(A30,StockIn!$A$3:$B$1003,2,FALSE)","v":0},{"$f":"VLOOKUP(A30,StockIn!$A$3:$I$1003,9,FALSE)","v":0},null,0,0,0]
[{"$f":"StockIn!A30","v":1028},{"$f":"VLOOKUP(A31,StockIn!$A$3:$B$1003,2,FALSE)","v":0},{"$f":"VLOOKUP(A31,StockIn!$A$3:$I$1003,9,FALSE)","v":0},null,0,0,0]
[{"$f":"StockIn!A31","v":1029},{"$f":"VLOOKUP(A32,StockIn!$A$3:$B$1003,2,FALSE)","v":0},{"$f":"VLOOKUP(A32,StockIn!$A$3:$I$1003,9,FALSE)","v":0},null,0,0,0]
[{"$f":"StockIn!A32","v":1030},{"$f":"VLOOKUP(A33,StockIn!$A$3:$B$1003,2,FALSE)","v":0},{"$f":"VLOOKUP(A33,StockIn!$A$3:$I$1003,9,FALSE)","v":0},null,0,0,0]
[{"$f":"StockIn!A33","v":1031},{"$f":"VLOOKUP(A34,StockIn!$A$3:$B$1003,2,FALSE)","v":0},{"$f":"VLOOKUP(A34,StockIn!$A$3:$I$1003,9,FALSE)","v":0},null,0,0,0]
[{"$f":"StockIn!A34","v":1032},{"$f":"VLOOKUP(A35,StockIn!$A$3:$B$1003,2,FALSE)","v":0},{"$f":"VLOOKUP(A35,StockIn!$A$3:$I$1003,9,FALSE)","v":0},null,0,0,0]
[{"$f":"StockIn!A35","v":1033},{"$f":"VLOOKUP(A36,StockIn!$A$3:$B$1003,2,FALSE)","v":0},{"$f":"VLOOKUP(A36,StockIn!$A$3:$I$1003,9,FALSE)","v":0},null,0,0,0]
[{"$f":"StockIn!A36","v":1034},{"$f":"VLOOKUP(A37,StockIn!$A$3:$B$1003,2,FALSE)","v":0},{"$f":"VLOOKUP(A37,StockIn!$A$3:$I$1003,9,FALSE)","v":0},null,0,0,0]
[{"$f":"StockIn!A37","v":1035},{"$f":"VLOOKUP(A38,StockIn!$A$3:$B$1003,2,FALSE)","v":0},{"$f":"VLOOKUP(A38,StockIn!$A$3:$I$1003,9,FALSE)","v":0},null,0,0,0]
[{"$f":"StockIn!A38","v":1036},{"$f":"VLOOKUP(A39,StockIn!$A$3:$B$1003,2,FALSE)","v":0},{"$f":"VLOOKUP(A39,StockIn!$A$3:$I$1003,9,FALSE)","v":0},null,0,0,0]
[{"$f":"StockIn!A39","v":1037},{"$f":"VLOOKUP(A40,StockIn!$A$3:$B$1003,2,FALSE)","v":0},{"$f":"VLOOKUP(A40,StockIn!$A$3:$I$1003,9,FALSE)","v":0},null,0,0,0]
[{"$f":"StockIn!A40","v":1038},{"$f":"VLOOKUP(A41,StockIn!$A$3:$B$1003,2,FALSE)","v":0},{"$f":"VLOOKUP(A41,StockIn!$A$3:$I$1003,9,FALSE)","v":0},null,0,0,0]
[{"$f":"StockIn!A41","v":1039},{"$f":"VLOOKUP(A42,StockIn!$A$3:$B$1003,2,FALSE)","v":0},{"$f":"VLOOKUP(A42,StockIn!$A$3:$I$1003,9,FALSE)","v":0},null,0,0,0]
[{"$f":"StockIn!A42","v":1040},{"$f":"VLOOKUP(A43,StockIn!$A$3:$B$1003,2,FALSE)","v":0},{"$f":"VLOOKUP(A43,StockIn!$A$3:$I$1003,9,FALSE)","v":0},null,0,0,0]
[{"$f":"StockIn!A43","v":1041},{"$f":"VLOOKUP(A44,StockIn!$A$3:$B$1003,2,FALSE)","v":0},{"$f":"VLOOKUP(A44,StockIn!$A$3:$I$1003,9,FALSE)","v":0},null,0,0,0]
[{"$f":"StockIn!A44","v":1042},{"$f":"VLOOKUP(A45,StockIn!$A$3:$B$1003,2,FALSE)","v":0},{"$f":"VLOOKUP(A45,StockIn!$A$3:$I$1003,9,FALSE)","v":0},null,0,0,0]
[{"$f":"StockIn!A45","v":1043},{"$f":"VLOOKUP(A46,StockIn!$A$3:$B$1003,2,FALSE)","v":0},{"$f":"VLOOKUP(A46,StockIn!$A$3:$I$1003,9,FALSE)","v":0},null,0,0,0]
[{"$f":"StockIn!A46","v":1044},{"$f":"VLOOKUP(A47,StockIn!$A$3:$B$1003,2,FALSE)","v":0},{"$f":"VLOOKUP(A47,StockIn!$A$3:$I$1003,9,FALSE)","v":0},null,0,0,0]
[{"$f":"StockIn!A47","v":1045},{"$f":"VLOOKUP(A48,StockIn!$A$3:$B$1003,2,FALSE)","v":0},{"$f":"VLOOKUP(A48,StockIn!$A$3:$I$1003,9,FALSE)","v":0},null,0,0,0]
[{"$f":"StockIn!A48","v":1046},{"$f":"VLOOKUP(A49,StockIn!$A$3:$B$1003,2,FALSE)","v":0},{"$f":"VLOOKUP(A49,StockIn!$A$3:$I$1003,9,FALSE)","v":0},null,0,0,0]
[{"$f":"StockIn!A49","v":1047},{"$f":"VLOOKUP(A50,StockIn!$A$3:$B$1003,2,FALSE)","v":0},{"$f":"VLOOKUP(A50,StockIn!$A$3:$I$1003,9,FALSE)","v":0},null,0,0,0]
[{"$f":"StockIn!A50","v":1048},{"$f":"VLOOKUP(A51,StockIn!$A$3:$B$1003,2,FALSE)","v":0},{"$f":"VLOOKUP(A51,StockIn!$A$3:$I$1003,9,FALSE)","v":0},null,0,0,0]
[{"$f":"StockIn!A51","v":1049},{"$f":"VLOOKUP(A52,StockIn!$A$3:$B$1003,2,FALSE)","v":0},{"$f":"VLOOKUP(A52,StockIn!$A$3:$I$1003,9,FALSE)","v":0},null,0,0,0]
[{"$f":"StockIn!A52","v":1050},{"$f":"VLOOKUP(A53,StockIn!$A$3:$B$1003,2,FALSE)","v":0},{"$f":"VLOOKUP(A53,StockIn!$A$3:$I$1003,9,FALSE)","v":0},null,0,0,0]
[{"$f":"StockIn!A53","v":1051},{"$f":"VLOOKUP(A54,StockIn!$A$3:$B$1003,2,FALSE)","v":0},{"$f":"VLOOKUP(A54,StockIn!$A$3:$I$1003,9,FALSE)","v":0},null,0,0,0]
[{"$f":"StockIn!A54","v":1052},{"$f":"VLOOKUP(A55,StockIn!$A$3:$B$1003,2,FALSE)","v":0},{"$f":"VLOOKUP(A55,StockIn!$A$3:$I$1003,9,FALSE)","v":0},null,0,0,0]
[{"$f":"StockIn!A55","v":1053},{"$f":"VLOOKUP(A56,StockIn!$A$3:$B$1003,2,FALSE)","v":0},{"$f":"VLOOKUP(A56,StockIn!$A$3:$I$1003,9,FALSE)","v":0},null,0,0,0]
[{"$f":"StockIn!A56","v":1054},{"$f":"VLOOKUP(A57,StockIn!$A$3:$B$1003,2,FALSE)","v":0},{"$f":"VLOOKUP(A57,StockIn!$A$3:$I$1003,9,FALSE)","v":0},null,0,0,0]
[{"$f":"StockIn!A57","v":1055},{"$f":"VLOOKUP(A58,StockIn!$A$3:$B$1003,2,FALSE)","v":0},{"$f":"VLOOKUP(A58,StockIn!$A$3:$I$1003,9,FALSE)","v":0},null,0,0,0]
[{"$f":"StockIn!A58","v":1056},{"$f":"VLOOKUP(A59,StockIn!$A$3:$B$1003,2,FALSE)","v":0},{"$f":"VLOOKUP(A59,StockIn!$A$3:$I$1003,9,FALSE)","v":0},null,0,0,0]
[{"$f":"StockIn!A59","v":1057},{"$f":"VLOOKUP(A60,StockIn!$A$3:$B$1003,2,FALSE)","v":0},{"$f":"VLOOKUP(A60,StockIn!$A$3:$I$1003,9,FALSE)","v":0},null,0,0,0]
[{"$f":"StockIn!A60","v":1058},{"$f":"VLOOKUP(A61,StockIn!$A$3:$B$1003,2,FALSE)","v":0},{"$f":"VLOOKUP(A61,StockIn!$A$3:$I$1003,9,FALSE)","v":0},null,0,0,0]
[{"$f":"StockIn!A61","v":1059},{"$f":"VLOOKUP(A62,StockIn!$A$3:$B$1003,2,FALSE)","v":0},{"$f":"VLOOKUP(A62,StockIn!$A$3:$I$1003,9,FALSE)","v":0},null,0,0,0]
[{"$f":"StockIn!A62","v":1060},{"$f":"VLOOKUP(A63,StockIn!$A$3:$B$1003,2,FALSE)","v":0},{"$f":"VLOOKUP(A63,StockIn!$A$3:$I$1003,9,FALSE)","v":0},null,0,0,0]
[{"$f":"StockIn!A63","v":1061},{"$f":"VLOOKUP(A64,StockIn!$A$3:$B$1003,2,FALSE)","v":0},{"$f":"VLOOKUP(A64,StockIn!$A$3:$I$1003,9,FALSE)","v":0},null,0,0,0]
[{"$f":"StockIn!A64","v":1062},{"$f":"VLOOKUP(A65,StockIn!$A$3:$B$1003,2,FALSE)","v":0},{"$f":"VLOOKUP(A65,StockIn!$A$3:$I$1003,9,FALSE)","v":0},null,0,0,0]
[{"$f":"StockIn!A65","v":1063},{"$f":"VLOOKUP(A66,StockIn!$A$3:$B$1003,2,FALSE)","v":0},{"$f":"VLOOKUP(A66,StockIn!$A$3:$I$1003,9,FALSE)","v":0},null,0,0,0]
[{"$f":"StockIn!A66","v":1064},{"$f":"VLOOKUP(A67,StockIn!$A$3:$B$1003,2,FALSE)","v":0},{"$f":"VLOOKUP(A67,StockIn!$A$3:$I$1003,9,FALSE)","v":0},null,0,0,0]
[{"$f":"StockIn!A67","v":1065},{"$f":"VLOOKUP(A68,StockIn!$A$3:$B$1003,2,FALSE)","v":0},{"$f":"VLOOKUP(A68,StockIn!$A$3:$I$1003,9,FALSE)","v":0},null,0,0,0]
[{"$f":"StockIn!A68","v":1066},{"$f":"VLOOKUP(A69,StockIn!$A$3:$B$1003,2,FALSE)","v":0},{"$f":"VLOOKUP(A69,StockIn!$A$3:$I$1003,9,FALSE)","v":0},null,0,{"$f":"D69+E69","v":0},{"$f":"VLOOKUP(A69,$A$4:$L$1003,3,FALSE)-VLOOKUP(A69,$A$4:$L$1003,6,FALSE)","v":0}]
[{"$f":"StockIn!A69","v":1067},{"$f":"VLOOKUP(A70,StockIn!$A$3:$B$1003,2,FALSE)","v":0},{"$f":"VLOOKUP(A70,StockIn!$A$3:$I$1003,9,FALSE)","v":0},null,0,0,0]
[{"$f":"StockIn!A70","v":1068},{"$f":"VLOOKUP(A71,StockIn!$A$3:$B$1003,2,FALSE)","v":0},{"$f":"VLOOKUP(A71,StockIn!$A$3:$I$1003,9,FALSE)","v":0},null,0,0,0]
[{"$f":"StockIn!A71","v":1069},{"$f":"VLOOKUP(A72,StockIn!$A$3:$B$1003,2,FALSE)","v":0},{"$f":"VLOOKUP(A72,StockIn!$A$3:$I$1003,9,FALSE)","v":0},null,0,0,0]
[{"$f":"StockIn!A72","v":1070},{"$f":"VLOOKUP(A73,StockIn!$A$3:$B$1003,2,FALSE)","v":0},{"$f":"VLOOKUP(A73,StockIn!$A$3:$I$1003,9,FALSE)","v":0},null,0,0,0]
[{"$f":"StockIn!A73","v":1071},{"$f":"VLOOKUP(A74,StockIn!$A$3:$B$1003,2,FALSE)","v":0},{"$f":"VLOOKUP(A74,StockIn!$A$3:$I$1003,9,FALSE)","v":0},null,0,0,0]
[{"$f":"StockIn!A74","v":1072},{"$f":"VLOOKUP(A75,StockIn!$A$3:$B$1003,2,FALSE)","v":0},{"$f":"VLOOKUP(A75,StockIn!$A$3:$I$1003,9,FALSE)","v":0},null,0,0,0]
[{"$f":"StockIn!A75","v":1073},{"$f":"VLOOKUP(A76,StockIn!$A$3:$B$1003,2,FALSE)","v":0},{"$f":"VLOOKUP(A76,StockIn!$A$3:$I$1003,9,FALSE)","v":0},null,0,0,0]
[{"$f":"StockIn!A76","v":1074},{"$f":"VLOOKUP(A77,StockIn!$A$3:$B$1003,2,FALSE)","v":0},{"$f":"VLOOKUP(A77,StockIn!$A$3:$I$1003,9,FALSE)","v":0},null,0,0,0]
[{"$f":"StockIn!A77","v":1075},{"$f":"VLOOKUP(A78,StockIn!$A$3:$B$1003,2,FALSE)","v":0},{"$f":"VLOOKUP(A78,StockIn!$A$3:$I$1003,9,FALSE)","v":0},null,0,0,0]
[{"$f":"StockIn!A78","v":1076},{"$f":"VLOOKUP(A79,StockIn!$A$3:$B$1003,2,FALSE)","v":0},{"$f":"VLOOKUP(A79,StockIn!$A$3:$I$1003,9,FALSE)","v":0},null,0,0,0]
[{"$f":"StockIn!A79","v":1077},{"$f":"VLOOKUP(A80,StockIn!$A$3:$B$1003,2,FALSE)","v":0},{"$f":"VLOOKUP(A80,StockIn!$A$3:$I$1003,9,FALSE)","v":0},null,0,0,0]
[{"$f":"StockIn!A80","v":1078},{"$f":"VLOOKUP(A81,StockIn!$A$3:$B$1003,2,FALSE)","v":0},{"$f":"VLOOKUP(A81,StockIn!$A$3:$I$1003,9,FALSE)","v":0},null,0,0,0]
[{"$f":"StockIn!A81","v":1079},{"$f":"VLOOKUP(A82,StockIn!$A$3:$B$1003,2,FALSE)","v":0},{"$f":"VLOOKUP(A82,StockIn!$A$3:$I$1003,9,FALSE)","v":0},null,0,0,0]
[{"$f":"StockIn!A82","v":1080},{"$f":"VLOOKUP(A83,StockIn!$A$3:$B$1003,2,FALSE)","v":0},{"$f":"VLOOKUP(A83,StockIn!$A$3:$I$1003,9,FALSE)","v":0},null,0,0,0]
[{"$f":"StockIn!A83","v":1081},{"$f":"VLOOKUP(A84,StockIn!$A$3:$B$1003,2,FALSE)","v":0},{"$f":"VLOOKUP(A84,StockIn!$A$3:$I$1003,9,FALSE)","v":0},null,0,0,0]
[{"$f":"StockIn!A84","v":1082},{"$f":"VLOOKUP(A85,StockIn!$A$3:$B$1003,2,FALSE)","v":0},{"$f":"VLOOKUP(A85,StockIn!$A$3:$I$1003,9,FALSE)","v":0},null,0,0,0]
[{"$f":"StockIn!A85","v":1083},{"$f":"VLOOKUP(A86,StockIn!$A$3:$B$1003,2,FALSE)","v":0},{"$f":"VLOOKUP(A86,StockIn!$A$3:$I$1003,9,FALSE)","v":0},null,0,0,0]
[{"$f":"StockIn!A86","v":1084},{"$f":"VLOOKUP(A87,StockIn!$A$3:$B$1003,2,FALSE)","v":0},{"$f":"VLOOKUP(A87,StockIn!$A$3:$I$1003,9,FALSE)","v":0},null,0,0,0]
[{"$f":"StockIn!A87","v":1085},{"$f":"VLOOKUP(A88,StockIn!$A$3:$B$1003,2,FALSE)","v":0},{"$f":"VLOOKUP(A88,StockIn!$A$3:$I$1003,9,FALSE)","v":0},null,0,0,0]
[{"$f":"StockIn!A88","v":1086},{"$f":"VLOOKUP(A89,StockIn!$A$3:$B$1003,2,FALSE)","v":0},{"$f":"VLOOKUP(A89,StockIn!$A$3:$I$1003,9,FALSE)","v":0},null,0,0,0]
[{"$f":"StockIn!A89","v":1087},{"$f":"VLOOKUP(A90,StockIn!$A$3:$B$1003,2,FALSE)","v":0},{"$f":"VLOOKUP(A90,StockIn!$A$3:$I$1003,9,FALSE)","v":0},null,0,0,0]
[{"$f":"StockIn!A90","v":1088},{"$f":"VLOOKUP(A91,StockIn!$A$3:$B$1003,2,FALSE)","v":0},{"$f":"VLOOKUP(A91,StockIn!$A$3:$I$1003,9,FALSE)","v":0},null,0,0,0]
[{"$f":"StockIn!A91","v":1089},{"$f":"VLOOKUP(A92,StockIn!$A$3:$B$1003,2,FALSE)","v":0},{"$f":"VLOOKUP(A92,StockIn!$A$3:$I$1003,9,FALSE)","v":0},null,0,0,0]
[{"$f":"StockIn!A92","v":1090},{"$f":"VLOOKUP(A93,StockIn!$A$3:$B$1003,2,FALSE)","v":0},{"$f":"VLOOKUP(A93,StockIn!$A$3:$I$1003,9,FALSE)","v":0},null,0,0,0]
[{"$f":"StockIn!A93","v":1091},{"$f":"VLOOKUP(A94,StockIn!$A$3:$B$1003,2,FALSE)","v":0},{"$f":"VLOOKUP(A94,StockIn!$A$3:$I$1003,9,FALSE)","v":0},null,0,0,0]
[{"$f":"StockIn!A94","v":1092},{"$f":"VLOOKUP(A95,StockIn!$A$3:$B$1003,2,FALSE)","v":0},{"$f":"VLOOKUP(A95,StockIn!$A$3:$I$1003,9,FALSE)","v":0},null,0,0,0]
[{"$f":"StockIn!A95","v":1093},{"$f":"VLOOKUP(A96,StockIn!$A$3:$B$1003,2,FALSE)","v":0},{"$f":"VLOOKUP(A96,StockIn!$A$3:$I$1003,9,FALSE)","v":0},null,0,0,0]
[{"$f":"StockIn!A96","v":1094},{"$f":"VLOOKUP(A97,StockIn!$A$3:$B$1003,2,FALSE)","v":0},{"$f":"VLOOKUP(A97,StockIn!$A$3:$I$1003,9,FALSE)","v":0},null,0,0,0]
[{"$f":"StockIn!A97","v":1095},{"$f":"VLOOKUP(A98,StockIn!$A$3:$B$1003,2,FALSE)","v":0},{"$f":"VLOOKUP(A98,StockIn!$A$3:$I$1003,9,FALSE)","v":0},null,0,0,0]
[{"$f":"StockIn!A98","v":1096},{"$f":"VLOOKUP(A99,StockIn!$A$3:$B$1003,2,FALSE)","v":0},{"$f":"VLOOKUP(A99,StockIn!$A$3:$I$1003,9,FALSE)","v":0},null,0,0,0]
[{"$f":"StockIn!A99","v":1097},{"$f":"VLOOKUP(A100,StockIn!$A$3:$B$1003,2,FALSE)","v":0},{"$f":"VLOOKUP(A100,StockIn!$A$3:$I$1003,9,FALSE)","v":0},null,0,0,0]
[{"$f":"StockIn!A100","v":1098},{"$f":"VLOOKUP(A101,StockIn!$A$3:$B$1003,2,FALSE)","v":0},{"$f":"VLOOKUP(A101,StockIn!$A$3:$I$1003,9,FALSE)","v":0},null,0,0,0]
[{"$f":"StockIn!A101","v":1099},{"$f":"VLOOKUP(A102,StockIn!$A$3:$B$1003,2,FALSE)","v":0},{"$f":"VLOOKUP(A102,StockIn!$A$3:$I$1003,9,FALSE)","v":0},null,0,0,0]
[{"$f":"StockIn!A102","v":1100},{"$f":"VLOOKUP(A103,StockIn!$A$3:$B$1003,2,FALSE)","v":0},{"$f":"VLOOKUP(A103,StockIn!$A$3:$I$1003,9,FALSE)","v":0},null,0,0,0]
[{"$f":"StockIn!A103","v":1101},{"$f":"VLOOKUP(A104,StockIn!$A$3:$B$1003,2,FALSE)","v":0},{"$f":"VLOOKUP(A104,StockIn!$A$3:$I$1003,9,FALSE)","v":0},null,0,0,0]
[{"$f":"StockIn!A104","v":1102},{"$f":"VLOOKUP(A105,StockIn!$A$3:$B$1003,2,FALSE)","v":0},{"$f":"VLOOKUP(A105,StockIn!$A$3:$I$1003,9,FALSE)","v":0},null,0,0,0]
[{"$f":"StockIn!A105","v":1103},{"$f":"VLOOKUP(A106,StockIn!$A$3:$B$1003,2,FALSE)","v":0},{"$f":"VLOOKUP(A106,StockIn!$A$3:$I$1003,9,FALSE)","v":0},null,0,0,0]
[{"$f":"StockIn!A106","v":1104},{"$f":"VLOOKUP(A107,StockIn!$A$3:$B$1003,2,FALSE)","v":0},{"$f":"VLOOKUP(A107,StockIn!$A$3:$I$1003,9,FALSE)","v":0},null,0,0,0]
[{"$f":"StockIn!A107","v":1105},{"$f":"VLOOKUP(A108,StockIn!$A$3:$B$1003,2,FALSE)","v":0},{"$f":"VLOOKUP(A108,StockIn!$A$3:$I$1003,9,FALSE)","v":0},null,0,0,0]
[{"$f":"StockIn!A108","v":1106},{"$f":"VLOOKUP(A109,StockIn!$A$3:$B$1003,2,FALSE)","v":0},{"$f":"VLOOKUP(A109,StockIn!$A$3:$I$1003,9,FALSE)","v":0},null,0,0,0]
[{"$f":"StockIn!A109","v":1107},{"$f":"VLOOKUP(A110,StockIn!$A$3:$B$1003,2,FALSE)","v":0},{"$f":"VLOOKUP(A110,StockIn!$A$3:$I$1003,9,FALSE)","v":0},null,0,0,0]
[{"$f":"StockIn!A110","v":1108},{"$f":"VLOOKUP(A111,StockIn!$A$3:$B$1003,2,FALSE)","v":0},{"$f":"VLOOKUP(A111,StockIn!$A$3:$I$1003,9,FALSE)","v":0},null,0,0,0]
[{"$f":"StockIn!A111","v":1109},{"$f":"VLOOKUP(A112,StockIn!$A$3:$B$1003,2,FALSE)","v":0},{"$f":"VLOOKUP(A112,StockIn!$A$3:$I$1003,9,FALSE)","v":0},null,0,0,0]
[{"$f":"StockIn!A112","v":1110},{"$f":"VLOOKUP(A113,StockIn!$A$3:$B$1003,2,FALSE)","v":0},{"$f":"VLOOKUP(A113,StockIn!$A$3:$I$1003,9,FALSE)","v":0},null,0,0,0]
[{"$f":"StockIn!A113","v":1111},{"$f":"VLOOKUP(A114,StockIn!$A$3:$B$1003,2,FALSE)","v":0},{"$f":"VLOOKUP(A114,StockIn!$A$3:$I$1003,9,FALSE)","v":0},null,0,0,0]
[{"$f":"StockIn!A114","v":1112},{"$f":"VLOOKUP(A115,StockIn!$A$3:$B$1003,2,FALSE)","v":0},{"$f":"VLOOKUP(A115,StockIn!$A$3:$I$1003,9,FALSE)","v":0},null,0,0,0]
[{"$f":"StockIn!A115","v":1113},{"$f":"VLOOKUP(A116,StockIn!$A$3:$B$1003,2,FALSE)","v":0},{"$f":"VLOOKUP(A116,StockIn!$A$3:$I$1003,9,FALSE)","v":0},null,0,0,0]
[{"$f":"StockIn!A116","v":1114},{"$f":"VLOOKUP(A117,StockIn!$A$3:$B$1003,2,FALSE)","v":0},{"$f":"VLOOKUP(A117,StockIn!$A$3:$I$1003,9,FALSE)","v":0},null,0,0,0]
[{"$f":"StockIn!A117","v":1115},{"$f":"VLOOKUP(A118,StockIn!$A$3:$B$1003,2,FALSE)","v":0},{"$f":"VLOOKUP(A118,StockIn!$A$3:$I$1003,9,FALSE)","v":0},null,0,0,0]
[{"$f":"StockIn!A118","v":1116},{"$f":"VLOOKUP(A119,StockIn!$A$3:$B$1003,2,FALSE)","v":0},{"$f":"VLOOKUP(A119,StockIn!$A$3:$I$1003,9,FALSE)","v":0},null,0,0,0]
[{"$f":"StockIn!A119","v":1117},{"$f":"VLOOKUP(A120,StockIn!$A$3:$B$1003,2,FALSE)","v":0},{"$f":"VLOOKUP(A120,StockIn!$A$3:$I$1003,9,FALSE)","v":0},null,0,0,0]
[{"$f":"StockIn!A120","v":1118},{"$f":"VLOOKUP(A121,StockIn!$A$3:$B$1003,2,FALSE)","v":0},{"$f":"VLOOKUP(A121,StockIn!$A$3:$I$1003,9,FALSE)","v":0},null,0,0,0]
[{"$f":"StockIn!A121","v":1119},{"$f":"VLOOKUP(A122,StockIn!$A$3:$B$1003,2,FALSE)","v":0},{"$f":"VLOOKUP(A122,StockIn!$A$3:$I$1003,9,FALSE)","v":0},null,0,0,0]
[{"$f":"StockIn!A122","v":1120},{"$f":"VLOOKUP(A123,StockIn!$A$3:$B$1003,2,FALSE)","v":0},{"$f":"VLOOKUP(A123,StockIn!$A$3:$I$1003,9,FALSE)","v":0},null,0,0,0]
[{"$f":"StockIn!A123","v":1121},{"$f":"VLOOKUP(A124,StockIn!$A$3:$B$1003,2,FALSE)","v":0},{"$f":"VLOOKUP(A124,StockIn!$A$3:$I$1003,9,FALSE)","v":0},null,0,0,0]
[{"$f":"StockIn!A124","v":1122},{"$f":"VLOOKUP(A125,StockIn!$A$3:$B$1003,2,FALSE)","v":0},{"$f":"VLOOKUP(A125,StockIn!$A$3:$I$1003,9,FALSE)","v":0},null,0,0,0]
[{"$f":"StockIn!A125","v":1123},{"$f":"VLOOKUP(A126,StockIn!$A$3:$B$1003,2,FALSE)","v":0},{"$f":"VLOOKUP(A126,StockIn!$A$3:$I$1003,9,FALSE)","v":0},null,0,0,0]
[{"$f":"StockIn!A126","v":1124},{"$f":"VLOOKUP(A127,StockIn!$A$3:$B$1003,2,FALSE)","v":0},{"$f":"VLOOKUP(A127,StockIn!$A$3:$I$1003,9,FALSE)","v":0},null,0,0,0]
[{"$f":"StockIn!A127","v":1125},{"$f":"VLOOKUP(A128,StockIn!$A$3:$B$1003,2,FALSE)","v":0},{"$f":"VLOOKUP(A128,StockIn!$A$3:$I$1003,9,FALSE)","v":0},null,0,0,0]
[{"$f":"StockIn!A128","v":1126},{"$f":"VLOOKUP(A129,StockIn!$A$3:$B$1003,2,FALSE)","v":0},{"$f":"VLOOKUP(A129,StockIn!$A$3:$I$1003,9,FALSE)","v":0},null,0,0,0]
[{"$f":"StockIn!A129","v":1127},{"$f":"VLOOKUP(A130,StockIn!$A$3:$B$1003,2,FALSE)","v":0},{"$f":"VLOOKUP(A130,StockIn!$A$3:$I$1003,9,FALSE)","v":0},null,0,0,0]
[{"$f":"StockIn!A130","v":1128},{"$f":"VLOOKUP(A131,StockIn!$A$3:$B$1003,2,FALSE)","v":0},{"$f":"VLOOKUP(A131,StockIn!$A$3:$I$1003,9,FALSE)","v":0},null,0,0,0]
[{"$f":"StockIn!A131","v":1129},{"$f":"VLOOKUP(A132,StockIn!$A$3:$B$1003,2,FALSE)","v":0},{"$f":"VLOOKUP(A132,StockIn!$A$3:$I$1003,9,FALSE)","v":0},null,0,0,0]
[{"$f":"StockIn!A132","v":1130},{"$f":"VLOOKUP(A133,StockIn!$A$3:$B$1003,2,FALSE)","v":0},{"$f":"VLOOKUP(A133,StockIn!$A$3:$I$1003,9,FALSE)","v":0},null,0,{"$f":"D133+E133","v":0},{"$f":"VLOOKUP(A133,$A$4:$L$1003,3,FALSE)-VLOOKUP(A133,$A$4:$L$1003,6,FALSE)","v":0}]
[{"$f":"StockIn!A133","v":1131},{"$f":"VLOOKUP(A134,StockIn!$A$3:$B$1003,2,FALSE)","v":0},{"$f":"VLOOKUP(A134,StockIn!$A$3:$I$1003,9,FALSE)","v":0},null,0,0,0]
[{"$f":"StockIn!A134","v":1132},{"$f":"VLOOKUP(A135,StockIn!$A$3:$B$1003,2,FALSE)","v":0},{"$f":"VLOOKUP(A135,StockIn!$A$3:$I$1003,9,FALSE)","v":0},null,0,0,0]
[{"$f":"StockIn!A135","v":1133},{"$f":"VLOOKUP(A136,StockIn!$A$3:$B$1003,2,FALSE)","v":0},{"$f":"VLOOKUP(A136,StockIn!$A$3:$I$1003,9,FALSE)","v":0},null,0,0,0]
[{"$f":"StockIn!A136","v":1134},{"$f":"VLOOKUP(A137,StockIn!$A$3:$B$1003,2,FALSE)","v":0},{"$f":"VLOOKUP(A137,StockIn!$A$3:$I$1003,9,FALSE)","v":0},null,0,0,0]
[{"$f":"StockIn!A137","v":1135},{"$f":"VLOOKUP(A138,StockIn!$A$3:$B$1003,2,FALSE)","v":0},{"$f":"VLOOKUP(A138,StockIn!$A$3:$I$1003,9,FALSE)","v":0},null,0,0,0]
[{"$f":"StockIn!A138","v":1136},{"$f":"VLOOKUP(A139,StockIn!$A$3:$B$1003,2,FALSE)","v":0},{"$f":"VLOOKUP(A139,StockIn!$A$3:$I$1003,9,FALSE)","v":0},null,0,0,0]
[{"$f":"StockIn!A139","v":1137},{"$f":"VLOOKUP(A140,StockIn!$A$3:$B$1003,2,FALSE)","v":0},{"$f":"VLOOKUP(A140,StockIn!$A$3:$I$1003,9,FALSE)","v":0},null,0,0,0]
[{"$f":"StockIn!A140","v":1138},{"$f":"VLOOKUP(A141,StockIn!$A$3:$B$1003,2,FALSE)","v":0},{"$f":"VLOOKUP(A141,StockIn!$A$3:$I$1003,9,FALSE)","v":0},null,0,0,0]
[{"$f":"StockIn!A141","v":1139},{"$f":"VLOOKUP(A142,StockIn!$A$3:$B$1003,2,FALSE)","v":0},{"$f":"VLOOKUP(A142,StockIn!$A$3:$I$1003,9,FALSE)","v":0},null,0,0,0]
[{"$f":"StockIn!A142","v":1140},{"$f":"VLOOKUP(A143,StockIn!$A$3:$B$1003,2,FALSE)","v":0},{"$f":"VLOOKUP(A143,StockIn!$A$3:$I$1003,9,FALSE)","v":0},null,0,0,0]
[{"$f":"StockIn!A143","v":1141},{"$f":"VLOOKUP(A144,StockIn!$A$3:$B$1003,2,FALSE)","v":0},{"$f":"VLOOKUP(A144,StockIn!$A$3:$I$1003,9,FALSE)","v":0},null,0,0,0]
[{"$f":"StockIn!A144","v":1142},{"$f":"VLOOKUP(A145,StockIn!$A$3:$B$1003,2,FALSE)","v":0},{"$f":"VLOOKUP(A145,StockIn!$A$3:$I$1003,9,FALSE)","v":0},null,0,0,0]
[{"$f":"StockIn!A145","v":1143},{"$f":"VLOOKUP(A146,StockIn!$A$3:$B$1003,2,FALSE)","v":0},{"$f":"VLOOKUP(A146,StockIn!$A$3:$I$1003,9,FALSE)","v":0},null,0,0,0]
[{"$f":"StockIn!A146","v":1144},{"$f":"VLOOKUP(A147,StockIn!$A$3:$B$1003,2,FALSE)","v":0},{"$f":"VLOOKUP(A147,StockIn!$A$3:$I$1003,9,FALSE)","v":0},null,0,0,0]
[{"$f":"StockIn!A147","v":1145},{"$f":"VLOOKUP(A148,StockIn!$A$3:$B$1003,2,FALSE)","v":0},{"$f":"VLOOKUP(A148,StockIn!$A$3:$I$1003,9,FALSE)","v":0},null,0,0,0]
[{"$f":"StockIn!A148","v":1146},{"$f":"VLOOKUP(A149,StockIn!$A$3:$B$1003,2,FALSE)","v":0},{"$f":"VLOOKUP(A149,StockIn!$A$3:$I$1003,9,FALSE)","v":0},null,0,0,0]
[{"$f":"StockIn!A149","v":1147},{"$f":"VLOOKUP(A150,StockIn!$A$3:$B$1003,2,FALSE)","v":0},{"$f":"VLOOKUP(A150,StockIn!$A$3:$I$1003,9,FALSE)","v":0},null,0,0,0]
[{"$f":"StockIn!A150","v":1148},{"$f":"VLOOKUP(A151,StockIn!$A$3:$B$1003,2,FALSE)","v":0},{"$f":"VLOOKUP(A151,StockIn!$A$3:$I$1003,9,FALSE)","v":0},null,0,0,0]
[{"$f":"StockIn!A151","v":1149},{"$f":"VLOOKUP(A152,StockIn!$A$3:$B$1003,2,FALSE)","v":0},{"$f":"VLOOKUP(A152,StockIn!$A$3:$I$1003,9,FALSE)","v":0},null,0,0,0]
[{"$f":"StockIn!A152","v":1150},{"$f":"VLOOKUP(A153,StockIn!$A$3:$B$1003,2,FALSE)","v":0},{"$f":"VLOOKUP(A153,StockIn!$A$3:$I$1003,9,FALSE)","v":0},null,0,0,0]
[{"$f":"StockIn!A153","v":1151},{"$f":"VLOOKUP(A154,StockIn!$A$3:$B$1003,2,FALSE)","v":0},{"$f":"VLOOKUP(A154,StockIn!$A$3:$I$1003,9,FALSE)","v":0},null,0,0,0]
[{"$f":"StockIn!A154","v":1152},{"$f":"VLOOKUP(A155,StockIn!$A$3:$B$1003,2,FALSE)","v":0},{"$f":"VLOOKUP(A155,StockIn!$A$3:$I$1003,9,FALSE)","v":0},null,0,0,0]
[{"$f":"StockIn!A155","v":1153},{"$f":"VLOOKUP(A156,StockIn!$A$3:$B$1003,2,FALSE)","v":0},{"$f":"VLOOKUP(A156,StockIn!$A$3:$I$1003,9,FALSE)","v":0},null,0,0,0]
[{"$f":"StockIn!A156","v":1154},{"$f":"VLOOKUP(A157,StockIn!$A$3:$B$1003,2,FALSE)","v":0},{"$f":"VLOOKUP(A157,StockIn!$A$3:$I$1003,9,FALSE)","v":0},null,0,0,0]
[{"$f":"StockIn!A157","v":1155},{"$f":"VLOOKUP(A158,StockIn!$A$3:$B$1003,2,FALSE)","v":0},{"$f":"VLOOKUP(A158,StockIn!$A$3:$I$1003,9,FALSE)","v":0},null,0,0,0]
[{"$f":"StockIn!A158","v":1156},{"$f":"VLOOKUP(A159,StockIn!$A$3:$B$1003,2,FALSE)","v":0},{"$f":"VLOOKUP(A159,StockIn!$A$3:$I$1003,9,FALSE)","v":0},null,0,0,0]
[{"$f":"StockIn!A159","v":1157},{"$f":"VLOOKUP(A160,StockIn!$A$3:$B$1003,2,FALSE)","v":0},{"$f":"VLOOKUP(A160,StockIn!$A$3:$I$1003,9,FALSE)","v":0},null,0,0,0]
[{"$f":"StockIn!A160","v":1158},{"$f":"VLOOKUP(A161,StockIn!$A$3:$B$1003,2,FALSE)","v":0},{"$f":"VLOOKUP(A161,StockIn!$A$3:$I$1003,9,FALSE)","v":0},null,0,0,0]
[{"$f":"StockIn!A161","v":1159},{"$f":"VLOOKUP(A162,StockIn!$A$3:$B$1003,2,FALSE)","v":0},{"$f":"VLOOKUP(A162,StockIn!$A$3:$I$1003,9,FALSE)","v":0},null,0,0,0]
[{"$f":"StockIn!A162","v":1160},{"$f":"VLOOKUP(A163,StockIn!$A$3:$B$1003,2,FALSE)","v":0},{"$f":"VLOOKUP(A163,StockIn!$A$3:$I$1003,9,FALSE)","v":0},null,0,0,0]
[{"$f":"StockIn!A163","v":1161},{"$f":"VLOOKUP(A164,StockIn!$A$3:$B$1003,2,FALSE)","v":0},{"$f":"VLOOKUP(A164,StockIn!$A$3:$I$1003,9,FALSE)","v":0},null,0,0,0]
[{"$f":"StockIn!A164","v":1162},{"$f":"VLOOKUP(A165,StockIn!$A$3:$B$1003,2,FALSE)","v":0},{"$f":"VLOOKUP(A165,StockIn!$A$3:$I$1003,9,FALSE)","v":0},null,0,0,0]
[{"$f":"StockIn!A165","v":1163},{"$f":"VLOOKUP(A166,StockIn!$A$3:$B$1003,2,FALSE)","v":0},{"$f":"VLOOKUP(A166,StockIn!$A$3:$I$1003,9,FALSE)","v":0},null,0,0,0]
[{"$f":"StockIn!A166","v":1164},{"$f":"VLOOKUP(A167,StockIn!$A$3:$B$1003,2,FALSE)","v":0},{"$f":"VLOOKUP(A167,StockIn!$A$3:$I$1003,9,FALSE)","v":0},null,0,0,0]
[{"$f":"StockIn!A167","v":1165},{"$f":"VLOOKUP(A168,StockIn!$A$3:$B$1003,2,FALSE)","v":0},{"$f":"VLOOKUP(A168,StockIn!$A$3:$I$1003,9,FALSE)","v":0},null,0,0,0]
[{"$f":"StockIn!A168","v":1166},{"$f":"VLOOKUP(A169,StockIn!$A$3:$B$1003,2,FALSE)","v":0},{"$f":"VLOOKUP(A169,StockIn!$A$3:$I$1003,9,FALSE)","v":0},null,0,0,0]
[{"$f":"StockIn!A169","v":1167},{"$f":"VLOOKUP(A170,StockIn!$A$3:$B$1003,2,FALSE)","v":0},{"$f":"VLOOKUP(A170,StockIn!$A$3:$I$1003,9,FALSE)","v":0},null,0,0,0]
[{"$f":"StockIn!A170","v":1168},{"$f":"VLOOKUP(A171,StockIn!$A$3:$B$1003,2,FALSE)","v":0},{"$f":"VLOOKUP(A171,StockIn!$A$3:$I$1003,9,FALSE)","v":0},null,0,0,0]
[{"$f":"StockIn!A171","v":1169},{"$f":"VLOOKUP(A172,StockIn!$A$3:$B$1003,2,FALSE)","v":0},{"$f":"VLOOKUP(A172,StockIn!$A$3:$I$1003,9,FALSE)","v":0},null,0,0,0]
[{"$f":"StockIn!A172","v":1170},{"$f":"VLOOKUP(A173,StockIn!$A$3:$B$1003,2,FALSE)","v":0},{"$f":"VLOOKUP(A173,StockIn!$A$3:$I$1003,9,FALSE)","v":0},null,0,0,0]
[{"$f":"StockIn!A173","v":1171},{"$f":"VLOOKUP(A174,StockIn!$A$3:$B$1003,2,FALSE)","v":0},{"$f":"VLOOKUP(A174,StockIn!$A$3:$I$1003,9,FALSE)","v":0},null,0,0,0]
[{"$f":"StockIn!A174","v":1172},{"$f":"VLOOKUP(A175,StockIn!$A$3:$B$1003,2,FALSE)","v":0},{"$f":"VLOOKUP(A175,StockIn!$A$3:$I$1003,9,FALSE)","v":0},null,0,0,0]
[{"$f":"StockIn!A175","v":1173},{"$f":"VLOOKUP(A176,StockIn!$A$3:$B$1003,2,FALSE)","v":0},{"$f":"VLOOKUP(A176,StockIn!$A$3:$I$1003,9,FALSE)","v":0},null,0,0,0]
[{"$f":"StockIn!A176","v":1174},{"$f":"VLOOKUP(A177,StockIn!$A$3:$B$1003,2,FALSE)","v":0},{"$f":"VLOOKUP(A177,StockIn!$A$3:$I$1003,9,FALSE)","v":0},null,0,0,0]
[{"$f":"StockIn!A177","v":1175},{"$f":"VLOOKUP(A178,StockIn!$A$3:$B$1003,2,FALSE)","v":0},{"$f":"VLOOKUP(A178,StockIn!$A$3:$I$1003,9,FALSE)","v":0},null,0,0,0]
[{"$f":"StockIn!A178","v":1176},{"$f":"VLOOKUP(A179,StockIn!$A$3:$B$1003,2,FALSE)","v":0},{"$f":"VLOOKUP(A179,StockIn!$A$3:$I$1003,9,FALSE)","v":0},null,0,0,0]
[{"$f":"StockIn!A179","v":1177},{"$f":"VLOOKUP(A180,StockIn!$A$3:$B$1003,2,FALSE)","v":0},{"$f":"VLOOKUP(A180,StockIn!$A$3:$I$1003,9,FALSE)","v":0},null,0,0,0]
[{"$f":"StockIn!A180","v":1178},{"$f":"VLOOKUP(A181,StockIn!$A$3:$B$1003,2,FALSE)","v":0},{"$f":"VLOOKUP(A181,StockIn!$A$3:$I$1003,9,FALSE)","v":0},null,0,0,0]
[{"$f":"StockIn!A181","v":1179},{"$f":"VLOOKUP(A182,StockIn!$A$3:$B$1003,2,FALSE)","v":0},{"$f":"VLOOKUP(A182,StockIn!$A$3:$I$1003,9,FALSE)","v":0},null,0,0,0]
[{"$f":"StockIn!A182","v":1180},{"$f":"VLOOKUP(A183,StockIn!$A$3:$B$1003,2,FALSE)","v":0},{"$f":"VLOOKUP(A183,StockIn!$A$3:$I$1003,9,FALSE)","v":0},null,0,0,0]
[{"$f":"StockIn!A183","v":1181},{"$f":"VLOOKUP(A184,StockIn!$A$3:$B$1003,2,FALSE)","v":0},{"$f":"VLOOKUP(A184,StockIn!$A$3:$I$1003,9,FALSE)","v":0},null,0,0,0]
[{"$f":"StockIn!A184","v":1182},{"$f":"VLOOKUP(A185,StockIn!$A$3:$B$1003,2,FALSE)","v":0},{"$f":"VLOOKUP(A185,StockIn!$A$3:$I$1003,9,FALSE)","v":0},null,0,0,0]
[{"$f":"StockIn!A185","v":1183},{"$f":"VLOOKUP(A186,StockIn!$A$3:$B$1003,2,FALSE)","v":0},{"$f":"VLOOKUP(A186,StockIn!$A$3:$I$1003,9,FALSE)","v":0},null,0,0,0]
[{"$f":"StockIn!A186","v":1184},{"$f":"VLOOKUP(A187,StockIn!$A$3:$B$1003,2,FALSE)","v":0},{"$f":"VLOOKUP(A187,StockIn!$A$3:$I$1003,9,FALSE)","v":0},null,0,0,0]
[{"$f":"StockIn!A187","v":1185},{"$f":"VLOOKUP(A188,StockIn!$A$3:$B$1003,2,FALSE)","v":0},{"$f":"VLOOKUP(A188,StockIn!$A$3:$I$1003,9,FALSE)","v":0},null,0,0,0]
[{"$f":"StockIn!A188","v":1186},{"$f":"VLOOKUP(A189,StockIn!$A$3:$B$1003,2,FALSE)","v":0},{"$f":"VLOOKUP(A189,StockIn!$A$3:$I$1003,9,FALSE)","v":0},null,0,0,0]
[{"$f":"StockIn!A189","v":1187},{"$f":"VLOOKUP(A190,StockIn!$A$3:$B$1003,2,FALSE)","v":0},{"$f":"VLOOKUP(A190,StockIn!$A$3:$I$1003,9,FALSE)","v":0},null,0,0,0]
[{"$f":"StockIn!A190","v":1188},{"$f":"VLOOKUP(A191,StockIn!$A$3:$B$1003,2,FALSE)","v":0},{"$f":"VLOOKUP(A191,StockIn!$A$3:$I$1003,9,FALSE)","v":0},null,0,0,0]
[{"$f":"StockIn!A191","v":1189},{"$f":"VLOOKUP(A192,StockIn!$A$3:$B$1003,2,FALSE)","v":0},{"$f":"VLOOKUP(A192,StockIn!$A$3:$I$1003,9,FALSE)","v":0},null,0,0,0]
[{"$f":"StockIn!A192","v":1190},{"$f":"VLOOKUP(A193,StockIn!$A$3:$B$1003,2,FALSE)","v":0},{"$f":"VLOOKUP(A193,StockIn!$A$3:$I$1003,9,FALSE)","v":0},null,0,0,0]
[{"$f":"StockIn!A193","v":1191},{"$f":"VLOOKUP(A194,StockIn!$A$3:$B$1003,2,FALSE)","v":0},{"$f":"VLOOKUP(A194,StockIn!$A$3:$I$1003,9,FALSE)","v":0},null,0,0,0]
[{"$f":"StockIn!A194","v":1192},{"$f":"VLOOKUP(A195,StockIn!$A$3:$B$1003,2,FALSE)","v":0},{"$f":"VLOOKUP(A195,StockIn!$A$3:$I$1003,9,FALSE)","v":0},null,0,0,0]
[{"$f":"StockIn!A195","v":1193},{"$f":"VLOOKUP(A196,StockIn!$A$3:$B$1003,2,FALSE)","v":0},{"$f":"VLOOKUP(A196,StockIn!$A$3:$I$1003,9,FALSE)","v":0},null,0,0,0]
[{"$f":"StockIn!A196","v":1194},{"$f":"VLOOKUP(A197,StockIn!$A$3:$B$1003,2,FALSE)","v":0},{"$f":"VLOOKUP(A197,StockIn!$A$3:$I$1003,9,FALSE)","v":0},null,0,{"$f":"D197+E197","v":0},{"$f":"VLOOKUP(A197,$A$4:$L$1003,3,FALSE)-VLOOKUP(A197,$A$4:$L$1003,6,FALSE)","v":0}]
[{"$f":"StockIn!A197","v":1195},{"$f":"VLOOKUP(A198,StockIn!$A$3:$B$1003,2,FALSE)","v":0},{"$f":"VLOOKUP(A198,StockIn!$A$3:$I$1003,9,FALSE)","v":0},null,0,0,0]
[{"$f":"StockIn!A198","v":1196},{"$f":"VLOOKUP(A199,StockIn!$A$3:$B$1003,2,FALSE)","v":0},{"$f":"VLOOKUP(A199,StockIn!$A$3:$I$1003,9,FALSE)","v":0},null,0,0,0]
[{"$f":"StockIn!A199","v":1197},{"$f":"VLOOKUP(A200,StockIn!$A$3:$B$1003,2,FALSE)","v":0},{"$f":"VLOOKUP(A200,StockIn!$A$3:$I$1003,9,FALSE)","v":0},null,0,0,0]
[{"$f":"StockIn!A200","v":1198},{"$f":"VLOOKUP(A201,StockIn!$A$3:$B$1003,2,FALSE)","v":0},{"$f":"VLOOKUP(A201,StockIn!$A$3:$I$1003,9,FALSE)","v":0},null,0,0,0]
[{"$f":"StockIn!A201","v":1199},{"$f":"VLOOKUP(A202,StockIn!$A$3:$B$1003,2,FALSE)","v":0},{"$f":"VLOOKUP(A202,StockIn!$A$3:$I$1003,9,FALSE)","v":0},null,0,0,0]
[{"$f":"StockIn!A202","v":1200},{"$f":"VLOOKUP(A203,StockIn!$A$3:$B$1003,2,FALSE)","v":0},{"$f":"VLOOKUP(A203,StockIn!$A$3:$I$1003,9,FALSE)","v":0},null,0,0,0]
[{"$f":"StockIn!A203","v":1201},{"$f":"VLOOKUP(A204,StockIn!$A$3:$B$1003,2,FALSE)","v":0},{"$f":"VLOOKUP(A204,StockIn!$A$3:$I$1003,9,FALSE)","v":0},null,0,0,0]
[{"$f":"StockIn!A204","v":1202},{"$f":"VLOOKUP(A205,StockIn!$A$3:$B$1003,2,FALSE)","v":0},{"$f":"VLOOKUP(A205,StockIn!$A$3:$I$1003,9,FALSE)","v":0},null,0,0,0]
[{"$f":"StockIn!A205","v":1203},{"$f":"VLOOKUP(A206,StockIn!$A$3:$B$1003,2,FALSE)","v":0},{"$f":"VLOOKUP(A206,StockIn!$A$3:$I$1003,9,FALSE)","v":0},null,0,0,0]
[{"$f":"StockIn!A206","v":1204},{"$f":"VLOOKUP(A207,StockIn!$A$3:$B$1003,2,FALSE)","v":0},{"$f":"VLOOKUP(A207,StockIn!$A$3:$I$1003,9,FALSE)","v":0},null,0,0,0]
[{"$f":"StockIn!A207","v":1205},{"$f":"VLOOKUP(A208,StockIn!$A$3:$B$1003,2,FALSE)","v":0},{"$f":"VLOOKUP(A208,StockIn!$A$3:$I$1003,9,FALSE)","v":0},null,0,0,0]
[{"$f":"StockIn!A208","v":1206},{"$f":"VLOOKUP(A209,StockIn!$A$3:$B$1003,2,FALSE)","v":0},{"$f":"VLOOKUP(A209,StockIn!$A$3:$I$1003,9,FALSE)","v":0},null,0,0,0]
[{"$f":"StockIn!A209","v":1207},{"$f":"VLOOKUP(A210,StockIn!$A$3:$B$1003,2,FALSE)","v":0},{"$f":"VLOOKUP(A210,StockIn!$A$3:$I$1003,9,FALSE)","v":0},null,0,0,0]
[{"$f":"StockIn!A210","v":1208},{"$f":"VLOOKUP(A211,StockIn!$A$3:$B$1003,2,FALSE)","v":0},{"$f":"VLOOKUP(A211,StockIn!$A$3:$I$1003,9,FALSE)","v":0},null,0,0,0]
[{"$f":"StockIn!A211","v":1209},{"$f":"VLOOKUP(A212,StockIn!$A$3:$B$1003,2,FALSE)","v":0},{"$f":"VLOOKUP(A212,StockIn!$A$3:$I$1003,9,FALSE)","v":0},null,0,0,0]
[{"$f":"StockIn!A212","v":1210},{"$f":"VLOOKUP(A213,StockIn!$A$3:$B$1003,2,FALSE)","v":0},{"$f":"VLOOKUP(A213,StockIn!$A$3:$I$1003,9,FALSE)","v":0},null,0,0,0]
[{"$f":"StockIn!A213","v":1211},{"$f":"VLOOKUP(A214,StockIn!$A$3:$B$1003,2,FALSE)","v":0},{"$f":"VLOOKUP(A214,StockIn!$A$3:$I$1003,9,FALSE)","v":0},null,0,0,0]
[{"$f":"StockIn!A214","v":1212},{"$f":"VLOOKUP(A215,StockIn!$A$3:$B$1003,2,FALSE)","v":0},{"$f":"VLOOKUP(A215,StockIn!$A$3:$I$1003,9,FALSE)","v":0},null,0,0,0]
[{"$f":"StockIn!A215","v":1213},{"$f":"VLOOKUP(A216,StockIn!$A$3:$B$1003,2,FALSE)","v":0},{"$f":"VLOOKUP(A216,StockIn!$A$3:$I$1003,9,FALSE)","v":0},null,0,0,0]
[{"$f":"StockIn!A216","v":1214},{"$f":"VLOOKUP(A217,StockIn!$A$3:$B$1003,2,FALSE)","v":0},{"$f":"VLOOKUP(A217,StockIn!$A$3:$I$1003,9,FALSE)","v":0},null,0,0,0]
[{"$f":"StockIn!A217","v":1215},{"$f":"VLOOKUP(A218,StockIn!$A$3:$B$1003,2,FALSE)","v":0},{"$f":"VLOOKUP(A218,StockIn!$A$3:$I$1003,9,FALSE)","v":0},null,0,0,0]
[{"$f":"StockIn!A218","v":1216},{"$f":"VLOOKUP(A219,StockIn!$A$3:$B$1003,2,FALSE)","v":0},{"$f":"VLOOKUP(A219,StockIn!$A$3:$I$1003,9,FALSE)","v":0},null,0,0,0]
[{"$f":"StockIn!A219","v":1217},{"$f":"VLOOKUP(A220,StockIn!$A$3:$B$1003,2,FALSE)","v":0},{"$f":"VLOOKUP(A220,StockIn!$A$3:$I$1003,9,FALSE)","v":0},null,0,0,0]
[{"$f":"StockIn!A220","v":1218},{"$f":"VLOOKUP(A221,StockIn!$A$3:$B$1003,2,FALSE)","v":0},{"$f":"VLOOKUP(A221,StockIn!$A$3:$I$1003,9,FALSE)","v":0},null,0,0,0]
[{"$f":"StockIn!A221","v":1219},{"$f":"VLOOKUP(A222,StockIn!$A$3:$B$1003,2,FALSE)","v":0},{"$f":"VLOOKUP(A222,StockIn!$A$3:$I$1003,9,FALSE)","v":0},null,0,0,0]
[{"$f":"StockIn!A222","v":1220},{"$f":"VLOOKUP(A223,StockIn!$A$3:$B$1003,2,FALSE)","v":0},{"$f":"VLOOKUP(A223,StockIn!$A$3:$I$1003,9,FALSE)","v":0},null,0,0,0]
[{"$f":"StockIn!A223","v":1221},{"$f":"VLOOKUP(A224,StockIn!$A$3:$B$1003,2,FALSE)","v":0},{"$f":"VLOOKUP(A224,StockIn!$A$3:$I$1003,9,FALSE)","v":0},null,0,0,0]
[{"$f":"StockIn!A224","v":1222},{"$f":"VLOOKUP(A225,StockIn!$A$3:$B$1003,2,FALSE)","v":0},{"$f":"VLOOKUP(A225,StockIn!$A$3:$I$1003,9,FALSE)","v":0},null,0,0,0]
[{"$f":"StockIn!A225","v":1223},{"$f":"VLOOKUP(A226,StockIn!$A$3:$B$1003,2,FALSE)","v":0},{"$f":"VLOOKUP(A226,StockIn!$A$3:$I$1003,9,FALSE)","v":0},null,0,0,0]
[{"$f":"StockIn!A226","v":1224},{"$f":"VLOOKUP(A227,StockIn!$A$3:$B$1003,2,FALSE)","v":0},{"$f":"VLOOKUP(A227,StockIn!$A$3:$I$1003,9,FALSE)","v":0},null,0,0,0]
[{"$f":"StockIn!A227","v":1225},{"$f":"VLOOKUP(A228,StockIn!$A$3:$B$1003,2,FALSE)","v":0},{"$f":"VLOOKUP(A228,StockIn!$A$3:$I$1003,9,FALSE)","v":0},null,0,0,0]
[{"$f":"StockIn!A228","v":1226},{"$f":"VLOOKUP(A229,StockIn!$A$3:$B$1003,2,FALSE)","v":0},{"$f":"VLOOKUP(A229,StockIn!$A$3:$I$1003,9,FALSE)","v":0},null,0,0,0]
[{"$f":"StockIn!A229","v":1227},{"$f":"VLOOKUP(A230,StockIn!$A$3:$B$1003,2,FALSE)","v":0},{"$f":"VLOOKUP(A230,StockIn!$A$3:$I$1003,9,FALSE)","v":0},null,0,0,0]
[{"$f":"StockIn!A230","v":1228},{"$f":"VLOOKUP(A231,StockIn!$A$3:$B$1003,2,FALSE)","v":0},{"$f":"VLOOKUP(A231,StockIn!$A$3:$I$1003,9,FALSE)","v":0},null,0,0,0]
[{"$f":"StockIn!A231","v":1229},{"$f":"VLOOKUP(A232,StockIn!$A$3:$B$1003,2,FALSE)","v":0},{"$f":"VLOOKUP(A232,StockIn!$A$3:$I$1003,9,FALSE)","v":0},null,0,0,0]
[{"$f":"StockIn!A232","v":1230},{"$f":"VLOOKUP(A233,StockIn!$A$3:$B$1003,2,FALSE)","v":0},{"$f":"VLOOKUP(A233,StockIn!$A$3:$I$1003,9,FALSE)","v":0},null,0,0,0]
[{"$f":"StockIn!A233","v":1231},{"$f":"VLOOKUP(A234,StockIn!$A$3:$B$1003,2,FALSE)","v":0},{"$f":"VLOOKUP(A234,StockIn!$A$3:$I$1003,9,FALSE)","v":0},null,0,0,0]
[{"$f":"StockIn!A234","v":1232},{"$f":"VLOOKUP(A235,StockIn!$A$3:$B$1003,2,FALSE)","v":0},{"$f":"VLOOKUP(A235,StockIn!$A$3:$I$1003,9,FALSE)","v":0},null,0,0,0]
[{"$f":"StockIn!A235","v":1233},{"$f":"VLOOKUP(A236,StockIn!$A$3:$B$1003,2,FALSE)","v":0},{"$f":"VLOOKUP(A236,StockIn!$A$3:$I$1003,9,FALSE)","v":0},null,0,0,0]
[{"$f":"StockIn!A236","v":1234},{"$f":"VLOOKUP(A237,StockIn!$A$3:$B$1003,2,FALSE)","v":0},{"$f":"VLOOKUP(A237,StockIn!$A$3:$I$1003,9,FALSE)","v":0},null,0,0,0]
[{"$f":"StockIn!A237","v":1235},{"$f":"VLOOKUP(A238,StockIn!$A$3:$B$1003,2,FALSE)","v":0},{"$f":"VLOOKUP(A238,StockIn!$A$3:$I$1003,9,FALSE)","v":0},null,0,0,0]
[{"$f":"StockIn!A238","v":1236},{"$f":"VLOOKUP(A239,StockIn!$A$3:$B$1003,2,FALSE)","v":0},{"$f":"VLOOKUP(A239,StockIn!$A$3:$I$1003,9,FALSE)","v":0},null,0,0,0]
[{"$f":"StockIn!A239","v":1237},{"$f":"VLOOKUP(A240,StockIn!$A$3:$B$1003,2,FALSE)","v":0},{"$f":"VLOOKUP(A240,StockIn!$A$3:$I$1003,9,FALSE)","v":0},null,0,0,0]
[{"$f":"StockIn!A240","v":1238},{"$f":"VLOOKUP(A241,StockIn!$A$3:$B$1003,2,FALSE)","v":0},{"$f":"VLOOKUP(A241,StockIn!$A$3:$I$1003,9,FALSE)","v":0},null,0,0,0]
[{"$f":"StockIn!A241","v":1239},{"$f":"VLOOKUP(A242,StockIn!$A$3:$B$1003,2,FALSE)","v":0},{"$f":"VLOOKUP(A242,StockIn!$A$3:$I$1003,9,FALSE)","v":0},null,0,0,0]
[{"$f":"StockIn!A242","v":1240},{"$f":"VLOOKUP(A243,StockIn!$A$3:$B$1003,2,FALSE)","v":0},{"$f":"VLOOKUP(A243,StockIn!$A$3:$I$1003,9,FALSE)","v":0},null,0,0,0]
[{"$f":"StockIn!A243","v":1241},{"$f":"VLOOKUP(A244,StockIn!$A$3:$B$1003,2,FALSE)","v":0},{"$f":"VLOOKUP(A244,StockIn!$A$3:$I$1003,9,FALSE)","v":0},null,0,0,0]
[{"$f":"StockIn!A244","v":1242},{"$f":"VLOOKUP(A245,StockIn!$A$3:$B$1003,2,FALSE)","v":0},{"$f":"VLOOKUP(A245,StockIn!$A$3:$I$1003,9,FALSE)","v":0},null,0,0,0]
[{"$f":"StockIn!A245","v":1243},{"$f":"VLOOKUP(A246,StockIn!$A$3:$B$1003,2,FALSE)","v":0},{"$f":"VLOOKUP(A246,StockIn!$A$3:$I$1003,9,FALSE)","v":0},null,0,0,0]
[{"$f":"StockIn!A246","v":1244},{"$f":"VLOOKUP(A247,StockIn!$A$3:$B$1003,2,FALSE)","v":0},{"$f":"VLOOKUP(A247,StockIn!$A$3:$I$1003,9,FALSE)","v":0},null,0,0,0]
[{"$f":"StockIn!A247","v":1245},{"$f":"VLOOKUP(A248,StockIn!$A$3:$B$1003,2,FALSE)","v":0},{"$f":"VLOOKUP(A248,StockIn!$A$3:$I$1003,9,FALSE)","v":0},null,0,0,0]
[{"$f":"StockIn!A248","v":1246},{"$f":"VLOOKUP(A249,StockIn!$A$3:$B$1003,2,FALSE)","v":0},{"$f":"VLOOKUP(A249,StockIn!$A$3:$I$1003,9,FALSE)","v":0},null,0,0,0]
[{"$f":"StockIn!A249","v":1247},{"$f":"VLOOKUP(A250,StockIn!$A$3:$B$1003,2,FALSE)","v":0},{"$f":"VLOOKUP(A250,StockIn!$A$3:$I$1003,9,FALSE)","v":0},null,0,0,0]
[{"$f":"StockIn!A250","v":1248},{"$f":"VLOOKUP(A251,StockIn!$A$3:$B$1003,2,FALSE)","v":0},{"$f":"VLOOKUP(A251,StockIn!$A$3:$I$1003,9,FALSE)","v":0},null,0,0,0]
[{"$f":"StockIn!A251","v":1249},{"$f":"VLOOKUP(A252,StockIn!$A$3:$B$1003,2,FALSE)","v":0},{"$f":"VLOOKUP(A252,StockIn!$A$3:$I$1003,9,FALSE)","v":0},null,0,0,0]
[{"$f":"StockIn!A252","v":1250},{"$f":"VLOOKUP(A253,StockIn!$A$3:$B$1003,2,FALSE)","v":0},{"$f":"VLOOKUP(A253,StockIn!$A$3:$I$1003,9,FALSE)","v":0},null,0,0,0]
[{"$f":"StockIn!A253","v":1251},{"$f":"VLOOKUP(A254,StockIn!$A$3:$B$1003,2,FALSE)","v":0},{"$f":"VLOOKUP(A254,StockIn!$A$3:$I$1003,9,FALSE)","v":0},null,0,0,0]
[{"$f":"StockIn!A254","v":1252},{"$f":"VLOOKUP(A255,StockIn!$A$3:$B$1003,2,FALSE)","v":0},{"$f":"VLOOKUP(A255,StockIn!$A$3:$I$1003,9,FALSE)","v":0},null,0,0,0]
[{"$f":"StockIn!A255","v":1253},{"$f":"VLOOKUP(A256,StockIn!$A$3:$B$1003,2,FALSE)","v":0},{"$f":"VLOOKUP(A256,StockIn!$A$3:$I$1003,9,FALSE)","v":0},null,0,0,0]
[{"$f":"StockIn!A256","v":1254},{"$f":"VLOOKUP(A257,StockIn!$A$3:$B$1003,2,FALSE)","v":0},{"$f":"VLOOKUP(A257,StockIn!$A$3:$I$1003,9,FALSE)","v":0},null,0,0,0]
[{"$f":"StockIn!A257","v":1255},{"$f":"VLOOKUP(A258,StockIn!$A$3:$B$1003,2,FALSE)","v":0},{"$f":"VLOOKUP(A258,StockIn!$A$3:$I$1003,9,FALSE)","v":0},null,0,0,0]
[{"$f":"StockIn!A258","v":1256},{"$f":"VLOOKUP(A259,StockIn!$A$3:$B$1003,2,FALSE)","v":0},{"$f":"VLOOKUP(A259,StockIn!$A$3:$I$1003,9,FALSE)","v":0},null,0,0,0]
[{"$f":"StockIn!A259","v":1257},{"$f":"VLOOKUP(A260,StockIn!$A$3:$B$1003,2,FALSE)","v":0},{"$f":"VLOOKUP(A260,StockIn!$A$3:$I$1003,9,FALSE)","v":0},null,0,0,0]
[{"$f":"StockIn!A260","v":1258},{"$f":"VLOOKUP(A261,StockIn!$A$3:$B$1003,2,FALSE)","v":0},{"$f":"VLOOKUP(A261,StockIn!$A$3:$I$1003,9,FALSE)","v":0},null,0,{"$f":"D261+E261","v":0},{"$f":"VLOOKUP(A261,$A$4:$L$1003,3,FALSE)-VLOOKUP(A261,$A$4:$L$1003,6,FALSE)","v":0}]
[{"$f":"StockIn!A261","v":1259},{"$f":"VLOOKUP(A262,StockIn!$A$3:$B$1003,2,FALSE)","v":0},{"$f":"VLOOKUP(A262,StockIn!$A$3:$I$1003,9,FALSE)","v":0},null,0,0,0]
[{"$f":"StockIn!A262","v":1260},{"$f":"VLOOKUP(A263,StockIn!$A$3:$B$1003,2,FALSE)","v":0},{"$f":"VLOOKUP(A263,StockIn!$A$3:$I$1003,9,FALSE)","v":0},null,0,0,0]
[{"$f":"StockIn!A263","v":1261},{"$f":"VLOOKUP(A264,StockIn!$A$3:$B$1003,2,FALSE)","v":0},{"$f":"VLOOKUP(A264,StockIn!$A$3:$I$1003,9,FALSE)","v":0},null,0,0,0]
[{"$f":"StockIn!A264","v":1262},{"$f":"VLOOKUP(A265,StockIn!$A$3:$B$1003,2,FALSE)","v":0},{"$f":"VLOOKUP(A265,StockIn!$A$3:$I$1003,9,FALSE)","v":0},null,0,0,0]
[{"$f":"StockIn!A265","v":1263},{"$f":"VLOOKUP(A266,StockIn!$A$3:$B$1003,2,FALSE)","v":0},{"$f":"VLOOKUP(A266,StockIn!$A$3:$I$1003,9,FALSE)","v":0},null,0,0,0]
[{"$f":"StockIn!A266","v":1264},{"$f":"VLOOKUP(A267,StockIn!$A$3:$B$1003,2,FALSE)","v":0},{"$f":"VLOOKUP(A267,StockIn!$A$3:$I$1003,9,FALSE)","v":0},null,0,0,0]
[{"$f":"StockIn!A267","v":1265},{"$f":"VLOOKUP(A268,StockIn!$A$3:$B$1003,2,FALSE)","v":0},{"$f":"VLOOKUP(A268,StockIn!$A$3:$I$1003,9,FALSE)","v":0},null,0,0,0]
[{"$f":"StockIn!A268","v":1266},{"$f":"VLOOKUP(A269,StockIn!$A$3:$B$1003,2,FALSE)","v":0},{"$f":"VLOOKUP(A269,StockIn!$A$3:$I$1003,9,FALSE)","v":0},null,0,0,0]
[{"$f":"StockIn!A269","v":1267},{"$f":"VLOOKUP(A270,StockIn!$A$3:$B$1003,2,FALSE)","v":0},{"$f":"VLOOKUP(A270,StockIn!$A$3:$I$1003,9,FALSE)","v":0},null,0,0,0]
[{"$f":"StockIn!A270","v":1268},{"$f":"VLOOKUP(A271,StockIn!$A$3:$B$1003,2,FALSE)","v":0},{"$f":"VLOOKUP(A271,StockIn!$A$3:$I$1003,9,FALSE)","v":0},null,0,0,0]
[{"$f":"StockIn!A271","v":1269},{"$f":"VLOOKUP(A272,StockIn!$A$3:$B$1003,2,FALSE)","v":0},{"$f":"VLOOKUP(A272,StockIn!$A$3:$I$1003,9,FALSE)","v":0},null,0,0,0]
[{"$f":"StockIn!A272","v":1270},{"$f":"VLOOKUP(A273,StockIn!$A$3:$B$1003,2,FALSE)","v":0},{"$f":"VLOOKUP(A273,StockIn!$A$3:$I$1003,9,FALSE)","v":0},null,0,0,0]
[{"$f":"StockIn!A273","v":1271},{"$f":"VLOOKUP(A274,StockIn!$A$3:$B$1003,2,FALSE)","v":0},{"$f":"VLOOKUP(A274,StockIn!$A$3:$I$1003,9,FALSE)","v":0},null,0,0,0]
[{"$f":"StockIn!A274","v":1272},{"$f":"VLOOKUP(A275,StockIn!$A$3:$B$1003,2,FALSE)","v":0},{"$f":"VLOOKUP(A275,StockIn!$A$3:$I$1003,9,FALSE)","v":0},null,0,0,0]
[{"$f":"StockIn!A275","v":1273},{"$f":"VLOOKUP(A276,StockIn!$A$3:$B$1003,2,FALSE)","v":0},{"$f":"VLOOKUP(A276,StockIn!$A$3:$I$1003,9,FALSE)","v":0},null,0,0,0]
[{"$f":"StockIn!A276","v":1274},{"$f":"VLOOKUP(A277,StockIn!$A$3:$B$1003,2,FALSE)","v":0},{"$f":"VLOOKUP(A277,StockIn!$A$3:$I$1003,9,FALSE)","v":0},null,0,0,0]
[{"$f":"StockIn!A277","v":1275},{"$f":"VLOOKUP(A278,StockIn!$A$3:$B$1003,2,FALSE)","v":0},{"$f":"VLOOKUP(A278,StockIn!$A$3:$I$1003,9,FALSE)","v":0},null,0,0,0]
[{"$f":"StockIn!A278","v":1276},{"$f":"VLOOKUP(A279,StockIn!$A$3:$B$1003,2,FALSE)","v":0},{"$f":"VLOOKUP(A279,StockIn!$A$3:$I$1003,9,FALSE)","v":0},null,0,0,0]
[{"$f":"StockIn!A279","v":1277},{"$f":"VLOOKUP(A280,StockIn!$A$3:$B$1003,2,FALSE)","v":0},{"$f":"VLOOKUP(A280,StockIn!$A$3:$I$1003,9,FALSE)","v":0},null,0,0,0]
[{"$f":"StockIn!A280","v":1278},{"$f":"VLOOKUP(A281,StockIn!$A$3:$B$1003,2,FALSE)","v":0},{"$f":"VLOOKUP(A281,StockIn!$A$3:$I$1003,9,FALSE)","v":0},null,0,0,0]
[{"$f":"StockIn!A281","v":1279},{"$f":"VLOOKUP(A282,StockIn!$A$3:$B$1003,2,FALSE)","v":0},{"$f":"VLOOKUP(A282,StockIn!$A$3:$I$1003,9,FALSE)","v":0},null,0,0,0]
[{"$f":"StockIn!A282","v":1280},{"$f":"VLOOKUP(A283,StockIn!$A$3:$B$1003,2,FALSE)","v":0},{"$f":"VLOOKUP(A283,StockIn!$A$3:$I$1003,9,FALSE)","v":0},null,0,0,0]
[{"$f":"StockIn!A283","v":1281},{"$f":"VLOOKUP(A284,StockIn!$A$3:$B$1003,2,FALSE)","v":0},{"$f":"VLOOKUP(A284,StockIn!$A$3:$I$1003,9,FALSE)","v":0},null,0,0,0]
[{"$f":"StockIn!A284","v":1282},{"$f":"VLOOKUP(A285,StockIn!$A$3:$B$1003,2,FALSE)","v":0},{"$f":"VLOOKUP(A285,StockIn!$A$3:$I$1003,9,FALSE)","v":0},null,0,0,0]
[{"$f":"StockIn!A285","v":1283},{"$f":"VLOOKUP(A286,StockIn!$A$3:$B$1003,2,FALSE)","v":0},{"$f":"VLOOKUP(A286,StockIn!$A$3:$I$1003,9,FALSE)","v":0},null,0,0,0]
[{"$f":"StockIn!A286","v":1284},{"$f":"VLOOKUP(A287,StockIn!$A$3:$B$1003,2,FALSE)","v":0},{"$f":"VLOOKUP(A287,StockIn!$A$3:$I$1003,9,FALSE)","v":0},null,0,0,0]
[{"$f":"StockIn!A287","v":1285},{"$f":"VLOOKUP(A288,StockIn!$A$3:$B$1003,2,FALSE)","v":0},{"$f":"VLOOKUP(A288,StockIn!$A$3:$I$1003,9,FALSE)","v":0},null,0,0,0]
[{"$f":"StockIn!A288","v":1286},{"$f":"VLOOKUP(A289,StockIn!$A$3:$B$1003,2,FALSE)","v":0},{"$f":"VLOOKUP(A289,StockIn!$A$3:$I$1003,9,FALSE)","v":0},null,0,0,0]
[{"$f":"StockIn!A289","v":1287},{"$f":"VLOOKUP(A290,StockIn!$A$3:$B$1003,2,FALSE)","v":0},{"$f":"VLOOKUP(A290,StockIn!$A$3:$I$1003,9,FALSE)","v":0},null,0,0,0]
[{"$f":"StockIn!A290","v":1288},{"$f":"VLOOKUP(A291,StockIn!$A$3:$B$1003,2,FALSE)","v":0},{"$f":"VLOOKUP(A291,StockIn!$A$3:$I$1003,9,FALSE)","v":0},null,0,0,0]
[{"$f":"StockIn!A291","v":1289},{"$f":"VLOOKUP(A292,StockIn!$A$3:$B$1003,2,FALSE)","v":0},{"$f":"VLOOKUP(A292,StockIn!$A$3:$I$1003,9,FALSE)","v":0},null,0,0,0]
[{"$f":"StockIn!A292","v":1290},{"$f":"VLOOKUP(A293,StockIn!$A$3:$B$1003,2,FALSE)","v":0},{"$f":"VLOOKUP(A293,StockIn!$A$3:$I$1003,9,FALSE)","v":0},null,0,0,0]
[{"$f":"StockIn!A293","v":1291},{"$f":"VLOOKUP(A294,StockIn!$A$3:$B$1003,2,FALSE)","v":0},{"$f":"VLOOKUP(A294,StockIn!$A$3:$I$1003,9,FALSE)","v":0},null,0,0,0]
[{"$f":"StockIn!A294","v":1292},{"$f":"VLOOKUP(A295,StockIn!$A$3:$B$1003,2,FALSE)","v":0},{"$f":"VLOOKUP(A295,StockIn!$A$3:$I$1003,9,FALSE)","v":0},null,0,0,0]
[{"$f":"StockIn!A295","v":1293},{"$f":"VLOOKUP(A296,StockIn!$A$3:$B$1003,2,FALSE)","v":0},{"$f":"VLOOKUP(A296,StockIn!$A$3:$I$1003,9,FALSE)","v":0},null,0,0,0]
[{"$f":"StockIn!A296","v":1294},{"$f":"VLOOKUP(A297,StockIn!$A$3:$B$1003,2,FALSE)","v":0},{"$f":"VLOOKUP(A297,StockIn!$A$3:$I$1003,9,FALSE)","v":0},null,0,0,0]
[{"$f":"StockIn!A297","v":1295},{"$f":"VLOOKUP(A298,StockIn!$A$3:$B$1003,2,FALSE)","v":0},{"$f":"VLOOKUP(A298,StockIn!$A$3:$I$1003,9,FALSE)","v":0},null,0,0,0]
[{"$f":"StockIn!A298","v":1296},{"$f":"VLOOKUP(A299,StockIn!$A$3:$B$1003,2,FALSE)","v":0},{"$f":"VLOOKUP(A299,StockIn!$A$3:$I$1003,9,FALSE)","v":0},null,0,0,0]
[{"$f":"StockIn!A299","v":1297},{"$f":"VLOOKUP(A300,StockIn!$A$3:$B$1003,2,FALSE)","v":0},{"$f":"VLOOKUP(A300,StockIn!$A$3:$I$1003,9,FALSE)","v":0},null,0,0,0]
[{"$f":"StockIn!A300","v":1298},{"$f":"VLOOKUP(A301,StockIn!$A$3:$B$1003,2,FALSE)","v":0},{"$f":"VLOOKUP(A301,StockIn!$A$3:$I$1003,9,FALSE)","v":0},null,0,0,0]
[{"$f":"StockIn!A301","v":1299},{"$f":"VLOOKUP(A302,StockIn!$A$3:$B$1003,2,FALSE)","v":0},{"$f":"VLOOKUP(A302,StockIn!$A$3:$I$1003,9,FALSE)","v":0},null,0,0,0]
[{"$f":"StockIn!A302","v":1300},{"$f":"VLOOKUP(A303,StockIn!$A$3:$B$1003,2,FALSE)","v":0},{"$f":"VLOOKUP(A303,StockIn!$A$3:$I$1003,9,FALSE)","v":0},null,0,0,0]
[{"$f":"StockIn!A303","v":1301},{"$f":"VLOOKUP(A304,StockIn!$A$3:$B$1003,2,FALSE)","v":0},{"$f":"VLOOKUP(A304,StockIn!$A$3:$I$1003,9,FALSE)","v":0},null,0,0,0]
[{"$f":"StockIn!A304","v":1302},{"$f":"VLOOKUP(A305,StockIn!$A$3:$B$1003,2,FALSE)","v":0},{"$f":"VLOOKUP(A305,StockIn!$A$3:$I$1003,9,FALSE)","v":0},null,0,0,0]
[{"$f":"StockIn!A305","v":1303},{"$f":"VLOOKUP(A306,StockIn!$A$3:$B$1003,2,FALSE)","v":0},{"$f":"VLOOKUP(A306,StockIn!$A$3:$I$1003,9,FALSE)","v":0},null,0,0,0]
[{"$f":"StockIn!A306","v":1304},{"$f":"VLOOKUP(A307,StockIn!$A$3:$B$1003,2,FALSE)","v":0},{"$f":"VLOOKUP(A307,StockIn!$A$3:$I$1003,9,FALSE)","v":0},null,0,0,0]
[{"$f":"StockIn!A307","v":1305},{"$f":"VLOOKUP(A308,StockIn!$A$3:$B$1003,2,FALSE)","v":0},{"$f":"VLOOKUP(A308,StockIn!$A$3:$I$1003,9,FALSE)","v":0},null,0,0,0]
[{"$f":"StockIn!A308","v":1306},{"$f":"VLOOKUP(A309,StockIn!$A$3:$B$1003,2,FALSE)","v":0},{"$f":"VLOOKUP(A309,StockIn!$A$3:$I$1003,9,FALSE)","v":0},null,0,0,0]
[{"$f":"StockIn!A309","v":1307},{"$f":"VLOOKUP(A310,StockIn!$A$3:$B$1003,2,FALSE)","v":0},{"$f":"VLOOKUP(A310,StockIn!$A$3:$I$1003,9,FALSE)","v":0},null,0,0,0]
[{"$f":"StockIn!A310","v":1308},{"$f":"VLOOKUP(A311,StockIn!$A$3:$B$1003,2,FALSE)","v":0},{"$f":"VLOOKUP(A311,StockIn!$A$3:$I$1003,9,FALSE)","v":0},null,0,0,0]
[{"$f":"StockIn!A311","v":1309},{"$f":"VLOOKUP(A312,StockIn!$A$3:$B$1003,2,FALSE)","v":0},{"$f":"VLOOKUP(A312,StockIn!$A$3:$I$1003,9,FALSE)","v":0},null,0,0,0]
[{"$f":"StockIn!A312","v":1310},{"$f":"VLOOKUP(A313,StockIn!$A$3:$B$1003,2,FALSE)","v":0},{"$f":"VLOOKUP(A313,StockIn!$A$3:$I$1003,9,FALSE)","v":0},null,0,0,0]
[{"$f":"StockIn!A313","v":1311},{"$f":"VLOOKUP(A314,StockIn!$A$3:$B$1003,2,FALSE)","v":0},{"$f":"VLOOKUP(A314,StockIn!$A$3:$I$1003,9,FALSE)","v":0},null,0,0,0]
[{"$f":"StockIn!A314","v":1312},{"$f":"VLOOKUP(A315,StockIn!$A$3:$B$1003,2,FALSE)","v":0},{"$f":"VLOOKUP(A315,StockIn!$A$3:$I$1003,9,FALSE)","v":0},null,0,0,0]
[{"$f":"StockIn!A315","v":1313},{"$f":"VLOOKUP(A316,StockIn!$A$3:$B$1003,2,FALSE)","v":0},{"$f":"VLOOKUP(A316,StockIn!$A$3:$I$1003,9,FALSE)","v":0},null,0,0,0]
[{"$f":"StockIn!A316","v":1314},{"$f":"VLOOKUP(A317,StockIn!$A$3:$B$1003,2,FALSE)","v":0},{"$f":"VLOOKUP(A317,StockIn!$A$3:$I$1003,9,FALSE)","v":0},null,0,0,0]
[{"$f":"StockIn!A317","v":1315},{"$f":"VLOOKUP(A318,StockIn!$A$3:$B$1003,2,FALSE)","v":0},{"$f":"VLOOKUP(A318,StockIn!$A$3:$I$1003,9,FALSE)","v":0},null,0,0,0]
[{"$f":"StockIn!A318","v":1316},{"$f":"VLOOKUP(A319,StockIn!$A$3:$B$1003,2,FALSE)","v":0},{"$f":"VLOOKUP(A319,StockIn!$A$3:$I$1003,9,FALSE)","v":0},null,0,0,0]
[{"$f":"StockIn!A319","v":1317},{"$f":"VLOOKUP(A320,StockIn!$A$3:$B$1003,2,FALSE)","v":0},{"$f":"VLOOKUP(A320,StockIn!$A$3:$I$1003,9,FALSE)","v":0},null,0,0,0]
[{"$f":"StockIn!A320","v":1318},{"$f":"VLOOKUP(A321,StockIn!$A$3:$B$1003,2,FALSE)","v":0},{"$f":"VLOOKUP(A321,StockIn!$A$3:$I$1003,9,FALSE)","v":0},null,0,0,0]
[{"$f":"StockIn!A321","v":1319},{"$f":"VLOOKUP(A322,StockIn!$A$3:$B$1003,2,FALSE)","v":0},{"$f":"VLOOKUP(A322,StockIn!$A$3:$I$1003,9,FALSE)","v":0},null,0,0,0]
[{"$f":"StockIn!A322","v":1320},{"$f":"VLOOKUP(A323,StockIn!$A$3:$B$1003,2,FALSE)","v":0},{"$f":"VLOOKUP(A323,StockIn!$A$3:$I$1003,9,FALSE)","v":0},null,0,0,0]
[{"$f":"StockIn!A323","v":1321},{"$f":"VLOOKUP(A324,StockIn!$A$3:$B$1003,2,FALSE)","v":0},{"$f":"VLOOKUP(A324,StockIn!$A$3:$I$1003,9,FALSE)","v":0},null,0,0,0]
[{"$f":"StockIn!A324","v":1322},{"$f":"VLOOKUP(A325,StockIn!$A$3:$B$1003,2,FALSE)","v":0},{"$f":"VLOOKUP(A325,StockIn!$A$3:$I$1003,9,FALSE)","v":0},null,0,{"$f":"D325+E325","v":0},{"$f":"VLOOKUP(A325,$A$4:$L$1003,3,FALSE)-VLOOKUP(A325,$A$4:$L$1003,6,FALSE)","v":0}]
[{"$f":"StockIn!A325","v":1323},{"$f":"VLOOKUP(A326,StockIn!$A$3:$B$1003,2,FALSE)","v":0},{"$f":"VLOOKUP(A326,StockIn!$A$3:$I$1003,9,FALSE)","v":0},null,0,0,0]
[{"$f":"StockIn!A326","v":1324},{"$f":"VLOOKUP(A327,StockIn!$A$3:$B$1003,2,FALSE)","v":0},{"$f":"VLOOKUP(A327,StockIn!$A$3:$I$1003,9,FALSE)","v":0},null,0,0,0]
[{"$f":"StockIn!A327","v":1325},{"$f":"VLOOKUP(A328,StockIn!$A$3:$B$1003,2,FALSE)","v":0},{"$f":"VLOOKUP(A328,StockIn!$A$3:$I$1003,9,FALSE)","v":0},null,0,0,0]
[{"$f":"StockIn!A328","v":1326},{"$f":"VLOOKUP(A329,StockIn!$A$3:$B$1003,2,FALSE)","v":0},{"$f":"VLOOKUP(A329,StockIn!$A$3:$I$1003,9,FALSE)","v":0},null,0,0,0]
[{"$f":"StockIn!A329","v":1327},{"$f":"VLOOKUP(A330,StockIn!$A$3:$B$1003,2,FALSE)","v":0},{"$f":"VLOOKUP(A330,StockIn!$A$3:$I$1003,9,FALSE)","v":0},null,0,0,0]
[{"$f":"StockIn!A330","v":1328},{"$f":"VLOOKUP(A331,StockIn!$A$3:$B$1003,2,FALSE)","v":0},{"$f":"VLOOKUP(A331,StockIn!$A$3:$I$1003,9,FALSE)","v":0},null,0,0,0]
[{"$f":"StockIn!A331","v":1329},{"$f":"VLOOKUP(A332,StockIn!$A$3:$B$1003,2,FALSE)","v":0},{"$f":"VLOOKUP(A332,StockIn!$A$3:$I$1003,9,FALSE)","v":0},null,0,0,0]
[{"$f":"StockIn!A332","v":1330},{"$f":"VLOOKUP(A333,StockIn!$A$3:$B$1003,2,FALSE)","v":0},{"$f":"VLOOKUP(A333,StockIn!$A$3:$I$1003,9,FALSE)","v":0},null,0,0,0]
[{"$f":"StockIn!A333","v":1331},{"$f":"VLOOKUP(A334,StockIn!$A$3:$B$1003,2,FALSE)","v":0},{"$f":"VLOOKUP(A334,StockIn!$A$3:$I$1003,9,FALSE)","v":0},null,0,0,0]
[{"$f":"StockIn!A334","v":1332},{"$f":"VLOOKUP(A335,StockIn!$A$3:$B$1003,2,FALSE)","v":0},{"$f":"VLOOKUP(A335,StockIn!$A$3:$I$1003,9,FALSE)","v":0},null,0,0,0]
[{"$f":"StockIn!A335","v":1333},{"$f":"VLOOKUP(A336,StockIn!$A$3:$B$1003,2,FALSE)","v":0},{"$f":"VLOOKUP(A336,StockIn!$A$3:$I$1003,9,FALSE)","v":0},null,0,0,0]
[{"$f":"StockIn!A336","v":1334},{"$f":"VLOOKUP(A337,StockIn!$A$3:$B$1003,2,FALSE)","v":0},{"$f":"VLOOKUP(A337,StockIn!$A$3:$I$1003,9,FALSE)","v":0},null,0,0,0]
[{"$f":"StockIn!A337","v":1335},{"$f":"VLOOKUP(A338,StockIn!$A$3:$B$1003,2,FALSE)","v":0},{"$f":"VLOOKUP(A338,StockIn!$A$3:$I$1003,9,FALSE)","v":0},null,0,0,0]
[{"$f":"StockIn!A338","v":1336},{"$f":"VLOOKUP(A339,StockIn!$A$3:$B$1003,2,FALSE)","v":0},{"$f":"VLOOKUP(A339,StockIn!$A$3:$I$1003,9,FALSE)","v":0},null,0,0,0]
[{"$f":"StockIn!A339","v":1337},{"$f":"VLOOKUP(A340,StockIn!$A$3:$B$1003,2,FALSE)","v":0},{"$f":"VLOOKUP(A340,StockIn!$A$3:$I$1003,9,FALSE)","v":0},null,0,0,0]
[{"$f":"StockIn!A340","v":1338},{"$f":"VLOOKUP(A341,StockIn!$A$3:$B$1003,2,FALSE)","v":0},{"$f":"VLOOKUP(A341,StockIn!$A$3:$I$1003,9,FALSE)","v":0},null,0,0,0]
[{"$f":"StockIn!A341","v":1339},{"$f":"VLOOKUP(A342,StockIn!$A$3:$B$1003,2,FALSE)","v":0},{"$f":"VLOOKUP(A342,StockIn!$A$3:$I$1003,9,FALSE)","v":0},null,0,0,0]
[{"$f":"StockIn!A342","v":1340},{"$f":"VLOOKUP(A343,StockIn!$A$3:$B$1003,2,FALSE)","v":0},{"$f":"VLOOKUP(A343,StockIn!$A$3:$I$1003,9,FALSE)","v":0},null,0,0,0]
[{"$f":"StockIn!A343","v":1341},{"$f":"VLOOKUP(A344,StockIn!$A$3:$B$1003,2,FALSE)","v":0},{"$f":"VLOOKUP(A344,StockIn!$A$3:$I$1003,9,FALSE)","v":0},null,0,0,0]
[{"$f":"StockIn!A344","v":1342},{"$f":"VLOOKUP(A345,StockIn!$A$3:$B$1003,2,FALSE)","v":0},{"$f":"VLOOKUP(A345,StockIn!$A$3:$I$1003,9,FALSE)","v":0},null,0,0,0]
[{"$f":"StockIn!A345","v":1343},{"$f":"VLOOKUP(A346,StockIn!$A$3:$B$1003,2,FALSE)","v":0},{"$f":"VLOOKUP(A346,StockIn!$A$3:$I$1003,9,FALSE)","v":0},null,0,0,0]
[{"$f":"StockIn!A346","v":1344},{"$f":"VLOOKUP(A347,StockIn!$A$3:$B$1003,2,FALSE)","v":0},{"$f":"VLOOKUP(A347,StockIn!$A$3:$I$1003,9,FALSE)","v":0},null,0,0,0]
[{"$f":"StockIn!A347","v":1345},{"$f":"VLOOKUP(A348,StockIn!$A$3:$B$1003,2,FALSE)","v":0},{"$f":"VLOOKUP(A348,StockIn!$A$3:$I$1003,9,FALSE)","v":0},null,0,0,0]
[{"$f":"StockIn!A348","v":1346},{"$f":"VLOOKUP(A349,StockIn!$A$3:$B$1003,2,FALSE)","v":0},{"$f":"VLOOKUP(A349,StockIn!$A$3:$I$1003,9,FALSE)","v":0},null,0,0,0]
[{"$f":"StockIn!A349","v":1347},{"$f":"VLOOKUP(A350,StockIn!$A$3:$B$1003,2,FALSE)","v":0},{"$f":"VLOOKUP(A350,StockIn!$A$3:$I$1003,9,FALSE)","v":0},null,0,0,0]
[{"$f":"StockIn!A350","v":1348},{"$f":"VLOOKUP(A351,StockIn!$A$3:$B$1003,2,FALSE)","v":0},{"$f":"VLOOKUP(A351,StockIn!$A$3:$I$1003,9,FALSE)","v":0},null,0,0,0]
[{"$f":"StockIn!A351","v":1349},{"$f":"VLOOKUP(A352,StockIn!$A$3:$B$1003,2,FALSE)","v":0},{"$f":"VLOOKUP(A352,StockIn!$A$3:$I$1003,9,FALSE)","v":0},null,0,0,0]
[{"$f":"StockIn!A352","v":1350},{"$f":"VLOOKUP(A353,StockIn!$A$3:$B$1003,2,FALSE)","v":0},{"$f":"VLOOKUP(A353,StockIn!$A$3:$I$1003,9,FALSE)","v":0},null,0,0,0]
[{"$f":"StockIn!A353","v":1351},{"$f":"VLOOKUP(A354,StockIn!$A$3:$B$1003,2,FALSE)","v":0},{"$f":"VLOOKUP(A354,StockIn!$A$3:$I$1003,9,FALSE)","v":0},null,0,0,0]
[{"$f":"StockIn!A354","v":1352},{"$f":"VLOOKUP(A355,StockIn!$A$3:$B$1003,2,FALSE)","v":0},{"$f":"VLOOKUP(A355,StockIn!$A$3:$I$1003,9,FALSE)","v":0},null,0,0,0]
[{"$f":"StockIn!A355","v":1353},{"$f":"VLOOKUP(A356,StockIn!$A$3:$B$1003,2,FALSE)","v":0},{"$f":"VLOOKUP(A356,StockIn!$A$3:$I$1003,9,FALSE)","v":0},null,0,0,0]
[{"$f":"StockIn!A356","v":1354},{"$f":"VLOOKUP(A357,StockIn!$A$3:$B$1003,2,FALSE)","v":0},{"$f":"VLOOKUP(A357,StockIn!$A$3:$I$1003,9,FALSE)","v":0},null,0,0,0]
[{"$f":"StockIn!A357","v":1355},{"$f":"VLOOKUP(A358,StockIn!$A$3:$B$1003,2,FALSE)","v":0},{"$f":"VLOOKUP(A358,StockIn!$A$3:$I$1003,9,FALSE)","v":0},null,0,0,0]
[{"$f":"StockIn!A358","v":1356},{"$f":"VLOOKUP(A359,StockIn!$A$3:$B$1003,2,FALSE)","v":0},{"$f":"VLOOKUP(A359,StockIn!$A$3:$I$1003,9,FALSE)","v":0},null,0,0,0]
[{"$f":"StockIn!A359","v":1357},{"$f":"VLOOKUP(A360,StockIn!$A$3:$B$1003,2,FALSE)","v":0},{"$f":"VLOOKUP(A360,StockIn!$A$3:$I$1003,9,FALSE)","v":0},null,0,0,0]
[{"$f":"StockIn!A360","v":1358},{"$f":"VLOOKUP(A361,StockIn!$A$3:$B$1003,2,FALSE)","v":0},{"$f":"VLOOKUP(A361,StockIn!$A$3:$I$1003,9,FALSE)","v":0},null,0,0,0]
[{"$f":"StockIn!A361","v":1359},{"$f":"VLOOKUP(A362,StockIn!$A$3:$B$1003,2,FALSE)","v":0},{"$f":"VLOOKUP(A362,StockIn!$A$3:$I$1003,9,FALSE)","v":0},null,0,0,0]
[{"$f":"StockIn!A362","v":1360},{"$f":"VLOOKUP(A363,StockIn!$A$3:$B$1003,2,FALSE)","v":0},{"$f":"VLOOKUP(A363,StockIn!$A$3:$I$1003,9,FALSE)","v":0},null,0,0,0]
[{"$f":"StockIn!A363","v":1361},{"$f":"VLOOKUP(A364,StockIn!$A$3:$B$1003,2,FALSE)","v":0},{"$f":"VLOOKUP(A364,StockIn!$A$3:$I$1003,9,FALSE)","v":0},null,0,0,0]
[{"$f":"StockIn!A364","v":1362},{"$f":"VLOOKUP(A365,StockIn!$A$3:$B$1003,2,FALSE)","v":0},{"$f":"VLOOKUP(A365,StockIn!$A$3:$I$1003,9,FALSE)","v":0},null,0,0,0]
[{"$f":"StockIn!A365","v":1363},{"$f":"VLOOKUP(A366,StockIn!$A$3:$B$1003,2,FALSE)","v":0},{"$f":"VLOOKUP(A366,StockIn!$A$3:$I$1003,9,FALSE)","v":0},null,0,0,0]
[{"$f":"StockIn!A366","v":1364},{"$f":"VLOOKUP(A367,StockIn!$A$3:$B$1003,2,FALSE)","v":0},{"$f":"VLOOKUP(A367,StockIn!$A$3:$I$1003,9,FALSE)","v":0},null,0,0,0]
[{"$f":"StockIn!A367","v":1365},{"$f":"VLOOKUP(A368,StockIn!$A$3:$B$1003,2,FALSE)","v":0},{"$f":"VLOOKUP(A368,StockIn!$A$3:$I$1003,9,FALSE)","v":0},null,0,0,0]
[{"$f":"StockIn!A368","v":1366},{"$f":"VLOOKUP(A369,StockIn!$A$3:$B$1003,2,FALSE)","v":0},{"$f":"VLOOKUP(A369,StockIn!$A$3:$I$1003,9,FALSE)","v":0},null,0,0,0]
[{"$f":"StockIn!A369","v":1367},{"$f":"VLOOKUP(A370,StockIn!$A$3:$B$1003,2,FALSE)","v":0},{"$f":"VLOOKUP(A370,StockIn!$A$3:$I$1003,9,FALSE)","v":0},null,0,0,0]
[{"$f":"StockIn!A370","v":1368},{"$f":"VLOOKUP(A371,StockIn!$A$3:$B$1003,2,FALSE)","v":0},{"$f":"VLOOKUP(A371,StockIn!$A$3:$I$1003,9,FALSE)","v":0},null,0,0,0]
[{"$f":"StockIn!A371","v":1369},{"$f":"VLOOKUP(A372,StockIn!$A$3:$B$1003,2,FALSE)","v":0},{"$f":"VLOOKUP(A372,StockIn!$A$3:$I$1003,9,FALSE)","v":0},null,0,0,0]
[{"$f":"StockIn!A372","v":1370},{"$f":"VLOOKUP(A373,StockIn!$A$3:$B$1003,2,FALSE)","v":0},{"$f":"VLOOKUP(A373,StockIn!$A$3:$I$1003,9,FALSE)","v":0},null,0,0,0]
[{"$f":"StockIn!A373","v":1371},{"$f":"VLOOKUP(A374,StockIn!$A$3:$B$1003,2,FALSE)","v":0},{"$f":"VLOOKUP(A374,StockIn!$A$3:$I$1003,9,FALSE)","v":0},null,0,0,0]
[{"$f":"StockIn!A374","v":1372},{"$f":"VLOOKUP(A375,StockIn!$A$3:$B$1003,2,FALSE)","v":0},{"$f":"VLOOKUP(A375,StockIn!$A$3:$I$1003,9,FALSE)","v":0},null,0,0,0]
[{"$f":"StockIn!A375","v":1373},{"$f":"VLOOKUP(A376,StockIn!$A$3:$B$1003,2,FALSE)","v":0},{"$f":"VLOOKUP(A376,StockIn!$A$3:$I$1003,9,FALSE)","v":0},null,0,0,0]
[{"$f":"StockIn!A376","v":1374},{"$f":"VLOOKUP(A377,StockIn!$A$3:$B$1003,2,FALSE)","v":0},{"$f":"VLOOKUP(A377,StockIn!$A$3:$I$1003,9,FALSE)","v":0},null,0,0,0]
[{"$f":"StockIn!A377","v":1375},{"$f":"VLOOKUP(A378,StockIn!$A$3:$B$1003,2,FALSE)","v":0},{"$f":"VLOOKUP(A378,StockIn!$A$3:$I$1003,9,FALSE)","v":0},null,0,0,0]
[{"$f":"StockIn!A378","v":1376},{"$f":"VLOOKUP(A379,StockIn!$A$3:$B$1003,2,FALSE)","v":0},{"$f":"VLOOKUP(A379,StockIn!$A$3:$I$1003,9,FALSE)","v":0},null,0,0,0]
[{"$f":"StockIn!A379","v":1377},{"$f":"VLOOKUP(A380,StockIn!$A$3:$B$1003,2,FALSE)","v":0},{"$f":"VLOOKUP(A380,StockIn!$A$3:$I$1003,9,FALSE)","v":0},null,0,0,0]
[{"$f":"StockIn!A380","v":1378},{"$f":"VLOOKUP(A381,StockIn!$A$3:$B$1003,2,FALSE)","v":0},{"$f":"VLOOKUP(A381,StockIn!$A$3:$I$1003,9,FALSE)","v":0},null,0,0,0]
[{"$f":"StockIn!A381","v":1379},{"$f":"VLOOKUP(A382,StockIn!$A$3:$B$1003,2,FALSE)","v":0},{"$f":"VLOOKUP(A382,StockIn!$A$3:$I$1003,9,FALSE)","v":0},null,0,0,0]
[{"$f":"StockIn!A382","v":1380},{"$f":"VLOOKUP(A383,StockIn!$A$3:$B$1003,2,FALSE)","v":0},{"$f":"VLOOKUP(A383,StockIn!$A$3:$I$1003,9,FALSE)","v":0},null,0,0,0]
[{"$f":"StockIn!A383","v":1381},{"$f":"VLOOKUP(A384,StockIn!$A$3:$B$1003,2,FALSE)","v":0},{"$f":"VLOOKUP(A384,StockIn!$A$3:$I$1003,9,FALSE)","v":0},null,0,0,0]
[{"$f":"StockIn!A384","v":1382},{"$f":"VLOOKUP(A385,StockIn!$A$3:$B$1003,2,FALSE)","v":0},{"$f":"VLOOKUP(A385,StockIn!$A$3:$I$1003,9,FALSE)","v":0},null,0,0,0]
[{"$f":"StockIn!A385","v":1383},{"$f":"VLOOKUP(A386,StockIn!$A$3:$B$1003,2,FALSE)","v":0},{"$f":"VLOOKUP(A386,StockIn!$A$3:$I$1003,9,FALSE)","v":0},null,0,0,0]
[{"$f":"StockIn!A386","v":1384},{"$f":"VLOOKUP(A387,StockIn!$A$3:$B$1003,2,FALSE)","v":0},{"$f":"VLOOKUP(A387,StockIn!$A$3:$I$1003,9,FALSE)","v":0},null,0,0,0]
[{"$f":"StockIn!A387","v":1385},{"$f":"VLOOKUP(A388,StockIn!$A$3:$B$1003,2,FALSE)","v":0},{"$f":"VLOOKUP(A388,StockIn!$A$3:$I$1003,9,FALSE)","v":0},null,0,0,0]
[{"$f":"StockIn!A388","v":1386},{"$f":"VLOOKUP(A389,StockIn!$A$3:$B$1003,2,FALSE)","v":0},{"$f":"VLOOKUP(A389,StockIn!$A$3:$I$1003,9,FALSE)","v":0},null,0,{"$f":"D389+E389","v":0},{"$f":"VLOOKUP(A389,$A$4:$L$1003,3,FALSE)-VLOOKUP(A389,$A$4:$L$1003,6,FALSE)","v":0}]
[{"$f":"StockIn!A389","v":1387},{"$f":"VLOOKUP(A390,StockIn!$A$3:$B$1003,2,FALSE)","v":0},{"$f":"VLOOKUP(A390,StockIn!$A$3:$I$1003,9,FALSE)","v":0},null,0,0,0]
[{"$f":"StockIn!A390","v":1388},{"$f":"VLOOKUP(A391,StockIn!$A$3:$B$1003,2,FALSE)","v":0},{"$f":"VLOOKUP(A391,StockIn!$A$3:$I$1003,9,FALSE)","v":0},null,0,0,0]
[{"$f":"StockIn!A391","v":1389},{"$f":"VLOOKUP(A392,StockIn!$A$3:$B$1003,2,FALSE)","v":0},{"$f":"VLOOKUP(A392,StockIn!$A$3:$I$1003,9,FALSE)","v":0},null,0,0,0]
[{"$f":"StockIn!A392","v":1390},{"$f":"VLOOKUP(A393,StockIn!$A$3:$B$1003,2,FALSE)","v":0},{"$f":"VLOOKUP(A393,StockIn!$A$3:$I$1003,9,FALSE)","v":0},null,0,0,0]
[{"$f":"StockIn!A393","v":1391},{"$f":"VLOOKUP(A394,StockIn!$A$3:$B$1003,2,FALSE)","v":0},{"$f":"VLOOKUP(A394,StockIn!$A$3:$I$1003,9,FALSE)","v":0},null,0,0,0]
[{"$f":"StockIn!A394","v":1392},{"$f":"VLOOKUP(A395,StockIn!$A$3:$B$1003,2,FALSE)","v":0},{"$f":"VLOOKUP(A395,StockIn!$A$3:$I$1003,9,FALSE)","v":0},null,0,0,0]
[{"$f":"StockIn!A395","v":1393},{"$f":"VLOOKUP(A396,StockIn!$A$3:$B$1003,2,FALSE)","v":0},{"$f":"VLOOKUP(A396,StockIn!$A$3:$I$1003,9,FALSE)","v":0},null,0,0,0]
[{"$f":"StockIn!A396","v":1394},{"$f":"VLOOKUP(A397,StockIn!$A$3:$B$1003,2,FALSE)","v":0},{"$f":"VLOOKUP(A397,StockIn!$A$3:$I$1003,9,FALSE)","v":0},null,0,0,0]
[{"$f":"StockIn!A397","v":1395},{"$f":"VLOOKUP(A398,StockIn!$A$3:$B$1003,2,FALSE)","v":0},{"$f":"VLOOKUP(A398,StockIn!$A$3:$I$1003,9,FALSE)","v":0},null,0,0,0]
[{"$f":"StockIn!A398","v":1396},{"$f":"VLOOKUP(A399,StockIn!$A$3:$B$1003,2,FALSE)","v":0},{"$f":"VLOOKUP(A399,StockIn!$A$3:$I$1003,9,FALSE)","v":0},null,0,0,0]
[{"$f":"StockIn!A399","v":1397},{"$f":"VLOOKUP(A400,StockIn!$A$3:$B$1003,2,FALSE)","v":0},{"$f":"VLOOKUP(A400,StockIn!$A$3:$I$1003,9,FALSE)","v":0},null,0,0,0]
[{"$f":"StockIn!A400","v":1398},{"$f":"VLOOKUP(A401,StockIn!$A$3:$B$1003,2,FALSE)","v":0},{"$f":"VLOOKUP(A401,StockIn!$A$3:$I$1003,9,FALSE)","v":0},null,0,0,0]
[{"$f":"StockIn!A401","v":1399},{"$f":"VLOOKUP(A402,StockIn!$A$3:$B$1003,2,FALSE)","v":0},{"$f":"VLOOKUP(A402,StockIn!$A$3:$I$1003,9,FALSE)","v":0},null,0,0,0]
[{"$f":"StockIn!A402","v":1400},{"$f":"VLOOKUP(A403,StockIn!$A$3:$B$1003,2,FALSE)","v":0},{"$f":"VLOOKUP(A403,StockIn!$A$3:$I$1003,9,FALSE)","v":0},null,0,0,0]
[{"$f":"StockIn!A403","v":1401},{"$f":"VLOOKUP(A404,StockIn!$A$3:$B$1003,2,FALSE)","v":0},{"$f":"VLOOKUP(A404,StockIn!$A$3:$I$1003,9,FALSE)","v":0},null,0,0,0]
[{"$f":"StockIn!A404","v":1402},{"$f":"VLOOKUP(A405,StockIn!$A$3:$B$1003,2,FALSE)","v":0},{"$f":"VLOOKUP(A405,StockIn!$A$3:$I$1003,9,FALSE)","v":0},null,0,0,0]
[{"$f":"StockIn!A405","v":1403},{"$f":"VLOOKUP(A406,StockIn!$A$3:$B$1003,2,FALSE)","v":0},{"$f":"VLOOKUP(A406,StockIn!$A$3:$I$1003,9,FALSE)","v":0},null,0,0,0]
[{"$f":"StockIn!A406","v":1404},{"$f":"VLOOKUP(A407,StockIn!$A$3:$B$1003,2,FALSE)","v":0},{"$f":"VLOOKUP(A407,StockIn!$A$3:$I$1003,9,FALSE)","v":0},null,0,0,0]
[{"$f":"StockIn!A407","v":1405},{"$f":"VLOOKUP(A408,StockIn!$A$3:$B$1003,2,FALSE)","v":0},{"$f":"VLOOKUP(A408,StockIn!$A$3:$I$1003,9,FALSE)","v":0},null,0,0,0]
[{"$f":"StockIn!A408","v":1406},{"$f":"VLOOKUP(A409,StockIn!$A$3:$B$1003,2,FALSE)","v":0},{"$f":"VLOOKUP(A409,StockIn!$A$3:$I$1003,9,FALSE)","v":0},null,0,0,0]
[{"$f":"StockIn!A409","v":1407},{"$f":"VLOOKUP(A410,StockIn!$A$3:$B$1003,2,FALSE)","v":0},{"$f":"VLOOKUP(A410,StockIn!$A$3:$I$1003,9,FALSE)","v":0},null,0,0,0]
[{"$f":"StockIn!A410","v":1408},{"$f":"VLOOKUP(A411,StockIn!$A$3:$B$1003,2,FALSE)","v":0},{"$f":"VLOOKUP(A411,StockIn!$A$3:$I$1003,9,FALSE)","v":0},null,0,0,0]
[{"$f":"StockIn!A411","v":1409},{"$f":"VLOOKUP(A412,StockIn!$A$3:$B$1003,2,FALSE)","v":0},{"$f":"VLOOKUP(A412,StockIn!$A$3:$I$1003,9,FALSE)","v":0},null,0,0,0]
[{"$f":"StockIn!A412","v":1410},{"$f":"VLOOKUP(A413,StockIn!$A$3:$B$1003,2,FALSE)","v":0},{"$f":"VLOOKUP(A413,StockIn!$A$3:$I$1003,9,FALSE)","v":0},null,0,0,0]
[{"$f":"StockIn!A413","v":1411},{"$f":"VLOOKUP(A414,StockIn!$A$3:$B$1003,2,FALSE)","v":0},{"$f":"VLOOKUP(A414,StockIn!$A$3:$I$1003,9,FALSE)","v":0},null,0,0,0]
[{"$f":"StockIn!A414","v":1412},{"$f":"VLOOKUP(A415,StockIn!$A$3:$B$1003,2,FALSE)","v":0},{"$f":"VLOOKUP(A415,StockIn!$A$3:$I$1003,9,FALSE)","v":0},null,0,0,0]
[{"$f":"StockIn!A415","v":1413},{"$f":"VLOOKUP(A416,StockIn!$A$3:$B$1003,2,FALSE)","v":0},{"$f":"VLOOKUP(A416,StockIn!$A$3:$I$1003,9,FALSE)","v":0},null,0,0,0]
[{"$f":"StockIn!A416","v":1414},{"$f":"VLOOKUP(A417,StockIn!$A$3:$B$1003,2,FALSE)","v":0},{"$f":"VLOOKUP(A417,StockIn!$A$3:$I$1003,9,FALSE)","v":0},null,0,0,0]
[{"$f":"StockIn!A417","v":1415},{"$f":"VLOOKUP(A418,StockIn!$A$3:$B$1003,2,FALSE)","v":0},{"$f":"VLOOKUP(A418,StockIn!$A$3:$I$1003,9,FALSE)","v":0},null,0,0,0]
[{"$f":"StockIn!A418","v":1416},{"$f":"VLOOKUP(A419,StockIn!$A$3:$B$1003,2,FALSE)","v":0},{"$f":"VLOOKUP(A419,StockIn!$A$3:$I$1003,9,FALSE)","v":0},null,0,0,0]
[{"$f":"StockIn!A419","v":1417},{"$f":"VLOOKUP(A420,StockIn!$A$3:$B$1003,2,FALSE)","v":0},{"$f":"VLOOKUP(A420,StockIn!$A$3:$I$1003,9,FALSE)","v":0},null,0,0,0]
[{"$f":"StockIn!A420","v":1418},{"$f":"VLOOKUP(A421,StockIn!$A$3:$B$1003,2,FALSE)","v":0},{"$f":"VLOOKUP(A421,StockIn!$A$3:$I$1003,9,FALSE)","v":0},null,0,0,0]
[{"$f":"StockIn!A421","v":1419},{"$f":"VLOOKUP(A422,StockIn!$A$3:$B$1003,2,FALSE)","v":0},{"$f":"VLOOKUP(A422,StockIn!$A$3:$I$1003,9,FALSE)","v":0},null,0,0,0]
[{"$f":"StockIn!A422","v":1420},{"$f":"VLOOKUP(A423,StockIn!$A$3:$B$1003,2,FALSE)","v":0},{"$f":"VLOOKUP(A423,StockIn!$A$3:$I$1003,9,FALSE)","v":0},null,0,0,0]
[{"$f":"StockIn!A423","v":1421},{"$f":"VLOOKUP(A424,StockIn!$A$3:$B$1003,2,FALSE)","v":0},{"$f":"VLOOKUP(A424,StockIn!$A$3:$I$1003,9,FALSE)","v":0},null,0,0,0]
[{"$f":"StockIn!A424","v":1422},{"$f":"VLOOKUP(A425,StockIn!$A$3:$B$1003,2,FALSE)","v":0},{"$f":"VLOOKUP(A425,StockIn!$A$3:$I$1003,9,FALSE)","v":0},null,0,0,0]
[{"$f":"StockIn!A425","v":1423},{"$f":"VLOOKUP(A426,StockIn!$A$3:$B$1003,2,FALSE)","v":0},{"$f":"VLOOKUP(A426,StockIn!$A$3:$I$1003,9,FALSE)","v":0},null,0,0,0]
[{"$f":"StockIn!A426","v":1424},{"$f":"VLOOKUP(A427,StockIn!$A$3:$B$1003,2,FALSE)","v":0},{"$f":"VLOOKUP(A427,StockIn!$A$3:$I$1003,9,FALSE)","v":0},null,0,0,0]
[{"$f":"StockIn!A427","v":1425},{"$f":"VLOOKUP(A428,StockIn!$A$3:$B$1003,2,FALSE)","v":0},{"$f":"VLOOKUP(A428,StockIn!$A$3:$I$1003,9,FALSE)","v":0},null,0,0,0]
[{"$f":"StockIn!A428","v":1426},{"$f":"VLOOKUP(A429,StockIn!$A$3:$B$1003,2,FALSE)","v":0},{"$f":"VLOOKUP(A429,StockIn!$A$3:$I$1003,9,FALSE)","v":0},null,0,0,0]
[{"$f":"StockIn!A429","v":1427},{"$f":"VLOOKUP(A430,StockIn!$A$3:$B$1003,2,FALSE)","v":0},{"$f":"VLOOKUP(A430,StockIn!$A$3:$I$1003,9,FALSE)","v":0},null,0,0,0]
[{"$f":"StockIn!A430","v":1428},{"$f":"VLOOKUP(A431,StockIn!$A$3:$B$1003,2,FALSE)","v":0},{"$f":"VLOOKUP(A431,StockIn!$A$3:$I$1003,9,FALSE)","v":0},null,0,0,0]
[{"$f":"StockIn!A431","v":1429},{"$f":"VLOOKUP(A432,StockIn!$A$3:$B$1003,2,FALSE)","v":0},{"$f":"VLOOKUP(A432,StockIn!$A$3:$I$1003,9,FALSE)","v":0},null,0,0,0]
[{"$f":"StockIn!A432","v":1430},{"$f":"VLOOKUP(A433,StockIn!$A$3:$B$1003,2,FALSE)","v":0},{"$f":"VLOOKUP(A433,StockIn!$A$3:$I$1003,9,FALSE)","v":0},null,0,0,0]
[{"$f":"StockIn!A433","v":1431},{"$f":"VLOOKUP(A434,StockIn!$A$3:$B$1003,2,FALSE)","v":0},{"$f":"VLOOKUP(A434,StockIn!$A$3:$I$1003,9,FALSE)","v":0},null,0,0,0]
[{"$f":"StockIn!A434","v":1432},{"$f":"VLOOKUP(A435,StockIn!$A$3:$B$1003,2,FALSE)","v":0},{"$f":"VLOOKUP(A435,StockIn!$A$3:$I$1003,9,FALSE)","v":0},null,0,0,0]
[{"$f":"StockIn!A435","v":1433},{"$f":"VLOOKUP(A436,StockIn!$A$3:$B$1003,2,FALSE)","v":0},{"$f":"VLOOKUP(A436,StockIn!$A$3:$I$1003,9,FALSE)","v":0},null,0,0,0]
[{"$f":"StockIn!A436","v":1434},{"$f":"VLOOKUP(A437,StockIn!$A$3:$B$1003,2,FALSE)","v":0},{"$f":"VLOOKUP(A437,StockIn!$A$3:$I$1003,9,FALSE)","v":0},null,0,0,0]
[{"$f":"StockIn!A437","v":1435},{"$f":"VLOOKUP(A438,StockIn!$A$3:$B$1003,2,FALSE)","v":0},{"$f":"VLOOKUP(A438,StockIn!$A$3:$I$1003,9,FALSE)","v":0},null,0,0,0]
[{"$f":"StockIn!A438","v":1436},{"$f":"VLOOKUP(A439,StockIn!$A$3:$B$1003,2,FALSE)","v":0},{"$f":"VLOOKUP(A439,StockIn!$A$3:$I$1003,9,FALSE)","v":0},null,0,0,0]
[{"$f":"StockIn!A439","v":1437},{"$f":"VLOOKUP(A440,StockIn!$A$3:$B$1003,2,FALSE)","v":0},{"$f":"VLOOKUP(A440,StockIn!$A$3:$I$1003,9,FALSE)","v":0},null,0,0,0]
[{"$f":"StockIn!A440","v":1438},{"$f":"VLOOKUP(A441,StockIn!$A$3:$B$1003,2,FALSE)","v":0},{"$f":"VLOOKUP(A441,StockIn!$A$3:$I$1003,9,FALSE)","v":0},null,0,0,0]
[{"$f":"StockIn!A441","v":1439},{"$f":"VLOOKUP(A442,StockIn!$A$3:$B$1003,2,FALSE)","v":0},{"$f":"VLOOKUP(A442,StockIn!$A$3:$I$1003,9,FALSE)","v":0},null,0,0,0]
[{"$f":"StockIn!A442","v":1440},{"$f":"VLOOKUP(A443,StockIn!$A$3:$B$1003,2,FALSE)","v":0},{"$f":"VLOOKUP(A443,StockIn!$A$3:$I$1003,9,FALSE)","v":0},null,0,0,0]
[{"$f":"StockIn!A443","v":1441},{"$f":"VLOOKUP(A444,StockIn!$A$3:$B$1003,2,FALSE)","v":0},{"$f":"VLOOKUP(A444,StockIn!$A$3:$I$1003,9,FALSE)","v":0},null,0,0,0]
[{"$f":"StockIn!A444","v":1442},{"$f":"VLOOKUP(A445,StockIn!$A$3:$B$1003,2,FALSE)","v":0},{"$f":"VLOOKUP(A445,StockIn!$A$3:$I$1003,9,FALSE)","v":0},null,0,0,0]
[{"$f":"StockIn!A445","v":1443},{"$f":"VLOOKUP(A446,StockIn!$A$3:$B$1003,2,FALSE)","v":0},{"$f":"VLOOKUP(A446,StockIn!$A$3:$I$1003,9,FALSE)","v":0},null,0,0,0]
[{"$f":"StockIn!A446","v":1444},{"$f":"VLOOKUP(A447,StockIn!$A$3:$B$1003,2,FALSE)","v":0},{"$f":"VLOOKUP(A447,StockIn!$A$3:$I$1003,9,FALSE)","v":0},null,0,0,0]
[{"$f":"StockIn!A447","v":1445},{"$f":"VLOOKUP(A448,StockIn!$A$3:$B$1003,2,FALSE)","v":0},{"$f":"VLOOKUP(A448,StockIn!$A$3:$I$1003,9,FALSE)","v":0},null,0,0,0]
[{"$f":"StockIn!A448","v":1446},{"$f":"VLOOKUP(A449,StockIn!$A$3:$B$1003,2,FALSE)","v":0},{"$f":"VLOOKUP(A449,StockIn!$A$3:$I$1003,9,FALSE)","v":0},null,0,0,0]
[{"$f":"StockIn!A449","v":1447},{"$f":"VLOOKUP(A450,StockIn!$A$3:$B$1003,2,FALSE)","v":0},{"$f":"VLOOKUP(A450,StockIn!$A$3:$I$1003,9,FALSE)","v":0},null,0,0,0]
[{"$f":"StockIn!A450","v":1448},{"$f":"VLOOKUP(A451,StockIn!$A$3:$B$1003,2,FALSE)","v":0},{"$f":"VLOOKUP(A451,StockIn!$A$3:$I$1003,9,FALSE)","v":0},null,0,0,0]
[{"$f":"StockIn!A451","v":1449},{"$f":"VLOOKUP(A452,StockIn!$A$3:$B$1003,2,FALSE)","v":0},{"$f":"VLOOKUP(A452,StockIn!$A$3:$I$1003,9,FALSE)","v":0},null,0,0,0]
[{"$f":"StockIn!A452","v":1450},{"$f":"VLOOKUP(A453,StockIn!$A$3:$B$1003,2,FALSE)","v":0},{"$f":"VLOOKUP(A453,StockIn!$A$3:$I$1003,9,FALSE)","v":0},null,0,{"$f":"D453+E453","v":0},{"$f":"VLOOKUP(A453,$A$4:$L$1003,3,FALSE)-VLOOKUP(A453,$A$4:$L$1003,6,FALSE)","v":0}]
[{"$f":"StockIn!A453","v":1451},{"$f":"VLOOKUP(A454,StockIn!$A$3:$B$1003,2,FALSE)","v":0},{"$f":"VLOOKUP(A454,StockIn!$A$3:$I$1003,9,FALSE)","v":0},null,0,0,0]
[{"$f":"StockIn!A454","v":1452},{"$f":"VLOOKUP(A455,StockIn!$A$3:$B$1003,2,FALSE)","v":0},{"$f":"VLOOKUP(A455,StockIn!$A$3:$I$1003,9,FALSE)","v":0},null,0,0,0]
[{"$f":"StockIn!A455","v":1453},{"$f":"VLOOKUP(A456,StockIn!$A$3:$B$1003,2,FALSE)","v":0},{"$f":"VLOOKUP(A456,StockIn!$A$3:$I$1003,9,FALSE)","v":0},null,0,0,0]
[{"$f":"StockIn!A456","v":1454},{"$f":"VLOOKUP(A457,StockIn!$A$3:$B$1003,2,FALSE)","v":0},{"$f":"VLOOKUP(A457,StockIn!$A$3:$I$1003,9,FALSE)","v":0},null,0,0,0]
[{"$f":"StockIn!A457","v":1455},{"$f":"VLOOKUP(A458,StockIn!$A$3:$B$1003,2,FALSE)","v":0},{"$f":"VLOOKUP(A458,StockIn!$A$3:$I$1003,9,FALSE)","v":0},null,0,0,0]
[{"$f":"StockIn!A458","v":1456},{"$f":"VLOOKUP(A459,StockIn!$A$3:$B$1003,2,FALSE)","v":0},{"$f":"VLOOKUP(A459,StockIn!$A$3:$I$1003,9,FALSE)","v":0},null,0,0,0]
[{"$f":"StockIn!A459","v":1457},{"$f":"VLOOKUP(A460,StockIn!$A$3:$B$1003,2,FALSE)","v":0},{"$f":"VLOOKUP(A460,StockIn!$A$3:$I$1003,9,FALSE)","v":0},null,0,0,0]
[{"$f":"StockIn!A460","v":1458},{"$f":"VLOOKUP(A461,StockIn!$A$3:$B$1003,2,FALSE)","v":0},{"$f":"VLOOKUP(A461,StockIn!$A$3:$I$1003,9,FALSE)","v":0},null,0,0,0]
[{"$f":"StockIn!A461","v":1459},{"$f":"VLOOKUP(A462,StockIn!$A$3:$B$1003,2,FALSE)","v":0},{"$f":"VLOOKUP(A462,StockIn!$A$3:$I$1003,9,FALSE)","v":0},null,0,0,0]
[{"$f":"StockIn!A462","v":1460},{"$f":"VLOOKUP(A463,StockIn!$A$3:$B$1003,2,FALSE)","v":0},{"$f":"VLOOKUP(A463,StockIn!$A$3:$I$1003,9,FALSE)","v":0},null,0,0,0]
[{"$f":"StockIn!A463","v":1461},{"$f":"VLOOKUP(A464,StockIn!$A$3:$B$1003,2,FALSE)","v":0},{"$f":"VLOOKUP(A464,StockIn!$A$3:$I$1003,9,FALSE)","v":0},null,0,0,0]
[{"$f":"StockIn!A464","v":1462},{"$f":"VLOOKUP(A465,StockIn!$A$3:$B$1003,2,FALSE)","v":0},{"$f":"VLOOKUP(A465,StockIn!$A$3:$I$1003,9,FALSE)","v":0},null,0,0,0]
[{"$f":"StockIn!A465","v":1463},{"$f":"VLOOKUP(A466,StockIn!$A$3:$B$1003,2,FALSE)","v":0},{"$f":"VLOOKUP(A466,StockIn!$A$3:$I$1003,9,FALSE)","v":0},null,0,0,0]
[{"$f":"StockIn!A466","v":1464},{"$f":"VLOOKUP(A467,StockIn!$A$3:$B$1003,2,FALSE)","v":0},{"$f":"VLOOKUP(A467,StockIn!$A$3:$I$1003,9,FALSE)","v":0},null,0,0,0]
[{"$f":"StockIn!A467","v":1465},{"$f":"VLOOKUP(A468,StockIn!$A$3:$B$1003,2,FALSE)","v":0},{"$f":"VLOOKUP(A468,StockIn!$A$3:$I$1003,9,FALSE)","v":0},null,0,0,0]
[{"$f":"StockIn!A468","v":1466},{"$f":"VLOOKUP(A469,StockIn!$A$3:$B$1003,2,FALSE)","v":0},{"$f":"VLOOKUP(A469,StockIn!$A$3:$I$1003,9,FALSE)","v":0},null,0,0,0]
[{"$f":"StockIn!A469","v":1467},{"$f":"VLOOKUP(A470,StockIn!$A$3:$B$1003,2,FALSE)","v":0},{"$f":"VLOOKUP(A470,StockIn!$A$3:$I$1003,9,FALSE)","v":0},null,0,0,0]
[{"$f":"StockIn!A470","v":1468},{"$f":"VLOOKUP(A471,StockIn!$A$3:$B$1003,2,FALSE)","v":0},{"$f":"VLOOKUP(A471,StockIn!$A$3:$I$1003,9,FALSE)","v":0},null,0,0,0]
[{"$f":"StockIn!A471","v":1469},{"$f":"VLOOKUP(A472,StockIn!$A$3:$B$1003,2,FALSE)","v":0},{"$f":"VLOOKUP(A472,StockIn!$A$3:$I$1003,9,FALSE)","v":0},null,0,0,0]
[{"$f":"StockIn!A472","v":1470},{"$f":"VLOOKUP(A473,StockIn!$A$3:$B$1003,2,FALSE)","v":0},{"$f":"VLOOKUP(A473,StockIn!$A$3:$I$1003,9,FALSE)","v":0},null,0,0,0]
[{"$f":"StockIn!A473","v":1471},{"$f":"VLOOKUP(A474,StockIn!$A$3:$B$1003,2,FALSE)","v":0},{"$f":"VLOOKUP(A474,StockIn!$A$3:$I$1003,9,FALSE)","v":0},null,0,0,0]
[{"$f":"StockIn!A474","v":1472},{"$f":"VLOOKUP(A475,StockIn!$A$3:$B$1003,2,FALSE)","v":0},{"$f":"VLOOKUP(A475,StockIn!$A$3:$I$1003,9,FALSE)","v":0},null,0,0,0]
[{"$f":"StockIn!A475","v":1473},{"$f":"VLOOKUP(A476,StockIn!$A$3:$B$1003,2,FALSE)","v":0},{"$f":"VLOOKUP(A476,StockIn!$A$3:$I$1003,9,FALSE)","v":0},null,0,0,0]
[{"$f":"StockIn!A476","v":1474},{"$f":"VLOOKUP(A477,StockIn!$A$3:$B$1003,2,FALSE)","v":0},{"$f":"VLOOKUP(A477,StockIn!$A$3:$I$1003,9,FALSE)","v":0},null,0,0,0]
[{"$f":"StockIn!A477","v":1475},{"$f":"VLOOKUP(A478,StockIn!$A$3:$B$1003,2,FALSE)","v":0},{"$f":"VLOOKUP(A478,StockIn!$A$3:$I$1003,9,FALSE)","v":0},null,0,0,0]
[{"$f":"StockIn!A478","v":1476},{"$f":"VLOOKUP(A479,StockIn!$A$3:$B$1003,2,FALSE)","v":0},{"$f":"VLOOKUP(A479,StockIn!$A$3:$I$1003,9,FALSE)","v":0},null,0,0,0]
[{"$f":"StockIn!A479","v":1477},{"$f":"VLOOKUP(A480,StockIn!$A$3:$B$1003,2,FALSE)","v":0},{"$f":"VLOOKUP(A480,StockIn!$A$3:$I$1003,9,FALSE)","v":0},null,0,0,0]
[{"$f":"StockIn!A480","v":1478},{"$f":"VLOOKUP(A481,StockIn!$A$3:$B$1003,2,FALSE)","v":0},{"$f":"VLOOKUP(A481,StockIn!$A$3:$I$1003,9,FALSE)","v":0},null,0,0,0]
[{"$f":"StockIn!A481","v":1479},{"$f":"VLOOKUP(A482,StockIn!$A$3:$B$1003,2,FALSE)","v":0},{"$f":"VLOOKUP(A482,StockIn!$A$3:$I$1003,9,FALSE)","v":0},null,0,0,0]
[{"$f":"StockIn!A482","v":1480},{"$f":"VLOOKUP(A483,StockIn!$A$3:$B$1003,2,FALSE)","v":0},{"$f":"VLOOKUP(A483,StockIn!$A$3:$I$1003,9,FALSE)","v":0},null,0,0,0]
[{"$f":"StockIn!A483","v":1481},{"$f":"VLOOKUP(A484,StockIn!$A$3:$B$1003,2,FALSE)","v":0},{"$f":"VLOOKUP(A484,StockIn!$A$3:$I$1003,9,FALSE)","v":0},null,0,0,0]
[{"$f":"StockIn!A484","v":1482},{"$f":"VLOOKUP(A485,StockIn!$A$3:$B$1003,2,FALSE)","v":0},{"$f":"VLOOKUP(A485,StockIn!$A$3:$I$1003,9,FALSE)","v":0},null,0,0,0]
[{"$f":"StockIn!A485","v":1483},{"$f":"VLOOKUP(A486,StockIn!$A$3:$B$1003,2,FALSE)","v":0},{"$f":"VLOOKUP(A486,StockIn!$A$3:$I$1003,9,FALSE)","v":0},null,0,0,0]
[{"$f":"StockIn!A486","v":1484},{"$f":"VLOOKUP(A487,StockIn!$A$3:$B$1003,2,FALSE)","v":0},{"$f":"VLOOKUP(A487,StockIn!$A$3:$I$1003,9,FALSE)","v":0},null,0,0,0]
[{"$f":"StockIn!A487","v":1485},{"$f":"VLOOKUP(A488,StockIn!$A$3:$B$1003,2,FALSE)","v":0},{"$f":"VLOOKUP(A488,StockIn!$A$3:$I$1003,9,FALSE)","v":0},null,0,0,0]
[{"$f":"StockIn!A488","v":1486},{"$f":"VLOOKUP(A489,StockIn!$A$3:$B$1003,2,FALSE)","v":0},{"$f":"VLOOKUP(A489,StockIn!$A$3:$I$1003,9,FALSE)","v":0},null,0,0,0]
[{"$f":"StockIn!A489","v":1487},{"$f":"VLOOKUP(A490,StockIn!$A$3:$B$1003,2,FALSE)","v":0},{"$f":"VLOOKUP(A490,StockIn!$A$3:$I$1003,9,FALSE)","v":0},null,0,0,0]
[{"$f":"StockIn!A490","v":1488},{"$f":"VLOOKUP(A491,StockIn!$A$3:$B$1003,2,FALSE)","v":0},{"$f":"VLOOKUP(A491,StockIn!$A$3:$I$1003,9,FALSE)","v":0},null,0,0,0]
[{"$f":"StockIn!A491","v":1489},{"$f":"VLOOKUP(A492,StockIn!$A$3:$B$1003,2,FALSE)","v":0},{"$f":"VLOOKUP(A492,StockIn!$A$3:$I$1003,9,FALSE)","v":0},null,0,0,0]
[{"$f":"StockIn!A492","v":1490},{"$f":"VLOOKUP(A493,StockIn!$A$3:$B$1003,2,FALSE)","v":0},{"$f":"VLOOKUP(A493,StockIn!$A$3:$I$1003,9,FALSE)","v":0},null,0,0,0]
[{"$f":"StockIn!A493","v":1491},{"$f":"VLOOKUP(A494,StockIn!$A$3:$B$1003,2,FALSE)","v":0},{"$f":"VLOOKUP(A494,StockIn!$A$3:$I$1003,9,FALSE)","v":0},null,0,0,0]
[{"$f":"StockIn!A494","v":1492},{"$f":"VLOOKUP(A495,StockIn!$A$3:$B$1003,2,FALSE)","v":0},{"$f":"VLOOKUP(A495,StockIn!$A$3:$I$1003,9,FALSE)","v":0},null,0,0,0]
[{"$f":"StockIn!A495","v":1493},{"$f":"VLOOKUP(A496,StockIn!$A$3:$B$1003,2,FALSE)","v":0},{"$f":"VLOOKUP(A496,StockIn!$A$3:$I$1003,9,FALSE)","v":0},null,0,0,0]
[{"$f":"StockIn!A496","v":1494},{"$f":"VLOOKUP(A497,StockIn!$A$3:$B$1003,2,FALSE)","v":0},{"$f":"VLOOKUP(A497,StockIn!$A$3:$I$1003,9,FALSE)","v":0},null,0,0,0]
[{"$f":"StockIn!A497","v":1495},{"$f":"VLOOKUP(A498,StockIn!$A$3:$B$1003,2,FALSE)","v":0},{"$f":"VLOOKUP(A498,StockIn!$A$3:$I$1003,9,FALSE)","v":0},null,0,0,0]
[{"$f":"StockIn!A498","v":1496},{"$f":"VLOOKUP(A499,StockIn!$A$3:$B$1003,2,FALSE)","v":0},{"$f":"VLOOKUP(A499,StockIn!$A$3:$I$1003,9,FALSE)","v":0},null,0,0,0]
[{"$f":"StockIn!A499","v":1497},{"$f":"VLOOKUP(A500,StockIn!$A$3:$B$1003,2,FALSE)","v":0},{"$f":"VLOOKUP(A500,StockIn!$A$3:$I$1003,9,FALSE)","v":0},null,0,0,0]
[{"$f":"StockIn!A500","v":1498},{"$f":"VLOOKUP(A501,StockIn!$A$3:$B$1003,2,FALSE)","v":0},{"$f":"VLOOKUP(A501,StockIn!$A$3:$I$1003,9,FALSE)","v":0},null,0,0,0]
[{"$f":"StockIn!A501","v":1499},{"$f":"VLOOKUP(A502,StockIn!$A$3:$B$1003,2,FALSE)","v":0},{"$f":"VLOOKUP(A502,StockIn!$A$3:$I$1003,9,FALSE)","v":0},null,0,0,0]
[{"$f":"StockIn!A502","v":1500},{"$f":"VLOOKUP(A503,StockIn!$A$3:$B$1003,2,FALSE)","v":0},{"$f":"VLOOKUP(A503,StockIn!$A$3:$I$1003,9,FALSE)","v":0},null,0,0,0]
[{"$f":"StockIn!A503","v":1501},{"$f":"VLOOKUP(A504,StockIn!$A$3:$B$1003,2,FALSE)","v":0},{"$f":"VLOOKUP(A504,StockIn!$A$3:$I$1003,9,FALSE)","v":0},null,0,0,0]
[{"$f":"StockIn!A504","v":1502},{"$f":"VLOOKUP(A505,StockIn!$A$3:$B$1003,2,FALSE)","v":0},{"$f":"VLOOKUP(A505,StockIn!$A$3:$I$1003,9,FALSE)","v":0},null,0,0,0]
[{"$f":"StockIn!A505","v":1503},{"$f":"VLOOKUP(A506,StockIn!$A$3:$B$1003,2,FALSE)","v":0},{"$f":"VLOOKUP(A506,StockIn!$A$3:$I$1003,9,FALSE)","v":0},null,0,0,0]
[{"$f":"StockIn!A506","v":1504},{"$f":"VLOOKUP(A507,StockIn!$A$3:$B$1003,2,FALSE)","v":0},{"$f":"VLOOKUP(A507,StockIn!$A$3:$I$1003,9,FALSE)","v":0},null,0,0,0]
[{"$f":"StockIn!A507","v":1505},{"$f":"VLOOKUP(A508,StockIn!$A$3:$B$1003,2,FALSE)","v":0},{"$f":"VLOOKUP(A508,StockIn!$A$3:$I$1003,9,FALSE)","v":0},null,0,0,0]
[{"$f":"StockIn!A508","v":1506},{"$f":"VLOOKUP(A509,StockIn!$A$3:$B$1003,2,FALSE)","v":0},{"$f":"VLOOKUP(A509,StockIn!$A$3:$I$1003,9,FALSE)","v":0},null,0,0,0]
[{"$f":"StockIn!A509","v":1507},{"$f":"VLOOKUP(A510,StockIn!$A$3:$B$1003,2,FALSE)","v":0},{"$f":"VLOOKUP(A510,StockIn!$A$3:$I$1003,9,FALSE)","v":0},null,0,0,0]
[{"$f":"StockIn!A510","v":1508},{"$f":"VLOOKUP(A511,StockIn!$A$3:$B$1003,2,FALSE)","v":0},{"$f":"VLOOKUP(A511,StockIn!$A$3:$I$1003,9,FALSE)","v":0},null,0,0,0]
[{"$f":"StockIn!A511","v":1509},{"$f":"VLOOKUP(A512,StockIn!$A$3:$B$1003,2,FALSE)","v":0},{"$f":"VLOOKUP(A512,StockIn!$A$3:$I$1003,9,FALSE)","v":0},null,0,0,0]
[{"$f":"StockIn!A512","v":1510},{"$f":"VLOOKUP(A513,StockIn!$A$3:$B$1003,2,FALSE)","v":0},{"$f":"VLOOKUP(A513,StockIn!$A$3:$I$1003,9,FALSE)","v":0},null,0,0,0]
[{"$f":"StockIn!A513","v":1511},{"$f":"VLOOKUP(A514,StockIn!$A$3:$B$1003,2,FALSE)","v":0},{"$f":"VLOOKUP(A514,StockIn!$A$3:$I$1003,9,FALSE)","v":0},null,0,0,0]
[{"$f":"StockIn!A514","v":1512},{"$f":"VLOOKUP(A515,StockIn!$A$3:$B$1003,2,FALSE)","v":0},{"$f":"VLOOKUP(A515,StockIn!$A$3:$I$1003,9,FALSE)","v":0},null,0,0,0]
[{"$f":"StockIn!A515","v":1513},{"$f":"VLOOKUP(A516,StockIn!$A$3:$B$1003,2,FALSE)","v":0},{"$f":"VLOOKUP(A516,StockIn!$A$3:$I$1003,9,FALSE)","v":0},null,0,0,0]
[{"$f":"StockIn!A516","v":1514},{"$f":"VLOOKUP(A517,StockIn!$A$3:$B$1003,2,FALSE)","v":0},{"$f":"VLOOKUP(A517,StockIn!$A$3:$I$1003,9,FALSE)","v":0},null,0,{"$f":"D517+E517","v":0},{"$f":"VLOOKUP(A517,$A$4:$L$1003,3,FALSE)-VLOOKUP(A517,$A$4:$L$1003,6,FALSE)","v":0}]
[{"$f":"StockIn!A517","v":1515},{"$f":"VLOOKUP(A518,StockIn!$A$3:$B$1003,2,FALSE)","v":0},{"$f":"VLOOKUP(A518,StockIn!$A$3:$I$1003,9,FALSE)","v":0},null,0,0,0]
[{"$f":"StockIn!A518","v":1516},{"$f":"VLOOKUP(A519,StockIn!$A$3:$B$1003,2,FALSE)","v":0},{"$f":"VLOOKUP(A519,StockIn!$A$3:$I$1003,9,FALSE)","v":0},null,0,0,0]
[{"$f":"StockIn!A519","v":1517},{"$f":"VLOOKUP(A520,StockIn!$A$3:$B$1003,2,FALSE)","v":0},{"$f":"VLOOKUP(A520,StockIn!$A$3:$I$1003,9,FALSE)","v":0},null,0,0,0]
[{"$f":"StockIn!A520","v":1518},{"$f":"VLOOKUP(A521,StockIn!$A$3:$B$1003,2,FALSE)","v":0},{"$f":"VLOOKUP(A521,StockIn!$A$3:$I$1003,9,FALSE)","v":0},null,0,0,0]
[{"$f":"StockIn!A521","v":1519},{"$f":"VLOOKUP(A522,StockIn!$A$3:$B$1003,2,FALSE)","v":0},{"$f":"VLOOKUP(A522,StockIn!$A$3:$I$1003,9,FALSE)","v":0},null,0,0,0]
[{"$f":"StockIn!A522","v":1520},{"$f":"VLOOKUP(A523,StockIn!$A$3:$B$1003,2,FALSE)","v":0},{"$f":"VLOOKUP(A523,StockIn!$A$3:$I$1003,9,FALSE)","v":0},null,0,0,0]
[{"$f":"StockIn!A523","v":1521},{"$f":"VLOOKUP(A524,StockIn!$A$3:$B$1003,2,FALSE)","v":0},{"$f":"VLOOKUP(A524,StockIn!$A$3:$I$1003,9,FALSE)","v":0},null,0,0,0]
[{"$f":"StockIn!A524","v":1522},{"$f":"VLOOKUP(A525,StockIn!$A$3:$B$1003,2,FALSE)","v":0},{"$f":"VLOOKUP(A525,StockIn!$A$3:$I$1003,9,FALSE)","v":0},null,0,0,0]
[{"$f":"StockIn!A525","v":1523},{"$f":"VLOOKUP(A526,StockIn!$A$3:$B$1003,2,FALSE)","v":0},{"$f":"VLOOKUP(A526,StockIn!$A$3:$I$1003,9,FALSE)","v":0},null,0,0,0]
[{"$f":"StockIn!A526","v":1524},{"$f":"VLOOKUP(A527,StockIn!$A$3:$B$1003,2,FALSE)","v":0},{"$f":"VLOOKUP(A527,StockIn!$A$3:$I$1003,9,FALSE)","v":0},null,0,0,0]
[{"$f":"StockIn!A527","v":1525},{"$f":"VLOOKUP(A528,StockIn!$A$3:$B$1003,2,FALSE)","v":0},{"$f":"VLOOKUP(A528,StockIn!$A$3:$I$1003,9,FALSE)","v":0},null,0,0,0]
[{"$f":"StockIn!A528","v":1526},{"$f":"VLOOKUP(A529,StockIn!$A$3:$B$1003,2,FALSE)","v":0},{"$f":"VLOOKUP(A529,StockIn!$A$3:$I$1003,9,FALSE)","v":0},null,0,0,0]
[{"$f":"StockIn!A529","v":1527},{"$f":"VLOOKUP(A530,StockIn!$A$3:$B$1003,2,FALSE)","v":0},{"$f":"VLOOKUP(A530,StockIn!$A$3:$I$1003,9,FALSE)","v":0},null,0,0,0]
[{"$f":"StockIn!A530","v":1528},{"$f":"VLOOKUP(A531,StockIn!$A$3:$B$1003,2,FALSE)","v":0},{"$f":"VLOOKUP(A531,StockIn!$A$3:$I$1003,9,FALSE)","v":0},null,0,0,0]
[{"$f":"StockIn!A531","v":1529},{"$f":"VLOOKUP(A532,StockIn!$A$3:$B$1003,2,FALSE)","v":0},{"$f":"VLOOKUP(A532,StockIn!$A$3:$I$1003,9,FALSE)","v":0},null,0,0,0]
[{"$f":"StockIn!A532","v":1530},{"$f":"VLOOKUP(A533,StockIn!$A$3:$B$1003,2,FALSE)","v":0},{"$f":"VLOOKUP(A533,StockIn!$A$3:$I$1003,9,FALSE)","v":0},null,0,0,0]
[{"$f":"StockIn!A533","v":1531},{"$f":"VLOOKUP(A534,StockIn!$A$3:$B$1003,2,FALSE)","v":0},{"$f":"VLOOKUP(A534,StockIn!$A$3:$I$1003,9,FALSE)","v":0},null,0,0,0]
[{"$f":"StockIn!A534","v":1532},{"$f":"VLOOKUP(A535,StockIn!$A$3:$B$1003,2,FALSE)","v":0},{"$f":"VLOOKUP(A535,StockIn!$A$3:$I$1003,9,FALSE)","v":0},null,0,0,0]
[{"$f":"StockIn!A535","v":1533},{"$f":"VLOOKUP(A536,StockIn!$A$3:$B$1003,2,FALSE)","v":0},{"$f":"VLOOKUP(A536,StockIn!$A$3:$I$1003,9,FALSE)","v":0},null,0,0,0]
[{"$f":"StockIn!A536","v":1534},{"$f":"VLOOKUP(A537,StockIn!$A$3:$B$1003,2,FALSE)","v":0},{"$f":"VLOOKUP(A537,StockIn!$A$3:$I$1003,9,FALSE)","v":0},null,0,0,0]
[{"$f":"StockIn!A537","v":1535},{"$f":"VLOOKUP(A538,StockIn!$A$3:$B$1003,2,FALSE)","v":0},{"$f":"VLOOKUP(A538,StockIn!$A$3:$I$1003,9,FALSE)","v":0},null,0,0,0]
[{"$f":"StockIn!A538","v":1536},{"$f":"VLOOKUP(A539,StockIn!$A$3:$B$1003,2,FALSE)","v":0},{"$f":"VLOOKUP(A539,StockIn!$A$3:$I$1003,9,FALSE)","v":0},null,0,0,0]
[{"$f":"StockIn!A539","v":1537},{"$f":"VLOOKUP(A540,StockIn!$A$3:$B$1003,2,FALSE)","v":0},{"$f":"VLOOKUP(A540,StockIn!$A$3:$I$1003,9,FALSE)","v":0},null,0,0,0]
[{"$f":"StockIn!A540","v":1538},{"$f":"VLOOKUP(A541,StockIn!$A$3:$B$1003,2,FALSE)","v":0},{"$f":"VLOOKUP(A541,StockIn!$A$3:$I$1003,9,FALSE)","v":0},null,0,0,0]
[{"$f":"StockIn!A541","v":1539},{"$f":"VLOOKUP(A542,StockIn!$A$3:$B$1003,2,FALSE)","v":0},{"$f":"VLOOKUP(A542,StockIn!$A$3:$I$1003,9,FALSE)","v":0},null,0,0,0]
[{"$f":"StockIn!A542","v":1540},{"$f":"VLOOKUP(A543,StockIn!$A$3:$B$1003,2,FALSE)","v":0},{"$f":"VLOOKUP(A543,StockIn!$A$3:$I$1003,9,FALSE)","v":0},null,0,0,0]
[{"$f":"StockIn!A543","v":1541},{"$f":"VLOOKUP(A544,StockIn!$A$3:$B$1003,2,FALSE)","v":0},{"$f":"VLOOKUP(A544,StockIn!$A$3:$I$1003,9,FALSE)","v":0},null,0,0,0]
[{"$f":"StockIn!A544","v":1542},{"$f":"VLOOKUP(A545,StockIn!$A$3:$B$1003,2,FALSE)","v":0},{"$f":"VLOOKUP(A545,StockIn!$A$3:$I$1003,9,FALSE)","v":0},null,0,0,0]
[{"$f":"StockIn!A545","v":1543},{"$f":"VLOOKUP(A546,StockIn!$A$3:$B$1003,2,FALSE)","v":0},{"$f":"VLOOKUP(A546,StockIn!$A$3:$I$1003,9,FALSE)","v":0},null,0,0,0]
[{"$f":"StockIn!A546","v":1544},{"$f":"VLOOKUP(A547,StockIn!$A$3:$B$1003,2,FALSE)","v":0},{"$f":"VLOOKUP(A547,StockIn!$A$3:$I$1003,9,FALSE)","v":0},null,0,0,0]
[{"$f":"StockIn!A547","v":1545},{"$f":"VLOOKUP(A548,StockIn!$A$3:$B$1003,2,FALSE)","v":0},{"$f":"VLOOKUP(A548,StockIn!$A$3:$I$1003,9,FALSE)","v":0},null,0,0,0]
[{"$f":"StockIn!A548","v":1546},{"$f":"VLOOKUP(A549,StockIn!$A$3:$B$1003,2,FALSE)","v":0},{"$f":"VLOOKUP(A549,StockIn!$A$3:$I$1003,9,FALSE)","v":0},null,0,0,0]
[{"$f":"StockIn!A549","v":1547},{"$f":"VLOOKUP(A550,StockIn!$A$3:$B$1003,2,FALSE)","v":0},{"$f":"VLOOKUP(A550,StockIn!$A$3:$I$1003,9,FALSE)","v":0},null,0,0,0]
[{"$f":"StockIn!A550","v":1548},{"$f":"VLOOKUP(A551,StockIn!$A$3:$B$1003,2,FALSE)","v":0},{"$f":"VLOOKUP(A551,StockIn!$A$3:$I$1003,9,FALSE)","v":0},null,0,0,0]
[{"$f":"StockIn!A551","v":1549},{"$f":"VLOOKUP(A552,StockIn!$A$3:$B$1003,2,FALSE)","v":0},{"$f":"VLOOKUP(A552,StockIn!$A$3:$I$1003,9,FALSE)","v":0},null,0,0,0]
[{"$f":"StockIn!A552","v":1550},{"$f":"VLOOKUP(A553,StockIn!$A$3:$B$1003,2,FALSE)","v":0},{"$f":"VLOOKUP(A553,StockIn!$A$3:$I$1003,9,FALSE)","v":0},null,0,0,0]
[{"$f":"StockIn!A553","v":1551},{"$f":"VLOOKUP(A554,StockIn!$A$3:$B$1003,2,FALSE)","v":0},{"$f":"VLOOKUP(A554,StockIn!$A$3:$I$1003,9,FALSE)","v":0},null,0,0,0]
[{"$f":"StockIn!A554","v":1552},{"$f":"VLOOKUP(A555,StockIn!$A$3:$B$1003,2,FALSE)","v":0},{"$f":"VLOOKUP(A555,StockIn!$A$3:$I$1003,9,FALSE)","v":0},null,0,0,0]
[{"$f":"StockIn!A555","v":1553},{"$f":"VLOOKUP(A556,StockIn!$A$3:$B$1003,2,FALSE)","v":0},{"$f":"VLOOKUP(A556,StockIn!$A$3:$I$1003,9,FALSE)","v":0},null,0,0,0]
[{"$f":"StockIn!A556","v":1554},{"$f":"VLOOKUP(A557,StockIn!$A$3:$B$1003,2,FALSE)","v":0},{"$f":"VLOOKUP(A557,StockIn!$A$3:$I$1003,9,FALSE)","v":0},null,0,0,0]
[{"$f":"StockIn!A557","v":1555},{"$f":"VLOOKUP(A558,StockIn!$A$3:$B$1003,2,FALSE)","v":0},{"$f":"VLOOKUP(A558,StockIn!$A$3:$I$1003,9,FALSE)","v":0},null,0,0,0]
[{"$f":"StockIn!A558","v":1556},{"$f":"VLOOKUP(A559,StockIn!$A$3:$B$1003,2,FALSE)","v":0},{"$f":"VLOOKUP(A559,StockIn!$A$3:$I$1003,9,FALSE)","v":0},null,0,0,0]
[{"$f":"StockIn!A559","v":1557},{"$f":"VLOOKUP(A560,StockIn!$A$3:$B$1003,2,FALSE)","v":0},{"$f":"VLOOKUP(A560,StockIn!$A$3:$I$1003,9,FALSE)","v":0},null,0,0,0]
[{"$f":"StockIn!A560","v":1558},{"$f":"VLOOKUP(A561,StockIn!$A$3:$B$1003,2,FALSE)","v":0},{"$f":"VLOOKUP(A561,StockIn!$A$3:$I$1003,9,FALSE)","v":0},null,0,0,0]
[{"$f":"StockIn!A561","v":1559},{"$f":"VLOOKUP(A562,StockIn!$A$3:$B$1003,2,FALSE)","v":0},{"$f":"VLOOKUP(A562,StockIn!$A$3:$I$1003,9,FALSE)","v":0},null,0,0,0]
[{"$f":"StockIn!A562","v":1560},{"$f":"VLOOKUP(A563,StockIn!$A$3:$B$1003,2,FALSE)","v":0},{"$f":"VLOOKUP(A563,StockIn!$A$3:$I$1003,9,FALSE)","v":0},null,0,0,0]
[{"$f":"StockIn!A563","v":1561},{"$f":"VLOOKUP(A564,StockIn!$A$3:$B$1003,2,FALSE)","v":0},{"$f":"VLOOKUP(A564,StockIn!$A$3:$I$1003,9,FALSE)","v":0},null,0,0,0]
[{"$f":"StockIn!A564","v":1562},{"$f":"VLOOKUP(A565,StockIn!$A$3:$B$1003,2,FALSE)","v":0},{"$f":"VLOOKUP(A565,StockIn!$A$3:$I$1003,9,FALSE)","v":0},null,0,0,0]
[{"$f":"StockIn!A565","v":1563},{"$f":"VLOOKUP(A566,StockIn!$A$3:$B$1003,2,FALSE)","v":0},{"$f":"VLOOKUP(A566,StockIn!$A$3:$I$1003,9,FALSE)","v":0},null,0,0,0]
[{"$f":"StockIn!A566","v":1564},{"$f":"VLOOKUP(A567,StockIn!$A$3:$B$1003,2,FALSE)","v":0},{"$f":"VLOOKUP(A567,StockIn!$A$3:$I$1003,9,FALSE)","v":0},null,0,0,0]
[{"$f":"StockIn!A567","v":1565},{"$f":"VLOOKUP(A568,StockIn!$A$3:$B$1003,2,FALSE)","v":0},{"$f":"VLOOKUP(A568,StockIn!$A$3:$I$1003,9,FALSE)","v":0},null,0,0,0]
[{"$f":"StockIn!A568","v":1566},{"$f":"VLOOKUP(A569,StockIn!$A$3:$B$1003,2,FALSE)","v":0},{"$f":"VLOOKUP(A569,StockIn!$A$3:$I$1003,9,FALSE)","v":0},null,0,0,0]
[{"$f":"StockIn!A569","v":1567},{"$f":"VLOOKUP(A570,StockIn!$A$3:$B$1003,2,FALSE)","v":0},{"$f":"VLOOKUP(A570,StockIn!$A$3:$I$1003,9,FALSE)","v":0},null,0,0,0]
[{"$f":"StockIn!A570","v":1568},{"$f":"VLOOKUP(A571,StockIn!$A$3:$B$1003,2,FALSE)","v":0},{"$f":"VLOOKUP(A571,StockIn!$A$3:$I$1003,9,FALSE)","v":0},null,0,0,0]
[{"$f":"StockIn!A571","v":1569},{"$f":"VLOOKUP(A572,StockIn!$A$3:$B$1003,2,FALSE)","v":0},{"$f":"VLOOKUP(A572,StockIn!$A$3:$I$1003,9,FALSE)","v":0},null,0,0,0]
[{"$f":"StockIn!A572","v":1570},{"$f":"VLOOKUP(A573,StockIn!$A$3:$B$1003,2,FALSE)","v":0},{"$f":"VLOOKUP(A573,StockIn!$A$3:$I$1003,9,FALSE)","v":0},null,0,0,0]
[{"$f":"StockIn!A573","v":1571},{"$f":"VLOOKUP(A574,StockIn!$A$3:$B$1003,2,FALSE)","v":0},{"$f":"VLOOKUP(A574,StockIn!$A$3:$I$1003,9,FALSE)","v":0},null,0,0,0]
[{"$f":"StockIn!A574","v":1572},{"$f":"VLOOKUP(A575,StockIn!$A$3:$B$1003,2,FALSE)","v":0},{"$f":"VLOOKUP(A575,StockIn!$A$3:$I$1003,9,FALSE)","v":0},null,0,0,0]
[{"$f":"StockIn!A575","v":1573},{"$f":"VLOOKUP(A576,StockIn!$A$3:$B$1003,2,FALSE)","v":0},{"$f":"VLOOKUP(A576,StockIn!$A$3:$I$1003,9,FALSE)","v":0},null,0,0,0]
[{"$f":"StockIn!A576","v":1574},{"$f":"VLOOKUP(A577,StockIn!$A$3:$B$1003,2,FALSE)","v":0},{"$f":"VLOOKUP(A577,StockIn!$A$3:$I$1003,9,FALSE)","v":0},null,0,0,0]
[{"$f":"StockIn!A577","v":1575},{"$f":"VLOOKUP(A578,StockIn!$A$3:$B$1003,2,FALSE)","v":0},{"$f":"VLOOKUP(A578,StockIn!$A$3:$I$1003,9,FALSE)","v":0},null,0,0,0]
[{"$f":"StockIn!A578","v":1576},{"$f":"VLOOKUP(A579,StockIn!$A$3:$B$1003,2,FALSE)","v":0},{"$f":"VLOOKUP(A579,StockIn!$A$3:$I$1003,9,FALSE)","v":0},null,0,0,0]
[{"$f":"StockIn!A579","v":1577},{"$f":"VLOOKUP(A580,StockIn!$A$3:$B$1003,2,FALSE)","v":0},{"$f":"VLOOKUP(A580,StockIn!$A$3:$I$1003,9,FALSE)","v":0},null,0,0,0]
[{"$f":"StockIn!A580","v":1578},{"$f":"VLOOKUP(A581,StockIn!$A$3:$B$1003,2,FALSE)","v":0},{"$f":"VLOOKUP(A581,StockIn!$A$3:$I$1003,9,FALSE)","v":0},null,0,{"$f":"D581+E581","v":0},{"$f":"VLOOKUP(A581,$A$4:$L$1003,3,FALSE)-VLOOKUP(A581,$A$4:$L$1003,6,FALSE)","v":0}]
[{"$f":"StockIn!A581","v":1579},{"$f":"VLOOKUP(A582,StockIn!$A$3:$B$1003,2,FALSE)","v":0},{"$f":"VLOOKUP(A582,StockIn!$A$3:$I$1003,9,FALSE)","v":0},null,0,0,0]
[{"$f":"StockIn!A582","v":1580},{"$f":"VLOOKUP(A583,StockIn!$A$3:$B$1003,2,FALSE)","v":0},{"$f":"VLOOKUP(A583,StockIn!$A$3:$I$1003,9,FALSE)","v":0},null,0,0,0]
[{"$f":"StockIn!A583","v":1581},{"$f":"VLOOKUP(A584,StockIn!$A$3:$B$1003,2,FALSE)","v":0},{"$f":"VLOOKUP(A584,StockIn!$A$3:$I$1003,9,FALSE)","v":0},null,0,0,0]
[{"$f":"StockIn!A584","v":1582},{"$f":"VLOOKUP(A585,StockIn!$A$3:$B$1003,2,FALSE)","v":0},{"$f":"VLOOKUP(A585,StockIn!$A$3:$I$1003,9,FALSE)","v":0},null,0,0,0]
[{"$f":"StockIn!A585","v":1583},{"$f":"VLOOKUP(A586,StockIn!$A$3:$B$1003,2,FALSE)","v":0},{"$f":"VLOOKUP(A586,StockIn!$A$3:$I$1003,9,FALSE)","v":0},null,0,0,0]
[{"$f":"StockIn!A586","v":1584},{"$f":"VLOOKUP(A587,StockIn!$A$3:$B$1003,2,FALSE)","v":0},{"$f":"VLOOKUP(A587,StockIn!$A$3:$I$1003,9,FALSE)","v":0},null,0,0,0]
[{"$f":"StockIn!A587","v":1585},{"$f":"VLOOKUP(A588,StockIn!$A$3:$B$1003,2,FALSE)","v":0},{"$f":"VLOOKUP(A588,StockIn!$A$3:$I$1003,9,FALSE)","v":0},null,0,0,0]
[{"$f":"StockIn!A588","v":1586},{"$f":"VLOOKUP(A589,StockIn!$A$3:$B$1003,2,FALSE)","v":0},{"$f":"VLOOKUP(A589,StockIn!$A$3:$I$1003,9,FALSE)","v":0},null,0,0,0]
[{"$f":"StockIn!A589","v":1587},{"$f":"VLOOKUP(A590,StockIn!$A$3:$B$1003,2,FALSE)","v":0},{"$f":"VLOOKUP(A590,StockIn!$A$3:$I$1003,9,FALSE)","v":0},null,0,0,0]
[{"$f":"StockIn!A590","v":1588},{"$f":"VLOOKUP(A591,StockIn!$A$3:$B$1003,2,FALSE)","v":0},{"$f":"VLOOKUP(A591,StockIn!$A$3:$I$1003,9,FALSE)","v":0},null,0,0,0]
[{"$f":"StockIn!A591","v":1589},{"$f":"VLOOKUP(A592,StockIn!$A$3:$B$1003,2,FALSE)","v":0},{"$f":"VLOOKUP(A592,StockIn!$A$3:$I$1003,9,FALSE)","v":0},null,0,0,0]
[{"$f":"StockIn!A592","v":1590},{"$f":"VLOOKUP(A593,StockIn!$A$3:$B$1003,2,FALSE)","v":0},{"$f":"VLOOKUP(A593,StockIn!$A$3:$I$1003,9,FALSE)","v":0},null,0,0,0]
[{"$f":"StockIn!A593","v":1591},{"$f":"VLOOKUP(A594,StockIn!$A$3:$B$1003,2,FALSE)","v":0},{"$f":"VLOOKUP(A594,StockIn!$A$3:$I$1003,9,FALSE)","v":0},null,0,0,0]
[{"$f":"StockIn!A594","v":1592},{"$f":"VLOOKUP(A595,StockIn!$A$3:$B$1003,2,FALSE)","v":0},{"$f":"VLOOKUP(A595,StockIn!$A$3:$I$1003,9,FALSE)","v":0},null,0,0,0]
[{"$f":"StockIn!A595","v":1593},{"$f":"VLOOKUP(A596,StockIn!$A$3:$B$1003,2,FALSE)","v":0},{"$f":"VLOOKUP(A596,StockIn!$A$3:$I$1003,9,FALSE)","v":0},null,0,0,0]
[{"$f":"StockIn!A596","v":1594},{"$f":"VLOOKUP(A597,StockIn!$A$3:$B$1003,2,FALSE)","v":0},{"$f":"VLOOKUP(A597,StockIn!$A$3:$I$1003,9,FALSE)","v":0},null,0,0,0]
[{"$f":"StockIn!A597","v":1595},{"$f":"VLOOKUP(A598,StockIn!$A$3:$B$1003,2,FALSE)","v":0},{"$f":"VLOOKUP(A598,StockIn!$A$3:$I$1003,9,FALSE)","v":0},null,0,0,0]
[{"$f":"StockIn!A598","v":1596},{"$f":"VLOOKUP(A599,StockIn!$A$3:$B$1003,2,FALSE)","v":0},{"$f":"VLOOKUP(A599,StockIn!$A$3:$I$1003,9,FALSE)","v":0},null,0,0,0]
[{"$f":"StockIn!A599","v":1597},{"$f":"VLOOKUP(A600,StockIn!$A$3:$B$1003,2,FALSE)","v":0},{"$f":"VLOOKUP(A600,StockIn!$A$3:$I$1003,9,FALSE)","v":0},null,0,0,0]
[{"$f":"StockIn!A600","v":1598},{"$f":"VLOOKUP(A601,StockIn!$A$3:$B$1003,2,FALSE)","v":0},{"$f":"VLOOKUP(A601,StockIn!$A$3:$I$1003,9,FALSE)","v":0},null,0,0,0]
[{"$f":"StockIn!A601","v":1599},{"$f":"VLOOKUP(A602,StockIn!$A$3:$B$1003,2,FALSE)","v":0},{"$f":"VLOOKUP(A602,StockIn!$A$3:$I$1003,9,FALSE)","v":0},null,0,0,0]
[{"$f":"StockIn!A602","v":1600},{"$f":"VLOOKUP(A603,StockIn!$A$3:$B$1003,2,FALSE)","v":0},{"$f":"VLOOKUP(A603,StockIn!$A$3:$I$1003,9,FALSE)","v":0},null,0,0,0]
[{"$f":"StockIn!A603","v":1601},{"$f":"VLOOKUP(A604,StockIn!$A$3:$B$1003,2,FALSE)","v":0},{"$f":"VLOOKUP(A604,StockIn!$A$3:$I$1003,9,FALSE)","v":0},null,0,0,0]
[{"$f":"StockIn!A604","v":1602},{"$f":"VLOOKUP(A605,StockIn!$A$3:$B$1003,2,FALSE)","v":0},{"$f":"VLOOKUP(A605,StockIn!$A$3:$I$1003,9,FALSE)","v":0},null,0,0,0]
[{"$f":"StockIn!A605","v":1603},{"$f":"VLOOKUP(A606,StockIn!$A$3:$B$1003,2,FALSE)","v":0},{"$f":"VLOOKUP(A606,StockIn!$A$3:$I$1003,9,FALSE)","v":0},null,0,0,0]
[{"$f":"StockIn!A606","v":1604},{"$f":"VLOOKUP(A607,StockIn!$A$3:$B$1003,2,FALSE)","v":0},{"$f":"VLOOKUP(A607,StockIn!$A$3:$I$1003,9,FALSE)","v":0},null,0,0,0]
[{"$f":"StockIn!A607","v":1605},{"$f":"VLOOKUP(A608,StockIn!$A$3:$B$1003,2,FALSE)","v":0},{"$f":"VLOOKUP(A608,StockIn!$A$3:$I$1003,9,FALSE)","v":0},null,0,0,0]
[{"$f":"StockIn!A608","v":1606},{"$f":"VLOOKUP(A609,StockIn!$A$3:$B$1003,2,FALSE)","v":0},{"$f":"VLOOKUP(A609,StockIn!$A$3:$I$1003,9,FALSE)","v":0},null,0,0,0]
[{"$f":"StockIn!A609","v":1607},{"$f":"VLOOKUP(A610,StockIn!$A$3:$B$1003,2,FALSE)","v":0},{"$f":"VLOOKUP(A610,StockIn!$A$3:$I$1003,9,FALSE)","v":0},null,0,0,0]
[{"$f":"StockIn!A610","v":1608},{"$f":"VLOOKUP(A611,StockIn!$A$3:$B$1003,2,FALSE)","v":0},{"$f":"VLOOKUP(A611,StockIn!$A$3:$I$1003,9,FALSE)","v":0},null,0,0,0]
[{"$f":"StockIn!A611","v":1609},{"$f":"VLOOKUP(A612,StockIn!$A$3:$B$1003,2,FALSE)","v":0},{"$f":"VLOOKUP(A612,StockIn!$A$3:$I$1003,9,FALSE)","v":0},null,0,0,0]
[{"$f":"StockIn!A612","v":1610},{"$f":"VLOOKUP(A613,StockIn!$A$3:$B$1003,2,FALSE)","v":0},{"$f":"VLOOKUP(A613,StockIn!$A$3:$I$1003,9,FALSE)","v":0},null,0,0,0]
[{"$f":"StockIn!A613","v":1611},{"$f":"VLOOKUP(A614,StockIn!$A$3:$B$1003,2,FALSE)","v":0},{"$f":"VLOOKUP(A614,StockIn!$A$3:$I$1003,9,FALSE)","v":0},null,0,0,0]
[{"$f":"StockIn!A614","v":1612},{"$f":"VLOOKUP(A615,StockIn!$A$3:$B$1003,2,FALSE)","v":0},{"$f":"VLOOKUP(A615,StockIn!$A$3:$I$1003,9,FALSE)","v":0},null,0,0,0]
[{"$f":"StockIn!A615","v":1613},{"$f":"VLOOKUP(A616,StockIn!$A$3:$B$1003,2,FALSE)","v":0},{"$f":"VLOOKUP(A616,StockIn!$A$3:$I$1003,9,FALSE)","v":0},null,0,0,0]
[{"$f":"StockIn!A616","v":1614},{"$f":"VLOOKUP(A617,StockIn!$A$3:$B$1003,2,FALSE)","v":0},{"$f":"VLOOKUP(A617,StockIn!$A$3:$I$1003,9,FALSE)","v":0},null,0,0,0]
[{"$f":"StockIn!A617","v":1615},{"$f":"VLOOKUP(A618,StockIn!$A$3:$B$1003,2,FALSE)","v":0},{"$f":"VLOOKUP(A618,StockIn!$A$3:$I$1003,9,FALSE)","v":0},null,0,0,0]
[{"$f":"StockIn!A618","v":1616},{"$f":"VLOOKUP(A619,StockIn!$A$3:$B$1003,2,FALSE)","v":0},{"$f":"VLOOKUP(A619,StockIn!$A$3:$I$1003,9,FALSE)","v":0},null,0,0,0]
[{"$f":"StockIn!A619","v":1617},{"$f":"VLOOKUP(A620,StockIn!$A$3:$B$1003,2,FALSE)","v":0},{"$f":"VLOOKUP(A620,StockIn!$A$3:$I$1003,9,FALSE)","v":0},null,0,0,0]
[{"$f":"StockIn!A620","v":1618},{"$f":"VLOOKUP(A621,StockIn!$A$3:$B$1003,2,FALSE)","v":0},{"$f":"VLOOKUP(A621,StockIn!$A$3:$I$1003,9,FALSE)","v":0},null,0,0,0]
[{"$f":"StockIn!A621","v":1619},{"$f":"VLOOKUP(A622,StockIn!$A$3:$B$1003,2,FALSE)","v":0},{"$f":"VLOOKUP(A622,StockIn!$A$3:$I$1003,9,FALSE)","v":0},null,0,0,0]
[{"$f":"StockIn!A622","v":1620},{"$f":"VLOOKUP(A623,StockIn!$A$3:$B$1003,2,FALSE)","v":0},{"$f":"VLOOKUP(A623,StockIn!$A$3:$I$1003,9,FALSE)","v":0},null,0,0,0]
[{"$f":"StockIn!A623","v":1621},{"$f":"VLOOKUP(A624,StockIn!$A$3:$B$1003,2,FALSE)","v":0},{"$f":"VLOOKUP(A624,StockIn!$A$3:$I$1003,9,FALSE)","v":0},null,0,0,0]
[{"$f":"StockIn!A624","v":1622},{"$f":"VLOOKUP(A625,StockIn!$A$3:$B$1003,2,FALSE)","v":0},{"$f":"VLOOKUP(A625,StockIn!$A$3:$I$1003,9,FALSE)","v":0},null,0,0,0]
[{"$f":"StockIn!A625","v":1623},{"$f":"VLOOKUP(A626,StockIn!$A$3:$B$1003,2,FALSE)","v":0},{"$f":"VLOOKUP(A626,StockIn!$A$3:$I$1003,9,FALSE)","v":0},null,0,0,0]
[{"$f":"StockIn!A626","v":1624},{"$f":"VLOOKUP(A627,StockIn!$A$3:$B$1003,2,FALSE)","v":0},{"$f":"VLOOKUP(A627,StockIn!$A$3:$I$1003,9,FALSE)","v":0},null,0,0,0]
[{"$f":"StockIn!A627","v":1625},{"$f":"VLOOKUP(A628,StockIn!$A$3:$B$1003,2,FALSE)","v":0},{"$f":"VLOOKUP(A628,StockIn!$A$3:$I$1003,9,FALSE)","v":0},null,0,0,0]
[{"$f":"StockIn!A628","v":1626},{"$f":"VLOOKUP(A629,StockIn!$A$3:$B$1003,2,FALSE)","v":0},{"$f":"VLOOKUP(A629,StockIn!$A$3:$I$1003,9,FALSE)","v":0},null,0,0,0]
[{"$f":"StockIn!A629","v":1627},{"$f":"VLOOKUP(A630,StockIn!$A$3:$B$1003,2,FALSE)","v":0},{"$f":"VLOOKUP(A630,StockIn!$A$3:$I$1003,9,FALSE)","v":0},null,0,0,0]
[{"$f":"StockIn!A630","v":1628},{"$f":"VLOOKUP(A631,StockIn!$A$3:$B$1003,2,FALSE)","v":0},{"$f":"VLOOKUP(A631,StockIn!$A$3:$I$1003,9,FALSE)","v":0},null,0,0,0]
[{"$f":"StockIn!A631","v":1629},{"$f":"VLOOKUP(A632,StockIn!$A$3:$B$1003,2,FALSE)","v":0},{"$f":"VLOOKUP(A632,StockIn!$A$3:$I$1003,9,FALSE)","v":0},null,0,0,0]
[{"$f":"StockIn!A632","v":1630},{"$f":"VLOOKUP(A633,StockIn!$A$3:$B$1003,2,FALSE)","v":0},{"$f":"VLOOKUP(A633,StockIn!$A$3:$I$1003,9,FALSE)","v":0},null,0,0,0]
[{"$f":"StockIn!A633","v":1631},{"$f":"VLOOKUP(A634,StockIn!$A$3:$B$1003,2,FALSE)","v":0},{"$f":"VLOOKUP(A634,StockIn!$A$3:$I$1003,9,FALSE)","v":0},null,0,0,0]
[{"$f":"StockIn!A634","v":1632},{"$f":"VLOOKUP(A635,StockIn!$A$3:$B$1003,2,FALSE)","v":0},{"$f":"VLOOKUP(A635,StockIn!$A$3:$I$1003,9,FALSE)","v":0},null,0,0,0]
[{"$f":"StockIn!A635","v":1633},{"$f":"VLOOKUP(A636,StockIn!$A$3:$B$1003,2,FALSE)","v":0},{"$f":"VLOOKUP(A636,StockIn!$A$3:$I$1003,9,FALSE)","v":0},null,0,0,0]
[{"$f":"StockIn!A636","v":1634},{"$f":"VLOOKUP(A637,StockIn!$A$3:$B$1003,2,FALSE)","v":0},{"$f":"VLOOKUP(A637,StockIn!$A$3:$I$1003,9,FALSE)","v":0},null,0,0,0]
[{"$f":"StockIn!A637","v":1635},{"$f":"VLOOKUP(A638,StockIn!$A$3:$B$1003,2,FALSE)","v":0},{"$f":"VLOOKUP(A638,StockIn!$A$3:$I$1003,9,FALSE)","v":0},null,0,0,0]
[{"$f":"StockIn!A638","v":1636},{"$f":"VLOOKUP(A639,StockIn!$A$3:$B$1003,2,FALSE)","v":0},{"$f":"VLOOKUP(A639,StockIn!$A$3:$I$1003,9,FALSE)","v":0},null,0,0,0]
[{"$f":"StockIn!A639","v":1637},{"$f":"VLOOKUP(A640,StockIn!$A$3:$B$1003,2,FALSE)","v":0},{"$f":"VLOOKUP(A640,StockIn!$A$3:$I$1003,9,FALSE)","v":0},null,0,0,0]
[{"$f":"StockIn!A640","v":1638},{"$f":"VLOOKUP(A641,StockIn!$A$3:$B$1003,2,FALSE)","v":0},{"$f":"VLOOKUP(A641,StockIn!$A$3:$I$1003,9,FALSE)","v":0},null,0,0,0]
[{"$f":"StockIn!A641","v":1639},{"$f":"VLOOKUP(A642,StockIn!$A$3:$B$1003,2,FALSE)","v":0},{"$f":"VLOOKUP(A642,StockIn!$A$3:$I$1003,9,FALSE)","v":0},null,0,0,0]
[{"$f":"StockIn!A642","v":1640},{"$f":"VLOOKUP(A643,StockIn!$A$3:$B$1003,2,FALSE)","v":0},{"$f":"VLOOKUP(A643,StockIn!$A$3:$I$1003,9,FALSE)","v":0},null,0,0,0]
[{"$f":"StockIn!A643","v":1641},{"$f":"VLOOKUP(A644,StockIn!$A$3:$B$1003,2,FALSE)","v":0},{"$f":"VLOOKUP(A644,StockIn!$A$3:$I$1003,9,FALSE)","v":0},null,0,0,0]
[{"$f":"StockIn!A644","v":1642},{"$f":"VLOOKUP(A645,StockIn!$A$3:$B$1003,2,FALSE)","v":0},{"$f":"VLOOKUP(A645,StockIn!$A$3:$I$1003,9,FALSE)","v":0},null,0,{"$f":"D645+E645","v":0},{"$f":"VLOOKUP(A645,$A$4:$L$1003,3,FALSE)-VLOOKUP(A645,$A$4:$L$1003,6,FALSE)","v":0}]
[{"$f":"StockIn!A645","v":1643},{"$f":"VLOOKUP(A646,StockIn!$A$3:$B$1003,2,FALSE)","v":0},{"$f":"VLOOKUP(A646,StockIn!$A$3:$I$1003,9,FALSE)","v":0},null,0,0,0]
[{"$f":"StockIn!A646","v":1644},{"$f":"VLOOKUP(A647,StockIn!$A$3:$B$1003,2,FALSE)","v":0},{"$f":"VLOOKUP(A647,StockIn!$A$3:$I$1003,9,FALSE)","v":0},null,0,0,0]
[{"$f":"StockIn!A647","v":1645},{"$f":"VLOOKUP(A648,StockIn!$A$3:$B$1003,2,FALSE)","v":0},{"$f":"VLOOKUP(A648,StockIn!$A$3:$I$1003,9,FALSE)","v":0},null,0,0,0]
[{"$f":"StockIn!A648","v":1646},{"$f":"VLOOKUP(A649,StockIn!$A$3:$B$1003,2,FALSE)","v":0},{"$f":"VLOOKUP(A649,StockIn!$A$3:$I$1003,9,FALSE)","v":0},null,0,0,0]
[{"$f":"StockIn!A649","v":1647},{"$f":"VLOOKUP(A650,StockIn!$A$3:$B$1003,2,FALSE)","v":0},{"$f":"VLOOKUP(A650,StockIn!$A$3:$I$1003,9,FALSE)","v":0},null,0,0,0]
[{"$f":"StockIn!A650","v":1648},{"$f":"VLOOKUP(A651,StockIn!$A$3:$B$1003,2,FALSE)","v":0},{"$f":"VLOOKUP(A651,StockIn!$A$3:$I$1003,9,FALSE)","v":0},null,0,0,0]
[{"$f":"StockIn!A651","v":1649},{"$f":"VLOOKUP(A652,StockIn!$A$3:$B$1003,2,FALSE)","v":0},{"$f":"VLOOKUP(A652,StockIn!$A$3:$I$1003,9,FALSE)","v":0},null,0,0,0]
[{"$f":"StockIn!A652","v":1650},{"$f":"VLOOKUP(A653,StockIn!$A$3:$B$1003,2,FALSE)","v":0},{"$f":"VLOOKUP(A653,StockIn!$A$3:$I$1003,9,FALSE)","v":0},null,0,0,0]
[{"$f":"StockIn!A653","v":1651},{"$f":"VLOOKUP(A654,StockIn!$A$3:$B$1003,2,FALSE)","v":0},{"$f":"VLOOKUP(A654,StockIn!$A$3:$I$1003,9,FALSE)","v":0},null,0,0,0]
[{"$f":"StockIn!A654","v":1652},{"$f":"VLOOKUP(A655,StockIn!$A$3:$B$1003,2,FALSE)","v":0},{"$f":"VLOOKUP(A655,StockIn!$A$3:$I$1003,9,FALSE)","v":0},null,0,0,0]
[{"$f":"StockIn!A655","v":1653},{"$f":"VLOOKUP(A656,StockIn!$A$3:$B$1003,2,FALSE)","v":0},{"$f":"VLOOKUP(A656,StockIn!$A$3:$I$1003,9,FALSE)","v":0},null,0,0,0]
[{"$f":"StockIn!A656","v":1654},{"$f":"VLOOKUP(A657,StockIn!$A$3:$B$1003,2,FALSE)","v":0},{"$f":"VLOOKUP(A657,StockIn!$A$3:$I$1003,9,FALSE)","v":0},null,0,0,0]
[{"$f":"StockIn!A657","v":1655},{"$f":"VLOOKUP(A658,StockIn!$A$3:$B$1003,2,FALSE)","v":0},{"$f":"VLOOKUP(A658,StockIn!$A$3:$I$1003,9,FALSE)","v":0},null,0,0,0]
[{"$f":"StockIn!A658","v":1656},{"$f":"VLOOKUP(A659,StockIn!$A$3:$B$1003,2,FALSE)","v":0},{"$f":"VLOOKUP(A659,StockIn!$A$3:$I$1003,9,FALSE)","v":0},null,0,0,0]
[{"$f":"StockIn!A659","v":1657},{"$f":"VLOOKUP(A660,StockIn!$A$3:$B$1003,2,FALSE)","v":0},{"$f":"VLOOKUP(A660,StockIn!$A$3:$I$1003,9,FALSE)","v":0},null,0,0,0]
[{"$f":"StockIn!A660","v":1658},{"$f":"VLOOKUP(A661,StockIn!$A$3:$B$1003,2,FALSE)","v":0},{"$f":"VLOOKUP(A661,StockIn!$A$3:$I$1003,9,FALSE)","v":0},null,0,0,0]
[{"$f":"StockIn!A661","v":1659},{"$f":"VLOOKUP(A662,StockIn!$A$3:$B$1003,2,FALSE)","v":0},{"$f":"VLOOKUP(A662,StockIn!$A$3:$I$1003,9,FALSE)","v":0},null,0,0,0]
[{"$f":"StockIn!A662","v":1660},{"$f":"VLOOKUP(A663,StockIn!$A$3:$B$1003,2,FALSE)","v":0},{"$f":"VLOOKUP(A663,StockIn!$A$3:$I$1003,9,FALSE)","v":0},null,0,0,0]
[{"$f":"StockIn!A663","v":1661},{"$f":"VLOOKUP(A664,StockIn!$A$3:$B$1003,2,FALSE)","v":0},{"$f":"VLOOKUP(A664,StockIn!$A$3:$I$1003,9,FALSE)","v":0},null,0,0,0]
[{"$f":"StockIn!A664","v":1662},{"$f":"VLOOKUP(A665,StockIn!$A$3:$B$1003,2,FALSE)","v":0},{"$f":"VLOOKUP(A665,StockIn!$A$3:$I$1003,9,FALSE)","v":0},null,0,0,0]
[{"$f":"StockIn!A665","v":1663},{"$f":"VLOOKUP(A666,StockIn!$A$3:$B$1003,2,FALSE)","v":0},{"$f":"VLOOKUP(A666,StockIn!$A$3:$I$1003,9,FALSE)","v":0},null,0,0,0]
[{"$f":"StockIn!A666","v":1664},{"$f":"VLOOKUP(A667,StockIn!$A$3:$B$1003,2,FALSE)","v":0},{"$f":"VLOOKUP(A667,StockIn!$A$3:$I$1003,9,FALSE)","v":0},null,0,0,0]
[{"$f":"StockIn!A667","v":1665},{"$f":"VLOOKUP(A668,StockIn!$A$3:$B$1003,2,FALSE)","v":0},{"$f":"VLOOKUP(A668,StockIn!$A$3:$I$1003,9,FALSE)","v":0},null,0,0,0]
[{"$f":"StockIn!A668","v":1666},{"$f":"VLOOKUP(A669,StockIn!$A$3:$B$1003,2,FALSE)","v":0},{"$f":"VLOOKUP(A669,StockIn!$A$3:$I$1003,9,FALSE)","v":0},null,0,0,0]
[{"$f":"StockIn!A669","v":1667},{"$f":"VLOOKUP(A670,StockIn!$A$3:$B$1003,2,FALSE)","v":0},{"$f":"VLOOKUP(A670,StockIn!$A$3:$I$1003,9,FALSE)","v":0},null,0,0,0]
[{"$f":"StockIn!A670","v":1668},{"$f":"VLOOKUP(A671,StockIn!$A$3:$B$1003,2,FALSE)","v":0},{"$f":"VLOOKUP(A671,StockIn!$A$3:$I$1003,9,FALSE)","v":0},null,0,0,0]
[{"$f":"StockIn!A671","v":1669},{"$f":"VLOOKUP(A672,StockIn!$A$3:$B$1003,2,FALSE)","v":0},{"$f":"VLOOKUP(A672,StockIn!$A$3:$I$1003,9,FALSE)","v":0},null,0,0,0]
[{"$f":"StockIn!A672","v":1670},{"$f":"VLOOKUP(A673,StockIn!$A$3:$B$1003,2,FALSE)","v":0},{"$f":"VLOOKUP(A673,StockIn!$A$3:$I$1003,9,FALSE)","v":0},null,0,0,0]
[{"$f":"StockIn!A673","v":1671},{"$f":"VLOOKUP(A674,StockIn!$A$3:$B$1003,2,FALSE)","v":0},{"$f":"VLOOKUP(A674,StockIn!$A$3:$I$1003,9,FALSE)","v":0},null,0,0,0]
[{"$f":"StockIn!A674","v":1672},{"$f":"VLOOKUP(A675,StockIn!$A$3:$B$1003,2,FALSE)","v":0},{"$f":"VLOOKUP(A675,StockIn!$A$3:$I$1003,9,FALSE)","v":0},null,0,0,0]
[{"$f":"StockIn!A675","v":1673},{"$f":"VLOOKUP(A676,StockIn!$A$3:$B$1003,2,FALSE)","v":0},{"$f":"VLOOKUP(A676,StockIn!$A$3:$I$1003,9,FALSE)","v":0},null,0,0,0]
[{"$f":"StockIn!A676","v":1674},{"$f":"VLOOKUP(A677,StockIn!$A$3:$B$1003,2,FALSE)","v":0},{"$f":"VLOOKUP(A677,StockIn!$A$3:$I$1003,9,FALSE)","v":0},null,0,0,0]
[{"$f":"StockIn!A677","v":1675},{"$f":"VLOOKUP(A678,StockIn!$A$3:$B$1003,2,FALSE)","v":0},{"$f":"VLOOKUP(A678,StockIn!$A$3:$I$1003,9,FALSE)","v":0},null,0,0,0]
[{"$f":"StockIn!A678","v":1676},{"$f":"VLOOKUP(A679,StockIn!$A$3:$B$1003,2,FALSE)","v":0},{"$f":"VLOOKUP(A679,StockIn!$A$3:$I$1003,9,FALSE)","v":0},null,0,0,0]
[{"$f":"StockIn!A679","v":1677},{"$f":"VLOOKUP(A680,StockIn!$A$3:$B$1003,2,FALSE)","v":0},{"$f":"VLOOKUP(A680,StockIn!$A$3:$I$1003,9,FALSE)","v":0},null,0,0,0]
[{"$f":"StockIn!A680","v":1678},{"$f":"VLOOKUP(A681,StockIn!$A$3:$B$1003,2,FALSE)","v":0},{"$f":"VLOOKUP(A681,StockIn!$A$3:$I$1003,9,FALSE)","v":0},null,0,0,0]
[{"$f":"StockIn!A681","v":1679},{"$f":"VLOOKUP(A682,StockIn!$A$3:$B$1003,2,FALSE)","v":0},{"$f":"VLOOKUP(A682,StockIn!$A$3:$I$1003,9,FALSE)","v":0},null,0,0,0]
[{"$f":"StockIn!A682","v":1680},{"$f":"VLOOKUP(A683,StockIn!$A$3:$B$1003,2,FALSE)","v":0},{"$f":"VLOOKUP(A683,StockIn!$A$3:$I$1003,9,FALSE)","v":0},null,0,0,0]
[{"$f":"StockIn!A683","v":1681},{"$f":"VLOOKUP(A684,StockIn!$A$3:$B$1003,2,FALSE)","v":0},{"$f":"VLOOKUP(A684,StockIn!$A$3:$I$1003,9,FALSE)","v":0},null,0,0,0]
[{"$f":"StockIn!A684","v":1682},{"$f":"VLOOKUP(A685,StockIn!$A$3:$B$1003,2,FALSE)","v":0},{"$f":"VLOOKUP(A685,StockIn!$A$3:$I$1003,9,FALSE)","v":0},null,0,0,0]
[{"$f":"StockIn!A685","v":1683},{"$f":"VLOOKUP(A686,StockIn!$A$3:$B$1003,2,FALSE)","v":0},{"$f":"VLOOKUP(A686,StockIn!$A$3:$I$1003,9,FALSE)","v":0},null,0,0,0]
[{"$f":"StockIn!A686","v":1684},{"$f":"VLOOKUP(A687,StockIn!$A$3:$B$1003,2,FALSE)","v":0},{"$f":"VLOOKUP(A687,StockIn!$A$3:$I$1003,9,FALSE)","v":0},null,0,0,0]
[{"$f":"StockIn!A687","v":1685},{"$f":"VLOOKUP(A688,StockIn!$A$3:$B$1003,2,FALSE)","v":0},{"$f":"VLOOKUP(A688,StockIn!$A$3:$I$1003,9,FALSE)","v":0},null,0,0,0]
[{"$f":"StockIn!A688","v":1686},{"$f":"VLOOKUP(A689,StockIn!$A$3:$B$1003,2,FALSE)","v":0},{"$f":"VLOOKUP(A689,StockIn!$A$3:$I$1003,9,FALSE)","v":0},null,0,0,0]
[{"$f":"StockIn!A689","v":1687},{"$f":"VLOOKUP(A690,StockIn!$A$3:$B$1003,2,FALSE)","v":0},{"$f":"VLOOKUP(A690,StockIn!$A$3:$I$1003,9,FALSE)","v":0},null,0,0,0]
[{"$f":"StockIn!A690","v":1688},{"$f":"VLOOKUP(A691,StockIn!$A$3:$B$1003,2,FALSE)","v":0},{"$f":"VLOOKUP(A691,StockIn!$A$3:$I$1003,9,FALSE)","v":0},null,0,0,0]
[{"$f":"StockIn!A691","v":1689},{"$f":"VLOOKUP(A692,StockIn!$A$3:$B$1003,2,FALSE)","v":0},{"$f":"VLOOKUP(A692,StockIn!$A$3:$I$1003,9,FALSE)","v":0},null,0,0,0]
[{"$f":"StockIn!A692","v":1690},{"$f":"VLOOKUP(A693,StockIn!$A$3:$B$1003,2,FALSE)","v":0},{"$f":"VLOOKUP(A693,StockIn!$A$3:$I$1003,9,FALSE)","v":0},null,0,0,0]
[{"$f":"StockIn!A693","v":1691},{"$f":"VLOOKUP(A694,StockIn!$A$3:$B$1003,2,FALSE)","v":0},{"$f":"VLOOKUP(A694,StockIn!$A$3:$I$1003,9,FALSE)","v":0},null,0,0,0]
[{"$f":"StockIn!A694","v":1692},{"$f":"VLOOKUP(A695,StockIn!$A$3:$B$1003,2,FALSE)","v":0},{"$f":"VLOOKUP(A695,StockIn!$A$3:$I$1003,9,FALSE)","v":0},null,0,0,0]
[{"$f":"StockIn!A695","v":1693},{"$f":"VLOOKUP(A696,StockIn!$A$3:$B$1003,2,FALSE)","v":0},{"$f":"VLOOKUP(A696,StockIn!$A$3:$I$1003,9,FALSE)","v":0},null,0,0,0]
[{"$f":"StockIn!A696","v":1694},{"$f":"VLOOKUP(A697,StockIn!$A$3:$B$1003,2,FALSE)","v":0},{"$f":"VLOOKUP(A697,StockIn!$A$3:$I$1003,9,FALSE)","v":0},null,0,0,0]
[{"$f":"StockIn!A697","v":1695},{"$f":"VLOOKUP(A698,StockIn!$A$3:$B$1003,2,FALSE)","v":0},{"$f":"VLOOKUP(A698,StockIn!$A$3:$I$1003,9,FALSE)","v":0},null,0,0,0]
[{"$f":"StockIn!A698","v":1696},{"$f":"VLOOKUP(A699,StockIn!$A$3:$B$1003,2,FALSE)","v":0},{"$f":"VLOOKUP(A699,StockIn!$A$3:$I$1003,9,FALSE)","v":0},null,0,0,0]
[{"$f":"StockIn!A699","v":1697},{"$f":"VLOOKUP(A700,StockIn!$A$3:$B$1003,2,FALSE)","v":0},{"$f":"VLOOKUP(A700,StockIn!$A$3:$I$1003,9,FALSE)","v":0},null,0,0,0]
[{"$f":"StockIn!A700","v":1698},{"$f":"VLOOKUP(A701,StockIn!$A$3:$B$1003,2,FALSE)","v":0},{"$f":"VLOOKUP(A701,StockIn!$A$3:$I$1003,9,FALSE)","v":0},null,0,0,0]
[{"$f":"StockIn!A701","v":1699},{"$f":"VLOOKUP(A702,StockIn!$A$3:$B$1003,2,FALSE)","v":0},{"$f":"VLOOKUP(A702,StockIn!$A$3:$I$1003,9,FALSE)","v":0},null,0,0,0]
[{"$f":"StockIn!A702","v":1700},{"$f":"VLOOKUP(A703,StockIn!$A$3:$B$1003,2,FALSE)","v":0},{"$f":"VLOOKUP(A703,StockIn!$A$3:$I$1003,9,FALSE)","v":0},null,0,0,0]
[{"$f":"StockIn!A703","v":1701},{"$f":"VLOOKUP(A704,StockIn!$A$3:$B$1003,2,FALSE)","v":0},{"$f":"VLOOKUP(A704,StockIn!$A$3:$I$1003,9,FALSE)","v":0},null,0,0,0]
[{"$f":"StockIn!A704","v":1702},{"$f":"VLOOKUP(A705,StockIn!$A$3:$B$1003,2,FALSE)","v":0},{"$f":"VLOOKUP(A705,StockIn!$A$3:$I$1003,9,FALSE)","v":0},null,0,0,0]
[{"$f":"StockIn!A705","v":1703},{"$f":"VLOOKUP(A706,StockIn!$A$3:$B$1003,2,FALSE)","v":0},{"$f":"VLOOKUP(A706,StockIn!$A$3:$I$1003,9,FALSE)","v":0},null,0,0,0]
[{"$f":"StockIn!A706","v":1704},{"$f":"VLOOKUP(A707,StockIn!$A$3:$B$1003,2,FALSE)","v":0},{"$f":"VLOOKUP(A707,StockIn!$A$3:$I$1003,9,FALSE)","v":0},null,0,0,0]
[{"$f":"StockIn!A707","v":1705},{"$f":"VLOOKUP(A708,StockIn!$A$3:$B$1003,2,FALSE)","v":0},{"$f":"VLOOKUP(A708,StockIn!$A$3:$I$1003,9,FALSE)","v":0},null,0,0,0]
[{"$f":"StockIn!A708","v":1706},{"$f":"VLOOKUP(A709,StockIn!$A$3:$B$1003,2,FALSE)","v":0},{"$f":"VLOOKUP(A709,StockIn!$A$3:$I$1003,9,FALSE)","v":0},null,0,{"$f":"D709+E709","v":0},{"$f":"VLOOKUP(A709,$A$4:$L$1003,3,FALSE)-VLOOKUP(A709,$A$4:$L$1003,6,FALSE)","v":0}]
[{"$f":"StockIn!A709","v":1707},{"$f":"VLOOKUP(A710,StockIn!$A$3:$B$1003,2,FALSE)","v":0},{"$f":"VLOOKUP(A710,StockIn!$A$3:$I$1003,9,FALSE)","v":0},null,0,0,0]
[{"$f":"StockIn!A710","v":1708},{"$f":"VLOOKUP(A711,StockIn!$A$3:$B$1003,2,FALSE)","v":0},{"$f":"VLOOKUP(A711,StockIn!$A$3:$I$1003,9,FALSE)","v":0},null,0,0,0]
[{"$f":"StockIn!A711","v":1709},{"$f":"VLOOKUP(A712,StockIn!$A$3:$B$1003,2,FALSE)","v":0},{"$f":"VLOOKUP(A712,StockIn!$A$3:$I$1003,9,FALSE)","v":0},null,0,0,0]
[{"$f":"StockIn!A712","v":1710},{"$f":"VLOOKUP(A713,StockIn!$A$3:$B$1003,2,FALSE)","v":0},{"$f":"VLOOKUP(A713,StockIn!$A$3:$I$1003,9,FALSE)","v":0},null,0,0,0]
[{"$f":"StockIn!A713","v":1711},{"$f":"VLOOKUP(A714,StockIn!$A$3:$B$1003,2,FALSE)","v":0},{"$f":"VLOOKUP(A714,StockIn!$A$3:$I$1003,9,FALSE)","v":0},null,0,0,0]
[{"$f":"StockIn!A714","v":1712},{"$f":"VLOOKUP(A715,StockIn!$A$3:$B$1003,2,FALSE)","v":0},{"$f":"VLOOKUP(A715,StockIn!$A$3:$I$1003,9,FALSE)","v":0},null,0,0,0]
[{"$f":"StockIn!A715","v":1713},{"$f":"VLOOKUP(A716,StockIn!$A$3:$B$1003,2,FALSE)","v":0},{"$f":"VLOOKUP(A716,StockIn!$A$3:$I$1003,9,FALSE)","v":0},null,0,0,0]
[{"$f":"StockIn!A716","v":1714},{"$f":"VLOOKUP(A717,StockIn!$A$3:$B$1003,2,FALSE)","v":0},{"$f":"VLOOKUP(A717,StockIn!$A$3:$I$1003,9,FALSE)","v":0},null,0,0,0]
[{"$f":"StockIn!A717","v":1715},{"$f":"VLOOKUP(A718,StockIn!$A$3:$B$1003,2,FALSE)","v":0},{"$f":"VLOOKUP(A718,StockIn!$A$3:$I$1003,9,FALSE)","v":0},null,0,0,0]
[{"$f":"StockIn!A718","v":1716},{"$f":"VLOOKUP(A719,StockIn!$A$3:$B$1003,2,FALSE)","v":0},{"$f":"VLOOKUP(A719,StockIn!$A$3:$I$1003,9,FALSE)","v":0},null,0,0,0]
[{"$f":"StockIn!A719","v":1717},{"$f":"VLOOKUP(A720,StockIn!$A$3:$B$1003,2,FALSE)","v":0},{"$f":"VLOOKUP(A720,StockIn!$A$3:$I$1003,9,FALSE)","v":0},null,0,0,0]
[{"$f":"StockIn!A720","v":1718},{"$f":"VLOOKUP(A721,StockIn!$A$3:$B$1003,2,FALSE)","v":0},{"$f":"VLOOKUP(A721,StockIn!$A$3:$I$1003,9,FALSE)","v":0},null,0,0,0]
[{"$f":"StockIn!A721","v":1719},{"$f":"VLOOKUP(A722,StockIn!$A$3:$B$1003,2,FALSE)","v":0},{"$f":"VLOOKUP(A722,StockIn!$A$3:$I$1003,9,FALSE)","v":0},null,0,0,0]
[{"$f":"StockIn!A722","v":1720},{"$f":"VLOOKUP(A723,StockIn!$A$3:$B$1003,2,FALSE)","v":0},{"$f":"VLOOKUP(A723,StockIn!$A$3:$I$1003,9,FALSE)","v":0},null,0,0,0]
[{"$f":"StockIn!A723","v":1721},{"$f":"VLOOKUP(A724,StockIn!$A$3:$B$1003,2,FALSE)","v":0},{"$f":"VLOOKUP(A724,StockIn!$A$3:$I$1003,9,FALSE)","v":0},null,0,0,0]
[{"$f":"StockIn!A724","v":1722},{"$f":"VLOOKUP(A725,StockIn!$A$3:$B$1003,2,FALSE)","v":0},{"$f":"VLOOKUP(A725,StockIn!$A$3:$I$1003,9,FALSE)","v":0},null,0,0,0]
[{"$f":"StockIn!A725","v":1723},{"$f":"VLOOKUP(A726,StockIn!$A$3:$B$1003,2,FALSE)","v":0},{"$f":"VLOOKUP(A726,StockIn!$A$3:$I$1003,9,FALSE)","v":0},null,0,0,0]
[{"$f":"StockIn!A726","v":1724},{"$f":"VLOOKUP(A727,StockIn!$A$3:$B$1003,2,FALSE)","v":0},{"$f":"VLOOKUP(A727,StockIn!$A$3:$I$1003,9,FALSE)","v":0},null,0,0,0]
[{"$f":"StockIn!A727","v":1725},{"$f":"VLOOKUP(A728,StockIn!$A$3:$B$1003,2,FALSE)","v":0},{"$f":"VLOOKUP(A728,StockIn!$A$3:$I$1003,9,FALSE)","v":0},null,0,0,0]
[{"$f":"StockIn!A728","v":1726},{"$f":"VLOOKUP(A729,StockIn!$A$3:$B$1003,2,FALSE)","v":0},{"$f":"VLOOKUP(A729,StockIn!$A$3:$I$1003,9,FALSE)","v":0},null,0,0,0]
[{"$f":"StockIn!A729","v":1727},{"$f":"VLOOKUP(A730,StockIn!$A$3:$B$1003,2,FALSE)","v":0},{"$f":"VLOOKUP(A730,StockIn!$A$3:$I$1003,9,FALSE)","v":0},null,0,0,0]
[{"$f":"StockIn!A730","v":1728},{"$f":"VLOOKUP(A731,StockIn!$A$3:$B$1003,2,FALSE)","v":0},{"$f":"VLOOKUP(A731,StockIn!$A$3:$I$1003,9,FALSE)","v":0},null,0,0,0]
[{"$f":"StockIn!A731","v":1729},{"$f":"VLOOKUP(A732,StockIn!$A$3:$B$1003,2,FALSE)","v":0},{"$f":"VLOOKUP(A732,StockIn!$A$3:$I$1003,9,FALSE)","v":0},null,0,0,0]
[{"$f":"StockIn!A732","v":1730},{"$f":"VLOOKUP(A733,StockIn!$A$3:$B$1003,2,FALSE)","v":0},{"$f":"VLOOKUP(A733,StockIn!$A$3:$I$1003,9,FALSE)","v":0},null,0,0,0]
[{"$f":"StockIn!A733","v":1731},{"$f":"VLOOKUP(A734,StockIn!$A$3:$B$1003,2,FALSE)","v":0},{"$f":"VLOOKUP(A734,StockIn!$A$3:$I$1003,9,FALSE)","v":0},null,0,0,0]
[{"$f":"StockIn!A734","v":1732},{"$f":"VLOOKUP(A735,StockIn!$A$3:$B$1003,2,FALSE)","v":0},{"$f":"VLOOKUP(A735,StockIn!$A$3:$I$1003,9,FALSE)","v":0},null,0,0,0]
[{"$f":"StockIn!A735","v":1733},{"$f":"VLOOKUP(A736,StockIn!$A$3:$B$1003,2,FALSE)","v":0},{"$f":"VLOOKUP(A736,StockIn!$A$3:$I$1003,9,FALSE)","v":0},null,0,0,0]
[{"$f":"StockIn!A736","v":1734},{"$f":"VLOOKUP(A737,StockIn!$A$3:$B$1003,2,FALSE)","v":0},{"$f":"VLOOKUP(A737,StockIn!$A$3:$I$1003,9,FALSE)","v":0},null,0,0,0]
[{"$f":"StockIn!A737","v":1735},{"$f":"VLOOKUP(A738,StockIn!$A$3:$B$1003,2,FALSE)","v":0},{"$f":"VLOOKUP(A738,StockIn!$A$3:$I$1003,9,FALSE)","v":0},null,0,0,0]
[{"$f":"StockIn!A738","v":1736},{"$f":"VLOOKUP(A739,StockIn!$A$3:$B$1003,2,FALSE)","v":0},{"$f":"VLOOKUP(A739,StockIn!$A$3:$I$1003,9,FALSE)","v":0},null,0,0,0]
[{"$f":"StockIn!A739","v":1737},{"$f":"VLOOKUP(A740,StockIn!$A$3:$B$1003,2,FALSE)","v":0},{"$f":"VLOOKUP(A740,StockIn!$A$3:$I$1003,9,FALSE)","v":0},null,0,0,0]
[{"$f":"StockIn!A740","v":1738},{"$f":"VLOOKUP(A741,StockIn!$A$3:$B$1003,2,FALSE)","v":0},{"$f":"VLOOKUP(A741,StockIn!$A$3:$I$1003,9,FALSE)","v":0},null,0,0,0]
[{"$f":"StockIn!A741","v":1739},{"$f":"VLOOKUP(A742,StockIn!$A$3:$B$1003,2,FALSE)","v":0},{"$f":"VLOOKUP(A742,StockIn!$A$3:$I$1003,9,FALSE)","v":0},null,0,0,0]
[{"$f":"StockIn!A742","v":1740},{"$f":"VLOOKUP(A743,StockIn!$A$3:$B$1003,2,FALSE)","v":0},{"$f":"VLOOKUP(A743,StockIn!$A$3:$I$1003,9,FALSE)","v":0},null,0,0,0]
[{"$f":"StockIn!A743","v":1741},{"$f":"VLOOKUP(A744,StockIn!$A$3:$B$1003,2,FALSE)","v":0},{"$f":"VLOOKUP(A744,StockIn!$A$3:$I$1003,9,FALSE)","v":0},null,0,0,0]
[{"$f":"StockIn!A744","v":1742},{"$f":"VLOOKUP(A745,StockIn!$A$3:$B$1003,2,FALSE)","v":0},{"$f":"VLOOKUP(A745,StockIn!$A$3:$I$1003,9,FALSE)","v":0},null,0,0,0]
[{"$f":"StockIn!A745","v":1743},{"$f":"VLOOKUP(A746,StockIn!$A$3:$B$1003,2,FALSE)","v":0},{"$f":"VLOOKUP(A746,StockIn!$A$3:$I$1003,9,FALSE)","v":0},null,0,0,0]
[{"$f":"StockIn!A746","v":1744},{"$f":"VLOOKUP(A747,StockIn!$A$3:$B$1003,2,FALSE)","v":0},{"$f":"VLOOKUP(A747,StockIn!$A$3:$I$1003,9,FALSE)","v":0},null,0,0,0]
[{"$f":"StockIn!A747","v":1745},{"$f":"VLOOKUP(A748,StockIn!$A$3:$B$1003,2,FALSE)","v":0},{"$f":"VLOOKUP(A748,StockIn!$A$3:$I$1003,9,FALSE)","v":0},null,0,0,0]
[{"$f":"StockIn!A748","v":1746},{"$f":"VLOOKUP(A749,StockIn!$A$3:$B$1003,2,FALSE)","v":0},{"$f":"VLOOKUP(A749,StockIn!$A$3:$I$1003,9,FALSE)","v":0},null,0,0,0]
[{"$f":"StockIn!A749","v":1747},{"$f":"VLOOKUP(A750,StockIn!$A$3:$B$1003,2,FALSE)","v":0},{"$f":"VLOOKUP(A750,StockIn!$A$3:$I$1003,9,FALSE)","v":0},null,0,0,0]
[{"$f":"StockIn!A750","v":1748},{"$f":"VLOOKUP(A751,StockIn!$A$3:$B$1003,2,FALSE)","v":0},{"$f":"VLOOKUP(A751,StockIn!$A$3:$I$1003,9,FALSE)","v":0},null,0,0,0]
[{"$f":"StockIn!A751","v":1749},{"$f":"VLOOKUP(A752,StockIn!$A$3:$B$1003,2,FALSE)","v":0},{"$f":"VLOOKUP(A752,StockIn!$A$3:$I$1003,9,FALSE)","v":0},null,0,0,0]
[{"$f":"StockIn!A752","v":1750},{"$f":"VLOOKUP(A753,StockIn!$A$3:$B$1003,2,FALSE)","v":0},{"$f":"VLOOKUP(A753,StockIn!$A$3:$I$1003,9,FALSE)","v":0},null,0,0,0]
[{"$f":"StockIn!A753","v":1751},{"$f":"VLOOKUP(A754,StockIn!$A$3:$B$1003,2,FALSE)","v":0},{"$f":"VLOOKUP(A754,StockIn!$A$3:$I$1003,9,FALSE)","v":0},null,0,0,0]
[{"$f":"StockIn!A754","v":1752},{"$f":"VLOOKUP(A755,StockIn!$A$3:$B$1003,2,FALSE)","v":0},{"$f":"VLOOKUP(A755,StockIn!$A$3:$I$1003,9,FALSE)","v":0},null,0,0,0]
[{"$f":"StockIn!A755","v":1753},{"$f":"VLOOKUP(A756,StockIn!$A$3:$B$1003,2,FALSE)","v":0},{"$f":"VLOOKUP(A756,StockIn!$A$3:$I$1003,9,FALSE)","v":0},null,0,0,0]
[{"$f":"StockIn!A756","v":1754},{"$f":"VLOOKUP(A757,StockIn!$A$3:$B$1003,2,FALSE)","v":0},{"$f":"VLOOKUP(A757,StockIn!$A$3:$I$1003,9,FALSE)","v":0},null,0,0,0]
[{"$f":"StockIn!A757","v":1755},{"$f":"VLOOKUP(A758,StockIn!$A$3:$B$1003,2,FALSE)","v":0},{"$f":"VLOOKUP(A758,StockIn!$A$3:$I$1003,9,FALSE)","v":0},null,0,0,0]
[{"$f":"StockIn!A758","v":1756},{"$f":"VLOOKUP(A759,StockIn!$A$3:$B$1003,2,FALSE)","v":0},{"$f":"VLOOKUP(A759,StockIn!$A$3:$I$1003,9,FALSE)","v":0},null,0,0,0]
[{"$f":"StockIn!A759","v":1757},{"$f":"VLOOKUP(A760,StockIn!$A$3:$B$1003,2,FALSE)","v":0},{"$f":"VLOOKUP(A760,StockIn!$A$3:$I$1003,9,FALSE)","v":0},null,0,0,0]
[{"$f":"StockIn!A760","v":1758},{"$f":"VLOOKUP(A761,StockIn!$A$3:$B$1003,2,FALSE)","v":0},{"$f":"VLOOKUP(A761,StockIn!$A$3:$I$1003,9,FALSE)","v":0},null,0,0,0]
[{"$f":"StockIn!A761","v":1759},{"$f":"VLOOKUP(A762,StockIn!$A$3:$B$1003,2,FALSE)","v":0},{"$f":"VLOOKUP(A762,StockIn!$A$3:$I$1003,9,FALSE)","v":0},null,0,0,0]
[{"$f":"StockIn!A762","v":1760},{"$f":"VLOOKUP(A763,StockIn!$A$3:$B$1003,2,FALSE)","v":0},{"$f":"VLOOKUP(A763,StockIn!$A$3:$I$1003,9,FALSE)","v":0},null,0,0,0]
[{"$f":"StockIn!A763","v":1761},{"$f":"VLOOKUP(A764,StockIn!$A$3:$B$1003,2,FALSE)","v":0},{"$f":"VLOOKUP(A764,StockIn!$A$3:$I$1003,9,FALSE)","v":0},null,0,0,0]
[{"$f":"StockIn!A764","v":1762},{"$f":"VLOOKUP(A765,StockIn!$A$3:$B$1003,2,FALSE)","v":0},{"$f":"VLOOKUP(A765,StockIn!$A$3:$I$1003,9,FALSE)","v":0},null,0,0,0]
[{"$f":"StockIn!A765","v":1763},{"$f":"VLOOKUP(A766,StockIn!$A$3:$B$1003,2,FALSE)","v":0},{"$f":"VLOOKUP(A766,StockIn!$A$3:$I$1003,9,FALSE)","v":0},null,0,0,0]
[{"$f":"StockIn!A766","v":1764},{"$f":"VLOOKUP(A767,StockIn!$A$3:$B$1003,2,FALSE)","v":0},{"$f":"VLOOKUP(A767,StockIn!$A$3:$I$1003,9,FALSE)","v":0},null,0,0,0]
[{"$f":"StockIn!A767","v":1765},{"$f":"VLOOKUP(A768,StockIn!$A$3:$B$1003,2,FALSE)","v":0},{"$f":"VLOOKUP(A768,StockIn!$A$3:$I$1003,9,FALSE)","v":0},null,0,0,0]
[{"$f":"StockIn!A768","v":1766},{"$f":"VLOOKUP(A769,StockIn!$A$3:$B$1003,2,FALSE)","v":0},{"$f":"VLOOKUP(A769,StockIn!$A$3:$I$1003,9,FALSE)","v":0},null,0,0,0]
[{"$f":"StockIn!A769","v":1767},{"$f":"VLOOKUP(A770,StockIn!$A$3:$B$1003,2,FALSE)","v":0},{"$f":"VLOOKUP(A770,StockIn!$A$3:$I$1003,9,FALSE)","v":0},null,0,0,0]
[{"$f":"StockIn!A770","v":1768},{"$f":"VLOOKUP(A771,StockIn!$A$3:$B$1003,2,FALSE)","v":0},{"$f":"VLOOKUP(A771,StockIn!$A$3:$I$1003,9,FALSE)","v":0},null,0,0,0]
[{"$f":"StockIn!A771","v":1769},{"$f":"VLOOKUP(A772,StockIn!$A$3:$B$1003,2,FALSE)","v":0},{"$f":"VLOOKUP(A772,StockIn!$A$3:$I$1003,9,FALSE)","v":0},null,0,0,0]
[{"$f":"StockIn!A772","v":1770},{"$f":"VLOOKUP(A773,StockIn!$A$3:$B$1003,2,FALSE)","v":0},{"$f":"VLOOKUP(A773,StockIn!$A$3:$I$1003,9,FALSE)","v":0},null,0,{"$f":"D773+E773","v":0},{"$f":"VLOOKUP(A773,$A$4:$L$1003,3,FALSE)-VLOOKUP(A773,$A$4:$L$1003,6,FALSE)","v":0}]
[{"$f":"StockIn!A773","v":1771},{"$f":"VLOOKUP(A774,StockIn!$A$3:$B$1003,2,FALSE)","v":0},{"$f":"VLOOKUP(A774,StockIn!$A$3:$I$1003,9,FALSE)","v":0},null,0,0,0]
[{"$f":"StockIn!A774","v":1772},{"$f":"VLOOKUP(A775,StockIn!$A$3:$B$1003,2,FALSE)","v":0},{"$f":"VLOOKUP(A775,StockIn!$A$3:$I$1003,9,FALSE)","v":0},null,0,0,0]
[{"$f":"StockIn!A775","v":1773},{"$f":"VLOOKUP(A776,StockIn!$A$3:$B$1003,2,FALSE)","v":0},{"$f":"VLOOKUP(A776,StockIn!$A$3:$I$1003,9,FALSE)","v":0},null,0,0,0]
[{"$f":"StockIn!A776","v":1774},{"$f":"VLOOKUP(A777,StockIn!$A$3:$B$1003,2,FALSE)","v":0},{"$f":"VLOOKUP(A777,StockIn!$A$3:$I$1003,9,FALSE)","v":0},null,0,0,0]
[{"$f":"StockIn!A777","v":1775},{"$f":"VLOOKUP(A778,StockIn!$A$3:$B$1003,2,FALSE)","v":0},{"$f":"VLOOKUP(A778,StockIn!$A$3:$I$1003,9,FALSE)","v":0},null,0,0,0]
[{"$f":"StockIn!A778","v":1776},{"$f":"VLOOKUP(A779,StockIn!$A$3:$B$1003,2,FALSE)","v":0},{"$f":"VLOOKUP(A779,StockIn!$A$3:$I$1003,9,FALSE)","v":0},null,0,0,0]
[{"$f":"StockIn!A779","v":1777},{"$f":"VLOOKUP(A780,StockIn!$A$3:$B$1003,2,FALSE)","v":0},{"$f":"VLOOKUP(A780,StockIn!$A$3:$I$1003,9,FALSE)","v":0},null,0,0,0]
[{"$f":"StockIn!A780","v":1778},{"$f":"VLOOKUP(A781,StockIn!$A$3:$B$1003,2,FALSE)","v":0},{"$f":"VLOOKUP(A781,StockIn!$A$3:$I$1003,9,FALSE)","v":0},null,0,0,0]
[{"$f":"StockIn!A781","v":1779},{"$f":"VLOOKUP(A782,StockIn!$A$3:$B$1003,2,FALSE)","v":0},{"$f":"VLOOKUP(A782,StockIn!$A$3:$I$1003,9,FALSE)","v":0},null,0,0,0]
[{"$f":"StockIn!A782","v":1780},{"$f":"VLOOKUP(A783,StockIn!$A$3:$B$1003,2,FALSE)","v":0},{"$f":"VLOOKUP(A783,StockIn!$A$3:$I$1003,9,FALSE)","v":0},null,0,0,0]
[{"$f":"StockIn!A783","v":1781},{"$f":"VLOOKUP(A784,StockIn!$A$3:$B$1003,2,FALSE)","v":0},{"$f":"VLOOKUP(A784,StockIn!$A$3:$I$1003,9,FALSE)","v":0},null,0,0,0]
[{"$f":"StockIn!A784","v":1782},{"$f":"VLOOKUP(A785,StockIn!$A$3:$B$1003,2,FALSE)","v":0},{"$f":"VLOOKUP(A785,StockIn!$A$3:$I$1003,9,FALSE)","v":0},null,0,0,0]
[{"$f":"StockIn!A785","v":1783},{"$f":"VLOOKUP(A786,StockIn!$A$3:$B$1003,2,FALSE)","v":0},{"$f":"VLOOKUP(A786,StockIn!$A$3:$I$1003,9,FALSE)","v":0},null,0,0,0]
[{"$f":"StockIn!A786","v":1784},{"$f":"VLOOKUP(A787,StockIn!$A$3:$B$1003,2,FALSE)","v":0},{"$f":"VLOOKUP(A787,StockIn!$A$3:$I$1003,9,FALSE)","v":0},null,0,0,0]
[{"$f":"StockIn!A787","v":1785},{"$f":"VLOOKUP(A788,StockIn!$A$3:$B$1003,2,FALSE)","v":0},{"$f":"VLOOKUP(A788,StockIn!$A$3:$I$1003,9,FALSE)","v":0},null,0,0,0]
[{"$f":"StockIn!A788","v":1786},{"$f":"VLOOKUP(A789,StockIn!$A$3:$B$1003,2,FALSE)","v":0},{"$f":"VLOOKUP(A789,StockIn!$A$3:$I$1003,9,FALSE)","v":0},null,0,0,0]
[{"$f":"StockIn!A789","v":1787},{"$f":"VLOOKUP(A790,StockIn!$A$3:$B$1003,2,FALSE)","v":0},{"$f":"VLOOKUP(A790,StockIn!$A$3:$I$1003,9,FALSE)","v":0},null,0,0,0]
[{"$f":"StockIn!A790","v":1788},{"$f":"VLOOKUP(A791,StockIn!$A$3:$B$1003,2,FALSE)","v":0},{"$f":"VLOOKUP(A791,StockIn!$A$3:$I$1003,9,FALSE)","v":0},null,0,0,0]
[{"$f":"StockIn!A791","v":1789},{"$f":"VLOOKUP(A792,StockIn!$A$3:$B$1003,2,FALSE)","v":0},{"$f":"VLOOKUP(A792,StockIn!$A$3:$I$1003,9,FALSE)","v":0},null,0,0,0]
[{"$f":"StockIn!A792","v":1790},{"$f":"VLOOKUP(A793,StockIn!$A$3:$B$1003,2,FALSE)","v":0},{"$f":"VLOOKUP(A793,StockIn!$A$3:$I$1003,9,FALSE)","v":0},null,0,0,0]
[{"$f":"StockIn!A793","v":1791},{"$f":"VLOOKUP(A794,StockIn!$A$3:$B$1003,2,FALSE)","v":0},{"$f":"VLOOKUP(A794,StockIn!$A$3:$I$1003,9,FALSE)","v":0},null,0,0,0]
[{"$f":"StockIn!A794","v":1792},{"$f":"VLOOKUP(A795,StockIn!$A$3:$B$1003,2,FALSE)","v":0},{"$f":"VLOOKUP(A795,StockIn!$A$3:$I$1003,9,FALSE)","v":0},null,0,0,0]
[{"$f":"StockIn!A795","v":1793},{"$f":"VLOOKUP(A796,StockIn!$A$3:$B$1003,2,FALSE)","v":0},{"$f":"VLOOKUP(A796,StockIn!$A$3:$I$1003,9,FALSE)","v":0},null,0,0,0]
[{"$f":"StockIn!A796","v":1794},{"$f":"VLOOKUP(A797,StockIn!$A$3:$B$1003,2,FALSE)","v":0},{"$f":"VLOOKUP(A797,StockIn!$A$3:$I$1003,9,FALSE)","v":0},null,0,0,0]
[{"$f":"StockIn!A797","v":1795},{"$f":"VLOOKUP(A798,StockIn!$A$3:$B$1003,2,FALSE)","v":0},{"$f":"VLOOKUP(A798,StockIn!$A$3:$I$1003,9,FALSE)","v":0},null,0,0,0]
[{"$f":"StockIn!A798","v":1796},{"$f":"VLOOKUP(A799,StockIn!$A$3:$B$1003,2,FALSE)","v":0},{"$f":"VLOOKUP(A799,StockIn!$A$3:$I$1003,9,FALSE)","v":0},null,0,0,0]
[{"$f":"StockIn!A799","v":1797},{"$f":"VLOOKUP(A800,StockIn!$A$3:$B$1003,2,FALSE)","v":0},{"$f":"VLOOKUP(A800,StockIn!$A$3:$I$1003,9,FALSE)","v":0},null,0,0,0]
[{"$f":"StockIn!A800","v":1798},{"$f":"VLOOKUP(A801,StockIn!$A$3:$B$1003,2,FALSE)","v":0},{"$f":"VLOOKUP(A801,StockIn!$A$3:$I$1003,9,FALSE)","v":0},null,0,0,0]
[{"$f":"StockIn!A801","v":1799},{"$f":"VLOOKUP(A802,StockIn!$A$3:$B$1003,2,FALSE)","v":0},{"$f":"VLOOKUP(A802,StockIn!$A$3:$I$1003,9,FALSE)","v":0},null,0,0,0]
[{"$f":"StockIn!A802","v":1800},{"$f":"VLOOKUP(A803,StockIn!$A$3:$B$1003,2,FALSE)","v":0},{"$f":"VLOOKUP(A803,StockIn!$A$3:$I$1003,9,FALSE)","v":0},null,0,0,0]
[{"$f":"StockIn!A803","v":1801},{"$f":"VLOOKUP(A804,StockIn!$A$3:$B$1003,2,FALSE)","v":0},{"$f":"VLOOKUP(A804,StockIn!$A$3:$I$1003,9,FALSE)","v":0},null,0,0,0]
[{"$f":"StockIn!A804","v":1802},{"$f":"VLOOKUP(A805,StockIn!$A$3:$B$1003,2,FALSE)","v":0},{"$f":"VLOOKUP(A805,StockIn!$A$3:$I$1003,9,FALSE)","v":0},null,0,0,0]
[{"$f":"StockIn!A805","v":1803},{"$f":"VLOOKUP(A806,StockIn!$A$3:$B$1003,2,FALSE)","v":0},{"$f":"VLOOKUP(A806,StockIn!$A$3:$I$1003,9,FALSE)","v":0},null,0,0,0]
[{"$f":"StockIn!A806","v":1804},{"$f":"VLOOKUP(A807,StockIn!$A$3:$B$1003,2,FALSE)","v":0},{"$f":"VLOOKUP(A807,StockIn!$A$3:$I$1003,9,FALSE)","v":0},null,0,0,0]
[{"$f":"StockIn!A807","v":1805},{"$f":"VLOOKUP(A808,StockIn!$A$3:$B$1003,2,FALSE)","v":0},{"$f":"VLOOKUP(A808,StockIn!$A$3:$I$1003,9,FALSE)","v":0},null,0,0,0]
[{"$f":"StockIn!A808","v":1806},{"$f":"VLOOKUP(A809,StockIn!$A$3:$B$1003,2,FALSE)","v":0},{"$f":"VLOOKUP(A809,StockIn!$A$3:$I$1003,9,FALSE)","v":0},null,0,0,0]
[{"$f":"StockIn!A809","v":1807},{"$f":"VLOOKUP(A810,StockIn!$A$3:$B$1003,2,FALSE)","v":0},{"$f":"VLOOKUP(A810,StockIn!$A$3:$I$1003,9,FALSE)","v":0},null,0,0,0]
[{"$f":"StockIn!A810","v":1808},{"$f":"VLOOKUP(A811,StockIn!$A$3:$B$1003,2,FALSE)","v":0},{"$f":"VLOOKUP(A811,StockIn!$A$3:$I$1003,9,FALSE)","v":0},null,0,0,0]
[{"$f":"StockIn!A811","v":1809},{"$f":"VLOOKUP(A812,StockIn!$A$3:$B$1003,2,FALSE)","v":0},{"$f":"VLOOKUP(A812,StockIn!$A$3:$I$1003,9,FALSE)","v":0},null,0,0,0]
[{"$f":"StockIn!A812","v":1810},{"$f":"VLOOKUP(A813,StockIn!$A$3:$B$1003,2,FALSE)","v":0},{"$f":"VLOOKUP(A813,StockIn!$A$3:$I$1003,9,FALSE)","v":0},null,0,0,0]
[{"$f":"StockIn!A813","v":1811},{"$f":"VLOOKUP(A814,StockIn!$A$3:$B$1003,2,FALSE)","v":0},{"$f":"VLOOKUP(A814,StockIn!$A$3:$I$1003,9,FALSE)","v":0},null,0,0,0]
[{"$f":"StockIn!A814","v":1812},{"$f":"VLOOKUP(A815,StockIn!$A$3:$B$1003,2,FALSE)","v":0},{"$f":"VLOOKUP(A815,StockIn!$A$3:$I$1003,9,FALSE)","v":0},null,0,0,0]
[{"$f":"StockIn!A815","v":1813},{"$f":"VLOOKUP(A816,StockIn!$A$3:$B$1003,2,FALSE)","v":0},{"$f":"VLOOKUP(A816,StockIn!$A$3:$I$1003,9,FALSE)","v":0},null,0,0,0]
[{"$f":"StockIn!A816","v":1814},{"$f":"VLOOKUP(A817,StockIn!$A$3:$B$1003,2,FALSE)","v":0},{"$f":"VLOOKUP(A817,StockIn!$A$3:$I$1003,9,FALSE)","v":0},null,0,0,0]
[{"$f":"StockIn!A817","v":1815},{"$f":"VLOOKUP(A818,StockIn!$A$3:$B$1003,2,FALSE)","v":0},{"$f":"VLOOKUP(A818,StockIn!$A$3:$I$1003,9,FALSE)","v":0},null,0,0,0]
[{"$f":"StockIn!A818","v":1816},{"$f":"VLOOKUP(A819,StockIn!$A$3:$B$1003,2,FALSE)","v":0},{"$f":"VLOOKUP(A819,StockIn!$A$3:$I$1003,9,FALSE)","v":0},null,0,0,0]
[{"$f":"StockIn!A819","v":1817},{"$f":"VLOOKUP(A820,StockIn!$A$3:$B$1003,2,FALSE)","v":0},{"$f":"VLOOKUP(A820,StockIn!$A$3:$I$1003,9,FALSE)","v":0},null,0,0,0]
[{"$f":"StockIn!A820","v":1818},{"$f":"VLOOKUP(A821,StockIn!$A$3:$B$1003,2,FALSE)","v":0},{"$f":"VLOOKUP(A821,StockIn!$A$3:$I$1003,9,FALSE)","v":0},null,0,0,0]
[{"$f":"StockIn!A821","v":1819},{"$f":"VLOOKUP(A822,StockIn!$A$3:$B$1003,2,FALSE)","v":0},{"$f":"VLOOKUP(A822,StockIn!$A$3:$I$1003,9,FALSE)","v":0},null,0,0,0]
[{"$f":"StockIn!A822","v":1820},{"$f":"VLOOKUP(A823,StockIn!$A$3:$B$1003,2,FALSE)","v":0},{"$f":"VLOOKUP(A823,StockIn!$A$3:$I$1003,9,FALSE)","v":0},null,0,0,0]
[{"$f":"StockIn!A823","v":1821},{"$f":"VLOOKUP(A824,StockIn!$A$3:$B$1003,2,FALSE)","v":0},{"$f":"VLOOKUP(A824,StockIn!$A$3:$I$1003,9,FALSE)","v":0},null,0,0,0]
[{"$f":"StockIn!A824","v":1822},{"$f":"VLOOKUP(A825,StockIn!$A$3:$B$1003,2,FALSE)","v":0},{"$f":"VLOOKUP(A825,StockIn!$A$3:$I$1003,9,FALSE)","v":0},null,0,0,0]
[{"$f":"StockIn!A825","v":1823},{"$f":"VLOOKUP(A826,StockIn!$A$3:$B$1003,2,FALSE)","v":0},{"$f":"VLOOKUP(A826,StockIn!$A$3:$I$1003,9,FALSE)","v":0},null,0,0,0]
[{"$f":"StockIn!A826","v":1824},{"$f":"VLOOKUP(A827,StockIn!$A$3:$B$1003,2,FALSE)","v":0},{"$f":"VLOOKUP(A827,StockIn!$A$3:$I$1003,9,FALSE)","v":0},null,0,0,0]
[{"$f":"StockIn!A827","v":1825},{"$f":"VLOOKUP(A828,StockIn!$A$3:$B$1003,2,FALSE)","v":0},{"$f":"VLOOKUP(A828,StockIn!$A$3:$I$1003,9,FALSE)","v":0},null,0,0,0]
[{"$f":"StockIn!A828","v":1826},{"$f":"VLOOKUP(A829,StockIn!$A$3:$B$1003,2,FALSE)","v":0},{"$f":"VLOOKUP(A829,StockIn!$A$3:$I$1003,9,FALSE)","v":0},null,0,0,0]
[{"$f":"StockIn!A829","v":1827},{"$f":"VLOOKUP(A830,StockIn!$A$3:$B$1003,2,FALSE)","v":0},{"$f":"VLOOKUP(A830,StockIn!$A$3:$I$1003,9,FALSE)","v":0},null,0,0,0]
[{"$f":"StockIn!A830","v":1828},{"$f":"VLOOKUP(A831,StockIn!$A$3:$B$1003,2,FALSE)","v":0},{"$f":"VLOOKUP(A831,StockIn!$A$3:$I$1003,9,FALSE)","v":0},null,0,0,0]
[{"$f":"StockIn!A831","v":1829},{"$f":"VLOOKUP(A832,StockIn!$A$3:$B$1003,2,FALSE)","v":0},{"$f":"VLOOKUP(A832,StockIn!$A$3:$I$1003,9,FALSE)","v":0},null,0,0,0]
[{"$f":"StockIn!A832","v":1830},{"$f":"VLOOKUP(A833,StockIn!$A$3:$B$1003,2,FALSE)","v":0},{"$f":"VLOOKUP(A833,StockIn!$A$3:$I$1003,9,FALSE)","v":0},null,0,0,0]
[{"$f":"StockIn!A833","v":1831},{"$f":"VLOOKUP(A834,StockIn!$A$3:$B$1003,2,FALSE)","v":0},{"$f":"VLOOKUP(A834,StockIn!$A$3:$I$1003,9,FALSE)","v":0},null,0,0,0]
[{"$f":"StockIn!A834","v":1832},{"$f":"VLOOKUP(A835,StockIn!$A$3:$B$1003,2,FALSE)","v":0},{"$f":"VLOOKUP(A835,StockIn!$A$3:$I$1003,9,FALSE)","v":0},null,0,0,0]
[{"$f":"StockIn!A835","v":1833},{"$f":"VLOOKUP(A836,StockIn!$A$3:$B$1003,2,FALSE)","v":0},{"$f":"VLOOKUP(A836,StockIn!$A$3:$I$1003,9,FALSE)","v":0},null,0,0,0]
[{"$f":"StockIn!A836","v":1834},{"$f":"VLOOKUP(A837,StockIn!$A$3:$B$1003,2,FALSE)","v":0},{"$f":"VLOOKUP(A837,StockIn!$A$3:$I$1003,9,FALSE)","v":0},null,0,{"$f":"D837+E837","v":0},{"$f":"VLOOKUP(A837,$A$4:$L$1003,3,FALSE)-VLOOKUP(A837,$A$4:$L$1003,6,FALSE)","v":0}]
[{"$f":"StockIn!A837","v":1835},{"$f":"VLOOKUP(A838,StockIn!$A$3:$B$1003,2,FALSE)","v":0},{"$f":"VLOOKUP(A838,StockIn!$A$3:$I$1003,9,FALSE)","v":0},null,0,0,0]
[{"$f":"StockIn!A838","v":1836},{"$f":"VLOOKUP(A839,StockIn!$A$3:$B$1003,2,FALSE)","v":0},{"$f":"VLOOKUP(A839,StockIn!$A$3:$I$1003,9,FALSE)","v":0},null,0,0,0]
[{"$f":"StockIn!A839","v":1837},{"$f":"VLOOKUP(A840,StockIn!$A$3:$B$1003,2,FALSE)","v":0},{"$f":"VLOOKUP(A840,StockIn!$A$3:$I$1003,9,FALSE)","v":0},null,0,0,0]
[{"$f":"StockIn!A840","v":1838},{"$f":"VLOOKUP(A841,StockIn!$A$3:$B$1003,2,FALSE)","v":0},{"$f":"VLOOKUP(A841,StockIn!$A$3:$I$1003,9,FALSE)","v":0},null,0,0,0]
[{"$f":"StockIn!A841","v":1839},{"$f":"VLOOKUP(A842,StockIn!$A$3:$B$1003,2,FALSE)","v":0},{"$f":"VLOOKUP(A842,StockIn!$A$3:$I$1003,9,FALSE)","v":0},null,0,0,0]
[{"$f":"StockIn!A842","v":1840},{"$f":"VLOOKUP(A843,StockIn!$A$3:$B$1003,2,FALSE)","v":0},{"$f":"VLOOKUP(A843,StockIn!$A$3:$I$1003,9,FALSE)","v":0},null,0,0,0]
[{"$f":"StockIn!A843","v":1841},{"$f":"VLOOKUP(A844,StockIn!$A$3:$B$1003,2,FALSE)","v":0},{"$f":"VLOOKUP(A844,StockIn!$A$3:$I$1003,9,FALSE)","v":0},null,0,0,0]
[{"$f":"StockIn!A844","v":1842},{"$f":"VLOOKUP(A845,StockIn!$A$3:$B$1003,2,FALSE)","v":0},{"$f":"VLOOKUP(A845,StockIn!$A$3:$I$1003,9,FALSE)","v":0},null,0,0,0]
[{"$f":"StockIn!A845","v":1843},{"$f":"VLOOKUP(A846,StockIn!$A$3:$B$1003,2,FALSE)","v":0},{"$f":"VLOOKUP(A846,StockIn!$A$3:$I$1003,9,FALSE)","v":0},null,0,0,0]
[{"$f":"StockIn!A846","v":1844},{"$f":"VLOOKUP(A847,StockIn!$A$3:$B$1003,2,FALSE)","v":0},{"$f":"VLOOKUP(A847,StockIn!$A$3:$I$1003,9,FALSE)","v":0},null,0,0,0]
[{"$f":"StockIn!A847","v":1845},{"$f":"VLOOKUP(A848,StockIn!$A$3:$B$1003,2,FALSE)","v":0},{"$f":"VLOOKUP(A848,StockIn!$A$3:$I$1003,9,FALSE)","v":0},null,0,0,0]
[{"$f":"StockIn!A848","v":1846},{"$f":"VLOOKUP(A849,StockIn!$A$3:$B$1003,2,FALSE)","v":0},{"$f":"VLOOKUP(A849,StockIn!$A$3:$I$1003,9,FALSE)","v":0},null,0,0,0]
[{"$f":"StockIn!A849","v":1847},{"$f":"VLOOKUP(A850,StockIn!$A$3:$B$1003,2,FALSE)","v":0},{"$f":"VLOOKUP(A850,StockIn!$A$3:$I$1003,9,FALSE)","v":0},null,0,0,0]
[{"$f":"StockIn!A850","v":1848},{"$f":"VLOOKUP(A851,StockIn!$A$3:$B$1003,2,FALSE)","v":0},{"$f":"VLOOKUP(A851,StockIn!$A$3:$I$1003,9,FALSE)","v":0},null,0,0,0]
[{"$f":"StockIn!A851","v":1849},{"$f":"VLOOKUP(A852,StockIn!$A$3:$B$1003,2,FALSE)","v":0},{"$f":"VLOOKUP(A852,StockIn!$A$3:$I$1003,9,FALSE)","v":0},null,0,0,0]
[{"$f":"StockIn!A852","v":1850},{"$f":"VLOOKUP(A853,StockIn!$A$3:$B$1003,2,FALSE)","v":0},{"$f":"VLOOKUP(A853,StockIn!$A$3:$I$1003,9,FALSE)","v":0},null,0,0,0]
[{"$f":"StockIn!A853","v":1851},{"$f":"VLOOKUP(A854,StockIn!$A$3:$B$1003,2,FALSE)","v":0},{"$f":"VLOOKUP(A854,StockIn!$A$3:$I$1003,9,FALSE)","v":0},null,0,0,0]
[{"$f":"StockIn!A854","v":1852},{"$f":"VLOOKUP(A855,StockIn!$A$3:$B$1003,2,FALSE)","v":0},{"$f":"VLOOKUP(A855,StockIn!$A$3:$I$1003,9,FALSE)","v":0},null,0,0,0]
[{"$f":"StockIn!A855","v":1853},{"$f":"VLOOKUP(A856,StockIn!$A$3:$B$1003,2,FALSE)","v":0},{"$f":"VLOOKUP(A856,StockIn!$A$3:$I$1003,9,FALSE)","v":0},null,0,0,0]
[{"$f":"StockIn!A856","v":1854},{"$f":"VLOOKUP(A857,StockIn!$A$3:$B$1003,2,FALSE)","v":0},{"$f":"VLOOKUP(A857,StockIn!$A$3:$I$1003,9,FALSE)","v":0},null,0,0,0]
[{"$f":"StockIn!A857","v":1855},{"$f":"VLOOKUP(A858,StockIn!$A$3:$B$1003,2,FALSE)","v":0},{"$f":"VLOOKUP(A858,StockIn!$A$3:$I$1003,9,FALSE)","v":0},null,0,0,0]
[{"$f":"StockIn!A858","v":1856},{"$f":"VLOOKUP(A859,StockIn!$A$3:$B$1003,2,FALSE)","v":0},{"$f":"VLOOKUP(A859,StockIn!$A$3:$I$1003,9,FALSE)","v":0},null,0,0,0]
[{"$f":"StockIn!A859","v":1857},{"$f":"VLOOKUP(A860,StockIn!$A$3:$B$1003,2,FALSE)","v":0},{"$f":"VLOOKUP(A860,StockIn!$A$3:$I$1003,9,FALSE)","v":0},null,0,0,0]
[{"$f":"StockIn!A860","v":1858},{"$f":"VLOOKUP(A861,StockIn!$A$3:$B$1003,2,FALSE)","v":0},{"$f":"VLOOKUP(A861,StockIn!$A$3:$I$1003,9,FALSE)","v":0},null,0,0,0]
[{"$f":"StockIn!A861","v":1859},{"$f":"VLOOKUP(A862,StockIn!$A$3:$B$1003,2,FALSE)","v":0},{"$f":"VLOOKUP(A862,StockIn!$A$3:$I$1003,9,FALSE)","v":0},null,0,0,0]
[{"$f":"StockIn!A862","v":1860},{"$f":"VLOOKUP(A863,StockIn!$A$3:$B$1003,2,FALSE)","v":0},{"$f":"VLOOKUP(A863,StockIn!$A$3:$I$1003,9,FALSE)","v":0},null,0,0,0]
[{"$f":"StockIn!A863","v":1861},{"$f":"VLOOKUP(A864,StockIn!$A$3:$B$1003,2,FALSE)","v":0},{"$f":"VLOOKUP(A864,StockIn!$A$3:$I$1003,9,FALSE)","v":0},null,0,0,0]
[{"$f":"StockIn!A864","v":1862},{"$f":"VLOOKUP(A865,StockIn!$A$3:$B$1003,2,FALSE)","v":0},{"$f":"VLOOKUP(A865,StockIn!$A$3:$I$1003,9,FALSE)","v":0},null,0,0,0]
[{"$f":"StockIn!A865","v":1863},{"$f":"VLOOKUP(A866,StockIn!$A$3:$B$1003,2,FALSE)","v":0},{"$f":"VLOOKUP(A866,StockIn!$A$3:$I$1003,9,FALSE)","v":0},null,0,0,0]
[{"$f":"StockIn!A866","v":1864},{"$f":"VLOOKUP(A867,StockIn!$A$3:$B$1003,2,FALSE)","v":0},{"$f":"VLOOKUP(A867,StockIn!$A$3:$I$1003,9,FALSE)","v":0},null,0,0,0]
[{"$f":"StockIn!A867","v":1865},{"$f":"VLOOKUP(A868,StockIn!$A$3:$B$1003,2,FALSE)","v":0},{"$f":"VLOOKUP(A868,StockIn!$A$3:$I$1003,9,FALSE)","v":0},null,0,0,0]
[{"$f":"StockIn!A868","v":1866},{"$f":"VLOOKUP(A869,StockIn!$A$3:$B$1003,2,FALSE)","v":0},{"$f":"VLOOKUP(A869,StockIn!$A$3:$I$1003,9,FALSE)","v":0},null,0,0,0]
[{"$f":"StockIn!A869","v":1867},{"$f":"VLOOKUP(A870,StockIn!$A$3:$B$1003,2,FALSE)","v":0},{"$f":"VLOOKUP(A870,StockIn!$A$3:$I$1003,9,FALSE)","v":0},null,0,0,0]
[{"$f":"StockIn!A870","v":1868},{"$f":"VLOOKUP(A871,StockIn!$A$3:$B$1003,2,FALSE)","v":0},{"$f":"VLOOKUP(A871,StockIn!$A$3:$I$1003,9,FALSE)","v":0},null,0,0,0]
[{"$f":"StockIn!A871","v":1869},{"$f":"VLOOKUP(A872,StockIn!$A$3:$B$1003,2,FALSE)","v":0},{"$f":"VLOOKUP(A872,StockIn!$A$3:$I$1003,9,FALSE)","v":0},null,0,0,0]
[{"$f":"StockIn!A872","v":1870},{"$f":"VLOOKUP(A873,StockIn!$A$3:$B$1003,2,FALSE)","v":0},{"$f":"VLOOKUP(A873,StockIn!$A$3:$I$1003,9,FALSE)","v":0},null,0,0,0]
[{"$f":"StockIn!A873","v":1871},{"$f":"VLOOKUP(A874,StockIn!$A$3:$B$1003,2,FALSE)","v":0},{"$f":"VLOOKUP(A874,StockIn!$A$3:$I$1003,9,FALSE)","v":0},null,0,0,0]
[{"$f":"StockIn!A874","v":1872},{"$f":"VLOOKUP(A875,StockIn!$A$3:$B$1003,2,FALSE)","v":0},{"$f":"VLOOKUP(A875,StockIn!$A$3:$I$1003,9,FALSE)","v":0},null,0,0,0]
[{"$f":"StockIn!A875","v":1873},{"$f":"VLOOKUP(A876,StockIn!$A$3:$B$1003,2,FALSE)","v":0},{"$f":"VLOOKUP(A876,StockIn!$A$3:$I$1003,9,FALSE)","v":0},null,0,0,0]
[{"$f":"StockIn!A876","v":1874},{"$f":"VLOOKUP(A877,StockIn!$A$3:$B$1003,2,FALSE)","v":0},{"$f":"VLOOKUP(A877,StockIn!$A$3:$I$1003,9,FALSE)","v":0},null,0,0,0]
[{"$f":"StockIn!A877","v":1875},{"$f":"VLOOKUP(A878,StockIn!$A$3:$B$1003,2,FALSE)","v":0},{"$f":"VLOOKUP(A878,StockIn!$A$3:$I$1003,9,FALSE)","v":0},null,0,0,0]
[{"$f":"StockIn!A878","v":1876},{"$f":"VLOOKUP(A879,StockIn!$A$3:$B$1003,2,FALSE)","v":0},{"$f":"VLOOKUP(A879,StockIn!$A$3:$I$1003,9,FALSE)","v":0},null,0,0,0]
[{"$f":"StockIn!A879","v":1877},{"$f":"VLOOKUP(A880,StockIn!$A$3:$B$1003,2,FALSE)","v":0},{"$f":"VLOOKUP(A880,StockIn!$A$3:$I$1003,9,FALSE)","v":0},null,0,0,0]
[{"$f":"StockIn!A880","v":1878},{"$f":"VLOOKUP(A881,StockIn!$A$3:$B$1003,2,FALSE)","v":0},{"$f":"VLOOKUP(A881,StockIn!$A$3:$I$1003,9,FALSE)","v":0},null,0,0,0]
[{"$f":"StockIn!A881","v":1879},{"$f":"VLOOKUP(A882,StockIn!$A$3:$B$1003,2,FALSE)","v":0},{"$f":"VLOOKUP(A882,StockIn!$A$3:$I$1003,9,FALSE)","v":0},null,0,0,0]
[{"$f":"StockIn!A882","v":1880},{"$f":"VLOOKUP(A883,StockIn!$A$3:$B$1003,2,FALSE)","v":0},{"$f":"VLOOKUP(A883,StockIn!$A$3:$I$1003,9,FALSE)","v":0},null,0,0,0]
[{"$f":"StockIn!A883","v":1881},{"$f":"VLOOKUP(A884,StockIn!$A$3:$B$1003,2,FALSE)","v":0},{"$f":"VLOOKUP(A884,StockIn!$A$3:$I$1003,9,FALSE)","v":0},null,0,0,0]
[{"$f":"StockIn!A884","v":1882},{"$f":"VLOOKUP(A885,StockIn!$A$3:$B$1003,2,FALSE)","v":0},{"$f":"VLOOKUP(A885,StockIn!$A$3:$I$1003,9,FALSE)","v":0},null,0,0,0]
[{"$f":"StockIn!A885","v":1883},{"$f":"VLOOKUP(A886,StockIn!$A$3:$B$1003,2,FALSE)","v":0},{"$f":"VLOOKUP(A886,StockIn!$A$3:$I$1003,9,FALSE)","v":0},null,0,0,0]
[{"$f":"StockIn!A886","v":1884},{"$f":"VLOOKUP(A887,StockIn!$A$3:$B$1003,2,FALSE)","v":0},{"$f":"VLOOKUP(A887,StockIn!$A$3:$I$1003,9,FALSE)","v":0},null,0,0,0]
[{"$f":"StockIn!A887","v":1885},{"$f":"VLOOKUP(A888,StockIn!$A$3:$B$1003,2,FALSE)","v":0},{"$f":"VLOOKUP(A888,StockIn!$A$3:$I$1003,9,FALSE)","v":0},null,0,0,0]
[{"$f":"StockIn!A888","v":1886},{"$f":"VLOOKUP(A889,StockIn!$A$3:$B$1003,2,FALSE)","v":0},{"$f":"VLOOKUP(A889,StockIn!$A$3:$I$1003,9,FALSE)","v":0},null,0,0,0]
[{"$f":"StockIn!A889","v":1887},{"$f":"VLOOKUP(A890,StockIn!$A$3:$B$1003,2,FALSE)","v":0},{"$f":"VLOOKUP(A890,StockIn!$A$3:$I$1003,9,FALSE)","v":0},null,0,0,0]
[{"$f":"StockIn!A890","v":1888},{"$f":"VLOOKUP(A891,StockIn!$A$3:$B$1003,2,FALSE)","v":0},{"$f":"VLOOKUP(A891,StockIn!$A$3:$I$1003,9,FALSE)","v":0},null,0,0,0]
[{"$f":"StockIn!A891","v":1889},{"$f":"VLOOKUP(A892,StockIn!$A$3:$B$1003,2,FALSE)","v":0},{"$f":"VLOOKUP(A892,StockIn!$A$3:$I$1003,9,FALSE)","v":0},null,0,0,0]
[{"$f":"StockIn!A892","v":1890},{"$f":"VLOOKUP(A893,StockIn!$A$3:$B$1003,2,FALSE)","v":0},{"$f":"VLOOKUP(A893,StockIn!$A$3:$I$1003,9,FALSE)","v":0},null,0,0,0]
[{"$f":"StockIn!A893","v":1891},{"$f":"VLOOKUP(A894,StockIn!$A$3:$B$1003,2,FALSE)","v":0},{"$f":"VLOOKUP(A894,StockIn!$A$3:$I$1003,9,FALSE)","v":0},null,0,0,0]
[{"$f":"StockIn!A894","v":1892},{"$f":"VLOOKUP(A895,StockIn!$A$3:$B$1003,2,FALSE)","v":0},{"$f":"VLOOKUP(A895,StockIn!$A$3:$I$1003,9,FALSE)","v":0},null,0,0,0]
[{"$f":"StockIn!A895","v":1893},{"$f":"VLOOKUP(A896,StockIn!$A$3:$B$1003,2,FALSE)","v":0},{"$f":"VLOOKUP(A896,StockIn!$A$3:$I$1003,9,FALSE)","v":0},null,0,0,0]
[{"$f":"StockIn!A896","v":1894},{"$f":"VLOOKUP(A897,StockIn!$A$3:$B$1003,2,FALSE)","v":0},{"$f":"VLOOKUP(A897,StockIn!$A$3:$I$1003,9,FALSE)","v":0},null,0,0,0]
[{"$f":"StockIn!A897","v":1895},{"$f":"VLOOKUP(A898,StockIn!$A$3:$B$1003,2,FALSE)","v":0},{"$f":"VLOOKUP(A898,StockIn!$A$3:$I$1003,9,FALSE)","v":0},null,0,0,0]
[{"$f":"StockIn!A898","v":1896},{"$f":"VLOOKUP(A899,StockIn!$A$3:$B$1003,2,FALSE)","v":0},{"$f":"VLOOKUP(A899,StockIn!$A$3:$I$1003,9,FALSE)","v":0},null,0,0,0]
[{"$f":"StockIn!A899","v":1897},{"$f":"VLOOKUP(A900,StockIn!$A$3:$B$1003,2,FALSE)","v":0},{"$f":"VLOOKUP(A900,StockIn!$A$3:$I$1003,9,FALSE)","v":0},null,0,0,0]
[{"$f":"StockIn!A900","v":1898},{"$f":"VLOOKUP(A901,StockIn!$A$3:$B$1003,2,FALSE)","v":0},{"$f":"VLOOKUP(A901,StockIn!$A$3:$I$1003,9,FALSE)","v":0},null,0,{"$f":"D901+E901","v":0},{"$f":"VLOOKUP(A901,$A$4:$L$1003,3,FALSE)-VLOOKUP(A901,$A$4:$L$1003,6,FALSE)","v":0}]
[{"$f":"StockIn!A901","v":1899},{"$f":"VLOOKUP(A902,StockIn!$A$3:$B$1003,2,FALSE)","v":0},{"$f":"VLOOKUP(A902,StockIn!$A$3:$I$1003,9,FALSE)","v":0},null,0,0,0]
[{"$f":"StockIn!A902","v":1900},{"$f":"VLOOKUP(A903,StockIn!$A$3:$B$1003,2,FALSE)","v":0},{"$f":"VLOOKUP(A903,StockIn!$A$3:$I$1003,9,FALSE)","v":0},null,0,0,0]
[{"$f":"StockIn!A903","v":1901},{"$f":"VLOOKUP(A904,StockIn!$A$3:$B$1003,2,FALSE)","v":0},{"$f":"VLOOKUP(A904,StockIn!$A$3:$I$1003,9,FALSE)","v":0},null,0,0,0]
[{"$f":"StockIn!A904","v":1902},{"$f":"VLOOKUP(A905,StockIn!$A$3:$B$1003,2,FALSE)","v":0},{"$f":"VLOOKUP(A905,StockIn!$A$3:$I$1003,9,FALSE)","v":0},null,0,0,0]
[{"$f":"StockIn!A905","v":1903},{"$f":"VLOOKUP(A906,StockIn!$A$3:$B$1003,2,FALSE)","v":0},{"$f":"VLOOKUP(A906,StockIn!$A$3:$I$1003,9,FALSE)","v":0},null,0,0,0]
[{"$f":"StockIn!A906","v":1904},{"$f":"VLOOKUP(A907,StockIn!$A$3:$B$1003,2,FALSE)","v":0},{"$f":"VLOOKUP(A907,StockIn!$A$3:$I$1003,9,FALSE)","v":0},null,0,0,0]
[{"$f":"StockIn!A907","v":1905},{"$f":"VLOOKUP(A908,StockIn!$A$3:$B$1003,2,FALSE)","v":0},{"$f":"VLOOKUP(A908,StockIn!$A$3:$I$1003,9,FALSE)","v":0},null,0,0,0]
[{"$f":"StockIn!A908","v":1906},{"$f":"VLOOKUP(A909,StockIn!$A$3:$B$1003,2,FALSE)","v":0},{"$f":"VLOOKUP(A909,StockIn!$A$3:$I$1003,9,FALSE)","v":0},null,0,0,0]
[{"$f":"StockIn!A909","v":1907},{"$f":"VLOOKUP(A910,StockIn!$A$3:$B$1003,2,FALSE)","v":0},{"$f":"VLOOKUP(A910,StockIn!$A$3:$I$1003,9,FALSE)","v":0},null,0,0,0]
[{"$f":"StockIn!A910","v":1908},{"$f":"VLOOKUP(A911,StockIn!$A$3:$B$1003,2,FALSE)","v":0},{"$f":"VLOOKUP(A911,StockIn!$A$3:$I$1003,9,FALSE)","v":0},null,0,0,0]
[{"$f":"StockIn!A911","v":1909},{"$f":"VLOOKUP(A912,StockIn!$A$3:$B$1003,2,FALSE)","v":0},{"$f":"VLOOKUP(A912,StockIn!$A$3:$I$1003,9,FALSE)","v":0},null,0,0,0]
[{"$f":"StockIn!A912","v":1910},{"$f":"VLOOKUP(A913,StockIn!$A$3:$B$1003,2,FALSE)","v":0},{"$f":"VLOOKUP(A913,StockIn!$A$3:$I$1003,9,FALSE)","v":0},null,0,0,0]
[{"$f":"StockIn!A913","v":1911},{"$f":"VLOOKUP(A914,StockIn!$A$3:$B$1003,2,FALSE)","v":0},{"$f":"VLOOKUP(A914,StockIn!$A$3:$I$1003,9,FALSE)","v":0},null,0,0,0]
[{"$f":"StockIn!A914","v":1912},{"$f":"VLOOKUP(A915,StockIn!$A$3:$B$1003,2,FALSE)","v":0},{"$f":"VLOOKUP(A915,StockIn!$A$3:$I$1003,9,FALSE)","v":0},null,0,0,0]
[{"$f":"StockIn!A915","v":1913},{"$f":"VLOOKUP(A916,StockIn!$A$3:$B$1003,2,FALSE)","v":0},{"$f":"VLOOKUP(A916,StockIn!$A$3:$I$1003,9,FALSE)","v":0},null,0,0,0]
[{"$f":"StockIn!A916","v":1914},{"$f":"VLOOKUP(A917,StockIn!$A$3:$B$1003,2,FALSE)","v":0},{"$f":"VLOOKUP(A917,StockIn!$A$3:$I$1003,9,FALSE)","v":0},null,0,0,0]
[{"$f":"StockIn!A917","v":1915},{"$f":"VLOOKUP(A918,StockIn!$A$3:$B$1003,2,FALSE)","v":0},{"$f":"VLOOKUP(A918,StockIn!$A$3:$I$1003,9,FALSE)","v":0},null,0,0,0]
[{"$f":"StockIn!A918","v":1916},{"$f":"VLOOKUP(A919,StockIn!$A$3:$B$1003,2,FALSE)","v":0},{"$f":"VLOOKUP(A919,StockIn!$A$3:$I$1003,9,FALSE)","v":0},null,0,0,0]
[{"$f":"StockIn!A919","v":1917},{"$f":"VLOOKUP(A920,StockIn!$A$3:$B$1003,2,FALSE)","v":0},{"$f":"VLOOKUP(A920,StockIn!$A$3:$I$1003,9,FALSE)","v":0},null,0,0,0]
[{"$f":"StockIn!A920","v":1918},{"$f":"VLOOKUP(A921,StockIn!$A$3:$B$1003,2,FALSE)","v":0},{"$f":"VLOOKUP(A921,StockIn!$A$3:$I$1003,9,FALSE)","v":0},null,0,0,0]
[{"$f":"StockIn!A921","v":1919},{"$f":"VLOOKUP(A922,StockIn!$A$3:$B$1003,2,FALSE)","v":0},{"$f":"VLOOKUP(A922,StockIn!$A$3:$I$1003,9,FALSE)","v":0},null,0,0,0]
[{"$f":"StockIn!A922","v":1920},{"$f":"VLOOKUP(A923,StockIn!$A$3:$B$1003,2,FALSE)","v":0},{"$f":"VLOOKUP(A923,StockIn!$A$3:$I$1003,9,FALSE)","v":0},null,0,0,0]
[{"$f":"StockIn!A923","v":1921},{"$f":"VLOOKUP(A924,StockIn!$A$3:$B$1003,2,FALSE)","v":0},{"$f":"VLOOKUP(A924,StockIn!$A$3:$I$1003,9,FALSE)","v":0},null,0,0,0]
[{"$f":"StockIn!A924","v":1922},{"$f":"VLOOKUP(A925,StockIn!$A$3:$B$1003,2,FALSE)","v":0},{"$f":"VLOOKUP(A925,StockIn!$A$3:$I$1003,9,FALSE)","v":0},null,0,0,0]
[{"$f":"StockIn!A925","v":1923},{"$f":"VLOOKUP(A926,StockIn!$A$3:$B$1003,2,FALSE)","v":0},{"$f":"VLOOKUP(A926,StockIn!$A$3:$I$1003,9,FALSE)","v":0},null,0,0,0]
[{"$f":"StockIn!A926","v":1924},{"$f":"VLOOKUP(A927,StockIn!$A$3:$B$1003,2,FALSE)","v":0},{"$f":"VLOOKUP(A927,StockIn!$A$3:$I$1003,9,FALSE)","v":0},null,0,0,0]
[{"$f":"StockIn!A927","v":1925},{"$f":"VLOOKUP(A928,StockIn!$A$3:$B$1003,2,FALSE)","v":0},{"$f":"VLOOKUP(A928,StockIn!$A$3:$I$1003,9,FALSE)","v":0},null,0,0,0]
[{"$f":"StockIn!A928","v":1926},{"$f":"VLOOKUP(A929,StockIn!$A$3:$B$1003,2,FALSE)","v":0},{"$f":"VLOOKUP(A929,StockIn!$A$3:$I$1003,9,FALSE)","v":0},null,0,0,0]
[{"$f":"StockIn!A929","v":1927},{"$f":"VLOOKUP(A930,StockIn!$A$3:$B$1003,2,FALSE)","v":0},{"$f":"VLOOKUP(A930,StockIn!$A$3:$I$1003,9,FALSE)","v":0},null,0,0,0]
[{"$f":"StockIn!A930","v":1928},{"$f":"VLOOKUP(A931,StockIn!$A$3:$B$1003,2,FALSE)","v":0},{"$f":"VLOOKUP(A931,StockIn!$A$3:$I$1003,9,FALSE)","v":0},null,0,0,0]
[{"$f":"StockIn!A931","v":1929},{"$f":"VLOOKUP(A932,StockIn!$A$3:$B$1003,2,FALSE)","v":0},{"$f":"VLOOKUP(A932,StockIn!$A$3:$I$1003,9,FALSE)","v":0},null,0,0,0]
[{"$f":"StockIn!A932","v":1930},{"$f":"VLOOKUP(A933,StockIn!$A$3:$B$1003,2,FALSE)","v":0},{"$f":"VLOOKUP(A933,StockIn!$A$3:$I$1003,9,FALSE)","v":0},null,0,0,0]
[{"$f":"StockIn!A933","v":1931},{"$f":"VLOOKUP(A934,StockIn!$A$3:$B$1003,2,FALSE)","v":0},{"$f":"VLOOKUP(A934,StockIn!$A$3:$I$1003,9,FALSE)","v":0},null,0,0,0]
[{"$f":"StockIn!A934","v":1932},{"$f":"VLOOKUP(A935,StockIn!$A$3:$B$1003,2,FALSE)","v":0},{"$f":"VLOOKUP(A935,StockIn!$A$3:$I$1003,9,FALSE)","v":0},null,0,0,0]
[{"$f":"StockIn!A935","v":1933},{"$f":"VLOOKUP(A936,StockIn!$A$3:$B$1003,2,FALSE)","v":0},{"$f":"VLOOKUP(A936,StockIn!$A$3:$I$1003,9,FALSE)","v":0},null,0,0,0]
[{"$f":"StockIn!A936","v":1934},{"$f":"VLOOKUP(A937,StockIn!$A$3:$B$1003,2,FALSE)","v":0},{"$f":"VLOOKUP(A937,StockIn!$A$3:$I$1003,9,FALSE)","v":0},null,0,0,0]
[{"$f":"StockIn!A937","v":1935},{"$f":"VLOOKUP(A938,StockIn!$A$3:$B$1003,2,FALSE)","v":0},{"$f":"VLOOKUP(A938,StockIn!$A$3:$I$1003,9,FALSE)","v":0},null,0,0,0]
[{"$f":"StockIn!A938","v":1936},{"$f":"VLOOKUP(A939,StockIn!$A$3:$B$1003,2,FALSE)","v":0},{"$f":"VLOOKUP(A939,StockIn!$A$3:$I$1003,9,FALSE)","v":0},null,0,0,0]
[{"$f":"StockIn!A939","v":1937},{"$f":"VLOOKUP(A940,StockIn!$A$3:$B$1003,2,FALSE)","v":0},{"$f":"VLOOKUP(A940,StockIn!$A$3:$I$1003,9,FALSE)","v":0},null,0,0,0]
[{"$f":"StockIn!A940","v":1938},{"$f":"VLOOKUP(A941,StockIn!$A$3:$B$1003,2,FALSE)","v":0},{"$f":"VLOOKUP(A941,StockIn!$A$3:$I$1003,9,FALSE)","v":0},null,0,0,0]
[{"$f":"StockIn!A941","v":1939},{"$f":"VLOOKUP(A942,StockIn!$A$3:$B$1003,2,FALSE)","v":0},{"$f":"VLOOKUP(A942,StockIn!$A$3:$I$1003,9,FALSE)","v":0},null,0,0,0]
[{"$f":"StockIn!A942","v":1940},{"$f":"VLOOKUP(A943,StockIn!$A$3:$B$1003,2,FALSE)","v":0},{"$f":"VLOOKUP(A943,StockIn!$A$3:$I$1003,9,FALSE)","v":0},null,0,0,0]
[{"$f":"StockIn!A943","v":1941},{"$f":"VLOOKUP(A944,StockIn!$A$3:$B$1003,2,FALSE)","v":0},{"$f":"VLOOKUP(A944,StockIn!$A$3:$I$1003,9,FALSE)","v":0},null,0,0,0]
[{"$f":"StockIn!A944","v":1942},{"$f":"VLOOKUP(A945,StockIn!$A$3:$B$1003,2,FALSE)","v":0},{"$f":"VLOOKUP(A945,StockIn!$A$3:$I$1003,9,FALSE)","v":0},null,0,0,0]
[{"$f":"StockIn!A945","v":1943},{"$f":"VLOOKUP(A946,StockIn!$A$3:$B$1003,2,FALSE)","v":0},{"$f":"VLOOKUP(A946,StockIn!$A$3:$I$1003,9,FALSE)","v":0},null,0,0,0]
[{"$f":"StockIn!A946","v":1944},{"$f":"VLOOKUP(A947,StockIn!$A$3:$B$1003,2,FALSE)","v":0},{"$f":"VLOOKUP(A947,StockIn!$A$3:$I$1003,9,FALSE)","v":0},null,0,0,0]
[{"$f":"StockIn!A947","v":1945},{"$f":"VLOOKUP(A948,StockIn!$A$3:$B$1003,2,FALSE)","v":0},{"$f":"VLOOKUP(A948,StockIn!$A$3:$I$1003,9,FALSE)","v":0},null,0,0,0]
[{"$f":"StockIn!A948","v":1946},{"$f":"VLOOKUP(A949,StockIn!$A$3:$B$1003,2,FALSE)","v":0},{"$f":"VLOOKUP(A949,StockIn!$A$3:$I$1003,9,FALSE)","v":0},null,0,0,0]
[{"$f":"StockIn!A949","v":1947},{"$f":"VLOOKUP(A950,StockIn!$A$3:$B$1003,2,FALSE)","v":0},{"$f":"VLOOKUP(A950,StockIn!$A$3:$I$1003,9,FALSE)","v":0},null,0,0,0]
[{"$f":"StockIn!A950","v":1948},{"$f":"VLOOKUP(A951,StockIn!$A$3:$B$1003,2,FALSE)","v":0},{"$f":"VLOOKUP(A951,StockIn!$A$3:$I$1003,9,FALSE)","v":0},null,0,0,0]
[{"$f":"StockIn!A951","v":1949},{"$f":"VLOOKUP(A952,StockIn!$A$3:$B$1003,2,FALSE)","v":0},{"$f":"VLOOKUP(A952,StockIn!$A$3:$I$1003,9,FALSE)","v":0},null,0,0,0]
[{"$f":"StockIn!A952","v":1950},{"$f":"VLOOKUP(A953,StockIn!$A$3:$B$1003,2,FALSE)","v":0},{"$f":"VLOOKUP(A953,StockIn!$A$3:$I$1003,9,FALSE)","v":0},null,0,0,0]
[{"$f":"StockIn!A953","v":1951},{"$f":"VLOOKUP(A954,StockIn!$A$3:$B$1003,2,FALSE)","v":0},{"$f":"VLOOKUP(A954,StockIn!$A$3:$I$1003,9,FALSE)","v":0},null,0,0,0]
[{"$f":"StockIn!A954","v":1952},{"$f":"VLOOKUP(A955,StockIn!$A$3:$B$1003,2,FALSE)","v":0},{"$f":"VLOOKUP(A955,StockIn!$A$3:$I$1003,9,FALSE)","v":0},null,0,0,0]
[{"$f":"StockIn!A955","v":1953},{"$f":"VLOOKUP(A956,StockIn!$A$3:$B$1003,2,FALSE)","v":0},{"$f":"VLOOKUP(A956,StockIn!$A$3:$I$1003,9,FALSE)","v":0},null,0,0,0]
[{"$f":"StockIn!A956","v":1954},{"$f":"VLOOKUP(A957,StockIn!$A$3:$B$1003,2,FALSE)","v":0},{"$f":"VLOOKUP(A957,StockIn!$A$3:$I$1003,9,FALSE)","v":0},null,0,0,0]
[{"$f":"StockIn!A957","v":1955},{"$f":"VLOOKUP(A958,StockIn!$A$3:$B$1003,2,FALSE)","v":0},{"$f":"VLOOKUP(A958,StockIn!$A$3:$I$1003,9,FALSE)","v":0},null,0,0,0]
[{"$f":"StockIn!A958","v":1956},{"$f":"VLOOKUP(A959,StockIn!$A$3:$B$1003,2,FALSE)","v":0},{"$f":"VLOOKUP(A959,StockIn!$A$3:$I$1003,9,FALSE)","v":0},null,0,0,0]
[{"$f":"StockIn!A959","v":1957},{"$f":"VLOOKUP(A960,StockIn!$A$3:$B$1003,2,FALSE)","v":0},{"$f":"VLOOKUP(A960,StockIn!$A$3:$I$1003,9,FALSE)","v":0},null,0,0,0]
[{"$f":"StockIn!A960","v":1958},{"$f":"VLOOKUP(A961,StockIn!$A$3:$B$1003,2,FALSE)","v":0},{"$f":"VLOOKUP(A961,StockIn!$A$3:$I$1003,9,FALSE)","v":0},null,0,0,0]
[{"$f":"StockIn!A961","v":1959},{"$f":"VLOOKUP(A962,StockIn!$A$3:$B$1003,2,FALSE)","v":0},{"$f":"VLOOKUP(A962,StockIn!$A$3:$I$1003,9,FALSE)","v":0},null,0,0,0]
[{"$f":"StockIn!A962","v":1960},{"$f":"VLOOKUP(A963,StockIn!$A$3:$B$1003,2,FALSE)","v":0},{"$f":"VLOOKUP(A963,StockIn!$A$3:$I$1003,9,FALSE)","v":0},null,0,0,0]
[{"$f":"StockIn!A963","v":1961},{"$f":"VLOOKUP(A964,StockIn!$A$3:$B$1003,2,FALSE)","v":0},{"$f":"VLOOKUP(A964,StockIn!$A$3:$I$1003,9,FALSE)","v":0},null,0,0,0]
[{"$f":"StockIn!A964","v":1962},{"$f":"VLOOKUP(A965,StockIn!$A$3:$B$1003,2,FALSE)","v":0},{"$f":"VLOOKUP(A965,StockIn!$A$3:$I$1003,9,FALSE)","v":0},null,0,{"$f":"D965+E965","v":0},{"$f":"VLOOKUP(A965,$A$4:$L$1003,3,FALSE)-VLOOKUP(A965,$A$4:$L$1003,6,FALSE)","v":0}]
[{"$f":"StockIn!A965","v":1963},{"$f":"VLOOKUP(A966,StockIn!$A$3:$B$1003,2,FALSE)","v":0},{"$f":"VLOOKUP(A966,StockIn!$A$3:$I$1003,9,FALSE)","v":0},null,0,0,0]
[{"$f":"StockIn!A966","v":1964},{"$f":"VLOOKUP(A967,StockIn!$A$3:$B$1003,2,FALSE)","v":0},{"$f":"VLOOKUP(A967,StockIn!$A$3:$I$1003,9,FALSE)","v":0},null,0,0,0]
[{"$f":"StockIn!A967","v":1965},{"$f":"VLOOKUP(A968,StockIn!$A$3:$B$1003,2,FALSE)","v":0},{"$f":"VLOOKUP(A968,StockIn!$A$3:$I$1003,9,FALSE)","v":0},null,0,0,0]
[{"$f":"StockIn!A968","v":1966},{"$f":"VLOOKUP(A969,StockIn!$A$3:$B$1003,2,FALSE)","v":0},{"$f":"VLOOKUP(A969,StockIn!$A$3:$I$1003,9,FALSE)","v":0},null,0,0,0]
[{"$f":"StockIn!A969","v":1967},{"$f":"VLOOKUP(A970,StockIn!$A$3:$B$1003,2,FALSE)","v":0},{"$f":"VLOOKUP(A970,StockIn!$A$3:$I$1003,9,FALSE)","v":0},null,0,0,0]
[{"$f":"StockIn!A970","v":1968},{"$f":"VLOOKUP(A971,StockIn!$A$3:$B$1003,2,FALSE)","v":0},{"$f":"VLOOKUP(A971,StockIn!$A$3:$I$1003,9,FALSE)","v":0},null,0,0,0]
[{"$f":"StockIn!A971","v":1969},{"$f":"VLOOKUP(A972,StockIn!$A$3:$B$1003,2,FALSE)","v":0},{"$f":"VLOOKUP(A972,StockIn!$A$3:$I$1003,9,FALSE)","v":0},null,0,0,0]
[{"$f":"StockIn!A972","v":1970},{"$f":"VLOOKUP(A973,StockIn!$A$3:$B$1003,2,FALSE)","v":0},{"$f":"VLOOKUP(A973,StockIn!$A$3:$I$1003,9,FALSE)","v":0},null,0,0,0]
[{"$f":"StockIn!A973","v":1971},{"$f":"VLOOKUP(A974,StockIn!$A$3:$B$1003,2,FALSE)","v":0},{"$f":"VLOOKUP(A974,StockIn!$A$3:$I$1003,9,FALSE)","v":0},null,0,0,0]
[{"$f":"StockIn!A974","v":1972},{"$f":"VLOOKUP(A975,StockIn!$A$3:$B$1003,2,FALSE)","v":0},{"$f":"VLOOKUP(A975,StockIn!$A$3:$I$1003,9,FALSE)","v":0},null,0,0,0]
[{"$f":"StockIn!A975","v":1973},{"$f":"VLOOKUP(A976,StockIn!$A$3:$B$1003,2,FALSE)","v":0},{"$f":"VLOOKUP(A976,StockIn!$A$3:$I$1003,9,FALSE)","v":0},null,0,0,0]
[{"$f":"StockIn!A976","v":1974},{"$f":"VLOOKUP(A977,StockIn!$A$3:$B$1003,2,FALSE)","v":0},{"$f":"VLOOKUP(A977,StockIn!$A$3:$I$1003,9,FALSE)","v":0},null,0,0,0]
[{"$f":"StockIn!A977","v":1975},{"$f":"VLOOKUP(A978,StockIn!$A$3:$B$1003,2,FALSE)","v":0},{"$f":"VLOOKUP(A978,StockIn!$A$3:$I$1003,9,FALSE)","v":0},null,0,0,0]
[{"$f":"StockIn!A978","v":1976},{"$f":"VLOOKUP(A979,StockIn!$A$3:$B$1003,2,FALSE)","v":0},{"$f":"VLOOKUP(A979,StockIn!$A$3:$I$1003,9,FALSE)","v":0},null,0,0,0]
[{"$f":"StockIn!A979","v":1977},{"$f":"VLOOKUP(A980,StockIn!$A$3:$B$1003,2,FALSE)","v":0},{"$f":"VLOOKUP(A980,StockIn!$A$3:$I$1003,9,FALSE)","v":0},null,0,0,0]
[{"$f":"StockIn!A980","v":1978},{"$f":"VLOOKUP(A981,StockIn!$A$3:$B$1003,2,FALSE)","v":0},{"$f":"VLOOKUP(A981,StockIn!$A$3:$I$1003,9,FALSE)","v":0},null,0,0,0]
[{"$f":"StockIn!A981","v":1979},{"$f":"VLOOKUP(A982,StockIn!$A$3:$B$1003,2,FALSE)","v":0},{"$f":"VLOOKUP(A982,StockIn!$A$3:$I$1003,9,FALSE)","v":0},null,0,0,0]
[{"$f":"StockIn!A982","v":1980},{"$f":"VLOOKUP(A983,StockIn!$A$3:$B$1003,2,FALSE)","v":0},{"$f":"VLOOKUP(A983,StockIn!$A$3:$I$1003,9,FALSE)","v":0},null,0,0,0]
[{"$f":"StockIn!A983","v":1981},{"$f":"VLOOKUP(A984,StockIn!$A$3:$B$1003,2,FALSE)","v":0},{"$f":"VLOOKUP(A984,StockIn!$A$3:$I$1003,9,FALSE)","v":0},null,0,0,0]
[{"$f":"StockIn!A984","v":1982},{"$f":"VLOOKUP(A985,StockIn!$A$3:$B$1003,2,FALSE)","v":0},{"$f":"VLOOKUP(A985,StockIn!$A$3:$I$1003,9,FALSE)","v":0},null,0,0,0]
[{"$f":"StockIn!A985","v":1983},{"$f":"VLOOKUP(A986,StockIn!$A$3:$B$1003,2,FALSE)","v":0},{"$f":"VLOOKUP(A986,StockIn!$A$3:$I$1003,9,FALSE)","v":0},null,0,0,0]
[{"$f":"StockIn!A986","v":1984},{"$f":"VLOOKUP(A987,StockIn!$A$3:$B$1003,2,FALSE)","v":0},{"$f":"VLOOKUP(A987,StockIn!$A$3:$I$1003,9,FALSE)","v":0},null,0,0,0]
[{"$f":"StockIn!A987","v":1985},{"$f":"VLOOKUP(A988,StockIn!$A$3:$B$1003,2,FALSE)","v":0},{"$f":"VLOOKUP(A988,StockIn!$A$3:$I$1003,9,FALSE)","v":0},null,0,0,0]
[{"$f":"StockIn!A988","v":1986},{"$f":"VLOOKUP(A989,StockIn!$A$3:$B$1003,2,FALSE)","v":0},{"$f":"VLOOKUP(A989,StockIn!$A$3:$I$1003,9,FALSE)","v":0},null,0,0,0]
[{"$f":"StockIn!A989","v":1987},{"$f":"VLOOKUP(A990,StockIn!$A$3:$B$1003,2,FALSE)","v":0},{"$f":"VLOOKUP(A990,StockIn!$A$3:$I$1003,9,FALSE)","v":0},null,0,0,0]
[{"$f":"StockIn!A990","v":1988},{"$f":"VLOOKUP(A991,StockIn!$A$3:$B$1003,2,FALSE)","v":0},{"$f":"VLOOKUP(A991,StockIn!$A$3:$I$1003,9,FALSE)","v":0},null,0,0,0]
[{"$f":"StockIn!A991","v":1989},{"$f":"VLOOKUP(A992,StockIn!$A$3:$B$1003,2,FALSE)","v":0},{"$f":"VLOOKUP(A992,StockIn!$A$3:$I$1003,9,FALSE)","v":0},null,0,0,0]
[{"$f":"StockIn!A992","v":1990},{"$f":"VLOOKUP(A993,StockIn!$A$3:$B$1003,2,FALSE)","v":0},{"$f":"VLOOKUP(A993,StockIn!$A$3:$I$1003,9,FALSE)","v":0},null,0,0,0]
[{"$f":"StockIn!A993","v":1991},{"$f":"VLOOKUP(A994,StockIn!$A$3:$B$1003,2,FALSE)","v":0},{"$f":"VLOOKUP(A994,StockIn!$A$3:$I$1003,9,FALSE)","v":0},null,0,0,0]
[{"$f":"StockIn!A994","v":1992},{"$f":"VLOOKUP(A995,StockIn!$A$3:$B$1003,2,FALSE)","v":0},{"$f":"VLOOKUP(A995,StockIn!$A$3:$I$1003,9,FALSE)","v":0},null,0,0,0]
[{"$f":"StockIn!A995","v":1993},{"$f":"VLOOKUP(A996,StockIn!$A$3:$B$1003,2,FALSE)","v":0},{"$f":"VLOOKUP(A996,StockIn!$A$3:$I$1003,9,FALSE)","v":0},null,0,0,0]
[{"$f":"StockIn!A996","v":1994},{"$f":"VLOOKUP(A997,StockIn!$A$3:$B$1003,2,FALSE)","v":0},{"$f":"VLOOKUP(A997,StockIn!$A$3:$I$1003,9,FALSE)","v":0},null,0,0,0]
[{"$f":"StockIn!A997","v":1995},{"$f":"VLOOKUP(A998,StockIn!$A$3:$B$1003,2,FALSE)","v":0},{"$f":"VLOOKUP(A998,StockIn!$A$3:$I$1003,9,FALSE)","v":0},null,0,0,0]
[{"$f":"StockIn!A998","v":1996},{"$f":"VLOOKUP(A999,StockIn!$A$3:$B$1003,2,FALSE)","v":0},{"$f":"VLOOKUP(A999,StockIn!$A$3:$I$1003,9,FALSE)","v":0},null,0,0,0]
[{"$f":"StockIn!A999","v":1997},{"$f":"VLOOKUP(A1000,StockIn!$A$3:$B$1003,2,FALSE)","v":0},{"$f":"VLOOKUP(A1000,StockIn!$A$3:$I$1003,9,FALSE)","v":0},null,0,0,0]
[{"$f":"StockIn!A1000","v":1998},{"$f":"VLOOKUP(A1001,StockIn!$A$3:$B$1003,2,FALSE)","v":0},{"$f":"VLOOKUP(A1001,StockIn!$A$3:$I$1003,9,FALSE)","v":0},null,0,0,0]
[{"$f":"StockIn!A1001","v":1999},{"$f":"VLOOKUP(A1002,StockIn!$A$3:$B$1003,2,FALSE)","v":0},{"$f":"VLOOKUP(A1002,StockIn!$A$3:$I$1003,9,FALSE)","v":0},null,0,0,0]
[{"$f":"StockIn!A1002","v":2000},{"$f":"VLOOKUP(A1003,StockIn!$A$3:$B$1003,2,FALSE)","v":0},{"$f":"VLOOKUP(A1003,StockIn!$A$3:$I$1003,9,FALSE)","v":0},null,0,0,0]
["xxxxxx","xxxxxx","xxxxxx","xxxxxx","xxxxxx","xxxxxx","xxxxxx","xxxxxx","xxxxxx","xxxxxx","xxxxxx"]

{"sheet":"AddData","index":5,"n_rows":1003,"n_cols":13,"rows_kept":1003,"cut":false,"hidden":false,"merged":[[0,0,0,1],[8,11,8,12],[12,11,12,12],[0,12,1,12]]}
["DATA ENTRY IN MASTER LIST",null,"Today is:",{"$f":"TODAY()","v":"2021-05-18"},null,null,null,null,{"$f":"COUNTA(B3:B500)","v":0},null,null,null,"Download this software for FREE"]
["Available Codes","2Product Name","3Manuftr","4Batch No.","5Expiry","6Pack Purchased","7Pack as per Bill","8MRP as per Bill","9Qnty. Unitised","10Pack Retail","11Retail MRP /Tab /CAP SALE"]
[1001]
[1002]
[1003,null,null,null,null,null,null,null,null,null,null,null,"Data From Bill"]
[1004,null,null,null,null,null,null,null,null,null,null,null,"Calculated Data"]
[1005,null,null,null,null,null,null,null,null,null,null,null,"Zero Balance IDs"]
[1006,null,null,null,null,null,null,null,null,null,null,null,"Blank IDs"]
[1007,null,null,null,null,null,null,null,null,null,null,"How to fill Col 9,10 & 11"]
[1008,null,null,null,null,null,null,null,null,null,null,"Column-9","1x10 TAB -> 10"]
[1009,null,null,null,null,null,null,null,null,null,null,"Column-10","1x10 TAB -> 1 TAB"]
[1010,null,null,null,null,null,null,null,null,null,null,"Column-11","MRP/ (Tabs per strip)"]
[1011,null,null,null,null,null,null,null,null,null,null,"Read Manual for details"]
[1012]
[1013]
[1014]
[1015]
[1016]
[1017]
[1018]
[1019]
[1020]
[1021]
[1022]
[1023]
[1024]
[1025]
[1026]
[1027]
[1028]
[1029]
[1030]
[1031]
[1032]
[1033]
[1034]
[1035]
[1036]
[1037]
[1038]
[1039]
[1040]
[1041]
[1042]
[1043]
[1044]
[1045]
[1046]
[1047]
[1048]
[1049]
[1050]
[1051]
[1052]
[1053]
[1054]
[1055]
[1056]
[1057]
[1058]
[1059]
[1060]
[1061]
[1062]
[1063]
[1064]
[1065]
[1066]
[1067]
[1068]
[1069]
[1070]
[1071]
[1072]
[1073]
[1074]
[1075]
[1076]
[1077]
[1078]
[1079]
[1080]
[1081]
[1082]
[1083]
[1084]
[1085]
[1086]
[1087]
[1088]
[1089]
[1090]
[1091]
[1092]
[1093]
[1094]
[1095]
[1096]
[1097]
[1098]
[1099]
[1100]
[1101]
[1102]
[1103]
[1104]
[1105]
[1106]
[1107]
[1108]
[1109]
[1110]
[1111]
[1112]
[1113]
[1114]
[1115]
[1116]
[1117]
[1118]
[1119]
[1120]
[1121]
[1122]
[1123]
[1124]
[1125]
[1126]
[1127]
[1128]
[1129]
[1130]
[1131]
[1132]
[1133]
[1134]
[1135]
[1136]
[1137]
[1138]
[1139]
[1140]
[1141]
[1142]
[1143]
[1144]
[1145]
[1146]
[1147]
[1148]
[1149]
[1150]
[1151]
[1152]
[1153]
[1154]
[1155]
[1156]
[1157]
[1158]
[1159]
[1160]
[1161]
[1162]
[1163]
[1164]
[1165]
[1166]
[1167]
[1168]
[1169]
[1170]
[1171]
[1172]
[1173]
[1174]
[1175]
[1176]
[1177]
[1178]
[1179]
[1180]
[1181]
[1182]
[1183]
[1184]
[1185]
[1186]
[1187]
[1188]
[1189]
[1190]
[1191]
[1192]
[1193]
[1194]
[1195]
[1196]
[1197]
[1198]
[1199]
[1200]
[1201]
[1202]
[1203]
[1204]
[1205]
[1206]
[1207]
[1208]
[1209]
[1210]
[1211]
[1212]
[1213]
[1214]
[1215]
[1216]
[1217]
[1218]
[1219]
[1220]
[1221]
[1222]
[1223]
[1224]
[1225]
[1226]
[1227]
[1228]
[1229]
[1230]
[1231]
[1232]
[1233]
[1234]
[1235]
[1236]
[1237]
[1238]
[1239]
[1240]
[1241]
[1242]
[1243]
[1244]
[1245]
[1246]
[1247]
[1248]
[1249]
[1250]
[1251]
[1252]
[1253]
[1254]
[1255]
[1256]
[1257]
[1258]
[1259]
[1260]
[1261]
[1262]
[1263]
[1264]
[1265]
[1266]
[1267]
[1268]
[1269]
[1270]
[1271]
[1272]
[1273]
[1274]
[1275]
[1276]
[1277]
[1278]
[1279]
[1280]
[1281]
[1282]
[1283]
[1284]
[1285]
[1286]
[1287]
[1288]
[1289]
[1290]
[1291]
[1292]
[1293]
[1294]
[1295]
[1296]
[1297]
[1298]
[1299]
[1300]
[1301]
[1302]
[1303]
[1304]
[1305]
[1306]
[1307]
[1308]
[1309]
[1310]
[1311]
[1312]
[1313]
[1314]
[1315]
[1316]
[1317]
[1318]
[1319]
[1320]
[1321]
[1322]
[1323]
[1324]
[1325]
[1326]
[1327]
[1328]
[1329]
[1330]
[1331]
[1332]
[1333]
[1334]
[1335]
[1336]
[1337]
[1338]
[1339]
[1340]
[1341]
[1342]
[1343]
[1344]
[1345]
[1346]
[1347]
[1348]
[1349]
[1350]
[1351]
[1352]
[1353]
[1354]
[1355]
[1356]
[1357]
[1358]
[1359]
[1360]
[1361]
[1362]
[1363]
[1364]
[1365]
[1366]
[1367]
[1368]
[1369]
[1370]
[1371]
[1372]
[1373]
[1374]
[1375]
[1376]
[1377]
[1378]
[1379]
[1380]
[1381]
[1382]
[1383]
[1384]
[1385]
[1386]
[1387]
[1388]
[1389]
[1390]
[1391]
[1392]
[1393]
[1394]
[1395]
[1396]
[1397]
[1398]
[1399]
[1400]
[1401]
[1402]
[1403]
[1404]
[1405]
[1406]
[1407]
[1408]
[1409]
[1410]
[1411]
[1412]
[1413]
[1414]
[1415]
[1416]
[1417]
[1418]
[1419]
[1420]
[1421]
[1422]
[1423]
[1424]
[1425]
[1426]
[1427]
[1428]
[1429]
[1430]
[1431]
[1432]
[1433]
[1434]
[1435]
[1436]
[1437]
[1438]
[1439]
[1440]
[1441]
[1442]
[1443]
[1444]
[1445]
[1446]
[1447]
[1448]
[1449]
[1450]
[1451]
[1452]
[1453]
[1454]
[1455]
[1456]
[1457]
[1458]
[1459]
[1460]
[1461]
[1462]
[1463]
[1464]
[1465]
[1466]
[1467]
[1468]
[1469]
[1470]
[1471]
[1472]
[1473]
[1474]
[1475]
[1476]
[1477]
[1478]
[1479]
[1480]
[1481]
[1482]
[1483]
[1484]
[1485]
[1486]
[1487]
[1488]
[1489]
[1490]
[1491]
[1492]
[1493]
[1494]
[1495]
[1496]
[1497]
[1498]
[1499]
[1500]
[1501]
[1502,null,null,null,null,null,null,null,null,null,null,"*********","*********"]
[1503]
[1504]
[1505]
[1506]
[1507]
[1508]
[1509]
[1510]
[1511]
[1512]
[1513]
[1514]
[1515]
[1516]
[1517]
[1518]
[1519]
[1520]
[1521]
[1522]
[1523]
[1524]
[1525]
[1526]
[1527]
[1528]
[1529]
[1530]
[1531]
[1532]
[1533]
[1534]
[1535]
[1536]
[1537]
[1538]
[1539]
[1540]
[1541]
[1542]
[1543]
[1544]
[1545]
[1546]
[1547]
[1548]
[1549]
[1550]
[1551]
[1552]
[1553]
[1554]
[1555]
[1556]
[1557]
[1558]
[1559]
[1560]
[1561]
[1562]
[1563]
[1564]
[1565]
[1566]
[1567]
[1568]
[1569]
[1570]
[1571]
[1572]
[1573]
[1574]
[1575]
[1576]
[1577]
[1578]
[1579]
[1580]
[1581]
[1582]
[1583]
[1584]
[1585]
[1586]
[1587]
[1588]
[1589]
[1590]
[1591]
[1592]
[1593]
[1594]
[1595]
[1596]
[1597]
[1598]
[1599]
[1600]
[1601]
[1602]
[1603]
[1604]
[1605]
[1606]
[1607]
[1608]
[1609]
[1610]
[1611]
[1612]
[1613]
[1614]
[1615]
[1616]
[1617]
[1618]
[1619]
[1620]
[1621]
[1622]
[1623]
[1624]
[1625]
[1626]
[1627]
[1628]
[1629]
[1630]
[1631]
[1632]
[1633]
[1634]
[1635]
[1636]
[1637]
[1638]
[1639]
[1640]
[1641]
[1642]
[1643]
[1644]
[1645]
[1646]
[1647]
[1648]
[1649]
[1650]
[1651]
[1652]
[1653]
[1654]
[1655]
[1656]
[1657]
[1658]
[1659]
[1660]
[1661]
[1662]
[1663]
[1664]
[1665]
[1666]
[1667]
[1668]
[1669]
[1670]
[1671]
[1672]
[1673]
[1674]
[1675]
[1676]
[1677]
[1678]
[1679]
[1680]
[1681]
[1682]
[1683]
[1684]
[1685]
[1686]
[1687]
[1688]
[1689]
[1690]
[1691]
[1692]
[1693]
[1694]
[1695]
[1696]
[1697]
[1698]
[1699]
[1700]
[1701]
[1702]
[1703]
[1704]
[1705]
[1706]
[1707]
[1708]
[1709]
[1710]
[1711]
[1712]
[1713]
[1714]
[1715]
[1716]
[1717]
[1718]
[1719]
[1720]
[1721]
[1722]
[1723]
[1724]
[1725]
[1726]
[1727]
[1728]
[1729]
[1730]
[1731]
[1732]
[1733]
[1734]
[1735]
[1736]
[1737]
[1738]
[1739]
[1740]
[1741]
[1742]
[1743]
[1744]
[1745]
[1746]
[1747]
[1748]
[1749]
[1750]
[1751]
[1752]
[1753]
[1754]
[1755]
[1756]
[1757]
[1758]
[1759]
[1760]
[1761]
[1762]
[1763]
[1764]
[1765]
[1766]
[1767]
[1768]
[1769]
[1770]
[1771]
[1772]
[1773]
[1774]
[1775]
[1776]
[1777]
[1778]
[1779]
[1780]
[1781]
[1782]
[1783]
[1784]
[1785]
[1786]
[1787]
[1788]
[1789]
[1790]
[1791]
[1792]
[1793]
[1794]
[1795]
[1796]
[1797]
[1798]
[1799]
[1800]
[1801]
[1802]
[1803]
[1804]
[1805]
[1806]
[1807]
[1808]
[1809]
[1810]
[1811]
[1812]
[1813]
[1814]
[1815]
[1816]
[1817]
[1818]
[1819]
[1820]
[1821]
[1822]
[1823]
[1824]
[1825]
[1826]
[1827]
[1828]
[1829]
[1830]
[1831]
[1832]
[1833]
[1834]
[1835]
[1836]
[1837]
[1838]
[1839]
[1840]
[1841]
[1842]
[1843]
[1844]
[1845]
[1846]
[1847]
[1848]
[1849]
[1850]
[1851]
[1852]
[1853]
[1854]
[1855]
[1856]
[1857]
[1858]
[1859]
[1860]
[1861]
[1862]
[1863]
[1864]
[1865]
[1866]
[1867]
[1868]
[1869]
[1870]
[1871]
[1872]
[1873]
[1874]
[1875]
[1876]
[1877]
[1878]
[1879]
[1880]
[1881]
[1882]
[1883]
[1884]
[1885]
[1886]
[1887]
[1888]
[1889]
[1890]
[1891]
[1892]
[1893]
[1894]
[1895]
[1896]
[1897]
[1898]
[1899]
[1900]
[1901]
[1902]
[1903]
[1904]
[1905]
[1906]
[1907]
[1908]
[1909]
[1910]
[1911]
[1912]
[1913]
[1914]
[1915]
[1916]
[1917]
[1918]
[1919]
[1920]
[1921]
[1922]
[1923]
[1924]
[1925]
[1926]
[1927]
[1928]
[1929]
[1930]
[1931]
[1932]
[1933]
[1934]
[1935]
[1936]
[1937]
[1938]
[1939]
[1940]
[1941]
[1942]
[1943]
[1944]
[1945]
[1946]
[1947]
[1948]
[1949]
[1950]
[1951]
[1952]
[1953]
[1954]
[1955]
[1956]
[1957]
[1958]
[1959]
[1960]
[1961]
[1962]
[1963]
[1964]
[1965]
[1966]
[1967]
[1968]
[1969]
[1970]
[1971]
[1972]
[1973]
[1974]
[1975]
[1976]
[1977]
[1978]
[1979]
[1980]
[1981]
[1982]
[1983]
[1984]
[1985]
[1986]
[1987]
[1988]
[1989]
[1990]
[1991]
[1992]
[1993]
[1994]
[1995]
[1996]
[1997]
[1998]
[1999]
[2000]
[null,"xxxxxxxxxx","xxxxxxx","xxxxxxx","xxxxxxx","xxxxxxx","xxxxxxx","xxxxxxx","xxxxxxx","xxxxxxx","xxxxxxx","xxxxxxx","xxxxxxx"]

{"sheet":"PDWiseCumul","index":6,"n_rows":1003,"n_cols":9,"rows_kept":1003,"cut":false,"hidden":false,"merged":[[0,2,0,4],[0,7,0,8]]}
[{"$f":"G1003","v":0},"ALI","PATIENTWISE MEDICINE SALE ACCOUNT",null,null,{"$f":"TODAY()","v":"2021-05-18"},null,"Download this software FREE"]
["SN","DATE","NAME","SALE AMOUNT","AMOUNT PAID","Actual Total (Daily)","MEMO_NO","Virtual Total (Daily)","Remarks"]
[1,null,null,null,null,{"$f":"IF(B3=B2,E3+F2,E3)","v":0},null,{"$f":"IF(B3=B2,D3+H2,D3)","v":0}]
[2,null,null,null,null,{"$f":"IF(B4=B3,E4+F3,E4)","v":0},null,{"$f":"IF(B4=B3,D4+H3,D4)","v":0}]
[3,null,null,null,null,0,null,0]
[4,null,null,null,null,0,null,0]
[5,null,null,null,null,0,null,0]
[6,null,null,null,null,0,null,0]
[7,null,null,null,null,0,null,0]
[8,null,null,null,null,0,null,0]
[9,null,null,null,null,0,null,0]
[10,null,null,null,null,0,null,0]
[11,null,null,null,null,0,null,0]
[12,null,null,null,null,0,null,0]
[13,null,null,null,null,0,null,0]
[14,null,null,null,null,0,null,0]
[15,null,null,null,null,0,null,0]
[16,null,null,null,null,0,null,0]
[17,null,null,null,null,0,null,0]
[18,null,null,null,null,0,null,0]
[19,null,null,null,null,0,null,0]
[20,null,null,null,null,0,null,0]
[21,null,null,null,null,0,null,0]
[22,null,null,null,null,0,null,0]
[23,null,null,null,null,0,null,0]
[24,null,null,null,null,0,null,0]
[25,null,null,null,null,0,null,0]
[26,null,null,null,null,0,null,0]
[27,null,null,null,null,0,null,0]
[28,null,null,null,null,0,null,0]
[29,null,null,null,null,0,null,0]
[30,null,null,null,null,0,null,0]
[31,null,null,null,null,0,null,0]
[32,null,null,null,null,0,null,0]
[33,null,null,null,null,0,null,0]
[34,null,null,null,null,0,null,0]
[35,null,null,null,null,0,null,0]
[36,null,null,null,null,0,null,0]
[37,null,null,null,null,0,null,0]
[38,null,null,null,null,0,null,0]
[39,null,null,null,null,0,null,0]
[40,null,null,null,null,0,null,0]
[41,null,null,null,null,0,null,0]
[42,null,null,null,null,0,null,0]
[43,null,null,null,null,0,null,0]
[44,null,null,null,null,0,null,0]
[45,null,null,null,null,0,null,0]
[46,null,null,null,null,0,null,0]
[47,null,null,null,null,0,null,0]
[48,null,null,null,null,0,null,0]
[49,null,null,null,null,0,null,0]
[50,null,null,null,null,0,null,0]
[51,null,null,null,null,0,null,0]
[52,null,null,null,null,0,null,0]
[53,null,null,null,null,0,null,0]
[54,null,null,null,null,0,null,0]
[55,null,null,null,null,0,null,0]
[56,null,null,null,null,0,null,0]
[57,null,null,null,null,0,null,0]
[58,null,null,null,null,0,null,0]
[59,null,null,null,null,0,null,0]
[60,null,null,null,null,0,null,0]
[61,null,null,null,null,0,null,0]
[62,null,null,null,null,0,null,0]
[63,null,null,null,null,0,null,0]
[64,null,null,null,null,0,null,0]
[65,null,null,null,null,0,null,0]
[66,null,null,null,null,{"$f":"IF(B68=B67,E68+F67,E68)","v":0},null,{"$f":"IF(B68=B67,D68+H67,D68)","v":0}]
[67,null,null,null,null,0,null,0]
[68,null,null,null,null,0,null,0]
[69,null,null,null,null,0,null,0]
[70,null,null,null,null,0,null,0]
[71,null,null,null,null,0,null,0]
[72,null,null,null,null,0,null,0]
[73,null,null,null,null,0,null,0]
[74,null,null,null,null,0,null,0]
[75,null,null,null,null,0,null,0]
[76,null,null,null,null,0,null,0]
[77,null,null,null,null,0,null,0]
[78,null,null,null,null,0,null,0]
[79,null,null,null,null,0,null,0]
[80,null,null,null,null,0,null,0]
[81,null,null,null,null,0,null,0]
[82,null,null,null,null,0,null,0]
[83,null,null,null,null,0,null,0]
[84,null,null,null,null,0,null,0]
[85,null,null,null,null,0,null,0]
[86,null,null,null,null,0,null,0]
[87,null,null,null,null,0,null,0]
[88,null,null,null,null,0,null,0]
[89,null,null,null,null,0,null,0]
[90,null,null,null,null,0,null,0]
[91,null,null,null,null,0,null,0]
[92,null,null,null,null,0,null,0]
[93,null,null,null,null,0,null,0]
[94,null,null,null,null,0,null,0]
[95,null,null,null,null,0,null,0]
[96,null,null,null,null,0,null,0]
[97,null,null,null,null,0,null,0]
[98,null,null,null,null,0,null,0]
[99,null,null,null,null,0,null,0]
[100,null,null,null,null,0,null,0]
[101,null,null,null,null,0,null,0]
[102,null,null,null,null,0,null,0]
[103,null,null,null,null,0,null,0]
[104,null,null,null,null,0,null,0]
[105,null,null,null,null,0,null,0]
[106,null,null,null,null,0,null,0]
[107,null,null,null,null,0,null,0]
[108,null,null,null,null,0,null,0]
[109,null,null,null,null,0,null,0]
[110,null,null,null,null,0,null,0]
[111,null,null,null,null,0,null,0]
[112,null,null,null,null,0,null,0]
[113,null,null,null,null,0,null,0]
[114,null,null,null,null,0,null,0]
[115,null,null,null,null,0,null,0]
[116,null,null,null,null,0,null,0]
[117,null,null,null,null,0,null,0]
[118,null,null,null,null,0,null,0]
[119,null,null,null,null,0,null,0]
[120,null,null,null,null,0,null,0]
[121,null,null,null,null,0,null,0]
[122,null,null,null,null,0,null,0]
[123,null,null,null,null,0,null,0]
[124,null,null,null,null,0,null,0]
[125,null,null,null,null,0,null,0]
[126,null,null,null,null,0,null,0]
[127,null,null,null,null,0,null,0]
[128,null,null,null,null,0,null,0]
[129,null,null,null,null,0,null,0]
[130,null,null,null,null,{"$f":"IF(B132=B131,E132+F131,E132)","v":0},null,{"$f":"IF(B132=B131,D132+H131,D132)","v":0}]
[131,null,null,null,null,0,null,0]
[132,null,null,null,null,0,null,0]
[133,null,null,null,null,0,null,0]
[134,null,null,null,null,0,null,0]
[135,null,null,null,null,0,null,0]
[136,null,null,null,null,0,null,0]
[137,null,null,null,null,0,null,0]
[138,null,null,null,null,0,null,0]
[139,null,null,null,null,0,null,0]
[140,null,null,null,null,0,null,0]
[141,null,null,null,null,0,null,0]
[142,null,null,null,null,0,null,0]
[143,null,null,null,null,0,null,0]
[144,null,null,null,null,0,null,0]
[145,null,null,null,null,0,null,0]
[146,null,null,null,null,0,null,0]
[147,null,null,null,null,0,null,0]
[148,null,null,null,null,0,null,0]
[149,null,null,null,null,0,null,0]
[150,null,null,null,null,0,null,0]
[151,null,null,null,null,0,null,0]
[152,null,null,null,null,0,null,0]
[153,null,null,null,null,0,null,0]
[154,null,null,null,null,0,null,0]
[155,null,null,null,null,0,null,0]
[156,null,null,null,null,0,null,0]
[157,null,null,null,null,0,null,0]
[158,null,null,null,null,0,null,0]
[159,null,null,null,null,0,null,0]
[160,null,null,null,null,0,null,0]
[161,null,null,null,null,0,null,0]
[162,null,null,null,null,0,null,0]
[163,null,null,null,null,0,null,0]
[164,null,null,null,null,0,null,0]
[165,null,null,null,null,0,null,0]
[166,null,null,null,null,0,null,0]
[167,null,null,null,null,0,null,0]
[168,null,null,null,null,0,null,0]
[169,null,null,null,null,0,null,0]
[170,null,null,null,null,0,null,0]
[171,null,null,null,null,0,null,0]
[172,null,null,null,null,0,null,0]
[173,null,null,null,null,0,null,0]
[174,null,null,null,null,0,null,0]
[175,null,null,null,null,0,null,0]
[176,null,null,null,null,0,null,0]
[177,null,null,null,null,0,null,0]
[178,null,null,null,null,0,null,0]
[179,null,null,null,null,0,null,0]
[180,null,null,null,null,0,null,0]
[181,null,null,null,null,0,null,0]
[182,null,null,null,null,0,null,0]
[183,null,null,null,null,0,null,0]
[184,null,null,null,null,0,null,0]
[185,null,null,null,null,0,null,0]
[186,null,null,null,null,0,null,0]
[187,null,null,null,null,0,null,0]
[188,null,null,null,null,0,null,0]
[189,null,null,null,null,0,null,0]
[190,null,null,null,null,0,null,0]
[191,null,null,null,null,0,null,0]
[192,null,null,null,null,0,null,0]
[193,null,null,null,null,0,null,0]
[194,null,null,null,null,{"$f":"IF(B196=B195,E196+F195,E196)","v":0},null,{"$f":"IF(B196=B195,D196+H195,D196)","v":0}]
[195,null,null,null,null,0,null,0]
[196,null,null,null,null,0,null,0]
[197,null,null,null,null,0,null,0]
[198,null,null,null,null,0,null,0]
[199,null,null,null,null,0,null,0]
[200,null,null,null,null,0,null,0]
[201,null,null,null,null,0,null,0]
[202,null,null,null,null,0,null,0]
[203,null,null,null,null,0,null,0]
[204,null,null,null,null,0,null,0]
[205,null,null,null,null,0,null,0]
[206,null,null,null,null,0,null,0]
[207,null,null,null,null,0,null,0]
[208,null,null,null,null,0,null,0]
[209,null,null,null,null,0,null,0]
[210,null,null,null,null,0,null,0]
[211,null,null,null,null,0,null,0]
[212,null,null,null,null,0,null,0]
[213,null,null,null,null,0,null,0]
[214,null,null,null,null,0,null,0]
[215,null,null,null,null,0,null,0]
[216,null,null,null,null,0,null,0]
[217,null,null,null,null,0,null,0]
[218,null,null,null,null,0,null,0]
[219,null,null,null,null,0,null,0]
[220,null,null,null,null,0,null,0]
[221,null,null,null,null,0,null,0]
[222,null,null,null,null,0,null,0]
[223,null,null,null,null,0,null,0]
[224,null,null,null,null,0,null,0]
[225,null,null,null,null,0,null,0]
[226,null,null,null,null,0,null,0]
[227,null,null,null,null,0,null,0]
[228,null,null,null,null,0,null,0]
[229,null,null,null,null,0,null,0]
[230,null,null,null,null,0,null,0]
[231,null,null,null,null,0,null,0]
[232,null,null,null,null,0,null,0]
[233,null,null,null,null,0,null,0]
[234,null,null,null,null,0,null,0]
[235,null,null,null,null,0,null,0]
[236,null,null,null,null,0,null,0]
[237,null,null,null,null,0,null,0]
[238,null,null,null,null,0,null,0]
[239,null,null,null,null,0,null,0]
[240,null,null,null,null,0,null,0]
[241,null,null,null,null,0,null,0]
[242,null,null,null,null,0,null,0]
[243,null,null,null,null,0,null,0]
[244,null,null,null,null,0,null,0]
[245,null,null,null,null,0,null,0]
[246,null,null,null,null,0,null,0]
[247,null,null,null,null,0,null,0]
[248,null,null,null,null,0,null,0]
[249,null,null,null,null,0,null,0]
[250,null,null,null,null,0,null,0]
[251,null,null,null,null,0,null,0]
[252,null,null,null,null,0,null,0]
[253,null,null,null,null,0,null,0]
[254,null,null,null,null,0,null,0]
[255,null,null,null,null,0,null,0]
[256,null,null,null,null,0,null,0]
[257,null,null,null,null,0,null,0]
[258,null,null,null,null,{"$f":"IF(B260=B259,E260+F259,E260)","v":0},null,{"$f":"IF(B260=B259,D260+H259,D260)","v":0}]
[259,null,null,null,null,0,null,0]
[260,null,null,null,null,0,null,0]
[261,null,null,null,null,0,null,0]
[262,null,null,null,null,0,null,0]
[263,null,null,null,null,0,null,0]
[264,null,null,null,null,0,null,0]
[265,null,null,null,null,0,null,0]
[266,null,null,null,null,0,null,0]
[267,null,null,null,null,0,null,0]
[268,null,null,null,null,0,null,0]
[269,null,null,null,null,0,null,0]
[270,null,null,null,null,0,null,0]
[271,null,null,null,null,0,null,0]
[272,null,null,null,null,0,null,0]
[273,null,null,null,null,0,null,0]
[274,null,null,null,null,0,null,0]
[275,null,null,null,null,0,null,0]
[276,null,null,null,null,0,null,0]
[277,null,null,null,null,0,null,0]
[278,null,null,null,null,0,null,0]
[279,null,null,null,null,0,null,0]
[280,null,null,null,null,0,null,0]
[281,null,null,null,null,0,null,0]
[282,null,null,null,null,0,null,0]
[283,null,null,null,null,0,null,0]
[284,null,null,null,null,0,null,0]
[285,null,null,null,null,0,null,0]
[286,null,null,null,null,0,null,0]
[287,null,null,null,null,0,null,0]
[288,null,null,null,null,0,null,0]
[289,null,null,null,null,0,null,0]
[290,null,null,null,null,0,null,0]
[291,null,null,null,null,0,null,0]
[292,null,null,null,null,0,null,0]
[293,null,null,null,null,0,null,0]
[294,null,null,null,null,0,null,0]
[295,null,null,null,null,0,null,0]
[296,null,null,null,null,0,null,0]
[297,null,null,null,null,0,null,0]
[298,null,null,null,null,0,null,0]
[299,null,null,null,null,0,null,0]
[300,null,null,null,null,0,null,0]
[301,null,null,null,null,0,null,0]
[302,null,null,null,null,0,null,0]
[303,null,null,null,null,0,null,0]
[304,null,null,null,null,0,null,0]
[305,null,null,null,null,0,null,0]
[306,null,null,null,null,0,null,0]
[307,null,null,null,null,0,null,0]
[308,null,null,null,null,0,null,0]
[309,null,null,null,null,0,null,0]
[310,null,null,null,null,0,null,0]
[311,null,null,null,null,0,null,0]
[312,null,null,null,null,0,null,0]
[313,null,null,null,null,0,null,0]
[314,null,null,null,null,0,null,0]
[315,null,null,null,null,0,null,0]
[316,null,null,null,null,0,null,0]
[317,null,null,null,null,0,null,0]
[318,null,null,null,null,0,null,0]
[319,null,null,null,null,0,null,0]
[320,null,null,null,null,0,null,0]
[321,null,null,null,null,0,null,0]
[322,null,null,null,null,{"$f":"IF(B324=B323,E324+F323,E324)","v":0},null,{"$f":"IF(B324=B323,D324+H323,D324)","v":0}]
[323,null,null,null,null,0,null,0]
[324,null,null,null,null,0,null,0]
[325,null,null,null,null,0,null,0]
[326,null,null,null,null,0,null,0]
[327,null,null,null,null,0,null,0]
[328,null,null,null,null,0,null,0]
[329,null,null,null,null,0,null,0]
[330,null,null,null,null,0,null,0]
[331,null,null,null,null,0,null,0]
[332,null,null,null,null,0,null,0]
[333,null,null,null,null,0,null,0]
[334,null,null,null,null,0,null,0]
[335,null,null,null,null,0,null,0]
[336,null,null,null,null,0,null,0]
[337,null,null,null,null,0,null,0]
[338,null,null,null,null,0,null,0]
[339,null,null,null,null,0,null,0]
[340,null,null,null,null,0,null,0]
[341,null,null,null,null,0,null,0]
[342,null,null,null,null,0,null,0]
[343,null,null,null,null,0,null,0]
[344,null,null,null,null,0,null,0]
[345,null,null,null,null,0,null,0]
[346,null,null,null,null,0,null,0]
[347,null,null,null,null,0,null,0]
[348,null,null,null,null,0,null,0]
[349,null,null,null,null,0,null,0]
[350,null,null,null,null,0,null,0]
[351,null,null,null,null,0,null,0]
[352,null,null,null,null,0,null,0]
[353,null,null,null,null,0,null,0]
[354,null,null,null,null,0,null,0]
[355,null,null,null,null,0,null,0]
[356,null,null,null,null,0,null,0]
[357,null,null,null,null,0,null,0]
[358,null,null,null,null,0,null,0]
[359,null,null,null,null,0,null,0]
[360,null,null,null,null,0,null,0]
[361,null,null,null,null,0,null,0]
[362,null,null,null,null,0,null,0]
[363,null,null,null,null,0,null,0]
[364,null,null,null,null,0,null,0]
[365,null,null,null,null,0,null,0]
[366,null,null,null,null,0,null,0]
[367,null,null,null,null,0,null,0]
[368,null,null,null,null,0,null,0]
[369,null,null,null,null,0,null,0]
[370,null,null,null,null,0,null,0]
[371,null,null,null,null,0,null,0]
[372,null,null,null,null,0,null,0]
[373,null,null,null,null,0,null,0]
[374,null,null,null,null,0,null,0]
[375,null,null,null,null,0,null,0]
[376,null,null,null,null,0,null,0]
[377,null,null,null,null,0,null,0]
[378,null,null,null,null,0,null,0]
[379,null,null,null,null,0,null,0]
[380,null,null,null,null,0,null,0]
[381,null,null,null,null,0,null,0]
[382,null,null,null,null,0,null,0]
[383,null,null,null,null,0,null,0]
[384,null,null,null,null,0,null,0]
[385,null,null,null,null,0,null,0]
[386,null,null,null,null,{"$f":"IF(B388=B387,E388+F387,E388)","v":0},null,{"$f":"IF(B388=B387,D388+H387,D388)","v":0}]
[387,null,null,null,null,0,null,0]
[388,null,null,null,null,0,null,0]
[389,null,null,null,null,0,null,0]
[390,null,null,null,null,0,null,0]
[391,null,null,null,null,0,null,0]
[392,null,null,null,null,0,null,0]
[393,null,null,null,null,0,null,0]
[394,null,null,null,null,0,null,0]
[395,null,null,null,null,0,null,0]
[396,null,null,null,null,0,null,0]
[397,null,null,null,null,0,null,0]
[398,null,null,null,null,0,null,0]
[399,null,null,null,null,0,null,0]
[400,null,null,null,null,0,null,0]
[401,null,null,null,null,0,null,0]
[402,null,null,null,null,0,null,0]
[403,null,null,null,null,0,null,0]
[404,null,null,null,null,0,null,0]
[405,null,null,null,null,0,null,0]
[406,null,null,null,null,0,null,0]
[407,null,null,null,null,0,null,0]
[408,null,null,null,null,0,null,0]
[409,null,null,null,null,0,null,0]
[410,null,null,null,null,0,null,0]
[411,null,null,null,null,0,null,0]
[412,null,null,null,null,0,null,0]
[413,null,null,null,null,0,null,0]
[414,null,null,null,null,0,null,0]
[415,null,null,null,null,0,null,0]
[416,null,null,null,null,0,null,0]
[417,null,null,null,null,0,null,0]
[418,null,null,null,null,0,null,0]
[419,null,null,null,null,0,null,0]
[420,null,null,null,null,0,null,0]
[421,null,null,null,null,0,null,0]
[422,null,null,null,null,0,null,0]
[423,null,null,null,null,0,null,0]
[424,null,null,null,null,0,null,0]
[425,null,null,null,null,0,null,0]
[426,null,null,null,null,0,null,0]
[427,null,null,null,null,0,null,0]
[428,null,null,null,null,0,null,0]
[429,null,null,null,null,0,null,0]
[430,null,null,null,null,0,null,0]
[431,null,null,null,null,0,null,0]
[432,null,null,null,null,0,null,0]
[433,null,null,null,null,0,null,0]
[434,null,null,null,null,0,null,0]
[435,null,null,null,null,0,null,0]
[436,null,null,null,null,0,null,0]
[437,null,null,null,null,0,null,0]
[438,null,null,null,null,0,null,0]
[439,null,null,null,null,0,null,0]
[440,null,null,null,null,0,null,0]
[441,null,null,null,null,0,null,0]
[442,null,null,null,null,0,null,0]
[443,null,null,null,null,0,null,0]
[444,null,null,null,null,0,null,0]
[445,null,null,null,null,0,null,0]
[446,null,null,null,null,0,null,0]
[447,null,null,null,null,0,null,0]
[448,null,null,null,null,0,null,0]
[449,null,null,null,null,0,null,0]
[450,null,null,null,null,{"$f":"IF(B452=B451,E452+F451,E452)","v":0},null,{"$f":"IF(B452=B451,D452+H451,D452)","v":0}]
[451,null,null,null,null,0,null,0]
[452,null,null,null,null,0,null,0]
[453,null,null,null,null,0,null,0]
[454,null,null,null,null,0,null,0]
[455,null,null,null,null,0,null,0]
[456,null,null,null,null,0,null,0]
[457,null,null,null,null,0,null,0]
[458,null,null,null,null,0,null,0]
[459,null,null,null,null,0,null,0]
[460,null,null,null,null,0,null,0]
[461,null,null,null,null,0,null,0]
[462,null,null,null,null,0,null,0]
[463,null,null,null,null,0,null,0]
[464,null,null,null,null,0,null,0]
[465,null,null,null,null,0,null,0]
[466,null,null,null,null,0,null,0]
[467,null,null,null,null,0,null,0]
[468,null,null,null,null,0,null,0]
[469,null,null,null,null,0,null,0]
[470,null,null,null,null,0,null,0]
[471,null,null,null,null,0,null,0]
[472,null,null,null,null,0,null,0]
[473,null,null,null,null,0,null,0]
[474,null,null,null,null,0,null,0]
[475,null,null,null,null,0,null,0]
[476,null,null,null,null,0,null,0]
[477,null,null,null,null,0,null,0]
[478,null,null,null,null,0,null,0]
[479,null,null,null,null,0,null,0]
[480,null,null,null,null,0,null,0]
[481,null,null,null,null,0,null,0]
[482,null,null,null,null,0,null,0]
[483,null,null,null,null,0,null,0]
[484,null,null,null,null,0,null,0]
[485,null,null,null,null,0,null,0]
[486,null,null,null,null,0,null,0]
[487,null,null,null,null,0,null,0]
[488,null,null,null,null,0,null,0]
[489,null,null,null,null,0,null,0]
[490,null,null,null,null,0,null,0]
[491,null,null,null,null,0,null,0]
[492,null,null,null,null,0,null,0]
[493,null,null,null,null,0,null,0]
[494,null,null,null,null,0,null,0]
[495,null,null,null,null,0,null,0]
[496,null,null,null,null,0,null,0]
[497,null,null,null,null,0,null,0]
[498,null,null,null,null,0,null,0]
[499,null,null,null,null,0,null,0]
[500,null,null,null,null,0,null,0]
[501,null,null,null,null,0,null,0]
[502,null,null,null,null,0,null,0]
[503,null,null,null,null,0,null,0]
[504,null,null,null,null,0,null,0]
[505,null,null,null,null,0,null,0]
[506,null,null,null,null,0,null,0]
[507,null,null,null,null,0,null,0]
[508,null,null,null,null,0,null,0]
[509,null,null,null,null,0,null,0]
[510,null,null,null,null,0,null,0]
[511,null,null,null,null,0,null,0]
[512,null,null,null,null,0,null,0]
[513,null,null,null,null,0,null,0]
[514,null,null,null,null,{"$f":"IF(B516=B515,E516+F515,E516)","v":0},null,{"$f":"IF(B516=B515,D516+H515,D516)","v":0}]
[515,null,null,null,null,0,null,0]
[516,null,null,null,null,0,null,0]
[517,null,null,null,null,0,null,0]
[518,null,null,null,null,0,null,0]
[519,null,null,null,null,0,null,0]
[520,null,null,null,null,0,null,0]
[521,null,null,null,null,0,null,0]
[522,null,null,null,null,0,null,0]
[523,null,null,null,null,0,null,0]
[524,null,null,null,null,0,null,0]
[525,null,null,null,null,0,null,0]
[526,null,null,null,null,0,null,0]
[527,null,null,null,null,0,null,0]
[528,null,null,null,null,0,null,0]
[529,null,null,null,null,0,null,0]
[530,null,null,null,null,0,null,0]
[531,null,null,null,null,0,null,0]
[532,null,null,null,null,0,null,0]
[533,null,null,null,null,0,null,0]
[534,null,null,null,null,0,null,0]
[535,null,null,null,null,0,null,0]
[536,null,null,null,null,0,null,0]
[537,null,null,null,null,0,null,0]
[538,null,null,null,null,0,null,0]
[539,null,null,null,null,0,null,0]
[540,null,null,null,null,0,null,0]
[541,null,null,null,null,0,null,0]
[542,null,null,null,null,0,null,0]
[543,null,null,null,null,0,null,0]
[544,null,null,null,null,0,null,0]
[545,null,null,null,null,0,null,0]
[546,null,null,null,null,0,null,0]
[547,null,null,null,null,0,null,0]
[548,null,null,null,null,0,null,0]
[549,null,null,null,null,0,null,0]
[550,null,null,null,null,0,null,0]
[551,null,null,null,null,0,null,0]
[552,null,null,null,null,0,null,0]
[553,null,null,null,null,0,null,0]
[554,null,null,null,null,0,null,0]
[555,null,null,null,null,0,null,0]
[556,null,null,null,null,0,null,0]
[557,null,null,null,null,0,null,0]
[558,null,null,null,null,0,null,0]
[559,null,null,null,null,0,null,0]
[560,null,null,null,null,0,null,0]
[561,null,null,null,null,0,null,0]
[562,null,null,null,null,0,null,0]
[563,null,null,null,null,0,null,0]
[564,null,null,null,null,0,null,0]
[565,null,null,null,null,0,null,0]
[566,null,null,null,null,0,null,0]
[567,null,null,null,null,0,null,0]
[568,null,null,null,null,0,null,0]
[569,null,null,null,null,0,null,0]
[570,null,null,null,null,0,null,0]
[571,null,null,null,null,0,null,0]
[572,null,null,null,null,0,null,0]
[573,null,null,null,null,0,null,0]
[574,null,null,null,null,0,null,0]
[575,null,null,null,null,0,null,0]
[576,null,null,null,null,0,null,0]
[577,null,null,null,null,0,null,0]
[578,null,null,null,null,{"$f":"IF(B580=B579,E580+F579,E580)","v":0},null,{"$f":"IF(B580=B579,D580+H579,D580)","v":0}]
[579,null,null,null,null,0,null,0]
[580,null,null,null,null,0,null,0]
[581,null,null,null,null,0,null,0]
[582,null,null,null,null,0,null,0]
[583,null,null,null,null,0,null,0]
[584,null,null,null,null,0,null,0]
[585,null,null,null,null,0,null,0]
[586,null,null,null,null,0,null,0]
[587,null,null,null,null,0,null,0]
[588,null,null,null,null,0,null,0]
[589,null,null,null,null,0,null,0]
[590,null,null,null,null,0,null,0]
[591,null,null,null,null,0,null,0]
[592,null,null,null,null,0,null,0]
[593,null,null,null,null,0,null,0]
[594,null,null,null,null,0,null,0]
[595,null,null,null,null,0,null,0]
[596,null,null,null,null,0,null,0]
[597,null,null,null,null,0,null,0]
[598,null,null,null,null,0,null,0]
[599,null,null,null,null,0,null,0]
[600,null,null,null,null,0,null,0]
[601,null,null,null,null,0,null,0]
[602,null,null,null,null,0,null,0]
[603,null,null,null,null,0,null,0]
[604,null,null,null,null,0,null,0]
[605,null,null,null,null,0,null,0]
[606,null,null,null,null,0,null,0]
[607,null,null,null,null,0,null,0]
[608,null,null,null,null,0,null,0]
[609,null,null,null,null,0,null,0]
[610,null,null,null,null,0,null,0]
[611,null,null,null,null,0,null,0]
[612,null,null,null,null,0,null,0]
[613,null,null,null,null,0,null,0]
[614,null,null,null,null,0,null,0]
[615,null,null,null,null,0,null,0]
[616,null,null,null,null,0,null,0]
[617,null,null,null,null,0,null,0]
[618,null,null,null,null,0,null,0]
[619,null,null,null,null,0,null,0]
[620,null,null,null,null,0,null,0]
[621,null,null,null,null,0,null,0]
[622,null,null,null,null,0,null,0]
[623,null,null,null,null,0,null,0]
[624,null,null,null,null,0,null,0]
[625,null,null,null,null,0,null,0]
[626,null,null,null,null,0,null,0]
[627,null,null,null,null,0,null,0]
[628,null,null,null,null,0,null,0]
[629,null,null,null,null,0,null,0]
[630,null,null,null,null,0,null,0]
[631,null,null,null,null,0,null,0]
[632,null,null,null,null,0,null,0]
[633,null,null,null,null,0,null,0]
[634,null,null,null,null,0,null,0]
[635,null,null,null,null,0,null,0]
[636,null,null,null,null,0,null,0]
[637,null,null,null,null,0,null,0]
[638,null,null,null,null,0,null,0]
[639,null,null,null,null,0,null,0]
[640,null,null,null,null,0,null,0]
[641,null,null,null,null,0,null,0]
[642,null,null,null,null,{"$f":"IF(B644=B643,E644+F643,E644)","v":0},null,{"$f":"IF(B644=B643,D644+H643,D644)","v":0}]
[643,null,null,null,null,0,null,0]
[644,null,null,null,null,0,null,0]
[645,null,null,null,null,0,null,0]
[646,null,null,null,null,0,null,0]
[647,null,null,null,null,0,null,0]
[648,null,null,null,null,0,null,0]
[649,null,null,null,null,0,null,0]
[650,null,null,null,null,0,null,0]
[651,null,null,null,null,0,null,0]
[652,null,null,null,null,0,null,0]
[653,null,null,null,null,0,null,0]
[654,null,null,null,null,0,null,0]
[655,null,null,null,null,0,null,0]
[656,null,null,null,null,0,null,0]
[657,null,null,null,null,0,null,0]
[658,null,null,null,null,0,null,0]
[659,null,null,null,null,0,null,0]
[660,null,null,null,null,0,null,0]
[661,null,null,null,null,0,null,0]
[662,null,null,null,null,0,null,0]
[663,null,null,null,null,0,null,0]
[664,null,null,null,null,0,null,0]
[665,null,null,null,null,0,null,0]
[666,null,null,null,null,0,null,0]
[667,null,null,null,null,0,null,0]
[668,null,null,null,null,0,null,0]
[669,null,null,null,null,0,null,0]
[670,null,null,null,null,0,null,0]
[671,null,null,null,null,0,null,0]
[672,null,null,null,null,0,null,0]
[673,null,null,null,null,0,null,0]
[674,null,null,null,null,0,null,0]
[675,null,null,null,null,0,null,0]
[676,null,null,null,null,0,null,0]
[677,null,null,null,null,0,null,0]
[678,null,null,null,null,0,null,0]
[679,null,null,null,null,0,null,0]
[680,null,null,null,null,0,null,0]
[681,null,null,null,null,0,null,0]
[682,null,null,null,null,0,null,0]
[683,null,null,null,null,0,null,0]
[684,null,null,null,null,0,null,0]
[685,null,null,null,null,0,null,0]
[686,null,null,null,null,0,null,0]
[687,null,null,null,null,0,null,0]
[688,null,null,null,null,0,null,0]
[689,null,null,null,null,0,null,0]
[690,null,null,null,null,0,null,0]
[691,null,null,null,null,0,null,0]
[692,null,null,null,null,0,null,0]
[693,null,null,null,null,0,null,0]
[694,null,null,null,null,0,null,0]
[695,null,null,null,null,0,null,0]
[696,null,null,null,null,0,null,0]
[697,null,null,null,null,0,null,0]
[698,null,null,null,null,0,null,0]
[699,null,null,null,null,0,null,0]
[700,null,null,null,null,0,null,0]
[701,null,null,null,null,0,null,0]
[702,null,null,null,null,0,null,0]
[703,null,null,null,null,0,null,0]
[704,null,null,null,null,0,null,0]
[705,null,null,null,null,0,null,0]
[706,null,null,null,null,{"$f":"IF(B708=B707,E708+F707,E708)","v":0},null,{"$f":"IF(B708=B707,D708+H707,D708)","v":0}]
[707,null,null,null,null,0,null,0]
[708,null,null,null,null,0,null,0]
[709,null,null,null,null,0,null,0]
[710,null,null,null,null,0,null,0]
[711,null,null,null,null,0,null,0]
[712,null,null,null,null,0,null,0]
[713,null,null,null,null,0,null,0]
[714,null,null,null,null,0,null,0]
[715,null,null,null,null,0,null,0]
[716,null,null,null,null,0,null,0]
[717,null,null,null,null,0,null,0]
[718,null,null,null,null,0,null,0]
[719,null,null,null,null,0,null,0]
[720,null,null,null,null,0,null,0]
[721,null,null,null,null,0,null,0]
[722,null,null,null,null,0,null,0]
[723,null,null,null,null,0,null,0]
[724,null,null,null,null,0,null,0]
[725,null,null,null,null,0,null,0]
[726,null,null,null,null,0,null,0]
[727,null,null,null,null,0,null,0]
[728,null,null,null,null,0,null,0]
[729,null,null,null,null,0,null,0]
[730,null,null,null,null,0,null,0]
[731,null,null,null,null,0,null,0]
[732,null,null,null,null,0,null,0]
[733,null,null,null,null,0,null,0]
[734,null,null,null,null,0,null,0]
[735,null,null,null,null,0,null,0]
[736,null,null,null,null,0,null,0]
[737,null,null,null,null,0,null,0]
[738,null,null,null,null,0,null,0]
[739,null,null,null,null,0,null,0]
[740,null,null,null,null,0,null,0]
[741,null,null,null,null,0,null,0]
[742,null,null,null,null,0,null,0]
[743,null,null,null,null,0,null,0]
[744,null,null,null,null,0,null,0]
[745,null,null,null,null,0,null,0]
[746,null,null,null,null,0,null,0]
[747,null,null,null,null,0,null,0]
[748,null,null,null,null,0,null,0]
[749,null,null,null,null,0,null,0]
[750,null,null,null,null,0,null,0]
[751,null,null,null,null,0,null,0]
[752,null,null,null,null,0,null,0]
[753,null,null,null,null,0,null,0]
[754,null,null,null,null,0,null,0]
[755,null,null,null,null,0,null,0]
[756,null,null,null,null,0,null,0]
[757,null,null,null,null,0,null,0]
[758,null,null,null,null,0,null,0]
[759,null,null,null,null,0,null,0]
[760,null,null,null,null,0,null,0]
[761,null,null,null,null,0,null,0]
[762,null,null,null,null,0,null,0]
[763,null,null,null,null,0,null,0]
[764,null,null,null,null,0,null,0]
[765,null,null,null,null,0,null,0]
[766,null,null,null,null,0,null,0]
[767,null,null,null,null,0,null,0]
[768,null,null,null,null,0,null,0]
[769,null,null,null,null,0,null,0]
[770,null,null,null,null,{"$f":"IF(B772=B771,E772+F771,E772)","v":0},null,{"$f":"IF(B772=B771,D772+H771,D772)","v":0}]
[771,null,null,null,null,0,null,0]
[772,null,null,null,null,0,null,0]
[773,null,null,null,null,0,null,0]
[774,null,null,null,null,0,null,0]
[775,null,null,null,null,0,null,0]
[776,null,null,null,null,0,null,0]
[777,null,null,null,null,0,null,0]
[778,null,null,null,null,0,null,0]
[779,null,null,null,null,0,null,0]
[780,null,null,null,null,0,null,0]
[781,null,null,null,null,0,null,0]
[782,null,null,null,null,0,null,0]
[783,null,null,null,null,0,null,0]
[784,null,null,null,null,0,null,0]
[785,null,null,null,null,0,null,0]
[786,null,null,null,null,0,null,0]
[787,null,null,null,null,0,null,0]
[788,null,null,null,null,0,null,0]
[789,null,null,null,null,0,null,0]
[790,null,null,null,null,0,null,0]
[791,null,null,null,null,0,null,0]
[792,null,null,null,null,0,null,0]
[793,null,null,null,null,0,null,0]
[794,null,null,null,null,0,null,0]
[795,null,null,null,null,0,null,0]
[796,null,null,null,null,0,null,0]
[797,null,null,null,null,0,null,0]
[798,null,null,null,null,0,null,0]
[799,null,null,null,null,0,null,0]
[800,null,null,null,null,0,null,0]
[801,null,null,null,null,0,null,0]
[802,null,null,null,null,0,null,0]
[803,null,null,null,null,0,null,0]
[804,null,null,null,null,0,null,0]
[805,null,null,null,null,0,null,0]
[806,null,null,null,null,0,null,0]
[807,null,null,null,null,0,null,0]
[808,null,null,null,null,0,null,0]
[809,null,null,null,null,0,null,0]
[810,null,null,null,null,0,null,0]
[811,null,null,null,null,0,null,0]
[812,null,null,null,null,0,null,0]
[813,null,null,null,null,0,null,0]
[814,null,null,null,null,0,null,0]
[815,null,null,null,null,0,null,0]
[816,null,null,null,null,0,null,0]
[817,null,null,null,null,0,null,0]
[818,null,null,null,null,0,null,0]
[819,null,null,null,null,0,null,0]
[820,null,null,null,null,0,null,0]
[821,null,null,null,null,0,null,0]
[822,null,null,null,null,0,null,0]
[823,null,null,null,null,0,null,0]
[824,null,null,null,null,0,null,0]
[825,null,null,null,null,0,null,0]
[826,null,null,null,null,0,null,0]
[827,null,null,null,null,0,null,0]
[828,null,null,null,null,0,null,0]
[829,null,null,null,null,0,null,0]
[830,null,null,null,null,0,null,0]
[831,null,null,null,null,0,null,0]
[832,null,null,null,null,0,null,0]
[833,null,null,null,null,0,null,0]
[834,null,null,null,null,{"$f":"IF(B836=B835,E836+F835,E836)","v":0},null,{"$f":"IF(B836=B835,D836+H835,D836)","v":0}]
[835,null,null,null,null,0,null,0]
[836,null,null,null,null,0,null,0]
[837,null,null,null,null,0,null,0]
[838,null,null,null,null,0,null,0]
[839,null,null,null,null,0,null,0]
[840,null,null,null,null,0,null,0]
[841,null,null,null,null,0,null,0]
[842,null,null,null,null,0,null,0]
[843,null,null,null,null,0,null,0]
[844,null,null,null,null,0,null,0]
[845,null,null,null,null,0,null,0]
[846,null,null,null,null,0,null,0]
[847,null,null,null,null,0,null,0]
[848,null,null,null,null,0,null,0]
[849,null,null,null,null,0,null,0]
[850,null,null,null,null,0,null,0]
[851,null,null,null,null,0,null,0]
[852,null,null,null,null,0,null,0]
[853,null,null,null,null,0,null,0]
[854,null,null,null,null,0,null,0]
[855,null,null,null,null,0,null,0]
[856,null,null,null,null,0,null,0]
[857,null,null,null,null,0,null,0]
[858,null,null,null,null,0,null,0]
[859,null,null,null,null,0,null,0]
[860,null,null,null,null,0,null,0]
[861,null,null,null,null,0,null,0]
[862,null,null,null,null,0,null,0]
[863,null,null,null,null,0,null,0]
[864,null,null,null,null,0,null,0]
[865,null,null,null,null,0,null,0]
[866,null,null,null,null,0,null,0]
[867,null,null,null,null,0,null,0]
[868,null,null,null,null,0,null,0]
[869,null,null,null,null,0,null,0]
[870,null,null,null,null,0,null,0]
[871,null,null,null,null,0,null,0]
[872,null,null,null,null,0,null,0]
[873,null,null,null,null,0,null,0]
[874,null,null,null,null,0,null,0]
[875,null,null,null,null,0,null,0]
[876,null,null,null,null,0,null,0]
[877,null,null,null,null,0,null,0]
[878,null,null,null,null,0,null,0]
[879,null,null,null,null,0,null,0]
[880,null,null,null,null,0,null,0]
[881,null,null,null,null,0,null,0]
[882,null,null,null,null,0,null,0]
[883,null,null,null,null,0,null,0]
[884,null,null,null,null,0,null,0]
[885,null,null,null,null,0,null,0]
[886,null,null,null,null,0,null,0]
[887,null,null,null,null,0,null,0]
[888,null,null,null,null,0,null,0]
[889,null,null,null,null,0,null,0]
[890,null,null,null,null,0,null,0]
[891,null,null,null,null,0,null,0]
[892,null,null,null,null,0,null,0]
[893,null,null,null,null,0,null,0]
[894,null,null,null,null,0,null,0]
[895,null,null,null,null,0,null,0]
[896,null,null,null,null,0,null,0]
[897,null,null,null,null,0,null,0]
[898,null,null,null,null,{"$f":"IF(B900=B899,E900+F899,E900)","v":0},null,{"$f":"IF(B900=B899,D900+H899,D900)","v":0}]
[899,null,null,null,null,0,null,0]
[900,null,null,null,null,0,null,0]
[901,null,null,null,null,0,null,0]
[902,null,null,null,null,0,null,0]
[903,null,null,null,null,0,null,0]
[904,null,null,null,null,0,null,0]
[905,null,null,null,null,0,null,0]
[906,null,null,null,null,0,null,0]
[907,null,null,null,null,0,null,0]
[908,null,null,null,null,0,null,0]
[909,null,null,null,null,0,null,0]
[910,null,null,null,null,0,null,0]
[911,null,null,null,null,0,null,0]
[912,null,null,null,null,0,null,0]
[913,null,null,null,null,0,null,0]
[914,null,null,null,null,0,null,0]
[915,null,null,null,null,0,null,0]
[916,null,null,null,null,0,null,0]
[917,null,null,null,null,0,null,0]
[918,null,null,null,null,0,null,0]
[919,null,null,null,null,0,null,0]
[920,null,null,null,null,0,null,0]
[921,null,null,null,null,0,null,0]
[922,null,null,null,null,0,null,0]
[923,null,null,null,null,0,null,0]
[924,null,null,null,null,0,null,0]
[925,null,null,null,null,0,null,0]
[926,null,null,null,null,0,null,0]
[927,null,null,null,null,0,null,0]
[928,null,null,null,null,0,null,0]
[929,null,null,null,null,0,null,0]
[930,null,null,null,null,0,null,0]
[931,null,null,null,null,0,null,0]
[932,null,null,null,null,0,null,0]
[933,null,null,null,null,0,null,0]
[934,null,null,null,null,0,null,0]
[935,null,null,null,null,0,null,0]
[936,null,null,null,null,0,null,0]
[937,null,null,null,null,0,null,0]
[938,null,null,null,null,0,null,0]
[939,null,null,null,null,0,null,0]
[940,null,null,null,null,0,null,0]
[941,null,null,null,null,0,null,0]
[942,null,null,null,null,0,null,0]
[943,null,null,null,null,0,null,0]
[944,null,null,null,null,0,null,0]
[945,null,null,null,null,0,null,0]
[946,null,null,null,null,0,null,0]
[947,null,null,null,null,0,null,0]
[948,null,null,null,null,0,null,0]
[949,null,null,null,null,0,null,0]
[950,null,null,null,null,0,null,0]
[951,null,null,null,null,0,null,0]
[952,null,null,null,null,0,null,0]
[953,null,null,null,null,0,null,0]
[954,null,null,null,null,0,null,0]
[955,null,null,null,null,0,null,0]
[956,null,null,null,null,0,null,0]
[957,null,null,null,null,0,null,0]
[958,null,null,null,null,0,null,0]
[959,null,null,null,null,0,null,0]
[960,null,null,null,null,0,null,0]
[961,null,null,null,null,0,null,0]
[962,null,null,null,null,{"$f":"IF(B964=B963,E964+F963,E964)","v":0},null,{"$f":"IF(B964=B963,D964+H963,D964)","v":0}]
[963,null,null,null,null,0,null,0]
[964,null,null,null,null,0,null,0]
[965,null,null,null,null,0,null,0]
[966,null,null,null,null,0,null,0]
[967,null,null,null,null,0,null,0]
[968,null,null,null,null,0,null,0]
[969,null,null,null,null,0,null,0]
[970,null,null,null,null,0,null,0]
[971,null,null,null,null,0,null,0]
[972,null,null,null,null,0,null,0]
[973,null,null,null,null,0,null,0]
[974,null,null,null,null,0,null,0]
[975,null,null,null,null,0,null,0]
[976,null,null,null,null,0,null,0]
[977,null,null,null,null,0,null,0]
[978,null,null,null,null,0,null,0]
[979,null,null,null,null,0,null,0]
[980,null,null,null,null,0,null,0]
[981,null,null,null,null,0,null,0]
[982,null,null,null,null,0,null,0]
[983,null,null,null,null,0,null,0]
[984,null,null,null,null,0,null,0]
[985,null,null,null,null,0,null,0]
[986,null,null,null,null,0,null,0]
[987,null,null,null,null,0,null,0]
[988,null,null,null,null,0,null,0]
[989,null,null,null,null,0,null,0]
[990,null,null,null,null,0,null,0]
[991,null,null,null,null,0,null,0]
[992,null,null,null,null,0,null,0]
[993,null,null,null,null,0,null,0]
[994,null,null,null,null,0,null,0]
[995,null,null,null,null,0,null,0]
[996,null,null,null,null,0,null,0]
[997,null,null,null,null,0,null,0]
[998,null,null,null,null,0,null,0]
[999,null,null,null,null,0,null,0]
[1000,null,null,null,null,0,null,0]
["XXXXX",null,"XXXXXXXXX","XXXXXXXXX","XXXXXXXXX","XXXXXXXXX",{"$f":"COUNTA(B3:B1002)","v":0},"XXXXXXXXX","XXXXXXXXX"]

{"sheet":"NilStock","index":7,"n_rows":503,"n_cols":7,"rows_kept":503,"cut":false,"hidden":true,"merged":[[0,0,0,5]]}
["THE CURRENT STOCK OF THE FOLLOWING ITEMS IS NIL"]
[{"$f":"COUNTA(B4:B200)","v":0},null,null,null,null,{"$f":"Balance!K1","v":0}]
["ID","ITEM DESCRIPTION","Last Purch","PACK","REQD.","ID_Bal","ID_Stk"]
[]
[]
[]
[]
[]
[]
[]
[]
[]
[]
[]
[]
[]
[]
[]
[]
[]
[]
[]
[]
[]
[]
[]
[]
[]
[]
[]
[]
[]
[]
[]
[]
[]
[]
[]
[]
[]
[]
[]
[]
[]
[]
[]
[]
[]
[]
[]
[]
[]
[]
[]
[]
[]
[]
[]
[]
[]
[]
[]
[]
[]
[]
[]
[]
[]
[]
[]
[]
[]
[]
[]
[]
[]
[]
[]
[]
[]
[]
[]
[]
[]
[]
[]
[]
[]
[]
[]
[]
[]
[]
[]
[]
[]
[]
[]
[]
[]
[]
[]
[]
[]
[]
[]
[]
[]
[]
[]
[]
[]
[]
[]
[]
[]
[]
[]
[]
[]
[]
[]
[]
[]
[]
[]
[]
[]
[]
[]
[]
[]
[]
[]
[]
[]
[]
[]
[]
[]
[]
[]
[]
[]
[]
[]
[]
[]
[]
[]
[]
[]
[]
[]
[]
[]
[]
[]
[]
[]
[]
[]
[]
[]
[]
[]
[]
[]
[]
[]
[]
[]
[]
[]
[]
[]
[]
[]
[]
[]
[]
[]
[]
[]
[]
[]
[]
[]
[]
[]
[]
[]
[]
[]
[]
[]
[]
[]
[]
[]
[]
[]
[]
[]
[]
[]
[]
[]
[]
[]
[]
[]
[]
[]
[]
[]
[]
[]
[]
[]
[]
[]
[]
[]
[]
[]
[]
[]
[]
[]
[]
[]
[]
[]
[]
[]
[]
[]
[]
[]
[]
[]
[]
[]
[]
[]
[]
[]
[]
[]
[]
[]
[]
[]
[]
[]
[]
[]
[]
[]
[]
[]
[]
[]
[]
[]
[]
[]
[]
[]
[]
[]
[]
[]
[]
[]
[]
[]
[]
[]
[]
[]
[]
[]
[]
[]
[]
[]
[]
[]
[]
[]
[]
[]
[]
[]
[]
[]
[]
[]
[]
[]
[]
[]
[]
[]
[]
[]
[]
[]
[]
[]
[]
[]
[]
[]
[]
[]
[]
[]
[]
[]
[]
[]
[]
[]
[]
[]
[]
[]
[]
[]
[]
[]
[]
[]
[]
[]
[]
[]
[]
[]
[]
[]
[]
[]
[]
[]
[]
[]
[]
[]
[]
[]
[]
[]
[]
[]
[]
[]
[]
[]
[]
[]
[]
[]
[]
[]
[]
[]
[]
[]
[]
[]
[]
[]
[]
[]
[]
[]
[]
[]
[]
[]
[]
[]
[]
[]
[]
[]
[]
[]
[]
[]
[]
[]
[]
[]
[]
[]
[]
[]
[]
[]
[]
[]
[]
[]
[]
[]
[]
[]
[]
[]
[]
[]
[]
[]
[]
[]
[]
[]
[]
[]
[]
[]
[]
[]
[]
[]
[]
[]
[]
[]
[]
[]
[]
[]
[]
[]
[]
[]
[]
[]
[]
[]
[]
[]
[]
[]
[]
[]
[]
[]
[]
[]
[]
[]
[]
[]
[]
[]
[]
[]
[]
[]
[]
[]
[]
[]
[]
[]
[]
[]
[]
[]
[]
[]
[]
[]
[]
[]
[]
[]
[]
[]
[]
[]
[]
[]
[]
[]
[]
[]
[]
[]
[]
[]
[]
[]
[]
[]
["xxxxxxxxxx",null,"xxxxxxxxx","xxxxxxxxx","xxxxxxxxx"]